{"text_format":"1","workbook":"xlsx","n_sheets":2,"sheets":["Verpackungsdatenblatt","Sheet3"],"not_rendered":{"charts":0,"images":0,"macros":1,"external_links":0,"defined_names":1,"comments":0,"pivot_tables":0},"unopened":[],"bounds":{"document_bytes":16777216,"sheet_cells":100000,"rows_first":2000,"rows_last":500,"rows_between":2000,"halvings":0,"cell_chars":16384,"cell_head_chars":4096},"cells_cut":0,"cells_raw":0,"read":"whole","date_system":"1900"}

{"sheet":"Verpackungsdatenblatt","index":0,"n_rows":93,"n_cols":18,"rows_kept":93,"cut":false,"hidden":false,"merged":[[86,15,86,19],[87,9,87,11],[56,3,56,5],[56,15,56,19],[57,3,57,5],[57,15,57,19],[90,3,90,5],[91,3,91,5],[92,3,92,5],[88,1,88,5],[88,7,88,13],[90,9,90,13],[91,9,91,13],[92,9,92,13],[89,9,89,11],[21,11,39,19],[5,13,5,19],[7,13,7,19],[12,13,12,19],[13,13,13,19],[14,13,14,19],[64,3,64,7],[65,3,65,7],[66,3,66,7],[64,13,64,19],[65,13,65,19],[66,13,66,19],[43,11,43,13],[53,3,53,5],[53,15,53,19],[54,3,54,5],[54,15,54,19],[55,3,55,5],[55,15,55,19],[55,11,55,13],[44,3,44,5],[59,3,59,5],[44,11,44,13],[59,11,59,19],[45,11,45,13],[46,11,46,13],[47,11,47,13],[48,11,48,13],[50,11,50,13],[51,11,51,13],[52,11,52,13],[53,11,53,13],[54,11,54,13],[49,11,49,19],[27,3,27,5],[28,3,28,5],[29,3,29,5],[33,3,33,5],[34,3,34,5],[35,3,35,5],[36,3,36,5],[58,3,58,5],[58,15,58,19],[56,11,56,13],[57,11,57,13],[58,11,58,13],[49,3,49,5],[37,3,37,5],[43,3,43,5],[43,15,43,19],[45,3,45,5],[45,15,45,19],[46,3,46,5],[46,15,46,19],[47,3,47,5],[47,15,47,19],[38,3,38,5],[39,3,39,5],[19,0,19,20],[21,0,21,5],[22,0,22,5],[96,11,96,14],[97,11,97,14],[98,11,98,14],[12,3,12,7],[1,3,1,15],[14,3,14,7],[2,1,2,20],[94,11,94,14],[95,11,95,14],[23,3,23,5],[24,3,24,5],[5,3,5,7],[7,3,7,7],[16,3,16,7],[16,11,16,19],[11,11,11,19],[44,15,44,19],[48,3,48,5],[48,15,48,19],[25,3,25,5],[26,3,26,5],[33,0,33,1],[34,0,34,1],[35,0,35,1],[36,0,36,1],[37,0,37,1],[38,0,38,1],[39,0,39,1],[73,9,73,11],[0,0,0,20],[1,0,1,1],[3,0,3,20],[5,0,5,1],[6,0,6,1],[7,0,7,1],[8,0,8,1],[9,0,9,1],[10,0,10,20],[11,0,11,7],[12,0,12,1],[13,0,13,1],[14,0,14,1],[15,0,15,1],[16,0,16,1],[17,0,17,1],[23,0,23,1],[24,0,24,1],[25,0,25,1],[26,0,26,1],[27,0,27,1],[28,0,28,1],[29,0,29,1],[30,0,30,1],[32,0,32,1],[49,0,49,1],[50,0,50,1],[52,0,52,1],[53,0,53,1],[54,0,54,1],[55,0,55,1],[56,0,56,1],[57,0,57,1],[40,0,40,1],[42,0,42,1],[43,0,43,1],[44,0,44,1],[45,0,45,1],[46,0,46,1],[47,0,47,1],[48,0,48,1],[58,0,58,1],[59,0,59,1],[61,0,61,1],[62,0,62,20],[64,0,64,1],[65,0,65,1],[66,0,66,1],[67,0,67,1],[69,0,69,20],[70,0,70,20],[93,0,93,1],[74,1,74,19],[75,1,75,19],[76,1,76,19],[77,1,77,19],[78,1,78,19],[79,1,79,19],[80,1,80,19],[81,1,81,19],[82,1,82,19],[83,1,83,19],[72,0,72,20],[84,0,84,20],[85,0,85,20],[86,0,86,5],[90,0,90,1],[91,0,91,1],[92,0,92,1],[86,7,86,13],[88,15,88,19],[90,17,90,19],[91,17,91,19],[92,17,92,19]]}
[{"$f":"VLOOKUP(ROW(A1),Sheet3!$A$1:$C$59,Sheet3!$F$1+1,FALSE)","v":"Verpackungsdatenblatt"}]
[{"$f":"VLOOKUP(ROW(A2),Sheet3!$A$1:$C$59,Sheet3!$F$1+1,FALSE)","v":"Projekt"},null,null,null,null,null,null,null,null,null,null,null,null,null,null,null,null,{"$f":"VLOOKUP(ROW(A3),Sheet3!$A$1:$C$59,Sheet3!$F$1+1,FALSE)","v":"Version"}]
[]
[{"$f":"VLOOKUP(ROW(A4),Sheet3!$A$1:$C$59,Sheet3!$F$1+1,FALSE)","v":"Vertragsparteien"}]
[]
[{"$f":"VLOOKUP(ROW(A5),Sheet3!$A$1:$C$59,Sheet3!$F$1+1,FALSE)","v":"Lieferant:"},null,null,null,null,null,null,null,null,null,null,{"$f":"VLOOKUP(ROW(A7),Sheet3!$A$1:$C$59,Sheet3!$F$1+1,FALSE)","v":"Kunde:"}]
[]
[{"$f":"VLOOKUP(ROW(A6),Sheet3!$A$1:$C$59,Sheet3!$F$1+1,FALSE)","v":"Lieferantennummer:"},null,null,null,null,null,null,null,null,null,null,{"$f":"VLOOKUP(ROW(A8),Sheet3!$A$1:$C$59,Sheet3!$F$1+1,FALSE)","v":"Kundennummer:"}]
[]
[]
[{"$f":"VLOOKUP(ROW(A9),Sheet3!$A$1:$C$59,Sheet3!$F$1+1,FALSE)","v":"Teileinformation"}]
[{"$f":"VLOOKUP(ROW(A10),Sheet3!$A$1:$C$59,Sheet3!$F$1+1,FALSE)","v":"Lieferant"},null,null,null,null,null,null,null,null,null,null,{"$f":"VLOOKUP(ROW(A14),Sheet3!$A$1:$C$59,Sheet3!$F$1+1,FALSE)","v":"Kunde"}]
[{"$f":"VLOOKUP(ROW(A11),Sheet3!$A$1:$C$59,Sheet3!$F$1+1,FALSE)","v":"Teilenummer:"},null,null,null,null,null,null,null,null,null,null,{"$f":"VLOOKUP(ROW(A15),Sheet3!$A$1:$C$59,Sheet3!$F$1+1,FALSE)","v":"Teilenummer:"}]
[]
[{"$f":"VLOOKUP(ROW(A12),Sheet3!$A$1:$C$59,Sheet3!$F$1+1,FALSE)","v":"Teilebezeichnung:"},null,null,null,null,null,null,null,null,null,null,{"$f":"VLOOKUP(ROW(A16),Sheet3!$A$1:$C$59,Sheet3!$F$1+1,FALSE)","v":"Teilebezeichnung:"}]
[]
[{"$f":"VLOOKUP(ROW(A13),Sheet3!$A$1:$C$59,Sheet3!$F$1+1,FALSE)","v":"Gewicht pro Teil/Stk.:"}]
[]
[]
[{"$f":"VLOOKUP(ROW(A17),Sheet3!$A$1:$C$58,Sheet3!$F$1+1,FALSE)","v":"Verpackung"}]
[]
[null,null,null,null,null,null,null,{"$f":"VLOOKUP(ROW(A18),Sheet3!$A$1:$C$59,Sheet3!$F$1+1,FALSE)","v":"Menge (Stk):"},null,null,null,{"$f":"VLOOKUP(ROW(A35),Sheet3!$A$1:$C$59,Sheet3!$F$1+1,FALSE)","v":"Bild vom Teil"}]
[]
[{"$f":"VLOOKUP(ROW(A19),Sheet3!$A$1:$C$59,Sheet3!$F$1+1,FALSE)","v":"Boden:"}]
[]
[{"$f":"VLOOKUP(ROW(A20),Sheet3!$A$1:$C$59,Sheet3!$F$1+1,FALSE)","v":"Dimensionen LxBxH (mm):"}]
[]
[{"$f":"VLOOKUP(ROW(A21),Sheet3!$A$1:$C$59,Sheet3!$F$1+1,FALSE)","v":"Kundennummer:"}]
[]
[{"$f":"VLOOKUP(ROW(A22),Sheet3!$A$1:$C$59,Sheet3!$F$1+1,FALSE)","v":"B&O Nummer:"}]
[]
[]
[]
[{"$f":"VLOOKUP(ROW(A23),Sheet3!$A$1:$C$59,Sheet3!$F$1+1,FALSE)","v":"Deckel:"}]
[]
[{"$f":"VLOOKUP(ROW(A24),Sheet3!$A$1:$C$59,Sheet3!$F$1+1,FALSE)","v":"Dimensionen LxBxH (mm):"}]
[]
[{"$f":"VLOOKUP(ROW(A25),Sheet3!$A$1:$C$59,Sheet3!$F$1+1,FALSE)","v":"Kundennummer:"}]
[]
[{"$f":"VLOOKUP(ROW(A26),Sheet3!$A$1:$C$59,Sheet3!$F$1+1,FALSE)","v":"B&O Nummer:"}]
[]
[]
[]
[{"$f":"VLOOKUP(ROW(A27),Sheet3!$A$1:$C$59,Sheet3!$F$1+1,FALSE)","v":"Ladungsträger"},null,null,null,null,null,null,null,null,null,null,{"$f":"VLOOKUP(ROW(A36),Sheet3!$A$1:$C$59,Sheet3!$F$1+1,FALSE)","v":"Teile pro KLT (Stk.):"}]
[]
[{"$f":"VLOOKUP(ROW(A28),Sheet3!$A$1:$C$59,Sheet3!$F$1+1,FALSE)","v":"Dimensionen LxBxH (mm):"},null,null,null,null,null,null,null,null,null,null,{"$f":"VLOOKUP(ROW(A37),Sheet3!$A$1:$C$59,Sheet3!$F$1+1,FALSE)","v":"Menge KLT pro Lage (Stk):"}]
[]
[{"$f":"VLOOKUP(ROW(A29),Sheet3!$A$1:$C$59,Sheet3!$F$1+1,FALSE)","v":"Kundennummer:"},null,null,null,null,null,null,null,null,null,null,{"$f":"VLOOKUP(ROW(A38),Sheet3!$A$1:$C$59,Sheet3!$F$1+1,FALSE)","v":"Lagen pro Palette (Stk):"}]
[]
[{"$f":"VLOOKUP(ROW(A30),Sheet3!$A$1:$C$59,Sheet3!$F$1+1,FALSE)","v":"B&O Nummer:"}]
[]
[]
[]
[{"$f":"VLOOKUP(ROW(A31),Sheet3!$A$1:$C$59,Sheet3!$F$1+1,FALSE)","v":"Innenverpackung:"},null,null,null,null,null,null,null,null,null,null,{"$f":"VLOOKUP(ROW(A39),Sheet3!$A$1:$C$59,Sheet3!$F$1+1,FALSE)","v":"Teile pro Innenverpackung (Stk.):"}]
[]
[{"$f":"VLOOKUP(ROW(A32),Sheet3!$A$1:$C$59,Sheet3!$F$1+1,FALSE)","v":"Dimensionen LxBxH (mm):"},null,null,null,null,null,null,null,null,null,null,{"$f":"VLOOKUP(ROW(A40),Sheet3!$A$1:$C$59,Sheet3!$F$1+1,FALSE)","v":"Innenverpackung pro Lage (Stk):"}]
[]
[{"$f":"VLOOKUP(ROW(A33),Sheet3!$A$1:$C$59,Sheet3!$F$1+1,FALSE)","v":"Kundennummer:"},null,null,null,null,null,null,null,null,null,null,{"$f":"VLOOKUP(ROW(A41),Sheet3!$A$1:$C$59,Sheet3!$F$1+1,FALSE)","v":"Lagen pro Palette (Stk):"}]
[]
[{"$f":"VLOOKUP(ROW(A34),Sheet3!$A$1:$C$59,Sheet3!$F$1+1,FALSE)","v":"B&O Nummer:"}]
[]
[]
[{"$f":"VLOOKUP(ROW(A42),Sheet3!$A$1:$C$59,Sheet3!$F$1+1,FALSE)","v":"1/1 Palette"}]
[]
[{"$f":"VLOOKUP(ROW(A43),Sheet3!$A$1:$C$59,Sheet3!$F$1+1,FALSE)","v":"Dimensionen LxBxH (mm):"},null,null,null,null,null,null,null,null,null,null,{"$f":"VLOOKUP(ROW(A45),Sheet3!$A$1:$C$59,Sheet3!$F$1+1,FALSE)","v":"Brutto Gewicht (kg):"}]
[]
[{"$f":"VLOOKUP(ROW(A44),Sheet3!$A$1:$C$59,Sheet3!$F$1+1,FALSE)","v":"Teile pro Palette (Stk):"},null,null,null,null,null,null,null,null,null,null,{"$f":"VLOOKUP(ROW(A46),Sheet3!$A$1:$C$59,Sheet3!$F$1+1,FALSE)","v":"Netto Gewicht  (kg):"}]
[]
[]
[{"$f":"VLOOKUP(ROW(A47),Sheet3!$A$1:$C$59,Sheet3!$F$1+1,FALSE)","v":"Bilder Verpackungsprozess"}]
[]
[]
[{"$f":"VLOOKUP(ROW(A48),Sheet3!$A$1:$C$59,Sheet3!$F$1+1,FALSE)","v":"Beschreibung / Bemerkung"}]
[]
[]
[]
[]
[]
[]
[]
[]
[]
[]
[]
[]
[{"$f":"VLOOKUP(ROW(A49),Sheet3!$A$1:$C$59,Sheet3!$F$1+1,FALSE)","v":"Validierung"}]
[{"$f":"VLOOKUP(ROW(A50),Sheet3!$A$1:$C$59,Sheet3!$F$1+1,FALSE)","v":"Vorbereitet von:"},null,null,null,null,null,null,{"$f":"VLOOKUP(ROW(A53),Sheet3!$A$1:$C$59,Sheet3!$F$1+1,FALSE)","v":"Akzeptiert von:"},null,null,null,null,null,null,null,{"$f":"VLOOKUP(ROW(A56),Sheet3!$A$1:$C$59,Sheet3!$F$1+1,FALSE)","v":"Freigabe vom Kunden:"}]
[]
[]
[]
[{"$f":"VLOOKUP(ROW(A51),Sheet3!$A$1:$C$59,Sheet3!$F$1+1,FALSE)","v":"Ort:"},null,null,null,null,null,null,{"$f":"VLOOKUP(ROW(A54),Sheet3!$A$1:$C$59,Sheet3!$F$1+1,FALSE)","v":"Ort:"},null,null,null,null,null,null,null,{"$f":"VLOOKUP(ROW(A57),Sheet3!$A$1:$C$59,Sheet3!$F$1+1,FALSE)","v":"Ort:"}]
[]
[{"$f":"VLOOKUP(ROW(A52),Sheet3!$A$1:$C$59,Sheet3!$F$1+1,FALSE)","v":"Datum:"},null,null,null,null,null,null,{"$f":"VLOOKUP(ROW(A55),Sheet3!$A$1:$C$59,Sheet3!$F$1+1,FALSE)","v":"Datum:"},null,null,null,null,null,null,null,{"$f":"VLOOKUP(ROW(A58),Sheet3!$A$1:$C$59,Sheet3!$F$1+1,FALSE)","v":"Datum:"}]

{"sheet":"Sheet3","index":1,"n_rows":59,"n_cols":6,"rows_kept":59,"cut":false,"hidden":false,"merged":[]}
["Tekst nr.","Engelsk tekst","Tysk tekst",null,null,2]
[1,"Packaging Data Sheet","Verpackungsdatenblatt"]
[2,"Project","Projekt"]
[3,"Version","Version"]
[4,"Contract Parties","Vertragsparteien"]
[5,"Supplier:","Lieferant:"]
[6,"Supplier Number:","Lieferantennummer:"]
[7,"Customer:","Kunde:"]
[8,"Customer Number:","Kundennummer:"]
[9,"Part Information","Teileinformation"]
[10,"Supplier","Lieferant"]
[11,"Part Number:","Teilenummer:"]
[12,"Part Name:","Teilebezeichnung:"]
[13,"Weight per Part/Pcs.:","Gewicht pro Teil/Stk.:"]
[14,"Customer","Kunde"]
[15,"Part Number:","Teilenummer:"]
[16,"Part Name:","Teilebezeichnung:"]
[17,"Packaging","Verpackung"]
[18,"Quantity (Pcs.):","Menge (Stk):"]
[19,"Buttom:","Boden:"]
[20,"Dimensions LxWxH (mm):","Dimensionen LxBxH (mm):"]
[21,"Customer Number:","Kundennummer:"]
[22,"B&O Number:","B&O Nummer:"]
[23,"Cover:","Deckel:"]
[24,"Dimensions LxWxH (mm):","Dimensionen LxBxH (mm):"]
[25,"Customer Number:","Kundennummer:"]
[26,"B&O Number:","B&O Nummer:"]
[27,"Small Container Unit","Ladungsträger"]
[28,"Dimensions LxWxH (mm):","Dimensionen LxBxH (mm):"]
[29,"Customer Number:","Kundennummer:"]
[30,"B&O Number:","B&O Nummer:"]
[31,"Inner Packaging:","Innenverpackung:"]
[32,"Dimensions LxWxH (mm):","Dimensionen LxBxH (mm):"]
[33,"Custumer Number:","Kundennummer:"]
[34,"B&O Number:","B&O Nummer:"]
[35,"Picture of Part","Bild vom Teil"]
[36,"Parts per SCU (Pcs.):","Teile pro KLT (Stk.):"]
[37,"SCU qty. per Layer (Pcs.):","Menge KLT pro Lage (Stk):"]
[38,"Layers per Pallet (Nbr.):","Lagen pro Palette (Stk):"]
[39,"Parts per Inner Packaging (Pcs.):","Teile pro Innenverpackung (Stk.):"]
[40,"Inner Pack. qty. per Layer (Pcs.):","Innenverpackung pro Lage (Stk):"]
[41,"Layers per Pallet (Nbr.):","Lagen pro Palette (Stk):"]
[42,"1/1 Pallet","1/1 Palette"]
[43,"Dimensions LxWxH (mm):","Dimensionen LxBxH (mm):"]
[44,"Parts per Pallet (Pcs.):","Teile pro Palette (Stk):"]
[45,"Brutto Weight (kg)","Brutto Gewicht (kg):"]
[46,"Netto Weight (kg):","Netto Gewicht  (kg):"]
[47,"Pictures of Packaging Process","Bilder Verpackungsprozess"]
[48,"Description / Comments","Beschreibung / Bemerkung"]
[49,"Validation","Validierung"]
[50,"Prepared by:","Vorbereitet von:"]
[51,"Place:","Ort:"]
[52,"Date:","Datum:"]
[53,"Accepted by:","Akzeptiert von:"]
[54,"Place:","Ort:"]
[55,"Date:","Datum:"]
[56,"Release accepted by Customer:","Freigabe vom Kunden:"]
[57,"Place:","Ort:"]
[58,"Date:","Datum:"]