{"text_format":"1","workbook":"xlsx","n_sheets":51,"sheets":["Total","1","2","3","4","5","6","7","8","9","10","11","12","13","14","15","16","17","18","19","20","21","22","23","24","25","26","27","28","29","30","31","32","33","34","35","36","37","38","39","40","41","42","43","44","45","46","47","48","49","50"],"not_rendered":{"charts":0,"images":0,"macros":1,"external_links":0,"defined_names":1,"comments":0,"pivot_tables":0},"unopened":[],"bounds":{"document_bytes":16777216,"sheet_cells":100000,"rows_first":2000,"rows_last":500,"rows_between":2000,"halvings":0,"cell_chars":16384,"cell_head_chars":4096},"cells_cut":0,"cells_raw":0,"read":"whole","date_system":"1900"}

{"sheet":"Total","index":0,"n_rows":45,"n_cols":10,"rows_kept":45,"cut":false,"hidden":false,"merged":[[0,0,3,9],[4,0,5,0],[4,1,5,1],[4,2,5,2],[4,3,5,3],[4,4,4,5],[4,6,4,7],[4,8,4,9]]}
[" KLINIK "]
[]
[]
[]
["DAG","KONTONR","BILAG","TEKST","KASSE",null,"BANK",null,"PATIENT INDBETALING"]
[null,null,null,null,"indtægt","udgift","indtægt","udgift","faktura","beløb"]
[null,100,null,null,{"$f":"IF(ISBLANK(B7),\"\",SUMPRODUCT(SUMIF(INDIRECT(\"'\"&WsList&\"'!B7:B42\"),B7,INDIRECT(\"'\"&WsList&\"'!E7:E42\"))))","v":128},{"$f":"IF(ISBLANK(B7),\"\",SUMPRODUCT(SUMIF(INDIRECT(\"'\"&WsList&\"'!B7:B42\"),B7,INDIRECT(\"'\"&WsList&\"'!F7:F42\"))))","v":581},{"$f":"IF(ISBLANK(B7),\"\",SUMPRODUCT(SUMIF(INDIRECT(\"'\"&WsList&\"'!B7:B42\"),B7,INDIRECT(\"'\"&WsList&\"'!G7:G42\"))))","v":852},{"$f":"IF(ISBLANK(B7),\"\",SUMPRODUCT(SUMIF(INDIRECT(\"'\"&WsList&\"'!B7:B42\"),B7,INDIRECT(\"'\"&WsList&\"'!H7:H42\"))))","v":820}]
[null,110,null,null,{"$f":"IF(ISBLANK(B8),\"\",SUMPRODUCT(SUMIF(INDIRECT(\"'\"&WsList&\"'!B7:B42\"),B8,INDIRECT(\"'\"&WsList&\"'!E7:E42\"))))","v":723},{"$f":"IF(ISBLANK(B8),\"\",SUMPRODUCT(SUMIF(INDIRECT(\"'\"&WsList&\"'!B7:B42\"),B8,INDIRECT(\"'\"&WsList&\"'!F7:F42\"))))","v":1705},{"$f":"IF(ISBLANK(B8),\"\",SUMPRODUCT(SUMIF(INDIRECT(\"'\"&WsList&\"'!B7:B42\"),B8,INDIRECT(\"'\"&WsList&\"'!G7:G42\"))))","v":1489},{"$f":"IF(ISBLANK(B8),\"\",SUMPRODUCT(SUMIF(INDIRECT(\"'\"&WsList&\"'!B7:B42\"),B8,INDIRECT(\"'\"&WsList&\"'!H7:H42\"))))","v":468}]
[null,120,null,null,{"$f":"IF(ISBLANK(B9),\"\",SUMPRODUCT(SUMIF(INDIRECT(\"'\"&WsList&\"'!B7:B42\"),B9,INDIRECT(\"'\"&WsList&\"'!E7:E42\"))))","v":1838},{"$f":"IF(ISBLANK(B9),\"\",SUMPRODUCT(SUMIF(INDIRECT(\"'\"&WsList&\"'!B7:B42\"),B9,INDIRECT(\"'\"&WsList&\"'!F7:F42\"))))","v":2147},{"$f":"IF(ISBLANK(B9),\"\",SUMPRODUCT(SUMIF(INDIRECT(\"'\"&WsList&\"'!B7:B42\"),B9,INDIRECT(\"'\"&WsList&\"'!G7:G42\"))))","v":2041},{"$f":"IF(ISBLANK(B9),\"\",SUMPRODUCT(SUMIF(INDIRECT(\"'\"&WsList&\"'!B7:B42\"),B9,INDIRECT(\"'\"&WsList&\"'!H7:H42\"))))","v":1837}]
[null,130,null,null,{"$f":"IF(ISBLANK(B10),\"\",SUMPRODUCT(SUMIF(INDIRECT(\"'\"&WsList&\"'!B7:B42\"),B10,INDIRECT(\"'\"&WsList&\"'!E7:E42\"))))","v":854},{"$f":"IF(ISBLANK(B10),\"\",SUMPRODUCT(SUMIF(INDIRECT(\"'\"&WsList&\"'!B7:B42\"),B10,INDIRECT(\"'\"&WsList&\"'!F7:F42\"))))","v":724},{"$f":"IF(ISBLANK(B10),\"\",SUMPRODUCT(SUMIF(INDIRECT(\"'\"&WsList&\"'!B7:B42\"),B10,INDIRECT(\"'\"&WsList&\"'!G7:G42\"))))","v":227},{"$f":"IF(ISBLANK(B10),\"\",SUMPRODUCT(SUMIF(INDIRECT(\"'\"&WsList&\"'!B7:B42\"),B10,INDIRECT(\"'\"&WsList&\"'!H7:H42\"))))","v":674}]
[null,140,null,null,{"$f":"IF(ISBLANK(B11),\"\",SUMPRODUCT(SUMIF(INDIRECT(\"'\"&WsList&\"'!B7:B42\"),B11,INDIRECT(\"'\"&WsList&\"'!E7:E42\"))))","v":2875},{"$f":"IF(ISBLANK(B11),\"\",SUMPRODUCT(SUMIF(INDIRECT(\"'\"&WsList&\"'!B7:B42\"),B11,INDIRECT(\"'\"&WsList&\"'!F7:F42\"))))","v":2164},{"$f":"IF(ISBLANK(B11),\"\",SUMPRODUCT(SUMIF(INDIRECT(\"'\"&WsList&\"'!B7:B42\"),B11,INDIRECT(\"'\"&WsList&\"'!G7:G42\"))))","v":2063},{"$f":"IF(ISBLANK(B11),\"\",SUMPRODUCT(SUMIF(INDIRECT(\"'\"&WsList&\"'!B7:B42\"),B11,INDIRECT(\"'\"&WsList&\"'!H7:H42\"))))","v":2136}]
[null,150,null,null,{"$f":"IF(ISBLANK(B12),\"\",SUMPRODUCT(SUMIF(INDIRECT(\"'\"&WsList&\"'!B7:B42\"),B12,INDIRECT(\"'\"&WsList&\"'!E7:E42\"))))","v":2301},{"$f":"IF(ISBLANK(B12),\"\",SUMPRODUCT(SUMIF(INDIRECT(\"'\"&WsList&\"'!B7:B42\"),B12,INDIRECT(\"'\"&WsList&\"'!F7:F42\"))))","v":2724},{"$f":"IF(ISBLANK(B12),\"\",SUMPRODUCT(SUMIF(INDIRECT(\"'\"&WsList&\"'!B7:B42\"),B12,INDIRECT(\"'\"&WsList&\"'!G7:G42\"))))","v":2571},{"$f":"IF(ISBLANK(B12),\"\",SUMPRODUCT(SUMIF(INDIRECT(\"'\"&WsList&\"'!B7:B42\"),B12,INDIRECT(\"'\"&WsList&\"'!H7:H42\"))))","v":3611}]
[null,160,null,null,{"$f":"IF(ISBLANK(B13),\"\",SUMPRODUCT(SUMIF(INDIRECT(\"'\"&WsList&\"'!B7:B42\"),B13,INDIRECT(\"'\"&WsList&\"'!E7:E42\"))))","v":3812},{"$f":"IF(ISBLANK(B13),\"\",SUMPRODUCT(SUMIF(INDIRECT(\"'\"&WsList&\"'!B7:B42\"),B13,INDIRECT(\"'\"&WsList&\"'!F7:F42\"))))","v":1651},{"$f":"IF(ISBLANK(B13),\"\",SUMPRODUCT(SUMIF(INDIRECT(\"'\"&WsList&\"'!B7:B42\"),B13,INDIRECT(\"'\"&WsList&\"'!G7:G42\"))))","v":1195},{"$f":"IF(ISBLANK(B13),\"\",SUMPRODUCT(SUMIF(INDIRECT(\"'\"&WsList&\"'!B7:B42\"),B13,INDIRECT(\"'\"&WsList&\"'!H7:H42\"))))","v":448}]
[null,170,null,null,{"$f":"IF(ISBLANK(B14),\"\",SUMPRODUCT(SUMIF(INDIRECT(\"'\"&WsList&\"'!B7:B42\"),B14,INDIRECT(\"'\"&WsList&\"'!E7:E42\"))))","v":4774},{"$f":"IF(ISBLANK(B14),\"\",SUMPRODUCT(SUMIF(INDIRECT(\"'\"&WsList&\"'!B7:B42\"),B14,INDIRECT(\"'\"&WsList&\"'!F7:F42\"))))","v":2034},{"$f":"IF(ISBLANK(B14),\"\",SUMPRODUCT(SUMIF(INDIRECT(\"'\"&WsList&\"'!B7:B42\"),B14,INDIRECT(\"'\"&WsList&\"'!G7:G42\"))))","v":2809},{"$f":"IF(ISBLANK(B14),\"\",SUMPRODUCT(SUMIF(INDIRECT(\"'\"&WsList&\"'!B7:B42\"),B14,INDIRECT(\"'\"&WsList&\"'!H7:H42\"))))","v":3066}]
[null,180,null,null,{"$f":"IF(ISBLANK(B15),\"\",SUMPRODUCT(SUMIF(INDIRECT(\"'\"&WsList&\"'!B7:B42\"),B15,INDIRECT(\"'\"&WsList&\"'!E7:E42\"))))","v":2196},{"$f":"IF(ISBLANK(B15),\"\",SUMPRODUCT(SUMIF(INDIRECT(\"'\"&WsList&\"'!B7:B42\"),B15,INDIRECT(\"'\"&WsList&\"'!F7:F42\"))))","v":1498},{"$f":"IF(ISBLANK(B15),\"\",SUMPRODUCT(SUMIF(INDIRECT(\"'\"&WsList&\"'!B7:B42\"),B15,INDIRECT(\"'\"&WsList&\"'!G7:G42\"))))","v":1530},{"$f":"IF(ISBLANK(B15),\"\",SUMPRODUCT(SUMIF(INDIRECT(\"'\"&WsList&\"'!B7:B42\"),B15,INDIRECT(\"'\"&WsList&\"'!H7:H42\"))))","v":1128}]
[null,190,null,null,{"$f":"IF(ISBLANK(B16),\"\",SUMPRODUCT(SUMIF(INDIRECT(\"'\"&WsList&\"'!B7:B42\"),B16,INDIRECT(\"'\"&WsList&\"'!E7:E42\"))))","v":1799},{"$f":"IF(ISBLANK(B16),\"\",SUMPRODUCT(SUMIF(INDIRECT(\"'\"&WsList&\"'!B7:B42\"),B16,INDIRECT(\"'\"&WsList&\"'!F7:F42\"))))","v":3153},{"$f":"IF(ISBLANK(B16),\"\",SUMPRODUCT(SUMIF(INDIRECT(\"'\"&WsList&\"'!B7:B42\"),B16,INDIRECT(\"'\"&WsList&\"'!G7:G42\"))))","v":2405},{"$f":"IF(ISBLANK(B16),\"\",SUMPRODUCT(SUMIF(INDIRECT(\"'\"&WsList&\"'!B7:B42\"),B16,INDIRECT(\"'\"&WsList&\"'!H7:H42\"))))","v":1306}]
[null,200,null,null,{"$f":"IF(ISBLANK(B17),\"\",SUMPRODUCT(SUMIF(INDIRECT(\"'\"&WsList&\"'!B7:B42\"),B17,INDIRECT(\"'\"&WsList&\"'!E7:E42\"))))","v":3995},{"$f":"IF(ISBLANK(B17),\"\",SUMPRODUCT(SUMIF(INDIRECT(\"'\"&WsList&\"'!B7:B42\"),B17,INDIRECT(\"'\"&WsList&\"'!F7:F42\"))))","v":3049},{"$f":"IF(ISBLANK(B17),\"\",SUMPRODUCT(SUMIF(INDIRECT(\"'\"&WsList&\"'!B7:B42\"),B17,INDIRECT(\"'\"&WsList&\"'!G7:G42\"))))","v":2162},{"$f":"IF(ISBLANK(B17),\"\",SUMPRODUCT(SUMIF(INDIRECT(\"'\"&WsList&\"'!B7:B42\"),B17,INDIRECT(\"'\"&WsList&\"'!H7:H42\"))))","v":2554}]
[null,210,null,null,{"$f":"IF(ISBLANK(B18),\"\",SUMPRODUCT(SUMIF(INDIRECT(\"'\"&WsList&\"'!B7:B42\"),B18,INDIRECT(\"'\"&WsList&\"'!E7:E42\"))))","v":643},{"$f":"IF(ISBLANK(B18),\"\",SUMPRODUCT(SUMIF(INDIRECT(\"'\"&WsList&\"'!B7:B42\"),B18,INDIRECT(\"'\"&WsList&\"'!F7:F42\"))))","v":1754},{"$f":"IF(ISBLANK(B18),\"\",SUMPRODUCT(SUMIF(INDIRECT(\"'\"&WsList&\"'!B7:B42\"),B18,INDIRECT(\"'\"&WsList&\"'!G7:G42\"))))","v":1334},{"$f":"IF(ISBLANK(B18),\"\",SUMPRODUCT(SUMIF(INDIRECT(\"'\"&WsList&\"'!B7:B42\"),B18,INDIRECT(\"'\"&WsList&\"'!H7:H42\"))))","v":905}]
[null,220,null,null,{"$f":"IF(ISBLANK(B19),\"\",SUMPRODUCT(SUMIF(INDIRECT(\"'\"&WsList&\"'!B7:B42\"),B19,INDIRECT(\"'\"&WsList&\"'!E7:E42\"))))","v":1554},{"$f":"IF(ISBLANK(B19),\"\",SUMPRODUCT(SUMIF(INDIRECT(\"'\"&WsList&\"'!B7:B42\"),B19,INDIRECT(\"'\"&WsList&\"'!F7:F42\"))))","v":2179},{"$f":"IF(ISBLANK(B19),\"\",SUMPRODUCT(SUMIF(INDIRECT(\"'\"&WsList&\"'!B7:B42\"),B19,INDIRECT(\"'\"&WsList&\"'!G7:G42\"))))","v":1996},{"$f":"IF(ISBLANK(B19),\"\",SUMPRODUCT(SUMIF(INDIRECT(\"'\"&WsList&\"'!B7:B42\"),B19,INDIRECT(\"'\"&WsList&\"'!H7:H42\"))))","v":2476}]
[null,230,null,null,{"$f":"IF(ISBLANK(B20),\"\",SUMPRODUCT(SUMIF(INDIRECT(\"'\"&WsList&\"'!B7:B42\"),B20,INDIRECT(\"'\"&WsList&\"'!E7:E42\"))))","v":776},{"$f":"IF(ISBLANK(B20),\"\",SUMPRODUCT(SUMIF(INDIRECT(\"'\"&WsList&\"'!B7:B42\"),B20,INDIRECT(\"'\"&WsList&\"'!F7:F42\"))))","v":1258},{"$f":"IF(ISBLANK(B20),\"\",SUMPRODUCT(SUMIF(INDIRECT(\"'\"&WsList&\"'!B7:B42\"),B20,INDIRECT(\"'\"&WsList&\"'!G7:G42\"))))","v":1319},{"$f":"IF(ISBLANK(B20),\"\",SUMPRODUCT(SUMIF(INDIRECT(\"'\"&WsList&\"'!B7:B42\"),B20,INDIRECT(\"'\"&WsList&\"'!H7:H42\"))))","v":944}]
[null,null,null,null,{"$f":"IF(ISBLANK(B21),\"\",SUMPRODUCT(SUMIF(INDIRECT(\"'\"&WsList&\"'!B7:B42\"),B21,INDIRECT(\"'\"&WsList&\"'!E7:E42\"))))","v":""},{"$f":"IF(ISBLANK(B21),\"\",SUMPRODUCT(SUMIF(INDIRECT(\"'\"&WsList&\"'!B7:B42\"),B21,INDIRECT(\"'\"&WsList&\"'!F7:F42\"))))","v":""},{"$f":"IF(ISBLANK(B21),\"\",SUMPRODUCT(SUMIF(INDIRECT(\"'\"&WsList&\"'!B7:B42\"),B21,INDIRECT(\"'\"&WsList&\"'!G7:G42\"))))","v":""},{"$f":"IF(ISBLANK(B21),\"\",SUMPRODUCT(SUMIF(INDIRECT(\"'\"&WsList&\"'!B7:B42\"),B21,INDIRECT(\"'\"&WsList&\"'!H7:H42\"))))","v":""}]
[null,null,null,null,{"$f":"IF(ISBLANK(B22),\"\",SUMPRODUCT(SUMIF(INDIRECT(\"'\"&WsList&\"'!B7:B42\"),B22,INDIRECT(\"'\"&WsList&\"'!E7:E42\"))))","v":""},{"$f":"IF(ISBLANK(B22),\"\",SUMPRODUCT(SUMIF(INDIRECT(\"'\"&WsList&\"'!B7:B42\"),B22,INDIRECT(\"'\"&WsList&\"'!F7:F42\"))))","v":""},{"$f":"IF(ISBLANK(B22),\"\",SUMPRODUCT(SUMIF(INDIRECT(\"'\"&WsList&\"'!B7:B42\"),B22,INDIRECT(\"'\"&WsList&\"'!G7:G42\"))))","v":""},{"$f":"IF(ISBLANK(B22),\"\",SUMPRODUCT(SUMIF(INDIRECT(\"'\"&WsList&\"'!B7:B42\"),B22,INDIRECT(\"'\"&WsList&\"'!H7:H42\"))))","v":""}]
[null,null,null,null,{"$f":"IF(ISBLANK(B23),\"\",SUMPRODUCT(SUMIF(INDIRECT(\"'\"&WsList&\"'!B7:B42\"),B23,INDIRECT(\"'\"&WsList&\"'!E7:E42\"))))","v":""},{"$f":"IF(ISBLANK(B23),\"\",SUMPRODUCT(SUMIF(INDIRECT(\"'\"&WsList&\"'!B7:B42\"),B23,INDIRECT(\"'\"&WsList&\"'!F7:F42\"))))","v":""},{"$f":"IF(ISBLANK(B23),\"\",SUMPRODUCT(SUMIF(INDIRECT(\"'\"&WsList&\"'!B7:B42\"),B23,INDIRECT(\"'\"&WsList&\"'!G7:G42\"))))","v":""},{"$f":"IF(ISBLANK(B23),\"\",SUMPRODUCT(SUMIF(INDIRECT(\"'\"&WsList&\"'!B7:B42\"),B23,INDIRECT(\"'\"&WsList&\"'!H7:H42\"))))","v":""}]
[null,null,null,null,{"$f":"IF(ISBLANK(B24),\"\",SUMPRODUCT(SUMIF(INDIRECT(\"'\"&WsList&\"'!B7:B42\"),B24,INDIRECT(\"'\"&WsList&\"'!E7:E42\"))))","v":""},{"$f":"IF(ISBLANK(B24),\"\",SUMPRODUCT(SUMIF(INDIRECT(\"'\"&WsList&\"'!B7:B42\"),B24,INDIRECT(\"'\"&WsList&\"'!F7:F42\"))))","v":""},{"$f":"IF(ISBLANK(B24),\"\",SUMPRODUCT(SUMIF(INDIRECT(\"'\"&WsList&\"'!B7:B42\"),B24,INDIRECT(\"'\"&WsList&\"'!G7:G42\"))))","v":""},{"$f":"IF(ISBLANK(B24),\"\",SUMPRODUCT(SUMIF(INDIRECT(\"'\"&WsList&\"'!B7:B42\"),B24,INDIRECT(\"'\"&WsList&\"'!H7:H42\"))))","v":""}]
[null,null,null,null,{"$f":"IF(ISBLANK(B25),\"\",SUMPRODUCT(SUMIF(INDIRECT(\"'\"&WsList&\"'!B7:B42\"),B25,INDIRECT(\"'\"&WsList&\"'!E7:E42\"))))","v":""},{"$f":"IF(ISBLANK(B25),\"\",SUMPRODUCT(SUMIF(INDIRECT(\"'\"&WsList&\"'!B7:B42\"),B25,INDIRECT(\"'\"&WsList&\"'!F7:F42\"))))","v":""},{"$f":"IF(ISBLANK(B25),\"\",SUMPRODUCT(SUMIF(INDIRECT(\"'\"&WsList&\"'!B7:B42\"),B25,INDIRECT(\"'\"&WsList&\"'!G7:G42\"))))","v":""},{"$f":"IF(ISBLANK(B25),\"\",SUMPRODUCT(SUMIF(INDIRECT(\"'\"&WsList&\"'!B7:B42\"),B25,INDIRECT(\"'\"&WsList&\"'!H7:H42\"))))","v":""}]
[null,null,null,null,{"$f":"IF(ISBLANK(B26),\"\",SUMPRODUCT(SUMIF(INDIRECT(\"'\"&WsList&\"'!B7:B42\"),B26,INDIRECT(\"'\"&WsList&\"'!E7:E42\"))))","v":""},{"$f":"IF(ISBLANK(B26),\"\",SUMPRODUCT(SUMIF(INDIRECT(\"'\"&WsList&\"'!B7:B42\"),B26,INDIRECT(\"'\"&WsList&\"'!F7:F42\"))))","v":""},{"$f":"IF(ISBLANK(B26),\"\",SUMPRODUCT(SUMIF(INDIRECT(\"'\"&WsList&\"'!B7:B42\"),B26,INDIRECT(\"'\"&WsList&\"'!G7:G42\"))))","v":""},{"$f":"IF(ISBLANK(B26),\"\",SUMPRODUCT(SUMIF(INDIRECT(\"'\"&WsList&\"'!B7:B42\"),B26,INDIRECT(\"'\"&WsList&\"'!H7:H42\"))))","v":""}]
[null,null,null,null,{"$f":"IF(ISBLANK(B27),\"\",SUMPRODUCT(SUMIF(INDIRECT(\"'\"&WsList&\"'!B7:B42\"),B27,INDIRECT(\"'\"&WsList&\"'!E7:E42\"))))","v":""},{"$f":"IF(ISBLANK(B27),\"\",SUMPRODUCT(SUMIF(INDIRECT(\"'\"&WsList&\"'!B7:B42\"),B27,INDIRECT(\"'\"&WsList&\"'!F7:F42\"))))","v":""},{"$f":"IF(ISBLANK(B27),\"\",SUMPRODUCT(SUMIF(INDIRECT(\"'\"&WsList&\"'!B7:B42\"),B27,INDIRECT(\"'\"&WsList&\"'!G7:G42\"))))","v":""},{"$f":"IF(ISBLANK(B27),\"\",SUMPRODUCT(SUMIF(INDIRECT(\"'\"&WsList&\"'!B7:B42\"),B27,INDIRECT(\"'\"&WsList&\"'!H7:H42\"))))","v":""}]
[null,null,null,null,{"$f":"IF(ISBLANK(B28),\"\",SUMPRODUCT(SUMIF(INDIRECT(\"'\"&WsList&\"'!B7:B42\"),B28,INDIRECT(\"'\"&WsList&\"'!E7:E42\"))))","v":""},{"$f":"IF(ISBLANK(B28),\"\",SUMPRODUCT(SUMIF(INDIRECT(\"'\"&WsList&\"'!B7:B42\"),B28,INDIRECT(\"'\"&WsList&\"'!F7:F42\"))))","v":""},{"$f":"IF(ISBLANK(B28),\"\",SUMPRODUCT(SUMIF(INDIRECT(\"'\"&WsList&\"'!B7:B42\"),B28,INDIRECT(\"'\"&WsList&\"'!G7:G42\"))))","v":""},{"$f":"IF(ISBLANK(B28),\"\",SUMPRODUCT(SUMIF(INDIRECT(\"'\"&WsList&\"'!B7:B42\"),B28,INDIRECT(\"'\"&WsList&\"'!H7:H42\"))))","v":""}]
[null,null,null,null,{"$f":"IF(ISBLANK(B29),\"\",SUMPRODUCT(SUMIF(INDIRECT(\"'\"&WsList&\"'!B7:B42\"),B29,INDIRECT(\"'\"&WsList&\"'!E7:E42\"))))","v":""},{"$f":"IF(ISBLANK(B29),\"\",SUMPRODUCT(SUMIF(INDIRECT(\"'\"&WsList&\"'!B7:B42\"),B29,INDIRECT(\"'\"&WsList&\"'!F7:F42\"))))","v":""},{"$f":"IF(ISBLANK(B29),\"\",SUMPRODUCT(SUMIF(INDIRECT(\"'\"&WsList&\"'!B7:B42\"),B29,INDIRECT(\"'\"&WsList&\"'!G7:G42\"))))","v":""},{"$f":"IF(ISBLANK(B29),\"\",SUMPRODUCT(SUMIF(INDIRECT(\"'\"&WsList&\"'!B7:B42\"),B29,INDIRECT(\"'\"&WsList&\"'!H7:H42\"))))","v":""}]
[null,null,null,null,{"$f":"IF(ISBLANK(B30),\"\",SUMPRODUCT(SUMIF(INDIRECT(\"'\"&WsList&\"'!B7:B42\"),B30,INDIRECT(\"'\"&WsList&\"'!E7:E42\"))))","v":""},{"$f":"IF(ISBLANK(B30),\"\",SUMPRODUCT(SUMIF(INDIRECT(\"'\"&WsList&\"'!B7:B42\"),B30,INDIRECT(\"'\"&WsList&\"'!F7:F42\"))))","v":""},{"$f":"IF(ISBLANK(B30),\"\",SUMPRODUCT(SUMIF(INDIRECT(\"'\"&WsList&\"'!B7:B42\"),B30,INDIRECT(\"'\"&WsList&\"'!G7:G42\"))))","v":""},{"$f":"IF(ISBLANK(B30),\"\",SUMPRODUCT(SUMIF(INDIRECT(\"'\"&WsList&\"'!B7:B42\"),B30,INDIRECT(\"'\"&WsList&\"'!H7:H42\"))))","v":""}]
[null,null,null,null,{"$f":"IF(ISBLANK(B31),\"\",SUMPRODUCT(SUMIF(INDIRECT(\"'\"&WsList&\"'!B7:B42\"),B31,INDIRECT(\"'\"&WsList&\"'!E7:E42\"))))","v":""},{"$f":"IF(ISBLANK(B31),\"\",SUMPRODUCT(SUMIF(INDIRECT(\"'\"&WsList&\"'!B7:B42\"),B31,INDIRECT(\"'\"&WsList&\"'!F7:F42\"))))","v":""},{"$f":"IF(ISBLANK(B31),\"\",SUMPRODUCT(SUMIF(INDIRECT(\"'\"&WsList&\"'!B7:B42\"),B31,INDIRECT(\"'\"&WsList&\"'!G7:G42\"))))","v":""},{"$f":"IF(ISBLANK(B31),\"\",SUMPRODUCT(SUMIF(INDIRECT(\"'\"&WsList&\"'!B7:B42\"),B31,INDIRECT(\"'\"&WsList&\"'!H7:H42\"))))","v":""}]
[null,null,null,null,{"$f":"IF(ISBLANK(B32),\"\",SUMPRODUCT(SUMIF(INDIRECT(\"'\"&WsList&\"'!B7:B42\"),B32,INDIRECT(\"'\"&WsList&\"'!E7:E42\"))))","v":""},{"$f":"IF(ISBLANK(B32),\"\",SUMPRODUCT(SUMIF(INDIRECT(\"'\"&WsList&\"'!B7:B42\"),B32,INDIRECT(\"'\"&WsList&\"'!F7:F42\"))))","v":""},{"$f":"IF(ISBLANK(B32),\"\",SUMPRODUCT(SUMIF(INDIRECT(\"'\"&WsList&\"'!B7:B42\"),B32,INDIRECT(\"'\"&WsList&\"'!G7:G42\"))))","v":""},{"$f":"IF(ISBLANK(B32),\"\",SUMPRODUCT(SUMIF(INDIRECT(\"'\"&WsList&\"'!B7:B42\"),B32,INDIRECT(\"'\"&WsList&\"'!H7:H42\"))))","v":""}]
[null,null,null,null,{"$f":"IF(ISBLANK(B33),\"\",SUMPRODUCT(SUMIF(INDIRECT(\"'\"&WsList&\"'!B7:B42\"),B33,INDIRECT(\"'\"&WsList&\"'!E7:E42\"))))","v":""},{"$f":"IF(ISBLANK(B33),\"\",SUMPRODUCT(SUMIF(INDIRECT(\"'\"&WsList&\"'!B7:B42\"),B33,INDIRECT(\"'\"&WsList&\"'!F7:F42\"))))","v":""},{"$f":"IF(ISBLANK(B33),\"\",SUMPRODUCT(SUMIF(INDIRECT(\"'\"&WsList&\"'!B7:B42\"),B33,INDIRECT(\"'\"&WsList&\"'!G7:G42\"))))","v":""},{"$f":"IF(ISBLANK(B33),\"\",SUMPRODUCT(SUMIF(INDIRECT(\"'\"&WsList&\"'!B7:B42\"),B33,INDIRECT(\"'\"&WsList&\"'!H7:H42\"))))","v":""}]
[null,null,null,null,{"$f":"IF(ISBLANK(B34),\"\",SUMPRODUCT(SUMIF(INDIRECT(\"'\"&WsList&\"'!B7:B42\"),B34,INDIRECT(\"'\"&WsList&\"'!E7:E42\"))))","v":""},{"$f":"IF(ISBLANK(B34),\"\",SUMPRODUCT(SUMIF(INDIRECT(\"'\"&WsList&\"'!B7:B42\"),B34,INDIRECT(\"'\"&WsList&\"'!F7:F42\"))))","v":""},{"$f":"IF(ISBLANK(B34),\"\",SUMPRODUCT(SUMIF(INDIRECT(\"'\"&WsList&\"'!B7:B42\"),B34,INDIRECT(\"'\"&WsList&\"'!G7:G42\"))))","v":""},{"$f":"IF(ISBLANK(B34),\"\",SUMPRODUCT(SUMIF(INDIRECT(\"'\"&WsList&\"'!B7:B42\"),B34,INDIRECT(\"'\"&WsList&\"'!H7:H42\"))))","v":""}]
[null,null,null,null,{"$f":"IF(ISBLANK(B35),\"\",SUMPRODUCT(SUMIF(INDIRECT(\"'\"&WsList&\"'!B7:B42\"),B35,INDIRECT(\"'\"&WsList&\"'!E7:E42\"))))","v":""},{"$f":"IF(ISBLANK(B35),\"\",SUMPRODUCT(SUMIF(INDIRECT(\"'\"&WsList&\"'!B7:B42\"),B35,INDIRECT(\"'\"&WsList&\"'!F7:F42\"))))","v":""},{"$f":"IF(ISBLANK(B35),\"\",SUMPRODUCT(SUMIF(INDIRECT(\"'\"&WsList&\"'!B7:B42\"),B35,INDIRECT(\"'\"&WsList&\"'!G7:G42\"))))","v":""},{"$f":"IF(ISBLANK(B35),\"\",SUMPRODUCT(SUMIF(INDIRECT(\"'\"&WsList&\"'!B7:B42\"),B35,INDIRECT(\"'\"&WsList&\"'!H7:H42\"))))","v":""}]
[null,null,null,null,{"$f":"IF(ISBLANK(B36),\"\",SUMPRODUCT(SUMIF(INDIRECT(\"'\"&WsList&\"'!B7:B42\"),B36,INDIRECT(\"'\"&WsList&\"'!E7:E42\"))))","v":""},{"$f":"IF(ISBLANK(B36),\"\",SUMPRODUCT(SUMIF(INDIRECT(\"'\"&WsList&\"'!B7:B42\"),B36,INDIRECT(\"'\"&WsList&\"'!F7:F42\"))))","v":""},{"$f":"IF(ISBLANK(B36),\"\",SUMPRODUCT(SUMIF(INDIRECT(\"'\"&WsList&\"'!B7:B42\"),B36,INDIRECT(\"'\"&WsList&\"'!G7:G42\"))))","v":""},{"$f":"IF(ISBLANK(B36),\"\",SUMPRODUCT(SUMIF(INDIRECT(\"'\"&WsList&\"'!B7:B42\"),B36,INDIRECT(\"'\"&WsList&\"'!H7:H42\"))))","v":""}]
[null,null,null,null,{"$f":"IF(ISBLANK(B37),\"\",SUMPRODUCT(SUMIF(INDIRECT(\"'\"&WsList&\"'!B7:B42\"),B37,INDIRECT(\"'\"&WsList&\"'!E7:E42\"))))","v":""},{"$f":"IF(ISBLANK(B37),\"\",SUMPRODUCT(SUMIF(INDIRECT(\"'\"&WsList&\"'!B7:B42\"),B37,INDIRECT(\"'\"&WsList&\"'!F7:F42\"))))","v":""},{"$f":"IF(ISBLANK(B37),\"\",SUMPRODUCT(SUMIF(INDIRECT(\"'\"&WsList&\"'!B7:B42\"),B37,INDIRECT(\"'\"&WsList&\"'!G7:G42\"))))","v":""},{"$f":"IF(ISBLANK(B37),\"\",SUMPRODUCT(SUMIF(INDIRECT(\"'\"&WsList&\"'!B7:B42\"),B37,INDIRECT(\"'\"&WsList&\"'!H7:H42\"))))","v":""}]
[null,null,null,null,{"$f":"IF(ISBLANK(B38),\"\",SUMPRODUCT(SUMIF(INDIRECT(\"'\"&WsList&\"'!B7:B42\"),B38,INDIRECT(\"'\"&WsList&\"'!E7:E42\"))))","v":""},{"$f":"IF(ISBLANK(B38),\"\",SUMPRODUCT(SUMIF(INDIRECT(\"'\"&WsList&\"'!B7:B42\"),B38,INDIRECT(\"'\"&WsList&\"'!F7:F42\"))))","v":""},{"$f":"IF(ISBLANK(B38),\"\",SUMPRODUCT(SUMIF(INDIRECT(\"'\"&WsList&\"'!B7:B42\"),B38,INDIRECT(\"'\"&WsList&\"'!G7:G42\"))))","v":""},{"$f":"IF(ISBLANK(B38),\"\",SUMPRODUCT(SUMIF(INDIRECT(\"'\"&WsList&\"'!B7:B42\"),B38,INDIRECT(\"'\"&WsList&\"'!H7:H42\"))))","v":""}]
[null,null,null,null,{"$f":"IF(ISBLANK(B39),\"\",SUMPRODUCT(SUMIF(INDIRECT(\"'\"&WsList&\"'!B7:B42\"),B39,INDIRECT(\"'\"&WsList&\"'!E7:E42\"))))","v":""},{"$f":"IF(ISBLANK(B39),\"\",SUMPRODUCT(SUMIF(INDIRECT(\"'\"&WsList&\"'!B7:B42\"),B39,INDIRECT(\"'\"&WsList&\"'!F7:F42\"))))","v":""},{"$f":"IF(ISBLANK(B39),\"\",SUMPRODUCT(SUMIF(INDIRECT(\"'\"&WsList&\"'!B7:B42\"),B39,INDIRECT(\"'\"&WsList&\"'!G7:G42\"))))","v":""},{"$f":"IF(ISBLANK(B39),\"\",SUMPRODUCT(SUMIF(INDIRECT(\"'\"&WsList&\"'!B7:B42\"),B39,INDIRECT(\"'\"&WsList&\"'!H7:H42\"))))","v":""}]
[null,null,null,null,{"$f":"IF(ISBLANK(B40),\"\",SUMPRODUCT(SUMIF(INDIRECT(\"'\"&WsList&\"'!B7:B42\"),B40,INDIRECT(\"'\"&WsList&\"'!E7:E42\"))))","v":""},{"$f":"IF(ISBLANK(B40),\"\",SUMPRODUCT(SUMIF(INDIRECT(\"'\"&WsList&\"'!B7:B42\"),B40,INDIRECT(\"'\"&WsList&\"'!F7:F42\"))))","v":""},{"$f":"IF(ISBLANK(B40),\"\",SUMPRODUCT(SUMIF(INDIRECT(\"'\"&WsList&\"'!B7:B42\"),B40,INDIRECT(\"'\"&WsList&\"'!G7:G42\"))))","v":""},{"$f":"IF(ISBLANK(B40),\"\",SUMPRODUCT(SUMIF(INDIRECT(\"'\"&WsList&\"'!B7:B42\"),B40,INDIRECT(\"'\"&WsList&\"'!H7:H42\"))))","v":""}]
[null,null,null,null,{"$f":"IF(ISBLANK(B41),\"\",SUMPRODUCT(SUMIF(INDIRECT(\"'\"&WsList&\"'!B7:B42\"),B41,INDIRECT(\"'\"&WsList&\"'!E7:E42\"))))","v":""},{"$f":"IF(ISBLANK(B41),\"\",SUMPRODUCT(SUMIF(INDIRECT(\"'\"&WsList&\"'!B7:B42\"),B41,INDIRECT(\"'\"&WsList&\"'!F7:F42\"))))","v":""},{"$f":"IF(ISBLANK(B41),\"\",SUMPRODUCT(SUMIF(INDIRECT(\"'\"&WsList&\"'!B7:B42\"),B41,INDIRECT(\"'\"&WsList&\"'!G7:G42\"))))","v":""},{"$f":"IF(ISBLANK(B41),\"\",SUMPRODUCT(SUMIF(INDIRECT(\"'\"&WsList&\"'!B7:B42\"),B41,INDIRECT(\"'\"&WsList&\"'!H7:H42\"))))","v":""}]
[null,null,null,null,{"$f":"IF(ISBLANK(B42),\"\",SUMPRODUCT(SUMIF(INDIRECT(\"'\"&WsList&\"'!B7:B42\"),B42,INDIRECT(\"'\"&WsList&\"'!E7:E42\"))))","v":""},{"$f":"IF(ISBLANK(B42),\"\",SUMPRODUCT(SUMIF(INDIRECT(\"'\"&WsList&\"'!B7:B42\"),B42,INDIRECT(\"'\"&WsList&\"'!F7:F42\"))))","v":""},{"$f":"IF(ISBLANK(B42),\"\",SUMPRODUCT(SUMIF(INDIRECT(\"'\"&WsList&\"'!B7:B42\"),B42,INDIRECT(\"'\"&WsList&\"'!G7:G42\"))))","v":""},{"$f":"IF(ISBLANK(B42),\"\",SUMPRODUCT(SUMIF(INDIRECT(\"'\"&WsList&\"'!B7:B42\"),B42,INDIRECT(\"'\"&WsList&\"'!H7:H42\"))))","v":""}]
[null,null,null,"I alt",{"$f":"SUM(E7:E42)","v":28268},{"$f":"SUM(F7:F42)","v":26621},{"$f":"SUM(G7:G42)","v":23993},{"$f":"SUM(H7:H42)","v":22373}]
[null,null,null,"Saldo primo"]
[null,null,null,"Saldo ultimo",{"$f":"E43-F43+F44","v":1647},null,{"$f":"G43-H43+H44","v":1620},null,null," "]

{"sheet":"1","index":1,"n_rows":45,"n_cols":10,"rows_kept":45,"cut":false,"hidden":false,"merged":[[0,0,3,9],[4,0,5,0],[4,1,5,1],[4,2,5,2],[4,3,5,3],[4,4,4,5],[4,6,4,7],[4,8,4,9]]}
[" KLINIK "]
[]
[]
[]
["DAG","KONTONR","BILAG","TEKST","KASSE",null,"BANK",null,"PATIENT INDBETALING"]
[null,null,null,null,"indtægt","udgift","indtægt","udgift","faktura","beløb"]
[null,180,null,null,670,119,433,490]
[null,140,null,null,512,124,473,425]
[null,160,null,null,294,945,835,220]
[null,190,null,null,727,948,521,435]
[null,200,null,null,647,973,801,682]
[null,220,null,null,235,546,560,463]
[null,230,null,null,109,490,304,544]
[null,210,null,null,422,143,804,458]
[null,190,null,null,262,799,997,265]
[null,210,null,null,114,957,205,248]
[null,130,null,null,854,724,227,674]
[null,180,null,null,615,876,991,267]
[null,220,null,null,489,645,211,747]
[null,160,null,null,3518,706,360,228]
[]
[]
[]
[]
[]
[]
[]
[]
[]
[]
[]
[]
[]
[]
[]
[]
[]
[]
[]
[]
[]
[]
[null,null,null,"I alt",{"$f":"SUM(E7:E42)","v":9468},{"$f":"SUM(F7:F42)","v":8995},{"$f":"SUM(G7:G42)","v":7722},{"$f":"SUM(H7:H42)","v":6146}]
[null,null,null,"Saldo primo"]
[null,null,null,"Saldo ultimo",{"$f":"E43-F43+F44","v":473},null,{"$f":"G43-H43+H44","v":1576},null,null," "]

{"sheet":"2","index":2,"n_rows":45,"n_cols":10,"rows_kept":45,"cut":false,"hidden":false,"merged":[[0,0,3,9],[4,0,5,0],[4,1,5,1],[4,2,5,2],[4,3,5,3],[4,4,4,5],[4,6,4,7],[4,8,4,9]]}
[" KLINIK "]
[]
[]
[]
["DAG","KONTONR","BILAG","TEKST","KASSE",null,"BANK",null,"PATIENT INDBETALING"]
[null,null,null,null,"indtægt","udgift","indtægt","udgift","faktura","beløb"]
[null,150,null,null,913,949,653,954]
[null,170,null,null,583,542,846,873]
[null,190,null,null,631,481,704,282]
[null,230,null,null,391,423,540,201]
[null,220,null,null,171,352,975,359]
[null,150,null,null,568,804,422,887]
[null,120,null,null,525,809,661,721]
[null,230,null,null,276,345,475,199]
[null,100,null,null,128,581,852,820]
[null,140,null,null,900,261,521,596]
[null,150,null,null,410,204,570,812]
[null,190,null,null,179,925,183,324]
[null,200,null,null,536,474,365,641]
[null,200,null,null,2413,839,860,294]
[]
[]
[]
[]
[]
[]
[]
[]
[]
[]
[]
[]
[]
[]
[]
[]
[]
[]
[]
[]
[]
[]
[null,null,null,"I alt",{"$f":"SUM(E7:E42)","v":8624},{"$f":"SUM(F7:F42)","v":7989},{"$f":"SUM(G7:G42)","v":8627},{"$f":"SUM(H7:H42)","v":7963}]
[null,null,null,"Saldo primo",null,{"$f":"PreviousSheet(E45)","v":473},null,{"$f":"PreviousSheet(G45)","v":1576}]
[null,null,null,"Saldo ultimo",{"$f":"E43-F43+F44","v":1108},null,{"$f":"G43-H43+H44","v":2240},null,null," "]

{"sheet":"3","index":3,"n_rows":45,"n_cols":10,"rows_kept":45,"cut":false,"hidden":false,"merged":[[0,0,3,9],[4,0,5,0],[4,1,5,1],[4,2,5,2],[4,3,5,3],[4,4,4,5],[4,6,4,7],[4,8,4,9]]}
[" KLINIK "]
[]
[]
[]
["DAG","KONTONR","BILAG","TEKST","KASSE",null,"BANK",null,"PATIENT INDBETALING"]
[null,null,null,null,"indtægt","udgift","indtægt","udgift","faktura","beløb"]
[null,150,null,null,410,767,926,958]
[null,120,null,null,556,354,720,943]
[null,140,null,null,707,863,914,142]
[null,170,null,null,886,381,745,641]
[null,120,null,null,757,984,660,173]
[null,110,null,null,172,947,984,218]
[null,180,null,null,911,503,106,371]
[null,140,null,null,756,916,155,973]
[null,200,null,null,399,763,136,937]
[null,220,null,null,659,636,250,907]
[null,210,null,null,107,654,325,199]
[null,170,null,null,330,847,573,628]
[null,110,null,null,551,758,505,250]
[null,170,null,null,2975,264,645,924]
[]
[]
[]
[]
[]
[]
[]
[]
[]
[]
[]
[]
[]
[]
[]
[]
[]
[]
[]
[]
[]
[]
[null,null,null,"I alt",{"$f":"SUM(E7:E42)","v":10176},{"$f":"SUM(F7:F42)","v":9637},{"$f":"SUM(G7:G42)","v":7644},{"$f":"SUM(H7:H42)","v":8264}]
[null,null,null,"Saldo primo",null,{"$f":"PreviousSheet(E45)","v":1108},null,{"$f":"PreviousSheet(G45)","v":2240}]
[null,null,null,"Saldo ultimo",{"$f":"E43-F43+F44","v":1647},null,{"$f":"G43-H43+H44","v":1620},null,null," "]

{"sheet":"4","index":4,"n_rows":45,"n_cols":10,"rows_kept":45,"cut":false,"hidden":false,"merged":[[0,0,3,9],[4,0,5,0],[4,1,5,1],[4,2,5,2],[4,3,5,3],[4,4,4,5],[4,6,4,7],[4,8,4,9]]}
[" KLINIK "]
[]
[]
[]
["DAG","KONTONR","BILAG","TEKST","KASSE",null,"BANK",null,"PATIENT INDBETALING"]
[null,null,null,null,"indtægt","udgift","indtægt","udgift","faktura","beløb"]
[]
[]
[]
[]
[]
[]
[]
[]
[]
[]
[]
[]
[]
[]
[]
[]
[]
[]
[]
[]
[]
[]
[]
[]
[]
[]
[]
[]
[]
[]
[]
[]
[]
[]
[]
[]
[null,null,null,"I alt",{"$f":"SUM(E7:E42)","v":0},{"$f":"SUM(F7:F42)","v":0},{"$f":"SUM(G7:G42)","v":0},{"$f":"SUM(H7:H42)","v":0}]
[null,null,null,"Saldo primo",null,{"$f":"PreviousSheet(E45)","v":-2353},null,{"$f":"PreviousSheet(G45)","v":1620}]
[null,null,null,"Saldo ultimo",{"$f":"E43-F43+F44","v":-2353},null,{"$f":"G43-H43+H44","v":1620},null,null," "]

{"sheet":"5","index":5,"n_rows":45,"n_cols":10,"rows_kept":45,"cut":false,"hidden":false,"merged":[[0,0,3,9],[4,0,5,0],[4,1,5,1],[4,2,5,2],[4,3,5,3],[4,4,4,5],[4,6,4,7],[4,8,4,9]]}
[" KLINIK "]
[]
[]
[]
["DAG","KONTONR","BILAG","TEKST","KASSE",null,"BANK",null,"PATIENT INDBETALING"]
[null,null,null,null,"indtægt","udgift","indtægt","udgift","faktura","beløb"]
[]
[]
[]
[]
[]
[]
[]
[]
[]
[]
[]
[]
[]
[]
[]
[]
[]
[]
[]
[]
[]
[]
[]
[]
[]
[]
[]
[]
[]
[]
[]
[]
[]
[]
[]
[]
[null,null,null,"I alt",{"$f":"SUM(E7:E42)","v":0},{"$f":"SUM(F7:F42)","v":0},{"$f":"SUM(G7:G42)","v":0},{"$f":"SUM(H7:H42)","v":0}]
[null,null,null,"Saldo primo",null,{"$f":"PreviousSheet(E45)","v":-2353},null,{"$f":"PreviousSheet(G45)","v":1620}]
[null,null,null,"Saldo ultimo",{"$f":"E43-F43+F44","v":-2353},null,{"$f":"G43-H43+H44","v":1620},null,null," "]

{"sheet":"6","index":6,"n_rows":45,"n_cols":10,"rows_kept":45,"cut":false,"hidden":false,"merged":[[0,0,3,9],[4,0,5,0],[4,1,5,1],[4,2,5,2],[4,3,5,3],[4,4,4,5],[4,6,4,7],[4,8,4,9]]}
[" KLINIK "]
[]
[]
[]
["DAG","KONTONR","BILAG","TEKST","KASSE",null,"BANK",null,"PATIENT INDBETALING"]
[null,null,null,null,"indtægt","udgift","indtægt","udgift","faktura","beløb"]
[]
[]
[]
[]
[]
[]
[]
[]
[]
[]
[]
[]
[]
[]
[]
[]
[]
[]
[]
[]
[]
[]
[]
[]
[]
[]
[]
[]
[]
[]
[]
[]
[]
[]
[]
[]
[null,null,null,"I alt",{"$f":"SUM(E7:E42)","v":0},{"$f":"SUM(F7:F42)","v":0},{"$f":"SUM(G7:G42)","v":0},{"$f":"SUM(H7:H42)","v":0}]
[null,null,null,"Saldo primo",null,{"$f":"PreviousSheet(E45)","v":-2353},null,{"$f":"PreviousSheet(G45)","v":1620}]
[null,null,null,"Saldo ultimo",{"$f":"E43-F43+F44","v":-2353},null,{"$f":"G43-H43+H44","v":1620},null,null," "]

{"sheet":"7","index":7,"n_rows":45,"n_cols":10,"rows_kept":45,"cut":false,"hidden":false,"merged":[[0,0,3,9],[4,0,5,0],[4,1,5,1],[4,2,5,2],[4,3,5,3],[4,4,4,5],[4,6,4,7],[4,8,4,9]]}
[" KLINIK "]
[]
[]
[]
["DAG","KONTONR","BILAG","TEKST","KASSE",null,"BANK",null,"PATIENT INDBETALING"]
[null,null,null,null,"indtægt","udgift","indtægt","udgift","faktura","beløb"]
[]
[]
[]
[]
[]
[]
[]
[]
[]
[]
[]
[]
[]
[]
[]
[]
[]
[]
[]
[]
[]
[]
[]
[]
[]
[]
[]
[]
[]
[]
[]
[]
[]
[]
[]
[]
[null,null,null,"I alt",{"$f":"SUM(E7:E42)","v":0},{"$f":"SUM(F7:F42)","v":0},{"$f":"SUM(G7:G42)","v":0},{"$f":"SUM(H7:H42)","v":0}]
[null,null,null,"Saldo primo",null,{"$f":"PreviousSheet(E45)","v":-2353},null,{"$f":"PreviousSheet(G45)","v":1620}]
[null,null,null,"Saldo ultimo",{"$f":"E43-F43+F44","v":-2353},null,{"$f":"G43-H43+H44","v":1620},null,null," "]

{"sheet":"8","index":8,"n_rows":45,"n_cols":10,"rows_kept":45,"cut":false,"hidden":false,"merged":[[0,0,3,9],[4,0,5,0],[4,1,5,1],[4,2,5,2],[4,3,5,3],[4,4,4,5],[4,6,4,7],[4,8,4,9]]}
[" KLINIK "]
[]
[]
[]
["DAG","KONTONR","BILAG","TEKST","KASSE",null,"BANK",null,"PATIENT INDBETALING"]
[null,null,null,null,"indtægt","udgift","indtægt","udgift","faktura","beløb"]
[]
[]
[]
[]
[]
[]
[]
[]
[]
[]
[]
[]
[]
[]
[]
[]
[]
[]
[]
[]
[]
[]
[]
[]
[]
[]
[]
[]
[]
[]
[]
[]
[]
[]
[]
[]
[null,null,null,"I alt",{"$f":"SUM(E7:E42)","v":0},{"$f":"SUM(F7:F42)","v":0},{"$f":"SUM(G7:G42)","v":0},{"$f":"SUM(H7:H42)","v":0}]
[null,null,null,"Saldo primo",null,{"$f":"PreviousSheet(E45)","v":-2353},null,{"$f":"PreviousSheet(G45)","v":1620}]
[null,null,null,"Saldo ultimo",{"$f":"E43-F43+F44","v":-2353},null,{"$f":"G43-H43+H44","v":1620},null,null," "]

{"sheet":"9","index":9,"n_rows":45,"n_cols":10,"rows_kept":45,"cut":false,"hidden":false,"merged":[[0,0,3,9],[4,0,5,0],[4,1,5,1],[4,2,5,2],[4,3,5,3],[4,4,4,5],[4,6,4,7],[4,8,4,9]]}
[" KLINIK "]
[]
[]
[]
["DAG","KONTONR","BILAG","TEKST","KASSE",null,"BANK",null,"PATIENT INDBETALING"]
[null,null,null,null,"indtægt","udgift","indtægt","udgift","faktura","beløb"]
[]
[]
[]
[]
[]
[]
[]
[]
[]
[]
[]
[]
[]
[]
[]
[]
[]
[]
[]
[]
[]
[]
[]
[]
[]
[]
[]
[]
[]
[]
[]
[]
[]
[]
[]
[]
[null,null,null,"I alt",{"$f":"SUM(E7:E42)","v":0},{"$f":"SUM(F7:F42)","v":0},{"$f":"SUM(G7:G42)","v":0},{"$f":"SUM(H7:H42)","v":0}]
[null,null,null,"Saldo primo",null,{"$f":"PreviousSheet(E45)","v":-2353},null,{"$f":"PreviousSheet(G45)","v":1620}]
[null,null,null,"Saldo ultimo",{"$f":"E43-F43+F44","v":-2353},null,{"$f":"G43-H43+H44","v":1620},null,null," "]

{"sheet":"10","index":10,"n_rows":45,"n_cols":10,"rows_kept":45,"cut":false,"hidden":false,"merged":[[0,0,3,9],[4,0,5,0],[4,1,5,1],[4,2,5,2],[4,3,5,3],[4,4,4,5],[4,6,4,7],[4,8,4,9]]}
[" KLINIK "]
[]
[]
[]
["DAG","KONTONR","BILAG","TEKST","KASSE",null,"BANK",null,"PATIENT INDBETALING"]
[null,null,null,null,"indtægt","udgift","indtægt","udgift","faktura","beløb"]
[]
[]
[]
[]
[]
[]
[]
[]
[]
[]
[]
[]
[]
[]
[]
[]
[]
[]
[]
[]
[]
[]
[]
[]
[]
[]
[]
[]
[]
[]
[]
[]
[]
[]
[]
[]
[null,null,null,"I alt",{"$f":"SUM(E7:E42)","v":0},{"$f":"SUM(F7:F42)","v":0},{"$f":"SUM(G7:G42)","v":0},{"$f":"SUM(H7:H42)","v":0}]
[null,null,null,"Saldo primo",null,{"$f":"PreviousSheet(E45)","v":-2353},null,{"$f":"PreviousSheet(G45)","v":1620}]
[null,null,null,"Saldo ultimo",{"$f":"E43-F43+F44","v":-2353},null,{"$f":"G43-H43+H44","v":1620},null,null," "]

{"sheet":"11","index":11,"n_rows":45,"n_cols":10,"rows_kept":45,"cut":false,"hidden":false,"merged":[[0,0,3,9],[4,0,5,0],[4,1,5,1],[4,2,5,2],[4,3,5,3],[4,4,4,5],[4,6,4,7],[4,8,4,9]]}
[" KLINIK "]
[]
[]
[]
["DAG","KONTONR","BILAG","TEKST","KASSE",null,"BANK",null,"PATIENT INDBETALING"]
[null,null,null,null,"indtægt","udgift","indtægt","udgift","faktura","beløb"]
[]
[]
[]
[]
[]
[]
[]
[]
[]
[]
[]
[]
[]
[]
[]
[]
[]
[]
[]
[]
[]
[]
[]
[]
[]
[]
[]
[]
[]
[]
[]
[]
[]
[]
[]
[]
[null,null,null,"I alt",{"$f":"SUM(E7:E42)","v":0},{"$f":"SUM(F7:F42)","v":0},{"$f":"SUM(G7:G42)","v":0},{"$f":"SUM(H7:H42)","v":0}]
[null,null,null,"Saldo primo",null,{"$f":"PreviousSheet(E45)","v":-2353},null,{"$f":"PreviousSheet(G45)","v":1620}]
[null,null,null,"Saldo ultimo",{"$f":"E43-F43+F44","v":-2353},null,{"$f":"G43-H43+H44","v":1620},null,null," "]

{"sheet":"12","index":12,"n_rows":45,"n_cols":10,"rows_kept":45,"cut":false,"hidden":false,"merged":[[0,0,3,9],[4,0,5,0],[4,1,5,1],[4,2,5,2],[4,3,5,3],[4,4,4,5],[4,6,4,7],[4,8,4,9]]}
[" KLINIK "]
[]
[]
[]
["DAG","KONTONR","BILAG","TEKST","KASSE",null,"BANK",null,"PATIENT INDBETALING"]
[null,null,null,null,"indtægt","udgift","indtægt","udgift","faktura","beløb"]
[]
[]
[]
[]
[]
[]
[]
[]
[]
[]
[]
[]
[]
[]
[]
[]
[]
[]
[]
[]
[]
[]
[]
[]
[]
[]
[]
[]
[]
[]
[]
[]
[]
[]
[]
[]
[null,null,null,"I alt",{"$f":"SUM(E7:E42)","v":0},{"$f":"SUM(F7:F42)","v":0},{"$f":"SUM(G7:G42)","v":0},{"$f":"SUM(H7:H42)","v":0}]
[null,null,null,"Saldo primo",null,{"$f":"PreviousSheet(E45)","v":-2353},null,{"$f":"PreviousSheet(G45)","v":1620}]
[null,null,null,"Saldo ultimo",{"$f":"E43-F43+F44","v":-2353},null,{"$f":"G43-H43+H44","v":1620},null,null," "]

{"sheet":"13","index":13,"n_rows":45,"n_cols":10,"rows_kept":45,"cut":false,"hidden":false,"merged":[[0,0,3,9],[4,0,5,0],[4,1,5,1],[4,2,5,2],[4,3,5,3],[4,4,4,5],[4,6,4,7],[4,8,4,9]]}
[" KLINIK "]
[]
[]
[]
["DAG","KONTONR","BILAG","TEKST","KASSE",null,"BANK",null,"PATIENT INDBETALING"]
[null,null,null,null,"indtægt","udgift","indtægt","udgift","faktura","beløb"]
[]
[]
[]
[]
[]
[]
[]
[]
[]
[]
[]
[]
[]
[]
[]
[]
[]
[]
[]
[]
[]
[]
[]
[]
[]
[]
[]
[]
[]
[]
[]
[]
[]
[]
[]
[]
[null,null,null,"I alt",{"$f":"SUM(E7:E42)","v":0},{"$f":"SUM(F7:F42)","v":0},{"$f":"SUM(G7:G42)","v":0},{"$f":"SUM(H7:H42)","v":0}]
[null,null,null,"Saldo primo",null,{"$f":"PreviousSheet(E45)","v":-2353},null,{"$f":"PreviousSheet(G45)","v":1620}]
[null,null,null,"Saldo ultimo",{"$f":"E43-F43+F44","v":-2353},null,{"$f":"G43-H43+H44","v":1620},null,null," "]

{"sheet":"14","index":14,"n_rows":45,"n_cols":10,"rows_kept":45,"cut":false,"hidden":false,"merged":[[0,0,3,9],[4,0,5,0],[4,1,5,1],[4,2,5,2],[4,3,5,3],[4,4,4,5],[4,6,4,7],[4,8,4,9]]}
[" KLINIK "]
[]
[]
[]
["DAG","KONTONR","BILAG","TEKST","KASSE",null,"BANK",null,"PATIENT INDBETALING"]
[null,null,null,null,"indtægt","udgift","indtægt","udgift","faktura","beløb"]
[]
[]
[]
[]
[]
[]
[]
[]
[]
[]
[]
[]
[]
[]
[]
[]
[]
[]
[]
[]
[]
[]
[]
[]
[]
[]
[]
[]
[]
[]
[]
[]
[]
[]
[]
[]
[null,null,null,"I alt",{"$f":"SUM(E7:E42)","v":0},{"$f":"SUM(F7:F42)","v":0},{"$f":"SUM(G7:G42)","v":0},{"$f":"SUM(H7:H42)","v":0}]
[null,null,null,"Saldo primo",null,{"$f":"PreviousSheet(E45)","v":-2353},null,{"$f":"PreviousSheet(G45)","v":1620}]
[null,null,null,"Saldo ultimo",{"$f":"E43-F43+F44","v":-2353},null,{"$f":"G43-H43+H44","v":1620},null,null," "]

{"sheet":"15","index":15,"n_rows":45,"n_cols":10,"rows_kept":45,"cut":false,"hidden":false,"merged":[[0,0,3,9],[4,0,5,0],[4,1,5,1],[4,2,5,2],[4,3,5,3],[4,4,4,5],[4,6,4,7],[4,8,4,9]]}
[" KLINIK "]
[]
[]
[]
["DAG","KONTONR","BILAG","TEKST","KASSE",null,"BANK",null,"PATIENT INDBETALING"]
[null,null,null,null,"indtægt","udgift","indtægt","udgift","faktura","beløb"]
[]
[]
[]
[]
[]
[]
[]
[]
[]
[]
[]
[]
[]
[]
[]
[]
[]
[]
[]
[]
[]
[]
[]
[]
[]
[]
[]
[]
[]
[]
[]
[]
[]
[]
[]
[]
[null,null,null,"I alt",{"$f":"SUM(E7:E42)","v":0},{"$f":"SUM(F7:F42)","v":0},{"$f":"SUM(G7:G42)","v":0},{"$f":"SUM(H7:H42)","v":0}]
[null,null,null,"Saldo primo",null,{"$f":"PreviousSheet(E45)","v":-2353},null,{"$f":"PreviousSheet(G45)","v":1620}]
[null,null,null,"Saldo ultimo",{"$f":"E43-F43+F44","v":-2353},null,{"$f":"G43-H43+H44","v":1620},null,null," "]

{"sheet":"16","index":16,"n_rows":45,"n_cols":10,"rows_kept":45,"cut":false,"hidden":false,"merged":[[0,0,3,9],[4,0,5,0],[4,1,5,1],[4,2,5,2],[4,3,5,3],[4,4,4,5],[4,6,4,7],[4,8,4,9]]}
[" KLINIK "]
[]
[]
[]
["DAG","KONTONR","BILAG","TEKST","KASSE",null,"BANK",null,"PATIENT INDBETALING"]
[null,null,null,null,"indtægt","udgift","indtægt","udgift","faktura","beløb"]
[]
[]
[]
[]
[]
[]
[]
[]
[]
[]
[]
[]
[]
[]
[]
[]
[]
[]
[]
[]
[]
[]
[]
[]
[]
[]
[]
[]
[]
[]
[]
[]
[]
[]
[]
[]
[null,null,null,"I alt",{"$f":"SUM(E7:E42)","v":0},{"$f":"SUM(F7:F42)","v":0},{"$f":"SUM(G7:G42)","v":0},{"$f":"SUM(H7:H42)","v":0}]
[null,null,null,"Saldo primo",null,{"$f":"PreviousSheet(E45)","v":-2353},null,{"$f":"PreviousSheet(G45)","v":1620}]
[null,null,null,"Saldo ultimo",{"$f":"E43-F43+F44","v":-2353},null,{"$f":"G43-H43+H44","v":1620},null,null," "]

{"sheet":"17","index":17,"n_rows":45,"n_cols":10,"rows_kept":45,"cut":false,"hidden":false,"merged":[[0,0,3,9],[4,0,5,0],[4,1,5,1],[4,2,5,2],[4,3,5,3],[4,4,4,5],[4,6,4,7],[4,8,4,9]]}
[" KLINIK "]
[]
[]
[]
["DAG","KONTONR","BILAG","TEKST","KASSE",null,"BANK",null,"PATIENT INDBETALING"]
[null,null,null,null,"indtægt","udgift","indtægt","udgift","faktura","beløb"]
[]
[]
[]
[]
[]
[]
[]
[]
[]
[]
[]
[]
[]
[]
[]
[]
[]
[]
[]
[]
[]
[]
[]
[]
[]
[]
[]
[]
[]
[]
[]
[]
[]
[]
[]
[]
[null,null,null,"I alt",{"$f":"SUM(E7:E42)","v":0},{"$f":"SUM(F7:F42)","v":0},{"$f":"SUM(G7:G42)","v":0},{"$f":"SUM(H7:H42)","v":0}]
[null,null,null,"Saldo primo",null,{"$f":"PreviousSheet(E45)","v":-2353},null,{"$f":"PreviousSheet(G45)","v":1620}]
[null,null,null,"Saldo ultimo",{"$f":"E43-F43+F44","v":-2353},null,{"$f":"G43-H43+H44","v":1620},null,null," "]

{"sheet":"18","index":18,"n_rows":45,"n_cols":10,"rows_kept":45,"cut":false,"hidden":false,"merged":[[0,0,3,9],[4,0,5,0],[4,1,5,1],[4,2,5,2],[4,3,5,3],[4,4,4,5],[4,6,4,7],[4,8,4,9]]}
[" KLINIK "]
[]
[]
[]
["DAG","KONTONR","BILAG","TEKST","KASSE",null,"BANK",null,"PATIENT INDBETALING"]
[null,null,null,null,"indtægt","udgift","indtægt","udgift","faktura","beløb"]
[]
[]
[]
[]
[]
[]
[]
[]
[]
[]
[]
[]
[]
[]
[]
[]
[]
[]
[]
[]
[]
[]
[]
[]
[]
[]
[]
[]
[]
[]
[]
[]
[]
[]
[]
[]
[null,null,null,"I alt",{"$f":"SUM(E7:E42)","v":0},{"$f":"SUM(F7:F42)","v":0},{"$f":"SUM(G7:G42)","v":0},{"$f":"SUM(H7:H42)","v":0}]
[null,null,null,"Saldo primo",null,{"$f":"PreviousSheet(E45)","v":-2353},null,{"$f":"PreviousSheet(G45)","v":1620}]
[null,null,null,"Saldo ultimo",{"$f":"E43-F43+F44","v":-2353},null,{"$f":"G43-H43+H44","v":1620},null,null," "]

{"sheet":"19","index":19,"n_rows":45,"n_cols":10,"rows_kept":45,"cut":false,"hidden":false,"merged":[[0,0,3,9],[4,0,5,0],[4,1,5,1],[4,2,5,2],[4,3,5,3],[4,4,4,5],[4,6,4,7],[4,8,4,9]]}
[" KLINIK "]
[]
[]
[]
["DAG","KONTONR","BILAG","TEKST","KASSE",null,"BANK",null,"PATIENT INDBETALING"]
[null,null,null,null,"indtægt","udgift","indtægt","udgift","faktura","beløb"]
[]
[]
[]
[]
[]
[]
[]
[]
[]
[]
[]
[]
[]
[]
[]
[]
[]
[]
[]
[]
[]
[]
[]
[]
[]
[]
[]
[]
[]
[]
[]
[]
[]
[]
[]
[]
[null,null,null,"I alt",{"$f":"SUM(E7:E42)","v":0},{"$f":"SUM(F7:F42)","v":0},{"$f":"SUM(G7:G42)","v":0},{"$f":"SUM(H7:H42)","v":0}]
[null,null,null,"Saldo primo",null,{"$f":"PreviousSheet(E45)","v":-2353},null,{"$f":"PreviousSheet(G45)","v":1620}]
[null,null,null,"Saldo ultimo",{"$f":"E43-F43+F44","v":-2353},null,{"$f":"G43-H43+H44","v":1620},null,null," "]

{"sheet":"20","index":20,"n_rows":45,"n_cols":10,"rows_kept":45,"cut":false,"hidden":false,"merged":[[0,0,3,9],[4,0,5,0],[4,1,5,1],[4,2,5,2],[4,3,5,3],[4,4,4,5],[4,6,4,7],[4,8,4,9]]}
[" KLINIK "]
[]
[]
[]
["DAG","KONTONR","BILAG","TEKST","KASSE",null,"BANK",null,"PATIENT INDBETALING"]
[null,null,null,null,"indtægt","udgift","indtægt","udgift","faktura","beløb"]
[]
[]
[]
[]
[]
[]
[]
[]
[]
[]
[]
[]
[]
[]
[]
[]
[]
[]
[]
[]
[]
[]
[]
[]
[]
[]
[]
[]
[]
[]
[]
[]
[]
[]
[]
[]
[null,null,null,"I alt",{"$f":"SUM(E7:E42)","v":0},{"$f":"SUM(F7:F42)","v":0},{"$f":"SUM(G7:G42)","v":0},{"$f":"SUM(H7:H42)","v":0}]
[null,null,null,"Saldo primo",null,{"$f":"PreviousSheet(E45)","v":-2353},null,{"$f":"PreviousSheet(G45)","v":1620}]
[null,null,null,"Saldo ultimo",{"$f":"E43-F43+F44","v":-2353},null,{"$f":"G43-H43+H44","v":1620},null,null," "]

{"sheet":"21","index":21,"n_rows":45,"n_cols":10,"rows_kept":45,"cut":false,"hidden":false,"merged":[[0,0,3,9],[4,0,5,0],[4,1,5,1],[4,2,5,2],[4,3,5,3],[4,4,4,5],[4,6,4,7],[4,8,4,9]]}
[" KLINIK "]
[]
[]
[]
["DAG","KONTONR","BILAG","TEKST","KASSE",null,"BANK",null,"PATIENT INDBETALING"]
[null,null,null,null,"indtægt","udgift","indtægt","udgift","faktura","beløb"]
[]
[]
[]
[]
[]
[]
[]
[]
[]
[]
[]
[]
[]
[]
[]
[]
[]
[]
[]
[]
[]
[]
[]
[]
[]
[]
[]
[]
[]
[]
[]
[]
[]
[]
[]
[]
[null,null,null,"I alt",{"$f":"SUM(E7:E42)","v":0},{"$f":"SUM(F7:F42)","v":0},{"$f":"SUM(G7:G42)","v":0},{"$f":"SUM(H7:H42)","v":0}]
[null,null,null,"Saldo primo",null,{"$f":"PreviousSheet(E45)","v":-2353},null,{"$f":"PreviousSheet(G45)","v":1620}]
[null,null,null,"Saldo ultimo",{"$f":"E43-F43+F44","v":-2353},null,{"$f":"G43-H43+H44","v":1620},null,null," "]

{"sheet":"22","index":22,"n_rows":45,"n_cols":10,"rows_kept":45,"cut":false,"hidden":false,"merged":[[0,0,3,9],[4,0,5,0],[4,1,5,1],[4,2,5,2],[4,3,5,3],[4,4,4,5],[4,6,4,7],[4,8,4,9]]}
[" KLINIK "]
[]
[]
[]
["DAG","KONTONR","BILAG","TEKST","KASSE",null,"BANK",null,"PATIENT INDBETALING"]
[null,null,null,null,"indtægt","udgift","indtægt","udgift","faktura","beløb"]
[]
[]
[]
[]
[]
[]
[]
[]
[]
[]
[]
[]
[]
[]
[]
[]
[]
[]
[]
[]
[]
[]
[]
[]
[]
[]
[]
[]
[]
[]
[]
[]
[]
[]
[]
[]
[null,null,null,"I alt",{"$f":"SUM(E7:E42)","v":0},{"$f":"SUM(F7:F42)","v":0},{"$f":"SUM(G7:G42)","v":0},{"$f":"SUM(H7:H42)","v":0}]
[null,null,null,"Saldo primo",null,{"$f":"PreviousSheet(E45)","v":-2353},null,{"$f":"PreviousSheet(G45)","v":1620}]
[null,null,null,"Saldo ultimo",{"$f":"E43-F43+F44","v":-2353},null,{"$f":"G43-H43+H44","v":1620},null,null," "]

{"sheet":"23","index":23,"n_rows":45,"n_cols":10,"rows_kept":45,"cut":false,"hidden":false,"merged":[[0,0,3,9],[4,0,5,0],[4,1,5,1],[4,2,5,2],[4,3,5,3],[4,4,4,5],[4,6,4,7],[4,8,4,9]]}
[" KLINIK "]
[]
[]
[]
["DAG","KONTONR","BILAG","TEKST","KASSE",null,"BANK",null,"PATIENT INDBETALING"]
[null,null,null,null,"indtægt","udgift","indtægt","udgift","faktura","beløb"]
[]
[]
[]
[]
[]
[]
[]
[]
[]
[]
[]
[]
[]
[]
[]
[]
[]
[]
[]
[]
[]
[]
[]
[]
[]
[]
[]
[]
[]
[]
[]
[]
[]
[]
[]
[]
[null,null,null,"I alt",{"$f":"SUM(E7:E42)","v":0},{"$f":"SUM(F7:F42)","v":0},{"$f":"SUM(G7:G42)","v":0},{"$f":"SUM(H7:H42)","v":0}]
[null,null,null,"Saldo primo",null,{"$f":"PreviousSheet(E45)","v":-2353},null,{"$f":"PreviousSheet(G45)","v":1620}]
[null,null,null,"Saldo ultimo",{"$f":"E43-F43+F44","v":-2353},null,{"$f":"G43-H43+H44","v":1620},null,null," "]

{"sheet":"24","index":24,"n_rows":45,"n_cols":10,"rows_kept":45,"cut":false,"hidden":false,"merged":[[0,0,3,9],[4,0,5,0],[4,1,5,1],[4,2,5,2],[4,3,5,3],[4,4,4,5],[4,6,4,7],[4,8,4,9]]}
[" KLINIK "]
[]
[]
[]
["DAG","KONTONR","BILAG","TEKST","KASSE",null,"BANK",null,"PATIENT INDBETALING"]
[null,null,null,null,"indtægt","udgift","indtægt","udgift","faktura","beløb"]
[]
[]
[]
[]
[]
[]
[]
[]
[]
[]
[]
[]
[]
[]
[]
[]
[]
[]
[]
[]
[]
[]
[]
[]
[]
[]
[]
[]
[]
[]
[]
[]
[]
[]
[]
[]
[null,null,null,"I alt",{"$f":"SUM(E7:E42)","v":0},{"$f":"SUM(F7:F42)","v":0},{"$f":"SUM(G7:G42)","v":0},{"$f":"SUM(H7:H42)","v":0}]
[null,null,null,"Saldo primo",null,{"$f":"PreviousSheet(E45)","v":-2353},null,{"$f":"PreviousSheet(G45)","v":1620}]
[null,null,null,"Saldo ultimo",{"$f":"E43-F43+F44","v":-2353},null,{"$f":"G43-H43+H44","v":1620},null,null," "]

{"sheet":"25","index":25,"n_rows":45,"n_cols":10,"rows_kept":45,"cut":false,"hidden":false,"merged":[[0,0,3,9],[4,0,5,0],[4,1,5,1],[4,2,5,2],[4,3,5,3],[4,4,4,5],[4,6,4,7],[4,8,4,9]]}
[" KLINIK "]
[]
[]
[]
["DAG","KONTONR","BILAG","TEKST","KASSE",null,"BANK",null,"PATIENT INDBETALING"]
[null,null,null,null,"indtægt","udgift","indtægt","udgift","faktura","beløb"]
[]
[]
[]
[]
[]
[]
[]
[]
[]
[]
[]
[]
[]
[]
[]
[]
[]
[]
[]
[]
[]
[]
[]
[]
[]
[]
[]
[]
[]
[]
[]
[]
[]
[]
[]
[]
[null,null,null,"I alt",{"$f":"SUM(E7:E42)","v":0},{"$f":"SUM(F7:F42)","v":0},{"$f":"SUM(G7:G42)","v":0},{"$f":"SUM(H7:H42)","v":0}]
[null,null,null,"Saldo primo",null,{"$f":"PreviousSheet(E45)","v":-2353},null,{"$f":"PreviousSheet(G45)","v":1620}]
[null,null,null,"Saldo ultimo",{"$f":"E43-F43+F44","v":-2353},null,{"$f":"G43-H43+H44","v":1620},null,null," "]

{"sheet":"26","index":26,"n_rows":45,"n_cols":10,"rows_kept":45,"cut":false,"hidden":false,"merged":[[0,0,3,9],[4,0,5,0],[4,1,5,1],[4,2,5,2],[4,3,5,3],[4,4,4,5],[4,6,4,7],[4,8,4,9]]}
[" KLINIK "]
[]
[]
[]
["DAG","KONTONR","BILAG","TEKST","KASSE",null,"BANK",null,"PATIENT INDBETALING"]
[null,null,null,null,"indtægt","udgift","indtægt","udgift","faktura","beløb"]
[]
[]
[]
[]
[]
[]
[]
[]
[]
[]
[]
[]
[]
[]
[]
[]
[]
[]
[]
[]
[]
[]
[]
[]
[]
[]
[]
[]
[]
[]
[]
[]
[]
[]
[]
[]
[null,null,null,"I alt",{"$f":"SUM(E7:E42)","v":0},{"$f":"SUM(F7:F42)","v":0},{"$f":"SUM(G7:G42)","v":0},{"$f":"SUM(H7:H42)","v":0}]
[null,null,null,"Saldo primo",null,{"$f":"PreviousSheet(E45)","v":-2353},null,{"$f":"PreviousSheet(G45)","v":1620}]
[null,null,null,"Saldo ultimo",{"$f":"E43-F43+F44","v":-2353},null,{"$f":"G43-H43+H44","v":1620},null,null," "]

{"sheet":"27","index":27,"n_rows":45,"n_cols":10,"rows_kept":45,"cut":false,"hidden":false,"merged":[[0,0,3,9],[4,0,5,0],[4,1,5,1],[4,2,5,2],[4,3,5,3],[4,4,4,5],[4,6,4,7],[4,8,4,9]]}
[" KLINIK "]
[]
[]
[]
["DAG","KONTONR","BILAG","TEKST","KASSE",null,"BANK",null,"PATIENT INDBETALING"]
[null,null,null,null,"indtægt","udgift","indtægt","udgift","faktura","beløb"]
[]
[]
[]
[]
[]
[]
[]
[]
[]
[]
[]
[]
[]
[]
[]
[]
[]
[]
[]
[]
[]
[]
[]
[]
[]
[]
[]
[]
[]
[]
[]
[]
[]
[]
[]
[]
[null,null,null,"I alt",{"$f":"SUM(E7:E42)","v":0},{"$f":"SUM(F7:F42)","v":0},{"$f":"SUM(G7:G42)","v":0},{"$f":"SUM(H7:H42)","v":0}]
[null,null,null,"Saldo primo",null,{"$f":"PreviousSheet(E45)","v":-2353},null,{"$f":"PreviousSheet(G45)","v":1620}]
[null,null,null,"Saldo ultimo",{"$f":"E43-F43+F44","v":-2353},null,{"$f":"G43-H43+H44","v":1620},null,null," "]

{"sheet":"28","index":28,"n_rows":45,"n_cols":10,"rows_kept":45,"cut":false,"hidden":false,"merged":[[0,0,3,9],[4,0,5,0],[4,1,5,1],[4,2,5,2],[4,3,5,3],[4,4,4,5],[4,6,4,7],[4,8,4,9]]}
[" KLINIK "]
[]
[]
[]
["DAG","KONTONR","BILAG","TEKST","KASSE",null,"BANK",null,"PATIENT INDBETALING"]
[null,null,null,null,"indtægt","udgift","indtægt","udgift","faktura","beløb"]
[]
[]
[]
[]
[]
[]
[]
[]
[]
[]
[]
[]
[]
[]
[]
[]
[]
[]
[]
[]
[]
[]
[]
[]
[]
[]
[]
[]
[]
[]
[]
[]
[]
[]
[]
[]
[null,null,null,"I alt",{"$f":"SUM(E7:E42)","v":0},{"$f":"SUM(F7:F42)","v":0},{"$f":"SUM(G7:G42)","v":0},{"$f":"SUM(H7:H42)","v":0}]
[null,null,null,"Saldo primo",null,{"$f":"PreviousSheet(E45)","v":-2353},null,{"$f":"PreviousSheet(G45)","v":1620}]
[null,null,null,"Saldo ultimo",{"$f":"E43-F43+F44","v":-2353},null,{"$f":"G43-H43+H44","v":1620},null,null," "]

{"sheet":"29","index":29,"n_rows":45,"n_cols":10,"rows_kept":45,"cut":false,"hidden":false,"merged":[[0,0,3,9],[4,0,5,0],[4,1,5,1],[4,2,5,2],[4,3,5,3],[4,4,4,5],[4,6,4,7],[4,8,4,9]]}
[" KLINIK "]
[]
[]
[]
["DAG","KONTONR","BILAG","TEKST","KASSE",null,"BANK",null,"PATIENT INDBETALING"]
[null,null,null,null,"indtægt","udgift","indtægt","udgift","faktura","beløb"]
[]
[]
[]
[]
[]
[]
[]
[]
[]
[]
[]
[]
[]
[]
[]
[]
[]
[]
[]
[]
[]
[]
[]
[]
[]
[]
[]
[]
[]
[]
[]
[]
[]
[]
[]
[]
[null,null,null,"I alt",{"$f":"SUM(E7:E42)","v":0},{"$f":"SUM(F7:F42)","v":0},{"$f":"SUM(G7:G42)","v":0},{"$f":"SUM(H7:H42)","v":0}]
[null,null,null,"Saldo primo",null,{"$f":"PreviousSheet(E45)","v":-2353},null,{"$f":"PreviousSheet(G45)","v":1620}]
[null,null,null,"Saldo ultimo",{"$f":"E43-F43+F44","v":-2353},null,{"$f":"G43-H43+H44","v":1620},null,null," "]

{"sheet":"30","index":30,"n_rows":45,"n_cols":10,"rows_kept":45,"cut":false,"hidden":false,"merged":[[0,0,3,9],[4,0,5,0],[4,1,5,1],[4,2,5,2],[4,3,5,3],[4,4,4,5],[4,6,4,7],[4,8,4,9]]}
[" KLINIK "]
[]
[]
[]
["DAG","KONTONR","BILAG","TEKST","KASSE",null,"BANK",null,"PATIENT INDBETALING"]
[null,null,null,null,"indtægt","udgift","indtægt","udgift","faktura","beløb"]
[]
[]
[]
[]
[]
[]
[]
[]
[]
[]
[]
[]
[]
[]
[]
[]
[]
[]
[]
[]
[]
[]
[]
[]
[]
[]
[]
[]
[]
[]
[]
[]
[]
[]
[]
[]
[null,null,null,"I alt",{"$f":"SUM(E7:E42)","v":0},{"$f":"SUM(F7:F42)","v":0},{"$f":"SUM(G7:G42)","v":0},{"$f":"SUM(H7:H42)","v":0}]
[null,null,null,"Saldo primo",null,{"$f":"PreviousSheet(E45)","v":-2353},null,{"$f":"PreviousSheet(G45)","v":1620}]
[null,null,null,"Saldo ultimo",{"$f":"E43-F43+F44","v":-2353},null,{"$f":"G43-H43+H44","v":1620},null,null," "]

{"sheet":"31","index":31,"n_rows":45,"n_cols":10,"rows_kept":45,"cut":false,"hidden":false,"merged":[[0,0,3,9],[4,0,5,0],[4,1,5,1],[4,2,5,2],[4,3,5,3],[4,4,4,5],[4,6,4,7],[4,8,4,9]]}
[" KLINIK "]
[]
[]
[]
["DAG","KONTONR","BILAG","TEKST","KASSE",null,"BANK",null,"PATIENT INDBETALING"]
[null,null,null,null,"indtægt","udgift","indtægt","udgift","faktura","beløb"]
[]
[]
[]
[]
[]
[]
[]
[]
[]
[]
[]
[]
[]
[]
[]
[]
[]
[]
[]
[]
[]
[]
[]
[]
[]
[]
[]
[]
[]
[]
[]
[]
[]
[]
[]
[]
[null,null,null,"I alt",{"$f":"SUM(E7:E42)","v":0},{"$f":"SUM(F7:F42)","v":0},{"$f":"SUM(G7:G42)","v":0},{"$f":"SUM(H7:H42)","v":0}]
[null,null,null,"Saldo primo",null,{"$f":"PreviousSheet(E45)","v":-2353},null,{"$f":"PreviousSheet(G45)","v":1620}]
[null,null,null,"Saldo ultimo",{"$f":"E43-F43+F44","v":-2353},null,{"$f":"G43-H43+H44","v":1620},null,null," "]

{"sheet":"32","index":32,"n_rows":45,"n_cols":10,"rows_kept":45,"cut":false,"hidden":false,"merged":[[0,0,3,9],[4,0,5,0],[4,1,5,1],[4,2,5,2],[4,3,5,3],[4,4,4,5],[4,6,4,7],[4,8,4,9]]}
[" KLINIK "]
[]
[]
[]
["DAG","KONTONR","BILAG","TEKST","KASSE",null,"BANK",null,"PATIENT INDBETALING"]
[null,null,null,null,"indtægt","udgift","indtægt","udgift","faktura","beløb"]
[]
[]
[]
[]
[]
[]
[]
[]
[]
[]
[]
[]
[]
[]
[]
[]
[]
[]
[]
[]
[]
[]
[]
[]
[]
[]
[]
[]
[]
[]
[]
[]
[]
[]
[]
[]
[null,null,null,"I alt",{"$f":"SUM(E7:E42)","v":0},{"$f":"SUM(F7:F42)","v":0},{"$f":"SUM(G7:G42)","v":0},{"$f":"SUM(H7:H42)","v":0}]
[null,null,null,"Saldo primo",null,{"$f":"PreviousSheet(E45)","v":-2353},null,{"$f":"PreviousSheet(G45)","v":1620}]
[null,null,null,"Saldo ultimo",{"$f":"E43-F43+F44","v":-2353},null,{"$f":"G43-H43+H44","v":1620},null,null," "]

{"sheet":"33","index":33,"n_rows":45,"n_cols":10,"rows_kept":45,"cut":false,"hidden":false,"merged":[[0,0,3,9],[4,0,5,0],[4,1,5,1],[4,2,5,2],[4,3,5,3],[4,4,4,5],[4,6,4,7],[4,8,4,9]]}
[" KLINIK "]
[]
[]
[]
["DAG","KONTONR","BILAG","TEKST","KASSE",null,"BANK",null,"PATIENT INDBETALING"]
[null,null,null,null,"indtægt","udgift","indtægt","udgift","faktura","beløb"]
[]
[]
[]
[]
[]
[]
[]
[]
[]
[]
[]
[]
[]
[]
[]
[]
[]
[]
[]
[]
[]
[]
[]
[]
[]
[]
[]
[]
[]
[]
[]
[]
[]
[]
[]
[]
[null,null,null,"I alt",{"$f":"SUM(E7:E42)","v":0},{"$f":"SUM(F7:F42)","v":0},{"$f":"SUM(G7:G42)","v":0},{"$f":"SUM(H7:H42)","v":0}]
[null,null,null,"Saldo primo",null,{"$f":"PreviousSheet(E45)","v":-2353},null,{"$f":"PreviousSheet(G45)","v":1620}]
[null,null,null,"Saldo ultimo",{"$f":"E43-F43+F44","v":-2353},null,{"$f":"G43-H43+H44","v":1620},null,null," "]

{"sheet":"34","index":34,"n_rows":45,"n_cols":10,"rows_kept":45,"cut":false,"hidden":false,"merged":[[0,0,3,9],[4,0,5,0],[4,1,5,1],[4,2,5,2],[4,3,5,3],[4,4,4,5],[4,6,4,7],[4,8,4,9]]}
[" KLINIK "]
[]
[]
[]
["DAG","KONTONR","BILAG","TEKST","KASSE",null,"BANK",null,"PATIENT INDBETALING"]
[null,null,null,null,"indtægt","udgift","indtægt","udgift","faktura","beløb"]
[]
[]
[]
[]
[]
[]
[]
[]
[]
[]
[]
[]
[]
[]
[]
[]
[]
[]
[]
[]
[]
[]
[]
[]
[]
[]
[]
[]
[]
[]
[]
[]
[]
[]
[]
[]
[null,null,null,"I alt",{"$f":"SUM(E7:E42)","v":0},{"$f":"SUM(F7:F42)","v":0},{"$f":"SUM(G7:G42)","v":0},{"$f":"SUM(H7:H42)","v":0}]
[null,null,null,"Saldo primo",null,{"$f":"PreviousSheet(E45)","v":-2353},null,{"$f":"PreviousSheet(G45)","v":1620}]
[null,null,null,"Saldo ultimo",{"$f":"E43-F43+F44","v":-2353},null,{"$f":"G43-H43+H44","v":1620},null,null," "]

{"sheet":"35","index":35,"n_rows":45,"n_cols":10,"rows_kept":45,"cut":false,"hidden":false,"merged":[[0,0,3,9],[4,0,5,0],[4,1,5,1],[4,2,5,2],[4,3,5,3],[4,4,4,5],[4,6,4,7],[4,8,4,9]]}
[" KLINIK "]
[]
[]
[]
["DAG","KONTONR","BILAG","TEKST","KASSE",null,"BANK",null,"PATIENT INDBETALING"]
[null,null,null,null,"indtægt","udgift","indtægt","udgift","faktura","beløb"]
[]
[]
[]
[]
[]
[]
[]
[]
[]
[]
[]
[]
[]
[]
[]
[]
[]
[]
[]
[]
[]
[]
[]
[]
[]
[]
[]
[]
[]
[]
[]
[]
[]
[]
[]
[]
[null,null,null,"I alt",{"$f":"SUM(E7:E42)","v":0},{"$f":"SUM(F7:F42)","v":0},{"$f":"SUM(G7:G42)","v":0},{"$f":"SUM(H7:H42)","v":0}]
[null,null,null,"Saldo primo",null,{"$f":"PreviousSheet(E45)","v":-2353},null,{"$f":"PreviousSheet(G45)","v":1620}]
[null,null,null,"Saldo ultimo",{"$f":"E43-F43+F44","v":-2353},null,{"$f":"G43-H43+H44","v":1620},null,null," "]

{"sheet":"36","index":36,"n_rows":45,"n_cols":10,"rows_kept":45,"cut":false,"hidden":false,"merged":[[0,0,3,9],[4,0,5,0],[4,1,5,1],[4,2,5,2],[4,3,5,3],[4,4,4,5],[4,6,4,7],[4,8,4,9]]}
[" KLINIK "]
[]
[]
[]
["DAG","KONTONR","BILAG","TEKST","KASSE",null,"BANK",null,"PATIENT INDBETALING"]
[null,null,null,null,"indtægt","udgift","indtægt","udgift","faktura","beløb"]
[]
[]
[]
[]
[]
[]
[]
[]
[]
[]
[]
[]
[]
[]
[]
[]
[]
[]
[]
[]
[]
[]
[]
[]
[]
[]
[]
[]
[]
[]
[]
[]
[]
[]
[]
[]
[null,null,null,"I alt",{"$f":"SUM(E7:E42)","v":0},{"$f":"SUM(F7:F42)","v":0},{"$f":"SUM(G7:G42)","v":0},{"$f":"SUM(H7:H42)","v":0}]
[null,null,null,"Saldo primo",null,{"$f":"PreviousSheet(E45)","v":-2353},null,{"$f":"PreviousSheet(G45)","v":1620}]
[null,null,null,"Saldo ultimo",{"$f":"E43-F43+F44","v":-2353},null,{"$f":"G43-H43+H44","v":1620},null,null," "]

{"sheet":"37","index":37,"n_rows":45,"n_cols":10,"rows_kept":45,"cut":false,"hidden":false,"merged":[[0,0,3,9],[4,0,5,0],[4,1,5,1],[4,2,5,2],[4,3,5,3],[4,4,4,5],[4,6,4,7],[4,8,4,9]]}
[" KLINIK "]
[]
[]
[]
["DAG","KONTONR","BILAG","TEKST","KASSE",null,"BANK",null,"PATIENT INDBETALING"]
[null,null,null,null,"indtægt","udgift","indtægt","udgift","faktura","beløb"]
[]
[]
[]
[]
[]
[]
[]
[]
[]
[]
[]
[]
[]
[]
[]
[]
[]
[]
[]
[]
[]
[]
[]
[]
[]
[]
[]
[]
[]
[]
[]
[]
[]
[]
[]
[]
[null,null,null,"I alt",{"$f":"SUM(E7:E42)","v":0},{"$f":"SUM(F7:F42)","v":0},{"$f":"SUM(G7:G42)","v":0},{"$f":"SUM(H7:H42)","v":0}]
[null,null,null,"Saldo primo",null,{"$f":"PreviousSheet(E45)","v":-2353},null,{"$f":"PreviousSheet(G45)","v":1620}]
[null,null,null,"Saldo ultimo",{"$f":"E43-F43+F44","v":-2353},null,{"$f":"G43-H43+H44","v":1620},null,null," "]

{"sheet":"38","index":38,"n_rows":45,"n_cols":10,"rows_kept":45,"cut":false,"hidden":false,"merged":[[0,0,3,9],[4,0,5,0],[4,1,5,1],[4,2,5,2],[4,3,5,3],[4,4,4,5],[4,6,4,7],[4,8,4,9]]}
[" KLINIK "]
[]
[]
[]
["DAG","KONTONR","BILAG","TEKST","KASSE",null,"BANK",null,"PATIENT INDBETALING"]
[null,null,null,null,"indtægt","udgift","indtægt","udgift","faktura","beløb"]
[]
[]
[]
[]
[]
[]
[]
[]
[]
[]
[]
[]
[]
[]
[]
[]
[]
[]
[]
[]
[]
[]
[]
[]
[]
[]
[]
[]
[]
[]
[]
[]
[]
[]
[]
[]
[null,null,null,"I alt",{"$f":"SUM(E7:E42)","v":0},{"$f":"SUM(F7:F42)","v":0},{"$f":"SUM(G7:G42)","v":0},{"$f":"SUM(H7:H42)","v":0}]
[null,null,null,"Saldo primo",null,{"$f":"PreviousSheet(E45)","v":-2353},null,{"$f":"PreviousSheet(G45)","v":1620}]
[null,null,null,"Saldo ultimo",{"$f":"E43-F43+F44","v":-2353},null,{"$f":"G43-H43+H44","v":1620},null,null," "]

{"sheet":"39","index":39,"n_rows":45,"n_cols":10,"rows_kept":45,"cut":false,"hidden":false,"merged":[[0,0,3,9],[4,0,5,0],[4,1,5,1],[4,2,5,2],[4,3,5,3],[4,4,4,5],[4,6,4,7],[4,8,4,9]]}
[" KLINIK "]
[]
[]
[]
["DAG","KONTONR","BILAG","TEKST","KASSE",null,"BANK",null,"PATIENT INDBETALING"]
[null,null,null,null,"indtægt","udgift","indtægt","udgift","faktura","beløb"]
[]
[]
[]
[]
[]
[]
[]
[]
[]
[]
[]
[]
[]
[]
[]
[]
[]
[]
[]
[]
[]
[]
[]
[]
[]
[]
[]
[]
[]
[]
[]
[]
[]
[]
[]
[]
[null,null,null,"I alt",{"$f":"SUM(E7:E42)","v":0},{"$f":"SUM(F7:F42)","v":0},{"$f":"SUM(G7:G42)","v":0},{"$f":"SUM(H7:H42)","v":0}]
[null,null,null,"Saldo primo",null,{"$f":"PreviousSheet(E45)","v":-2353},null,{"$f":"PreviousSheet(G45)","v":1620}]
[null,null,null,"Saldo ultimo",{"$f":"E43-F43+F44","v":-2353},null,{"$f":"G43-H43+H44","v":1620},null,null," "]

{"sheet":"40","index":40,"n_rows":45,"n_cols":10,"rows_kept":45,"cut":false,"hidden":false,"merged":[[0,0,3,9],[4,0,5,0],[4,1,5,1],[4,2,5,2],[4,3,5,3],[4,4,4,5],[4,6,4,7],[4,8,4,9]]}
[" KLINIK "]
[]
[]
[]
["DAG","KONTONR","BILAG","TEKST","KASSE",null,"BANK",null,"PATIENT INDBETALING"]
[null,null,null,null,"indtægt","udgift","indtægt","udgift","faktura","beløb"]
[]
[]
[]
[]
[]
[]
[]
[]
[]
[]
[]
[]
[]
[]
[]
[]
[]
[]
[]
[]
[]
[]
[]
[]
[]
[]
[]
[]
[]
[]
[]
[]
[]
[]
[]
[]
[null,null,null,"I alt",{"$f":"SUM(E7:E42)","v":0},{"$f":"SUM(F7:F42)","v":0},{"$f":"SUM(G7:G42)","v":0},{"$f":"SUM(H7:H42)","v":0}]
[null,null,null,"Saldo primo",null,{"$f":"PreviousSheet(E45)","v":-2353},null,{"$f":"PreviousSheet(G45)","v":1620}]
[null,null,null,"Saldo ultimo",{"$f":"E43-F43+F44","v":-2353},null,{"$f":"G43-H43+H44","v":1620},null,null," "]

{"sheet":"41","index":41,"n_rows":45,"n_cols":10,"rows_kept":45,"cut":false,"hidden":false,"merged":[[0,0,3,9],[4,0,5,0],[4,1,5,1],[4,2,5,2],[4,3,5,3],[4,4,4,5],[4,6,4,7],[4,8,4,9]]}
[" KLINIK "]
[]
[]
[]
["DAG","KONTONR","BILAG","TEKST","KASSE",null,"BANK",null,"PATIENT INDBETALING"]
[null,null,null,null,"indtægt","udgift","indtægt","udgift","faktura","beløb"]
[]
[]
[]
[]
[]
[]
[]
[]
[]
[]
[]
[]
[]
[]
[]
[]
[]
[]
[]
[]
[]
[]
[]
[]
[]
[]
[]
[]
[]
[]
[]
[]
[]
[]
[]
[]
[null,null,null,"I alt",{"$f":"SUM(E7:E42)","v":0},{"$f":"SUM(F7:F42)","v":0},{"$f":"SUM(G7:G42)","v":0},{"$f":"SUM(H7:H42)","v":0}]
[null,null,null,"Saldo primo",null,{"$f":"PreviousSheet(E45)","v":-2353},null,{"$f":"PreviousSheet(G45)","v":1620}]
[null,null,null,"Saldo ultimo",{"$f":"E43-F43+F44","v":-2353},null,{"$f":"G43-H43+H44","v":1620},null,null," "]

{"sheet":"42","index":42,"n_rows":45,"n_cols":10,"rows_kept":45,"cut":false,"hidden":false,"merged":[[0,0,3,9],[4,0,5,0],[4,1,5,1],[4,2,5,2],[4,3,5,3],[4,4,4,5],[4,6,4,7],[4,8,4,9]]}
[" KLINIK "]
[]
[]
[]
["DAG","KONTONR","BILAG","TEKST","KASSE",null,"BANK",null,"PATIENT INDBETALING"]
[null,null,null,null,"indtægt","udgift","indtægt","udgift","faktura","beløb"]
[]
[]
[]
[]
[]
[]
[]
[]
[]
[]
[]
[]
[]
[]
[]
[]
[]
[]
[]
[]
[]
[]
[]
[]
[]
[]
[]
[]
[]
[]
[]
[]
[]
[]
[]
[]
[null,null,null,"I alt",{"$f":"SUM(E7:E42)","v":0},{"$f":"SUM(F7:F42)","v":0},{"$f":"SUM(G7:G42)","v":0},{"$f":"SUM(H7:H42)","v":0}]
[null,null,null,"Saldo primo",null,{"$f":"PreviousSheet(E45)","v":-2353},null,{"$f":"PreviousSheet(G45)","v":1620}]
[null,null,null,"Saldo ultimo",{"$f":"E43-F43+F44","v":-2353},null,{"$f":"G43-H43+H44","v":1620},null,null," "]

{"sheet":"43","index":43,"n_rows":45,"n_cols":10,"rows_kept":45,"cut":false,"hidden":false,"merged":[[0,0,3,9],[4,0,5,0],[4,1,5,1],[4,2,5,2],[4,3,5,3],[4,4,4,5],[4,6,4,7],[4,8,4,9]]}
[" KLINIK "]
[]
[]
[]
["DAG","KONTONR","BILAG","TEKST","KASSE",null,"BANK",null,"PATIENT INDBETALING"]
[null,null,null,null,"indtægt","udgift","indtægt","udgift","faktura","beløb"]
[]
[]
[]
[]
[]
[]
[]
[]
[]
[]
[]
[]
[]
[]
[]
[]
[]
[]
[]
[]
[]
[]
[]
[]
[]
[]
[]
[]
[]
[]
[]
[]
[]
[]
[]
[]
[null,null,null,"I alt",{"$f":"SUM(E7:E42)","v":0},{"$f":"SUM(F7:F42)","v":0},{"$f":"SUM(G7:G42)","v":0},{"$f":"SUM(H7:H42)","v":0}]
[null,null,null,"Saldo primo",null,{"$f":"PreviousSheet(E45)","v":-2353},null,{"$f":"PreviousSheet(G45)","v":1620}]
[null,null,null,"Saldo ultimo",{"$f":"E43-F43+F44","v":-2353},null,{"$f":"G43-H43+H44","v":1620},null,null," "]

{"sheet":"44","index":44,"n_rows":45,"n_cols":10,"rows_kept":45,"cut":false,"hidden":false,"merged":[[0,0,3,9],[4,0,5,0],[4,1,5,1],[4,2,5,2],[4,3,5,3],[4,4,4,5],[4,6,4,7],[4,8,4,9]]}
[" KLINIK "]
[]
[]
[]
["DAG","KONTONR","BILAG","TEKST","KASSE",null,"BANK",null,"PATIENT INDBETALING"]
[null,null,null,null,"indtægt","udgift","indtægt","udgift","faktura","beløb"]
[]
[]
[]
[]
[]
[]
[]
[]
[]
[]
[]
[]
[]
[]
[]
[]
[]
[]
[]
[]
[]
[]
[]
[]
[]
[]
[]
[]
[]
[]
[]
[]
[]
[]
[]
[]
[null,null,null,"I alt",{"$f":"SUM(E7:E42)","v":0},{"$f":"SUM(F7:F42)","v":0},{"$f":"SUM(G7:G42)","v":0},{"$f":"SUM(H7:H42)","v":0}]
[null,null,null,"Saldo primo",null,{"$f":"PreviousSheet(E45)","v":-2353},null,{"$f":"PreviousSheet(G45)","v":1620}]
[null,null,null,"Saldo ultimo",{"$f":"E43-F43+F44","v":-2353},null,{"$f":"G43-H43+H44","v":1620},null,null," "]

{"sheet":"45","index":45,"n_rows":45,"n_cols":10,"rows_kept":45,"cut":false,"hidden":false,"merged":[[0,0,3,9],[4,0,5,0],[4,1,5,1],[4,2,5,2],[4,3,5,3],[4,4,4,5],[4,6,4,7],[4,8,4,9]]}
[" KLINIK "]
[]
[]
[]
["DAG","KONTONR","BILAG","TEKST","KASSE",null,"BANK",null,"PATIENT INDBETALING"]
[null,null,null,null,"indtægt","udgift","indtægt","udgift","faktura","beløb"]
[]
[]
[]
[]
[]
[]
[]
[]
[]
[]
[]
[]
[]
[]
[]
[]
[]
[]
[]
[]
[]
[]
[]
[]
[]
[]
[]
[]
[]
[]
[]
[]
[]
[]
[]
[]
[null,null,null,"I alt",{"$f":"SUM(E7:E42)","v":0},{"$f":"SUM(F7:F42)","v":0},{"$f":"SUM(G7:G42)","v":0},{"$f":"SUM(H7:H42)","v":0}]
[null,null,null,"Saldo primo",null,{"$f":"PreviousSheet(E45)","v":-2353},null,{"$f":"PreviousSheet(G45)","v":1620}]
[null,null,null,"Saldo ultimo",{"$f":"E43-F43+F44","v":-2353},null,{"$f":"G43-H43+H44","v":1620},null,null," "]

{"sheet":"46","index":46,"n_rows":45,"n_cols":10,"rows_kept":45,"cut":false,"hidden":false,"merged":[[0,0,3,9],[4,0,5,0],[4,1,5,1],[4,2,5,2],[4,3,5,3],[4,4,4,5],[4,6,4,7],[4,8,4,9]]}
[" KLINIK "]
[]
[]
[]
["DAG","KONTONR","BILAG","TEKST","KASSE",null,"BANK",null,"PATIENT INDBETALING"]
[null,null,null,null,"indtægt","udgift","indtægt","udgift","faktura","beløb"]
[]
[]
[]
[]
[]
[]
[]
[]
[]
[]
[]
[]
[]
[]
[]
[]
[]
[]
[]
[]
[]
[]
[]
[]
[]
[]
[]
[]
[]
[]
[]
[]
[]
[]
[]
[]
[null,null,null,"I alt",{"$f":"SUM(E7:E42)","v":0},{"$f":"SUM(F7:F42)","v":0},{"$f":"SUM(G7:G42)","v":0},{"$f":"SUM(H7:H42)","v":0}]
[null,null,null,"Saldo primo",null,{"$f":"PreviousSheet(E45)","v":-2353},null,{"$f":"PreviousSheet(G45)","v":1620}]
[null,null,null,"Saldo ultimo",{"$f":"E43-F43+F44","v":-2353},null,{"$f":"G43-H43+H44","v":1620},null,null," "]

{"sheet":"47","index":47,"n_rows":45,"n_cols":10,"rows_kept":45,"cut":false,"hidden":false,"merged":[[0,0,3,9],[4,0,5,0],[4,1,5,1],[4,2,5,2],[4,3,5,3],[4,4,4,5],[4,6,4,7],[4,8,4,9]]}
[" KLINIK "]
[]
[]
[]
["DAG","KONTONR","BILAG","TEKST","KASSE",null,"BANK",null,"PATIENT INDBETALING"]
[null,null,null,null,"indtægt","udgift","indtægt","udgift","faktura","beløb"]
[]
[]
[]
[]
[]
[]
[]
[]
[]
[]
[]
[]
[]
[]
[]
[]
[]
[]
[]
[]
[]
[]
[]
[]
[]
[]
[]
[]
[]
[]
[]
[]
[]
[]
[]
[]
[null,null,null,"I alt",{"$f":"SUM(E7:E42)","v":0},{"$f":"SUM(F7:F42)","v":0},{"$f":"SUM(G7:G42)","v":0},{"$f":"SUM(H7:H42)","v":0}]
[null,null,null,"Saldo primo",null,{"$f":"PreviousSheet(E45)","v":-2353},null,{"$f":"PreviousSheet(G45)","v":1620}]
[null,null,null,"Saldo ultimo",{"$f":"E43-F43+F44","v":-2353},null,{"$f":"G43-H43+H44","v":1620},null,null," "]

{"sheet":"48","index":48,"n_rows":45,"n_cols":10,"rows_kept":45,"cut":false,"hidden":false,"merged":[[0,0,3,9],[4,0,5,0],[4,1,5,1],[4,2,5,2],[4,3,5,3],[4,4,4,5],[4,6,4,7],[4,8,4,9]]}
[" KLINIK "]
[]
[]
[]
["DAG","KONTONR","BILAG","TEKST","KASSE",null,"BANK",null,"PATIENT INDBETALING"]
[null,null,null,null,"indtægt","udgift","indtægt","udgift","faktura","beløb"]
[]
[]
[]
[]
[]
[]
[]
[]
[]
[]
[]
[]
[]
[]
[]
[]
[]
[]
[]
[]
[]
[]
[]
[]
[]
[]
[]
[]
[]
[]
[]
[]
[]
[]
[]
[]
[null,null,null,"I alt",{"$f":"SUM(E7:E42)","v":0},{"$f":"SUM(F7:F42)","v":0},{"$f":"SUM(G7:G42)","v":0},{"$f":"SUM(H7:H42)","v":0}]
[null,null,null,"Saldo primo",null,{"$f":"PreviousSheet(E45)","v":-2353},null,{"$f":"PreviousSheet(G45)","v":1620}]
[null,null,null,"Saldo ultimo",{"$f":"E43-F43+F44","v":-2353},null,{"$f":"G43-H43+H44","v":1620},null,null," "]

{"sheet":"49","index":49,"n_rows":45,"n_cols":10,"rows_kept":45,"cut":false,"hidden":false,"merged":[[0,0,3,9],[4,0,5,0],[4,1,5,1],[4,2,5,2],[4,3,5,3],[4,4,4,5],[4,6,4,7],[4,8,4,9]]}
[" KLINIK "]
[]
[]
[]
["DAG","KONTONR","BILAG","TEKST","KASSE",null,"BANK",null,"PATIENT INDBETALING"]
[null,null,null,null,"indtægt","udgift","indtægt","udgift","faktura","beløb"]
[]
[]
[]
[]
[]
[]
[]
[]
[]
[]
[]
[]
[]
[]
[]
[]
[]
[]
[]
[]
[]
[]
[]
[]
[]
[]
[]
[]
[]
[]
[]
[]
[]
[]
[]
[]
[null,null,null,"I alt",{"$f":"SUM(E7:E42)","v":0},{"$f":"SUM(F7:F42)","v":0},{"$f":"SUM(G7:G42)","v":0},{"$f":"SUM(H7:H42)","v":0}]
[null,null,null,"Saldo primo",null,{"$f":"PreviousSheet(E45)","v":-2353},null,{"$f":"PreviousSheet(G45)","v":1620}]
[null,null,null,"Saldo ultimo",{"$f":"E43-F43+F44","v":-2353},null,{"$f":"G43-H43+H44","v":1620},null,null," "]

{"sheet":"50","index":50,"n_rows":45,"n_cols":10,"rows_kept":45,"cut":false,"hidden":false,"merged":[[0,0,3,9],[4,0,5,0],[4,1,5,1],[4,2,5,2],[4,3,5,3],[4,4,4,5],[4,6,4,7],[4,8,4,9]]}
[" KLINIK "]
[]
[]
[]
["DAG","KONTONR","BILAG","TEKST","KASSE",null,"BANK",null,"PATIENT INDBETALING"]
[null,null,null,null,"indtægt","udgift","indtægt","udgift","faktura","beløb"]
[]
[]
[]
[]
[]
[]
[]
[]
[]
[]
[]
[]
[]
[]
[]
[]
[]
[]
[]
[]
[]
[]
[]
[]
[]
[]
[]
[]
[]
[]
[]
[]
[]
[]
[]
[]
[null,null,null,"I alt",{"$f":"SUM(E7:E42)","v":0},{"$f":"SUM(F7:F42)","v":0},{"$f":"SUM(G7:G42)","v":0},{"$f":"SUM(H7:H42)","v":0}]
[null,null,null,"Saldo primo",null,{"$f":"PreviousSheet(E45)","v":-2353},null,{"$f":"PreviousSheet(G45)","v":1620}]
[null,null,null,"Saldo ultimo",{"$f":"E43-F43+F44","v":-2353},null,{"$f":"G43-H43+H44","v":1620},null,null," "]