{"text_format":"1","workbook":"xlsx","n_sheets":1,"sheets":["07-Current EPS"],"not_rendered":{"charts":0,"images":1,"macros":1,"external_links":1,"defined_names":1,"comments":1,"pivot_tables":0},"unopened":[],"bounds":{"document_bytes":16777216,"sheet_cells":100000,"rows_first":2000,"rows_last":500,"rows_between":2000,"halvings":0,"cell_chars":16384,"cell_head_chars":4096},"cells_cut":0,"cells_raw":0,"read":"whole","date_system":"1900"}

{"sheet":"07-Current EPS","index":0,"n_rows":509,"n_cols":24,"rows_kept":509,"cut":false,"hidden":false,"merged":[]}
["Type","NAME","ICB INDUSTRY CODE","ICB SUPRSECTR CODE","ICB SECTOR CODE","ICB SUBSECTOR CODE","P","EARNINGS PER SHR","P/E","ERROR","Error adj. For outliers","ICB INDUSTRY CODE","HARMONIC MEAN","ERROR","ICB SUPRSECTR CODE","HARMONIC MEAN","ERROR","ICB SECTOR CODE","HARMONIC MEAN","ERROR","ICB SUBSECTOR CODE","HARMONIC MEAN"]
[902172,"3M",2000,2700,2720,2727,87.16,6.06,{"$f":"(IF(IFERROR(G2/H2,\"\")<0,\"\",IFERROR(G2/H2,\"\")))","v":14.382838283828383},{"$f":"IF(COUNTIF($C$2:$C$501,C2)=1,\"\",IF(I2=\"\",\"\",ABS(IF(I2=\"\",0,(((H2*OFFSET($M$1,MATCH($C2,$L$2:$L$40,0),,)-G2)/G2))))))","v":8.4122978046039746E-3},{"$f":"IF(OR(J2<(QUARTILE($J$2:$J$501,1))-1.5*(QUARTILE($J$2:$J$501,3)-QUARTILE($J$2:$J$501,1)),J2>(QUARTILE($J$2:$J$501,3))+1.5*(QUARTILE($J$2:$J$501,3)-QUARTILE($J$2:$J$501,1))),\"\",J2)","v":8.4122978046039746E-3},1,{"$f":"HARMEAN(IF($C$2:$C$501=L2,$I$2:$I$501))","v":9.2726258118381999},{"$f":"IF(COUNTIF($D$2:$D$501,D2)=1,\"\",IF(I2=\"\",\"\",ABS(IF(I2=\"\",0,(((H2*OFFSET($P$1,MATCH($D2,$O$2:$O$40,0),,)-G2)/G2))))))","v":4.4766913506044401E-3},500,{"$f":"HARMEAN(IF($D$2:$D$501=O2,$I$2:$I$501))","v":9.2726258118381999},{"$f":"IFERROR(IF(COUNTIF($E$2:$E$501,E2)=1,\"\",IF(I2=\"\",\"\",ABS(IF(I2=\"\",0,(((H2*OFFSET($S$1,MATCH($E2,$R$2:$R$41,0),,)-G2)/G2)))))),\"\")","v":0.25893608506886984},530,{"$f":"IF(COUNT(IF($E$2:$E$501=R2,$I$2:$I$501))<$X$3,\"\",HARMEAN(IF($E$2:$E$501=R2,$I$2:$I$501)))","v":8.4033094310474041},{"$f":"IFERROR(IF(COUNTIF($F$2:$F$501,F2)=1,\"\",IF(I2=\"\",\"\",ABS(IF(I2=\"\",0,(((H2*OFFSET($V$1,MATCH($F2,$U$2:$U$105,0),,)-G2)/G2)))))),\"\")","v":7.7628923432496971E-2},533,{"$f":"IF(COUNT(IF($F$2:$F$501=U2,$I$2:$I$501))<$X$3,\"\",HARMEAN(IF($F$2:$F$501=U2,$I$2:$I$501)))","v":8.3446043108638932},{"$f":"IF(OR(J2<(QUARTILE($J$2:$J$501,1))-1.5*(QUARTILE($J$2:$J$501,3)-QUARTILE($J$2:$J$501,1)),J2>(QUARTILE($J$2:$J$501,3))+1.5*(QUARTILE($J$2:$J$501,3)-QUARTILE($J$2:$J$501,1))),\"Outlier\")","v":false},"Peer-group minimum size"]
[328314,"ACE",8000,8500,8530,8536,72.3,6.67,{"$f":"(IF(IFERROR(G3/H3,\"\")<0,\"\",IFERROR(G3/H3,\"\")))","v":10.839580209895052},{"$f":"IF(COUNTIF($C$2:$C$501,C3)=1,\"\",IF(I3=\"\",\"\",ABS(IF(I3=\"\",0,(((H3*OFFSET($M$1,MATCH($C3,$L$2:$L$40,0),,)-G3)/G3))))))","v":0.22705776814430337},{"$f":"IF(OR(J3<(QUARTILE($J$2:$J$501,1))-1.5*(QUARTILE($J$2:$J$501,3)-QUARTILE($J$2:$J$501,1)),J3>(QUARTILE($J$2:$J$501,3))+1.5*(QUARTILE($J$2:$J$501,3)-QUARTILE($J$2:$J$501,1))),\"\",J3)","v":0.22705776814430337},1000,{"$f":"HARMEAN(IF($C$2:$C$501=L3,$I$2:$I$501))","v":15.496877463342194},{"$f":"IF(COUNTIF($D$2:$D$501,D3)=1,\"\",IF(I3=\"\",\"\",ABS(IF(I3=\"\",0,(((H3*OFFSET($P$1,MATCH($D3,$O$2:$O$40,0),,)-G3)/G3))))))","v":7.0775844037444585E-3},1300,{"$f":"HARMEAN(IF($D$2:$D$501=O3,$I$2:$I$501))","v":18.073028577216142},{"$f":"IFERROR(IF(COUNTIF($E$2:$E$501,E3)=1,\"\",IF(I3=\"\",\"\",ABS(IF(I3=\"\",0,(((H3*OFFSET($S$1,MATCH($E3,$R$2:$R$41,0),,)-G3)/G3)))))),\"\")","v":2.0477025810139056E-2},570,{"$f":"IF(COUNT(IF($E$2:$E$501=R3,$I$2:$I$501))<$X$3,\"\",HARMEAN(IF($E$2:$E$501=R3,$I$2:$I$501)))","v":10.342555855229993},{"$f":"IFERROR(IF(COUNTIF($F$2:$F$501,F3)=1,\"\",IF(I3=\"\",\"\",ABS(IF(I3=\"\",0,(((H3*OFFSET($V$1,MATCH($F3,$U$2:$U$105,0),,)-G3)/G3)))))),\"\")","v":0.32470143284686603},537,{"$f":"IF(COUNT(IF($F$2:$F$501=U3,$I$2:$I$501))<$X$3,\"\",HARMEAN(IF($F$2:$F$501=U3,$I$2:$I$501)))","v":8.4989752471331492},{"$f":"IF(OR(J3<(QUARTILE($J$2:$J$501,1))-1.5*(QUARTILE($J$2:$J$501,3)-QUARTILE($J$2:$J$501,1)),J3>(QUARTILE($J$2:$J$501,3))+1.5*(QUARTILE($J$2:$J$501,3)-QUARTILE($J$2:$J$501,1))),\"Outlier\")","v":false},{"$f":"[1]Resultater!$A$6","v":4}]
[982095,"ADC TELECOM. DEAD - DELIST.10/12/10",9000,9500,9570,9578,12.74,0.76,{"$f":"(IF(IFERROR(G4/H4,\"\")<0,\"\",IFERROR(G4/H4,\"\")))","v":16.763157894736842},{"$f":"IF(COUNTIF($C$2:$C$501,C4)=1,\"\",IF(I4=\"\",\"\",ABS(IF(I4=\"\",0,(((H4*OFFSET($M$1,MATCH($C4,$L$2:$L$40,0),,)-G4)/G4))))))","v":0.219000529123444},{"$f":"IF(OR(J4<(QUARTILE($J$2:$J$501,1))-1.5*(QUARTILE($J$2:$J$501,3)-QUARTILE($J$2:$J$501,1)),J4>(QUARTILE($J$2:$J$501,3))+1.5*(QUARTILE($J$2:$J$501,3)-QUARTILE($J$2:$J$501,1))),\"\",J4)","v":0.219000529123444},2000,{"$f":"HARMEAN(IF($C$2:$C$501=L4,$I$2:$I$501))","v":14.503831002747406},{"$f":"IF(COUNTIF($D$2:$D$501,D4)=1,\"\",IF(I4=\"\",\"\",ABS(IF(I4=\"\",0,(((H4*OFFSET($P$1,MATCH($D4,$O$2:$O$40,0),,)-G4)/G4))))))","v":0.219000529123444},1700,{"$f":"HARMEAN(IF($D$2:$D$501=O4,$I$2:$I$501))","v":12.582418794320111},{"$f":"IFERROR(IF(COUNTIF($E$2:$E$501,E4)=1,\"\",IF(I4=\"\",\"\",ABS(IF(I4=\"\",0,(((H4*OFFSET($S$1,MATCH($E4,$R$2:$R$41,0),,)-G4)/G4)))))),\"\")","v":0.25140168046780675},580,{"$f":"IF(COUNT(IF($E$2:$E$501=R4,$I$2:$I$501))<$X$3,\"\",HARMEAN(IF($E$2:$E$501=R4,$I$2:$I$501)))","v":""},{"$f":"IFERROR(IF(COUNTIF($F$2:$F$501,F4)=1,\"\",IF(I4=\"\",\"\",ABS(IF(I4=\"\",0,(((H4*OFFSET($V$1,MATCH($F4,$U$2:$U$105,0),,)-G4)/G4)))))),\"\")","v":0.11528008516033568},573,{"$f":"IF(COUNT(IF($F$2:$F$501=U4,$I$2:$I$501))<$X$3,\"\",HARMEAN(IF($F$2:$F$501=U4,$I$2:$I$501)))","v":9.0055844736420472},{"$f":"IF(OR(J4<(QUARTILE($J$2:$J$501,1))-1.5*(QUARTILE($J$2:$J$501,3)-QUARTILE($J$2:$J$501,1)),J4>(QUARTILE($J$2:$J$501,3))+1.5*(QUARTILE($J$2:$J$501,3)-QUARTILE($J$2:$J$501,1))),\"Outlier\")","v":false}]
[545101,"AES",7000,7500,7530,7535,12.62,0.12,{"$f":"(IF(IFERROR(G5/H5,\"\")<0,\"\",IFERROR(G5/H5,\"\")))","v":105.16666666666666},{"$f":"IF(COUNTIF($C$2:$C$501,C5)=1,\"\",IF(I5=\"\",\"\",ABS(IF(I5=\"\",0,(((H5*OFFSET($M$1,MATCH($C5,$L$2:$L$40,0),,)-G5)/G5))))))","v":0.840357729536368},{"$f":"IF(OR(J5<(QUARTILE($J$2:$J$501,1))-1.5*(QUARTILE($J$2:$J$501,3)-QUARTILE($J$2:$J$501,1)),J5>(QUARTILE($J$2:$J$501,3))+1.5*(QUARTILE($J$2:$J$501,3)-QUARTILE($J$2:$J$501,1))),\"\",J5)","v":0.840357729536368},3000,{"$f":"HARMEAN(IF($C$2:$C$501=L5,$I$2:$I$501))","v":15.990184103973332},{"$f":"IF(COUNTIF($D$2:$D$501,D5)=1,\"\",IF(I5=\"\",\"\",ABS(IF(I5=\"\",0,(((H5*OFFSET($P$1,MATCH($D5,$O$2:$O$40,0),,)-G5)/G5))))))","v":0.840357729536368},2300,{"$f":"HARMEAN(IF($D$2:$D$501=O5,$I$2:$I$501))","v":19.919723341812208},{"$f":"IFERROR(IF(COUNTIF($E$2:$E$501,E5)=1,\"\",IF(I5=\"\",\"\",ABS(IF(I5=\"\",0,(((H5*OFFSET($S$1,MATCH($E5,$R$2:$R$41,0),,)-G5)/G5)))))),\"\")","v":0.84912419657127902},1350,{"$f":"IF(COUNT(IF($E$2:$E$501=R5,$I$2:$I$501))<$X$3,\"\",HARMEAN(IF($E$2:$E$501=R5,$I$2:$I$501)))","v":18.073028577216142},{"$f":"IFERROR(IF(COUNTIF($F$2:$F$501,F5)=1,\"\",IF(I5=\"\",\"\",ABS(IF(I5=\"\",0,(((H5*OFFSET($V$1,MATCH($F5,$U$2:$U$105,0),,)-G5)/G5)))))),\"\")","v":0.84912419657127902},577,{"$f":"IF(COUNT(IF($F$2:$F$501=U5,$I$2:$I$501))<$X$3,\"\",HARMEAN(IF($F$2:$F$501=U5,$I$2:$I$501)))","v":""},{"$f":"IF(OR(J5<(QUARTILE($J$2:$J$501,1))-1.5*(QUARTILE($J$2:$J$501,3)-QUARTILE($J$2:$J$501,1)),J5>(QUARTILE($J$2:$J$501,3))+1.5*(QUARTILE($J$2:$J$501,3)-QUARTILE($J$2:$J$501,1))),\"Outlier\")","v":false}]
[933185,"AFLAC",8000,8500,8570,8575,41,5.03,{"$f":"(IF(IFERROR(G6/H6,\"\")<0,\"\",IFERROR(G6/H6,\"\")))","v":8.1510934393638159},{"$f":"IF(COUNTIF($C$2:$C$501,C6)=1,\"\",IF(I6=\"\",\"\",ABS(IF(I6=\"\",0,(((H6*OFFSET($M$1,MATCH($C6,$L$2:$L$40,0),,)-G6)/G6))))))","v":0.63177998128961366},{"$f":"IF(OR(J6<(QUARTILE($J$2:$J$501,1))-1.5*(QUARTILE($J$2:$J$501,3)-QUARTILE($J$2:$J$501,1)),J6>(QUARTILE($J$2:$J$501,3))+1.5*(QUARTILE($J$2:$J$501,3)-QUARTILE($J$2:$J$501,1))),\"\",J6)","v":0.63177998128961366},4000,{"$f":"HARMEAN(IF($C$2:$C$501=L6,$I$2:$I$501))","v":16.925792274670467},{"$f":"IF(COUNTIF($D$2:$D$501,D6)=1,\"\",IF(I6=\"\",\"\",ABS(IF(I6=\"\",0,(((H6*OFFSET($P$1,MATCH($D6,$O$2:$O$40,0),,)-G6)/G6))))))","v":0.32041943159203817},2700,{"$f":"HARMEAN(IF($D$2:$D$501=O6,$I$2:$I$501))","v":14.318450756086026},{"$f":"IFERROR(IF(COUNTIF($E$2:$E$501,E6)=1,\"\",IF(I6=\"\",\"\",ABS(IF(I6=\"\",0,(((H6*OFFSET($S$1,MATCH($E6,$R$2:$R$41,0),,)-G6)/G6)))))),\"\")","v":0.27453334922815914},1730,{"$f":"IF(COUNT(IF($E$2:$E$501=R6,$I$2:$I$501))<$X$3,\"\",HARMEAN(IF($E$2:$E$501=R6,$I$2:$I$501)))","v":""},{"$f":"IFERROR(IF(COUNTIF($F$2:$F$501,F6)=1,\"\",IF(I6=\"\",\"\",ABS(IF(I6=\"\",0,(((H6*OFFSET($V$1,MATCH($F6,$U$2:$U$105,0),,)-G6)/G6)))))),\"\")","v":0.27453334922815914},583,{"$f":"IF(COUNT(IF($F$2:$F$501=U6,$I$2:$I$501))<$X$3,\"\",HARMEAN(IF($F$2:$F$501=U6,$I$2:$I$501)))","v":""},{"$f":"IF(OR(J6<(QUARTILE($J$2:$J$501,1))-1.5*(QUARTILE($J$2:$J$501,3)-QUARTILE($J$2:$J$501,1)),J6>(QUARTILE($J$2:$J$501,3))+1.5*(QUARTILE($J$2:$J$501,3)-QUARTILE($J$2:$J$501,1))),\"Outlier\")","v":false}]
[916311,"ALLTEL DEAD - MERGER",6000,6500,6570,6575,71.459999999999994,2.64,{"$f":"(IF(IFERROR(G7/H7,\"\")<0,\"\",IFERROR(G7/H7,\"\")))","v":27.068181818181813},{"$f":"IF(COUNTIF($C$2:$C$501,C7)=1,\"\",IF(I7=\"\",\"\",ABS(IF(I7=\"\",0,(((H7*OFFSET($M$1,MATCH($C7,$L$2:$L$40,0),,)-G7)/G7))))))","v":0.13625509613726861},{"$f":"IF(OR(J7<(QUARTILE($J$2:$J$501,1))-1.5*(QUARTILE($J$2:$J$501,3)-QUARTILE($J$2:$J$501,1)),J7>(QUARTILE($J$2:$J$501,3))+1.5*(QUARTILE($J$2:$J$501,3)-QUARTILE($J$2:$J$501,1))),\"\",J7)","v":0.13625509613726861},5000,{"$f":"HARMEAN(IF($C$2:$C$501=L7,$I$2:$I$501))","v":15.770511961994458},{"$f":"IF(COUNTIF($D$2:$D$501,D7)=1,\"\",IF(I7=\"\",\"\",ABS(IF(I7=\"\",0,(((H7*OFFSET($P$1,MATCH($D7,$O$2:$O$40,0),,)-G7)/G7))))))","v":0.13625509613726861},3300,{"$f":"HARMEAN(IF($D$2:$D$501=O7,$I$2:$I$501))","v":6.6725645803058669},{"$f":"IFERROR(IF(COUNTIF($E$2:$E$501,E7)=1,\"\",IF(I7=\"\",\"\",ABS(IF(I7=\"\",0,(((H7*OFFSET($S$1,MATCH($E7,$R$2:$R$41,0),,)-G7)/G7)))))),\"\")","v":""},1750,{"$f":"IF(COUNT(IF($E$2:$E$501=R7,$I$2:$I$501))<$X$3,\"\",HARMEAN(IF($E$2:$E$501=R7,$I$2:$I$501)))","v":13.620639053511612},{"$f":"IFERROR(IF(COUNTIF($F$2:$F$501,F7)=1,\"\",IF(I7=\"\",\"\",ABS(IF(I7=\"\",0,(((H7*OFFSET($V$1,MATCH($F7,$U$2:$U$105,0),,)-G7)/G7)))))),\"\")","v":""},1353,{"$f":"IF(COUNT(IF($F$2:$F$501=U7,$I$2:$I$501))<$X$3,\"\",HARMEAN(IF($F$2:$F$501=U7,$I$2:$I$501)))","v":14.179419592488244},{"$f":"IF(OR(J7<(QUARTILE($J$2:$J$501,1))-1.5*(QUARTILE($J$2:$J$501,3)-QUARTILE($J$2:$J$501,1)),J7>(QUARTILE($J$2:$J$501,3))+1.5*(QUARTILE($J$2:$J$501,3)-QUARTILE($J$2:$J$501,1))),\"Outlier\")","v":false}]
[945388,"AT&T",6000,6500,6530,6535,35.39,0.68,{"$f":"(IF(IFERROR(G8/H8,\"\")<0,\"\",IFERROR(G8/H8,\"\")))","v":52.044117647058819},{"$f":"IF(COUNTIF($C$2:$C$501,C8)=1,\"\",IF(I8=\"\",\"\",ABS(IF(I8=\"\",0,(((H8*OFFSET($M$1,MATCH($C8,$L$2:$L$40,0),,)-G8)/G8))))))","v":0.55076567421437173},{"$f":"IF(OR(J8<(QUARTILE($J$2:$J$501,1))-1.5*(QUARTILE($J$2:$J$501,3)-QUARTILE($J$2:$J$501,1)),J8>(QUARTILE($J$2:$J$501,3))+1.5*(QUARTILE($J$2:$J$501,3)-QUARTILE($J$2:$J$501,1))),\"\",J8)","v":0.55076567421437173},6000,{"$f":"HARMEAN(IF($C$2:$C$501=L8,$I$2:$I$501))","v":23.380004102284385},{"$f":"IF(COUNTIF($D$2:$D$501,D8)=1,\"\",IF(I8=\"\",\"\",ABS(IF(I8=\"\",0,(((H8*OFFSET($P$1,MATCH($D8,$O$2:$O$40,0),,)-G8)/G8))))))","v":0.55076567421437173},3500,{"$f":"HARMEAN(IF($D$2:$D$501=O8,$I$2:$I$501))","v":17.864326443183476},{"$f":"IFERROR(IF(COUNTIF($E$2:$E$501,E8)=1,\"\",IF(I8=\"\",\"\",ABS(IF(I8=\"\",0,(((H8*OFFSET($S$1,MATCH($E8,$R$2:$R$41,0),,)-G8)/G8)))))),\"\")","v":0.56074088960048141},1770,{"$f":"IF(COUNT(IF($E$2:$E$501=R8,$I$2:$I$501))<$X$3,\"\",HARMEAN(IF($E$2:$E$501=R8,$I$2:$I$501)))","v":""},{"$f":"IFERROR(IF(COUNTIF($F$2:$F$501,F8)=1,\"\",IF(I8=\"\",\"\",ABS(IF(I8=\"\",0,(((H8*OFFSET($V$1,MATCH($F8,$U$2:$U$105,0),,)-G8)/G8)))))),\"\")","v":0.56074088960048141},1357,{"$f":"IF(COUNT(IF($F$2:$F$501=U8,$I$2:$I$501))<$X$3,\"\",HARMEAN(IF($F$2:$F$501=U8,$I$2:$I$501)))","v":21.817378877833733},{"$f":"IF(OR(J8<(QUARTILE($J$2:$J$501,1))-1.5*(QUARTILE($J$2:$J$501,3)-QUARTILE($J$2:$J$501,1)),J8>(QUARTILE($J$2:$J$501,3))+1.5*(QUARTILE($J$2:$J$501,3)-QUARTILE($J$2:$J$501,1))),\"Outlier\")","v":false}]
[916328,"ABBOTT LABORATORIES",4000,4500,4570,4577,62.91,3.24,{"$f":"(IF(IFERROR(G9/H9,\"\")<0,\"\",IFERROR(G9/H9,\"\")))","v":19.416666666666664},{"$f":"IF(COUNTIF($C$2:$C$501,C9)=1,\"\",IF(I9=\"\",\"\",ABS(IF(I9=\"\",0,(((H9*OFFSET($M$1,MATCH($C9,$L$2:$L$40,0),,)-G9)/G9))))))","v":0.12828537641182128},{"$f":"IF(OR(J9<(QUARTILE($J$2:$J$501,1))-1.5*(QUARTILE($J$2:$J$501,3)-QUARTILE($J$2:$J$501,1)),J9>(QUARTILE($J$2:$J$501,3))+1.5*(QUARTILE($J$2:$J$501,3)-QUARTILE($J$2:$J$501,1))),\"\",J9)","v":0.12828537641182128},7000,{"$f":"HARMEAN(IF($C$2:$C$501=L9,$I$2:$I$501))","v":16.789045443758621},{"$f":"IF(COUNTIF($D$2:$D$501,D9)=1,\"\",IF(I9=\"\",\"\",ABS(IF(I9=\"\",0,(((H9*OFFSET($P$1,MATCH($D9,$O$2:$O$40,0),,)-G9)/G9))))))","v":0.12828537641182128},3700,{"$f":"HARMEAN(IF($D$2:$D$501=O9,$I$2:$I$501))","v":19.28098942255307},{"$f":"IFERROR(IF(COUNTIF($E$2:$E$501,E9)=1,\"\",IF(I9=\"\",\"\",ABS(IF(I9=\"\",0,(((H9*OFFSET($S$1,MATCH($E9,$R$2:$R$41,0),,)-G9)/G9)))))),\"\")","v":2.4340810868365252E-2},2350,{"$f":"IF(COUNT(IF($E$2:$E$501=R9,$I$2:$I$501))<$X$3,\"\",HARMEAN(IF($E$2:$E$501=R9,$I$2:$I$501)))","v":""},{"$f":"IFERROR(IF(COUNTIF($F$2:$F$501,F9)=1,\"\",IF(I9=\"\",\"\",ABS(IF(I9=\"\",0,(((H9*OFFSET($V$1,MATCH($F9,$U$2:$U$105,0),,)-G9)/G9)))))),\"\")","v":4.9694351953576785E-2},1737,{"$f":"IF(COUNT(IF($F$2:$F$501=U9,$I$2:$I$501))<$X$3,\"\",HARMEAN(IF($F$2:$F$501=U9,$I$2:$I$501)))","v":""},{"$f":"IF(OR(J9<(QUARTILE($J$2:$J$501,1))-1.5*(QUARTILE($J$2:$J$501,3)-QUARTILE($J$2:$J$501,1)),J9>(QUARTILE($J$2:$J$501,3))+1.5*(QUARTILE($J$2:$J$501,3)-QUARTILE($J$2:$J$501,1))),\"Outlier\")","v":false}]
[883969,"ABERCROMBIE & FITCH 'A'",5000,5300,5370,5371,31.5,1.18,{"$f":"(IF(IFERROR(G10/H10,\"\")<0,\"\",IFERROR(G10/H10,\"\")))","v":26.694915254237291},{"$f":"IF(COUNTIF($C$2:$C$501,C10)=1,\"\",IF(I10=\"\",\"\",ABS(IF(I10=\"\",0,(((H10*OFFSET($M$1,MATCH($C10,$L$2:$L$40,0),,)-G10)/G10))))))","v":0.40923161539195363},{"$f":"IF(OR(J10<(QUARTILE($J$2:$J$501,1))-1.5*(QUARTILE($J$2:$J$501,3)-QUARTILE($J$2:$J$501,1)),J10>(QUARTILE($J$2:$J$501,3))+1.5*(QUARTILE($J$2:$J$501,3)-QUARTILE($J$2:$J$501,1))),\"\",J10)","v":0.40923161539195363},8000,{"$f":"HARMEAN(IF($C$2:$C$501=L10,$I$2:$I$501))","v":13.300791099974981},{"$f":"IF(COUNTIF($D$2:$D$501,D10)=1,\"\",IF(I10=\"\",\"\",ABS(IF(I10=\"\",0,(((H10*OFFSET($P$1,MATCH($D10,$O$2:$O$40,0),,)-G10)/G10))))))","v":0.45414807900947152},4500,{"$f":"HARMEAN(IF($D$2:$D$501=O10,$I$2:$I$501))","v":16.925792274670467},{"$f":"IFERROR(IF(COUNTIF($E$2:$E$501,E10)=1,\"\",IF(I10=\"\",\"\",ABS(IF(I10=\"\",0,(((H10*OFFSET($S$1,MATCH($E10,$R$2:$R$41,0),,)-G10)/G10)))))),\"\")","v":0.46307735979796472},2710,{"$f":"IF(COUNT(IF($E$2:$E$501=R10,$I$2:$I$501))<$X$3,\"\",HARMEAN(IF($E$2:$E$501=R10,$I$2:$I$501)))","v":11.351921684560324},{"$f":"IFERROR(IF(COUNTIF($F$2:$F$501,F10)=1,\"\",IF(I10=\"\",\"\",ABS(IF(I10=\"\",0,(((H10*OFFSET($V$1,MATCH($F10,$U$2:$U$105,0),,)-G10)/G10)))))),\"\")","v":0.49311704025271258},1753,{"$f":"IF(COUNT(IF($F$2:$F$501=U10,$I$2:$I$501))<$X$3,\"\",HARMEAN(IF($F$2:$F$501=U10,$I$2:$I$501)))","v":""},{"$f":"IF(OR(J10<(QUARTILE($J$2:$J$501,1))-1.5*(QUARTILE($J$2:$J$501,3)-QUARTILE($J$2:$J$501,1)),J10>(QUARTILE($J$2:$J$501,3))+1.5*(QUARTILE($J$2:$J$501,3)-QUARTILE($J$2:$J$501,1))),\"Outlier\")","v":false}]
[749382,"ADOBE SYSTEMS",9000,9500,9530,9537,31.17,1.56,{"$f":"(IF(IFERROR(G11/H11,\"\")<0,\"\",IFERROR(G11/H11,\"\")))","v":19.98076923076923},{"$f":"IF(COUNTIF($C$2:$C$501,C11)=1,\"\",IF(I11=\"\",\"\",ABS(IF(I11=\"\",0,(((H11*OFFSET($M$1,MATCH($C11,$L$2:$L$40,0),,)-G11)/G11))))))","v":0.34476909798604322},{"$f":"IF(OR(J11<(QUARTILE($J$2:$J$501,1))-1.5*(QUARTILE($J$2:$J$501,3)-QUARTILE($J$2:$J$501,1)),J11>(QUARTILE($J$2:$J$501,3))+1.5*(QUARTILE($J$2:$J$501,3)-QUARTILE($J$2:$J$501,1))),\"\",J11)","v":0.34476909798604322},9000,{"$f":"HARMEAN(IF($C$2:$C$501=L11,$I$2:$I$501))","v":13.092017446009637},{"$f":"IF(COUNTIF($D$2:$D$501,D11)=1,\"\",IF(I11=\"\",\"\",ABS(IF(I11=\"\",0,(((H11*OFFSET($P$1,MATCH($D11,$O$2:$O$40,0),,)-G11)/G11))))))","v":0.34476909798604322},5300,{"$f":"HARMEAN(IF($D$2:$D$501=O11,$I$2:$I$501))","v":14.571470772204787},{"$f":"IFERROR(IF(COUNTIF($E$2:$E$501,E11)=1,\"\",IF(I11=\"\",\"\",ABS(IF(I11=\"\",0,(((H11*OFFSET($S$1,MATCH($E11,$R$2:$R$41,0),,)-G11)/G11)))))),\"\")","v":0.29324929128769434},2720,{"$f":"IF(COUNT(IF($E$2:$E$501=R11,$I$2:$I$501))<$X$3,\"\",HARMEAN(IF($E$2:$E$501=R11,$I$2:$I$501)))","v":18.107074121221569},{"$f":"IFERROR(IF(COUNTIF($F$2:$F$501,F11)=1,\"\",IF(I11=\"\",\"\",ABS(IF(I11=\"\",0,(((H11*OFFSET($V$1,MATCH($F11,$U$2:$U$105,0),,)-G11)/G11)))))),\"\")","v":0.27466761118177269},1755,{"$f":"IF(COUNT(IF($F$2:$F$501=U11,$I$2:$I$501))<$X$3,\"\",HARMEAN(IF($F$2:$F$501=U11,$I$2:$I$501)))","v":""},{"$f":"IF(OR(J11<(QUARTILE($J$2:$J$501,1))-1.5*(QUARTILE($J$2:$J$501,3)-QUARTILE($J$2:$J$501,1)),J11>(QUARTILE($J$2:$J$501,3))+1.5*(QUARTILE($J$2:$J$501,3)-QUARTILE($J$2:$J$501,1))),\"Outlier\")","v":false}]
[936365,"ADVANCED MICRO DEVC.",9000,9500,9570,9576,5.41,0,{"$f":"(IF(IFERROR(G12/H12,\"\")<0,\"\",IFERROR(G12/H12,\"\")))","v":""},{"$f":"IF(COUNTIF($C$2:$C$501,C12)=1,\"\",IF(I12=\"\",\"\",ABS(IF(I12=\"\",0,(((H12*OFFSET($M$1,MATCH($C12,$L$2:$L$40,0),,)-G12)/G12))))))","v":""},{"$f":"IF(OR(J12<(QUARTILE($J$2:$J$501,1))-1.5*(QUARTILE($J$2:$J$501,3)-QUARTILE($J$2:$J$501,1)),J12>(QUARTILE($J$2:$J$501,3))+1.5*(QUARTILE($J$2:$J$501,3)-QUARTILE($J$2:$J$501,1))),\"\",J12)","v":""},null,null,{"$f":"IF(COUNTIF($D$2:$D$501,D12)=1,\"\",IF(I12=\"\",\"\",ABS(IF(I12=\"\",0,(((H12*OFFSET($P$1,MATCH($D12,$O$2:$O$40,0),,)-G12)/G12))))))","v":""},5500,{"$f":"HARMEAN(IF($D$2:$D$501=O12,$I$2:$I$501))","v":15.170328024276321},{"$f":"IFERROR(IF(COUNTIF($E$2:$E$501,E12)=1,\"\",IF(I12=\"\",\"\",ABS(IF(I12=\"\",0,(((H12*OFFSET($S$1,MATCH($E12,$R$2:$R$41,0),,)-G12)/G12)))))),\"\")","v":""},2730,{"$f":"IF(COUNT(IF($E$2:$E$501=R12,$I$2:$I$501))<$X$3,\"\",HARMEAN(IF($E$2:$E$501=R12,$I$2:$I$501)))","v":16.376177442847151},{"$f":"IFERROR(IF(COUNTIF($F$2:$F$501,F12)=1,\"\",IF(I12=\"\",\"\",ABS(IF(I12=\"\",0,(((H12*OFFSET($V$1,MATCH($F12,$U$2:$U$105,0),,)-G12)/G12)))))),\"\")","v":""},1757,{"$f":"IF(COUNT(IF($F$2:$F$501=U12,$I$2:$I$501))<$X$3,\"\",HARMEAN(IF($F$2:$F$501=U12,$I$2:$I$501)))","v":""},{"$f":"IF(OR(J12<(QUARTILE($J$2:$J$501,1))-1.5*(QUARTILE($J$2:$J$501,3)-QUARTILE($J$2:$J$501,1)),J12>(QUARTILE($J$2:$J$501,3))+1.5*(QUARTILE($J$2:$J$501,3)-QUARTILE($J$2:$J$501,1))),\"Outlier\")","v":"Outlier"}]
[255956,"AETNA",4000,4500,4530,4533,39.85,5.14,{"$f":"(IF(IFERROR(G13/H13,\"\")<0,\"\",IFERROR(G13/H13,\"\")))","v":7.7529182879377441},{"$f":"IF(COUNTIF($C$2:$C$501,C13)=1,\"\",IF(I13=\"\",\"\",ABS(IF(I13=\"\",0,(((H13*OFFSET($M$1,MATCH($C13,$L$2:$L$40,0),,)-G13)/G13))))))","v":1.1831511240101931},{"$f":"IF(OR(J13<(QUARTILE($J$2:$J$501,1))-1.5*(QUARTILE($J$2:$J$501,3)-QUARTILE($J$2:$J$501,1)),J13>(QUARTILE($J$2:$J$501,3))+1.5*(QUARTILE($J$2:$J$501,3)-QUARTILE($J$2:$J$501,1))),\"\",J13)","v":""},null,null,{"$f":"IF(COUNTIF($D$2:$D$501,D13)=1,\"\",IF(I13=\"\",\"\",ABS(IF(I13=\"\",0,(((H13*OFFSET($P$1,MATCH($D13,$O$2:$O$40,0),,)-G13)/G13))))))","v":1.1831511240101931},5700,{"$f":"HARMEAN(IF($D$2:$D$501=O13,$I$2:$I$501))","v":21.898951418481822},{"$f":"IFERROR(IF(COUNTIF($E$2:$E$501,E13)=1,\"\",IF(I13=\"\",\"\",ABS(IF(I13=\"\",0,(((H13*OFFSET($S$1,MATCH($E13,$R$2:$R$41,0),,)-G13)/G13)))))),\"\")","v":0.97315217361410178},2750,{"$f":"IF(COUNT(IF($E$2:$E$501=R13,$I$2:$I$501))<$X$3,\"\",HARMEAN(IF($E$2:$E$501=R13,$I$2:$I$501)))","v":12.219702475434628},{"$f":"IFERROR(IF(COUNTIF($F$2:$F$501,F13)=1,\"\",IF(I13=\"\",\"\",ABS(IF(I13=\"\",0,(((H13*OFFSET($V$1,MATCH($F13,$U$2:$U$105,0),,)-G13)/G13)))))),\"\")","v":0.67025163859052728},1771,{"$f":"IF(COUNT(IF($F$2:$F$501=U13,$I$2:$I$501))<$X$3,\"\",HARMEAN(IF($F$2:$F$501=U13,$I$2:$I$501)))","v":""},{"$f":"IF(OR(J13<(QUARTILE($J$2:$J$501,1))-1.5*(QUARTILE($J$2:$J$501,3)-QUARTILE($J$2:$J$501,1)),J13>(QUARTILE($J$2:$J$501,3))+1.5*(QUARTILE($J$2:$J$501,3)-QUARTILE($J$2:$J$501,1))),\"Outlier\")","v":"Outlier"}]
[134058,"AFFILIATED CMP.SVS.'A' DEAD - DELIST.18/02/10",2000,2700,2790,2791,59.64,3.61,{"$f":"(IF(IFERROR(G14/H14,\"\")<0,\"\",IFERROR(G14/H14,\"\")))","v":16.520775623268698},{"$f":"IF(COUNTIF($C$2:$C$501,C14)=1,\"\",IF(I14=\"\",\"\",ABS(IF(I14=\"\",0,(((H14*OFFSET($M$1,MATCH($C14,$L$2:$L$40,0),,)-G14)/G14))))))","v":0.1220853467485222},{"$f":"IF(OR(J14<(QUARTILE($J$2:$J$501,1))-1.5*(QUARTILE($J$2:$J$501,3)-QUARTILE($J$2:$J$501,1)),J14>(QUARTILE($J$2:$J$501,3))+1.5*(QUARTILE($J$2:$J$501,3)-QUARTILE($J$2:$J$501,1))),\"\",J14)","v":0.1220853467485222},null,null,{"$f":"IF(COUNTIF($D$2:$D$501,D14)=1,\"\",IF(I14=\"\",\"\",ABS(IF(I14=\"\",0,(((H14*OFFSET($P$1,MATCH($D14,$O$2:$O$40,0),,)-G14)/G14))))))","v":0.1333063844823851},6500,{"$f":"HARMEAN(IF($D$2:$D$501=O14,$I$2:$I$501))","v":23.380004102284385},{"$f":"IFERROR(IF(COUNTIF($E$2:$E$501,E14)=1,\"\",IF(I14=\"\",\"\",ABS(IF(I14=\"\",0,(((H14*OFFSET($S$1,MATCH($E14,$R$2:$R$41,0),,)-G14)/G14)))))),\"\")","v":9.7029357055293627E-2},2770,{"$f":"IF(COUNT(IF($E$2:$E$501=R14,$I$2:$I$501))<$X$3,\"\",HARMEAN(IF($E$2:$E$501=R14,$I$2:$I$501)))","v":14.708371164036285},{"$f":"IFERROR(IF(COUNTIF($F$2:$F$501,F14)=1,\"\",IF(I14=\"\",\"\",ABS(IF(I14=\"\",0,(((H14*OFFSET($V$1,MATCH($F14,$U$2:$U$105,0),,)-G14)/G14)))))),\"\")","v":0.37441191549775787},1777,{"$f":"IF(COUNT(IF($F$2:$F$501=U14,$I$2:$I$501))<$X$3,\"\",HARMEAN(IF($F$2:$F$501=U14,$I$2:$I$501)))","v":""},{"$f":"IF(OR(J14<(QUARTILE($J$2:$J$501,1))-1.5*(QUARTILE($J$2:$J$501,3)-QUARTILE($J$2:$J$501,1)),J14>(QUARTILE($J$2:$J$501,3))+1.5*(QUARTILE($J$2:$J$501,3)-QUARTILE($J$2:$J$501,1))),\"Outlier\")","v":false}]
[277642,"AGILENT TECHS.",2000,2700,2730,2737,37.72,3.11,{"$f":"(IF(IFERROR(G15/H15,\"\")<0,\"\",IFERROR(G15/H15,\"\")))","v":12.128617363344052},{"$f":"IF(COUNTIF($C$2:$C$501,C15)=1,\"\",IF(I15=\"\",\"\",ABS(IF(I15=\"\",0,(((H15*OFFSET($M$1,MATCH($C15,$L$2:$L$40,0),,)-G15)/G15))))))","v":0.19583548299428497},{"$f":"IF(OR(J15<(QUARTILE($J$2:$J$501,1))-1.5*(QUARTILE($J$2:$J$501,3)-QUARTILE($J$2:$J$501,1)),J15>(QUARTILE($J$2:$J$501,3))+1.5*(QUARTILE($J$2:$J$501,3)-QUARTILE($J$2:$J$501,1))),\"\",J15)","v":0.19583548299428497},null,null,{"$f":"IF(COUNTIF($D$2:$D$501,D15)=1,\"\",IF(I15=\"\",\"\",ABS(IF(I15=\"\",0,(((H15*OFFSET($P$1,MATCH($D15,$O$2:$O$40,0),,)-G15)/G15))))))","v":0.18055095046202396},7500,{"$f":"HARMEAN(IF($D$2:$D$501=O15,$I$2:$I$501))","v":16.789045443758621},{"$f":"IFERROR(IF(COUNTIF($E$2:$E$501,E15)=1,\"\",IF(I15=\"\",\"\",ABS(IF(I15=\"\",0,(((H15*OFFSET($S$1,MATCH($E15,$R$2:$R$41,0),,)-G15)/G15)))))),\"\")","v":0.35020975204810811},2790,{"$f":"IF(COUNT(IF($E$2:$E$501=R15,$I$2:$I$501))<$X$3,\"\",HARMEAN(IF($E$2:$E$501=R15,$I$2:$I$501)))","v":14.917775386488168},{"$f":"IFERROR(IF(COUNTIF($F$2:$F$501,F15)=1,\"\",IF(I15=\"\",\"\",ABS(IF(I15=\"\",0,(((H15*OFFSET($V$1,MATCH($F15,$U$2:$U$105,0),,)-G15)/G15)))))),\"\")","v":""},2353,{"$f":"IF(COUNT(IF($F$2:$F$501=U15,$I$2:$I$501))<$X$3,\"\",HARMEAN(IF($F$2:$F$501=U15,$I$2:$I$501)))","v":""},{"$f":"IF(OR(J15<(QUARTILE($J$2:$J$501,1))-1.5*(QUARTILE($J$2:$J$501,3)-QUARTILE($J$2:$J$501,1)),J15>(QUARTILE($J$2:$J$501,3))+1.5*(QUARTILE($J$2:$J$501,3)-QUARTILE($J$2:$J$501,1))),\"Outlier\")","v":false}]
[905271,"AIR PRDS.& CHEMS.",1000,1300,1350,1353,78.05,5.55,{"$f":"(IF(IFERROR(G16/H16,\"\")<0,\"\",IFERROR(G16/H16,\"\")))","v":14.063063063063064},{"$f":"IF(COUNTIF($C$2:$C$501,C16)=1,\"\",IF(I16=\"\",\"\",ABS(IF(I16=\"\",0,(((H16*OFFSET($M$1,MATCH($C16,$L$2:$L$40,0),,)-G16)/G16))))))","v":0.10195605280652381},{"$f":"IF(OR(J16<(QUARTILE($J$2:$J$501,1))-1.5*(QUARTILE($J$2:$J$501,3)-QUARTILE($J$2:$J$501,1)),J16>(QUARTILE($J$2:$J$501,3))+1.5*(QUARTILE($J$2:$J$501,3)-QUARTILE($J$2:$J$501,1))),\"\",J16)","v":0.10195605280652381},null,null,{"$f":"IF(COUNTIF($D$2:$D$501,D16)=1,\"\",IF(I16=\"\",\"\",ABS(IF(I16=\"\",0,(((H16*OFFSET($P$1,MATCH($D16,$O$2:$O$40,0),,)-G16)/G16))))))","v":0.28514168614413316},8300,{"$f":"HARMEAN(IF($D$2:$D$501=O16,$I$2:$I$501))","v":12.171450966040917},{"$f":"IFERROR(IF(COUNTIF($E$2:$E$501,E16)=1,\"\",IF(I16=\"\",\"\",ABS(IF(I16=\"\",0,(((H16*OFFSET($S$1,MATCH($E16,$R$2:$R$41,0),,)-G16)/G16)))))),\"\")","v":0.28514168614413316},3350,{"$f":"IF(COUNT(IF($E$2:$E$501=R16,$I$2:$I$501))<$X$3,\"\",HARMEAN(IF($E$2:$E$501=R16,$I$2:$I$501)))","v":6.6725645803058669},{"$f":"IFERROR(IF(COUNTIF($F$2:$F$501,F16)=1,\"\",IF(I16=\"\",\"\",ABS(IF(I16=\"\",0,(((H16*OFFSET($V$1,MATCH($F16,$U$2:$U$105,0),,)-G16)/G16)))))),\"\")","v":8.2739108047374527E-3},2357,{"$f":"IF(COUNT(IF($F$2:$F$501=U16,$I$2:$I$501))<$X$3,\"\",HARMEAN(IF($F$2:$F$501=U16,$I$2:$I$501)))","v":""},{"$f":"IF(OR(J16<(QUARTILE($J$2:$J$501,1))-1.5*(QUARTILE($J$2:$J$501,3)-QUARTILE($J$2:$J$501,1)),J16>(QUARTILE($J$2:$J$501,3))+1.5*(QUARTILE($J$2:$J$501,3)-QUARTILE($J$2:$J$501,1))),\"Outlier\")","v":false}]
[905113,"ALCOA",1000,1700,1750,1753,8.51,0.35,{"$f":"(IF(IFERROR(G17/H17,\"\")<0,\"\",IFERROR(G17/H17,\"\")))","v":24.314285714285717},{"$f":"IF(COUNTIF($C$2:$C$501,C17)=1,\"\",IF(I17=\"\",\"\",ABS(IF(I17=\"\",0,(((H17*OFFSET($M$1,MATCH($C17,$L$2:$L$40,0),,)-G17)/G17))))))","v":0.3626431125534938},{"$f":"IF(OR(J17<(QUARTILE($J$2:$J$501,1))-1.5*(QUARTILE($J$2:$J$501,3)-QUARTILE($J$2:$J$501,1)),J17>(QUARTILE($J$2:$J$501,3))+1.5*(QUARTILE($J$2:$J$501,3)-QUARTILE($J$2:$J$501,1))),\"\",J17)","v":0.3626431125534938},null,null,{"$f":"IF(COUNTIF($D$2:$D$501,D17)=1,\"\",IF(I17=\"\",\"\",ABS(IF(I17=\"\",0,(((H17*OFFSET($P$1,MATCH($D17,$O$2:$O$40,0),,)-G17)/G17))))))","v":0.48250921527473101},8500,{"$f":"HARMEAN(IF($D$2:$D$501=O17,$I$2:$I$501))","v":10.762862166058362},{"$f":"IFERROR(IF(COUNTIF($E$2:$E$501,E17)=1,\"\",IF(I17=\"\",\"\",ABS(IF(I17=\"\",0,(((H17*OFFSET($S$1,MATCH($E17,$R$2:$R$41,0),,)-G17)/G17)))))),\"\")","v":0.43980920461468109},3530,{"$f":"IF(COUNT(IF($E$2:$E$501=R17,$I$2:$I$501))<$X$3,\"\",HARMEAN(IF($E$2:$E$501=R17,$I$2:$I$501)))","v":17.918671655452481},{"$f":"IFERROR(IF(COUNTIF($F$2:$F$501,F17)=1,\"\",IF(I17=\"\",\"\",ABS(IF(I17=\"\",0,(((H17*OFFSET($V$1,MATCH($F17,$U$2:$U$105,0),,)-G17)/G17)))))),\"\")","v":""},2713,{"$f":"IF(COUNT(IF($F$2:$F$501=U17,$I$2:$I$501))<$X$3,\"\",HARMEAN(IF($F$2:$F$501=U17,$I$2:$I$501)))","v":15.421677823602073},{"$f":"IF(OR(J17<(QUARTILE($J$2:$J$501,1))-1.5*(QUARTILE($J$2:$J$501,3)-QUARTILE($J$2:$J$501,1)),J17>(QUARTILE($J$2:$J$501,3))+1.5*(QUARTILE($J$2:$J$501,3)-QUARTILE($J$2:$J$501,1))),\"Outlier\")","v":false}]
[902280,"ALLEGHENY EN. DEAD - DELIST.28/02/11",7000,7500,7530,7535,24.99,2.42,{"$f":"(IF(IFERROR(G18/H18,\"\")<0,\"\",IFERROR(G18/H18,\"\")))","v":10.326446280991735},{"$f":"IF(COUNTIF($C$2:$C$501,C18)=1,\"\",IF(I18=\"\",\"\",ABS(IF(I18=\"\",0,(((H18*OFFSET($M$1,MATCH($C18,$L$2:$L$40,0),,)-G18)/G18))))))","v":0.62582993092820571},{"$f":"IF(OR(J18<(QUARTILE($J$2:$J$501,1))-1.5*(QUARTILE($J$2:$J$501,3)-QUARTILE($J$2:$J$501,1)),J18>(QUARTILE($J$2:$J$501,3))+1.5*(QUARTILE($J$2:$J$501,3)-QUARTILE($J$2:$J$501,1))),\"\",J18)","v":0.62582993092820571},null,null,{"$f":"IF(COUNTIF($D$2:$D$501,D18)=1,\"\",IF(I18=\"\",\"\",ABS(IF(I18=\"\",0,(((H18*OFFSET($P$1,MATCH($D18,$O$2:$O$40,0),,)-G18)/G18))))))","v":0.62582993092820571},8600,{"$f":"HARMEAN(IF($D$2:$D$501=O18,$I$2:$I$501))","v":44.776892141747979},{"$f":"IFERROR(IF(COUNTIF($E$2:$E$501,E18)=1,\"\",IF(I18=\"\",\"\",ABS(IF(I18=\"\",0,(((H18*OFFSET($S$1,MATCH($E18,$R$2:$R$41,0),,)-G18)/G18)))))),\"\")","v":0.53655041584450869},3570,{"$f":"IF(COUNT(IF($E$2:$E$501=R18,$I$2:$I$501))<$X$3,\"\",HARMEAN(IF($E$2:$E$501=R18,$I$2:$I$501)))","v":17.823783372687625},{"$f":"IFERROR(IF(COUNTIF($F$2:$F$501,F18)=1,\"\",IF(I18=\"\",\"\",ABS(IF(I18=\"\",0,(((H18*OFFSET($V$1,MATCH($F18,$U$2:$U$105,0),,)-G18)/G18)))))),\"\")","v":0.53655041584450869},2717,{"$f":"IF(COUNT(IF($F$2:$F$501=U18,$I$2:$I$501))<$X$3,\"\",HARMEAN(IF($F$2:$F$501=U18,$I$2:$I$501)))","v":8.9816726277590675},{"$f":"IF(OR(J18<(QUARTILE($J$2:$J$501,1))-1.5*(QUARTILE($J$2:$J$501,3)-QUARTILE($J$2:$J$501,1)),J18>(QUARTILE($J$2:$J$501,3))+1.5*(QUARTILE($J$2:$J$501,3)-QUARTILE($J$2:$J$501,1))),\"Outlier\")","v":false}]
[745176,"ALLEGHENY TECHS.",1000,1700,1750,1757,30.23,1.93,{"$f":"(IF(IFERROR(G19/H19,\"\")<0,\"\",IFERROR(G19/H19,\"\")))","v":15.663212435233161},{"$f":"IF(COUNTIF($C$2:$C$501,C19)=1,\"\",IF(I19=\"\",\"\",ABS(IF(I19=\"\",0,(((H19*OFFSET($M$1,MATCH($C19,$L$2:$L$40,0),,)-G19)/G19))))))","v":1.0619467275870573E-2},{"$f":"IF(OR(J19<(QUARTILE($J$2:$J$501,1))-1.5*(QUARTILE($J$2:$J$501,3)-QUARTILE($J$2:$J$501,1)),J19>(QUARTILE($J$2:$J$501,3))+1.5*(QUARTILE($J$2:$J$501,3)-QUARTILE($J$2:$J$501,1))),\"\",J19)","v":1.0619467275870573E-2},null,null,{"$f":"IF(COUNTIF($D$2:$D$501,D19)=1,\"\",IF(I19=\"\",\"\",ABS(IF(I19=\"\",0,(((H19*OFFSET($P$1,MATCH($D19,$O$2:$O$40,0),,)-G19)/G19))))))","v":0.19668976933384671},8700,{"$f":"HARMEAN(IF($D$2:$D$501=O19,$I$2:$I$501))","v":12.527639080869902},{"$f":"IFERROR(IF(COUNTIF($E$2:$E$501,E19)=1,\"\",IF(I19=\"\",\"\",ABS(IF(I19=\"\",0,(((H19*OFFSET($S$1,MATCH($E19,$R$2:$R$41,0),,)-G19)/G19)))))),\"\")","v":0.13040577660345989},3720,{"$f":"IF(COUNT(IF($E$2:$E$501=R19,$I$2:$I$501))<$X$3,\"\",HARMEAN(IF($E$2:$E$501=R19,$I$2:$I$501)))","v":21.379047000001975},{"$f":"IFERROR(IF(COUNTIF($F$2:$F$501,F19)=1,\"\",IF(I19=\"\",\"\",ABS(IF(I19=\"\",0,(((H19*OFFSET($V$1,MATCH($F19,$U$2:$U$105,0),,)-G19)/G19)))))),\"\")","v":""},2723,{"$f":"IF(COUNT(IF($F$2:$F$501=U19,$I$2:$I$501))<$X$3,\"\",HARMEAN(IF($F$2:$F$501=U19,$I$2:$I$501)))","v":21.769756825565903},{"$f":"IF(OR(J19<(QUARTILE($J$2:$J$501,1))-1.5*(QUARTILE($J$2:$J$501,3)-QUARTILE($J$2:$J$501,1)),J19>(QUARTILE($J$2:$J$501,3))+1.5*(QUARTILE($J$2:$J$501,3)-QUARTILE($J$2:$J$501,1))),\"Outlier\")","v":false}]
[541863,"ALLERGAN",4000,4500,4570,4577,90.03,3.24,{"$f":"(IF(IFERROR(G20/H20,\"\")<0,\"\",IFERROR(G20/H20,\"\")))","v":27.787037037037035},{"$f":"IF(COUNTIF($C$2:$C$501,C20)=1,\"\",IF(I20=\"\",\"\",ABS(IF(I20=\"\",0,(((H20*OFFSET($M$1,MATCH($C20,$L$2:$L$40,0),,)-G20)/G20))))))","v":0.39087451993855027},{"$f":"IF(OR(J20<(QUARTILE($J$2:$J$501,1))-1.5*(QUARTILE($J$2:$J$501,3)-QUARTILE($J$2:$J$501,1)),J20>(QUARTILE($J$2:$J$501,3))+1.5*(QUARTILE($J$2:$J$501,3)-QUARTILE($J$2:$J$501,1))),\"\",J20)","v":0.39087451993855027},null,null,{"$f":"IF(COUNTIF($D$2:$D$501,D20)=1,\"\",IF(I20=\"\",\"\",ABS(IF(I20=\"\",0,(((H20*OFFSET($P$1,MATCH($D20,$O$2:$O$40,0),,)-G20)/G20))))))","v":0.39087451993855027},9500,{"$f":"HARMEAN(IF($D$2:$D$501=O20,$I$2:$I$501))","v":13.092017446009637},{"$f":"IFERROR(IF(COUNTIF($E$2:$E$501,E20)=1,\"\",IF(I20=\"\",\"\",ABS(IF(I20=\"\",0,(((H20*OFFSET($S$1,MATCH($E20,$R$2:$R$41,0),,)-G20)/G20)))))),\"\")","v":0.28422436508131899},3740,{"$f":"IF(COUNT(IF($E$2:$E$501=R20,$I$2:$I$501))<$X$3,\"\",HARMEAN(IF($E$2:$E$501=R20,$I$2:$I$501)))","v":15.612057583732517},{"$f":"IFERROR(IF(COUNTIF($F$2:$F$501,F20)=1,\"\",IF(I20=\"\",\"\",ABS(IF(I20=\"\",0,(((H20*OFFSET($V$1,MATCH($F20,$U$2:$U$105,0),,)-G20)/G20)))))),\"\")","v":0.33595769944906717},2727,{"$f":"IF(COUNT(IF($F$2:$F$501=U20,$I$2:$I$501))<$X$3,\"\",HARMEAN(IF($F$2:$F$501=U20,$I$2:$I$501)))","v":15.499362535705682},{"$f":"IF(OR(J20<(QUARTILE($J$2:$J$501,1))-1.5*(QUARTILE($J$2:$J$501,3)-QUARTILE($J$2:$J$501,1)),J20>(QUARTILE($J$2:$J$501,3))+1.5*(QUARTILE($J$2:$J$501,3)-QUARTILE($J$2:$J$501,1))),\"Outlier\")","v":false}]
[545691,"ALLIED WASTE INDS. DEAD - DELIST.18/12/08",2000,2700,2790,2799,10.1,0.95,{"$f":"(IF(IFERROR(G21/H21,\"\")<0,\"\",IFERROR(G21/H21,\"\")))","v":10.631578947368421},{"$f":"IF(COUNTIF($C$2:$C$501,C21)=1,\"\",IF(I21=\"\",\"\",ABS(IF(I21=\"\",0,(((H21*OFFSET($M$1,MATCH($C21,$L$2:$L$40,0),,)-G21)/G21))))))","v":0.36422172798119162},{"$f":"IF(OR(J21<(QUARTILE($J$2:$J$501,1))-1.5*(QUARTILE($J$2:$J$501,3)-QUARTILE($J$2:$J$501,1)),J21>(QUARTILE($J$2:$J$501,3))+1.5*(QUARTILE($J$2:$J$501,3)-QUARTILE($J$2:$J$501,1))),\"\",J21)","v":0.36422172798119162},null,null,{"$f":"IF(COUNTIF($D$2:$D$501,D21)=1,\"\",IF(I21=\"\",\"\",ABS(IF(I21=\"\",0,(((H21*OFFSET($P$1,MATCH($D21,$O$2:$O$40,0),,)-G21)/G21))))))","v":0.34678497210710152},null,null,{"$f":"IFERROR(IF(COUNTIF($E$2:$E$501,E21)=1,\"\",IF(I21=\"\",\"\",ABS(IF(I21=\"\",0,(((H21*OFFSET($S$1,MATCH($E21,$R$2:$R$41,0),,)-G21)/G21)))))),\"\")","v":0.40315709080829304},3760,{"$f":"IF(COUNT(IF($E$2:$E$501=R21,$I$2:$I$501))<$X$3,\"\",HARMEAN(IF($E$2:$E$501=R21,$I$2:$I$501)))","v":19.444595701231695},{"$f":"IFERROR(IF(COUNTIF($F$2:$F$501,F21)=1,\"\",IF(I21=\"\",\"\",ABS(IF(I21=\"\",0,(((H21*OFFSET($V$1,MATCH($F21,$U$2:$U$105,0),,)-G21)/G21)))))),\"\")","v":""},2733,{"$f":"IF(COUNT(IF($F$2:$F$501=U21,$I$2:$I$501))<$X$3,\"\",HARMEAN(IF($F$2:$F$501=U21,$I$2:$I$501)))","v":16.350185195890376},{"$f":"IF(OR(J21<(QUARTILE($J$2:$J$501,1))-1.5*(QUARTILE($J$2:$J$501,3)-QUARTILE($J$2:$J$501,1)),J21>(QUARTILE($J$2:$J$501,3))+1.5*(QUARTILE($J$2:$J$501,3)-QUARTILE($J$2:$J$501,1))),\"Outlier\")","v":false}]
[322677,"ALLSTATE",8000,8500,8530,8536,34.14,2.08,{"$f":"(IF(IFERROR(G22/H22,\"\")<0,\"\",IFERROR(G22/H22,\"\")))","v":16.413461538461537},{"$f":"IF(COUNTIF($C$2:$C$501,C22)=1,\"\",IF(I22=\"\",\"\",ABS(IF(I22=\"\",0,(((H22*OFFSET($M$1,MATCH($C22,$L$2:$L$40,0),,)-G22)/G22))))))","v":0.18964131552583591},{"$f":"IF(OR(J22<(QUARTILE($J$2:$J$501,1))-1.5*(QUARTILE($J$2:$J$501,3)-QUARTILE($J$2:$J$501,1)),J22>(QUARTILE($J$2:$J$501,3))+1.5*(QUARTILE($J$2:$J$501,3)-QUARTILE($J$2:$J$501,1))),\"\",J22)","v":0.18964131552583591},null,null,{"$f":"IF(COUNTIF($D$2:$D$501,D22)=1,\"\",IF(I22=\"\",\"\",ABS(IF(I22=\"\",0,(((H22*OFFSET($P$1,MATCH($D22,$O$2:$O$40,0),,)-G22)/G22))))))","v":0.34426615977148822},null,null,{"$f":"IFERROR(IF(COUNTIF($E$2:$E$501,E22)=1,\"\",IF(I22=\"\",\"\",ABS(IF(I22=\"\",0,(((H22*OFFSET($S$1,MATCH($E22,$R$2:$R$41,0),,)-G22)/G22)))))),\"\")","v":0.32606887659231926},3780,{"$f":"IF(COUNT(IF($E$2:$E$501=R22,$I$2:$I$501))<$X$3,\"\",HARMEAN(IF($E$2:$E$501=R22,$I$2:$I$501)))","v":""},{"$f":"IFERROR(IF(COUNTIF($F$2:$F$501,F22)=1,\"\",IF(I22=\"\",\"\",ABS(IF(I22=\"\",0,(((H22*OFFSET($V$1,MATCH($F22,$U$2:$U$105,0),,)-G22)/G22)))))),\"\")","v":0.12515666473774054},2737,{"$f":"IF(COUNT(IF($F$2:$F$501=U22,$I$2:$I$501))<$X$3,\"\",HARMEAN(IF($F$2:$F$501=U22,$I$2:$I$501)))","v":""},{"$f":"IF(OR(J22<(QUARTILE($J$2:$J$501,1))-1.5*(QUARTILE($J$2:$J$501,3)-QUARTILE($J$2:$J$501,1)),J22>(QUARTILE($J$2:$J$501,3))+1.5*(QUARTILE($J$2:$J$501,3)-QUARTILE($J$2:$J$501,1))),\"Outlier\")","v":false}]
[777343,"ALTERA",9000,9500,9570,9576,32.450000000000003,2.02,{"$f":"(IF(IFERROR(G23/H23,\"\")<0,\"\",IFERROR(G23/H23,\"\")))","v":16.064356435643564},{"$f":"IF(COUNTIF($C$2:$C$501,C23)=1,\"\",IF(I23=\"\",\"\",ABS(IF(I23=\"\",0,(((H23*OFFSET($M$1,MATCH($C23,$L$2:$L$40,0),,)-G23)/G23))))))","v":0.18502695713591796},{"$f":"IF(OR(J23<(QUARTILE($J$2:$J$501,1))-1.5*(QUARTILE($J$2:$J$501,3)-QUARTILE($J$2:$J$501,1)),J23>(QUARTILE($J$2:$J$501,3))+1.5*(QUARTILE($J$2:$J$501,3)-QUARTILE($J$2:$J$501,1))),\"\",J23)","v":0.18502695713591796},null,null,{"$f":"IF(COUNTIF($D$2:$D$501,D23)=1,\"\",IF(I23=\"\",\"\",ABS(IF(I23=\"\",0,(((H23*OFFSET($P$1,MATCH($D23,$O$2:$O$40,0),,)-G23)/G23))))))","v":0.18502695713591796},null,null,{"$f":"IFERROR(IF(COUNTIF($E$2:$E$501,E23)=1,\"\",IF(I23=\"\",\"\",ABS(IF(I23=\"\",0,(((H23*OFFSET($S$1,MATCH($E23,$R$2:$R$41,0),,)-G23)/G23)))))),\"\")","v":0.2188375625051866},4530,{"$f":"IF(COUNT(IF($E$2:$E$501=R23,$I$2:$I$501))<$X$3,\"\",HARMEAN(IF($E$2:$E$501=R23,$I$2:$I$501)))","v":15.29768757169688},{"$f":"IFERROR(IF(COUNTIF($F$2:$F$501,F23)=1,\"\",IF(I23=\"\",\"\",ABS(IF(I23=\"\",0,(((H23*OFFSET($V$1,MATCH($F23,$U$2:$U$105,0),,)-G23)/G23)))))),\"\")","v":0.13528938461244519},2753,{"$f":"IF(COUNT(IF($F$2:$F$501=U23,$I$2:$I$501))<$X$3,\"\",HARMEAN(IF($F$2:$F$501=U23,$I$2:$I$501)))","v":12.045302263556133},{"$f":"IF(OR(J23<(QUARTILE($J$2:$J$501,1))-1.5*(QUARTILE($J$2:$J$501,3)-QUARTILE($J$2:$J$501,1)),J23>(QUARTILE($J$2:$J$501,3))+1.5*(QUARTILE($J$2:$J$501,3)-QUARTILE($J$2:$J$501,1))),\"Outlier\")","v":false}]
[904853,"ALTRIA GROUP",3000,3700,3780,3785,34.03,1.67,{"$f":"(IF(IFERROR(G24/H24,\"\")<0,\"\",IFERROR(G24/H24,\"\")))","v":20.377245508982039},{"$f":"IF(COUNTIF($C$2:$C$501,C24)=1,\"\",IF(I24=\"\",\"\",ABS(IF(I24=\"\",0,(((H24*OFFSET($M$1,MATCH($C24,$L$2:$L$40,0),,)-G24)/G24))))))","v":0.2152921700371595},{"$f":"IF(OR(J24<(QUARTILE($J$2:$J$501,1))-1.5*(QUARTILE($J$2:$J$501,3)-QUARTILE($J$2:$J$501,1)),J24>(QUARTILE($J$2:$J$501,3))+1.5*(QUARTILE($J$2:$J$501,3)-QUARTILE($J$2:$J$501,1))),\"\",J24)","v":0.2152921700371595},null,null,{"$f":"IF(COUNTIF($D$2:$D$501,D24)=1,\"\",IF(I24=\"\",\"\",ABS(IF(I24=\"\",0,(((H24*OFFSET($P$1,MATCH($D24,$O$2:$O$40,0),,)-G24)/G24))))))","v":5.3798050671066071E-2},null,null,{"$f":"IFERROR(IF(COUNTIF($E$2:$E$501,E24)=1,\"\",IF(I24=\"\",\"\",ABS(IF(I24=\"\",0,(((H24*OFFSET($S$1,MATCH($E24,$R$2:$R$41,0),,)-G24)/G24)))))),\"\")","v":""},4570,{"$f":"IF(COUNT(IF($E$2:$E$501=R24,$I$2:$I$501))<$X$3,\"\",HARMEAN(IF($E$2:$E$501=R24,$I$2:$I$501)))","v":19.889284077694089},{"$f":"IFERROR(IF(COUNTIF($F$2:$F$501,F24)=1,\"\",IF(I24=\"\",\"\",ABS(IF(I24=\"\",0,(((H24*OFFSET($V$1,MATCH($F24,$U$2:$U$105,0),,)-G24)/G24)))))),\"\")","v":""},2757,{"$f":"IF(COUNT(IF($F$2:$F$501=U24,$I$2:$I$501))<$X$3,\"\",HARMEAN(IF($F$2:$F$501=U24,$I$2:$I$501)))","v":12.3992270550774},{"$f":"IF(OR(J24<(QUARTILE($J$2:$J$501,1))-1.5*(QUARTILE($J$2:$J$501,3)-QUARTILE($J$2:$J$501,1)),J24>(QUARTILE($J$2:$J$501,3))+1.5*(QUARTILE($J$2:$J$501,3)-QUARTILE($J$2:$J$501,1))),\"Outlier\")","v":false}]
[891399,"AMAZON.COM",5000,5300,5370,5373,221.31,1.21,{"$f":"(IF(IFERROR(G25/H25,\"\")<0,\"\",IFERROR(G25/H25,\"\")))","v":182.900826446281},{"$f":"IF(COUNTIF($C$2:$C$501,C25)=1,\"\",IF(I25=\"\",\"\",ABS(IF(I25=\"\",0,(((H25*OFFSET($M$1,MATCH($C25,$L$2:$L$40,0),,)-G25)/G25))))))","v":0.91377561125112605},{"$f":"IF(OR(J25<(QUARTILE($J$2:$J$501,1))-1.5*(QUARTILE($J$2:$J$501,3)-QUARTILE($J$2:$J$501,1)),J25>(QUARTILE($J$2:$J$501,3))+1.5*(QUARTILE($J$2:$J$501,3)-QUARTILE($J$2:$J$501,1))),\"\",J25)","v":0.91377561125112605},null,null,{"$f":"IF(COUNTIF($D$2:$D$501,D25)=1,\"\",IF(I25=\"\",\"\",ABS(IF(I25=\"\",0,(((H25*OFFSET($P$1,MATCH($D25,$O$2:$O$40,0),,)-G25)/G25))))))","v":0.92033130163857124},null,null,{"$f":"IFERROR(IF(COUNTIF($E$2:$E$501,E25)=1,\"\",IF(I25=\"\",\"\",ABS(IF(I25=\"\",0,(((H25*OFFSET($S$1,MATCH($E25,$R$2:$R$41,0),,)-G25)/G25)))))),\"\")","v":0.92163455651478765},5330,{"$f":"IF(COUNT(IF($E$2:$E$501=R25,$I$2:$I$501))<$X$3,\"\",HARMEAN(IF($E$2:$E$501=R25,$I$2:$I$501)))","v":15.366523456073581},{"$f":"IFERROR(IF(COUNTIF($F$2:$F$501,F25)=1,\"\",IF(I25=\"\",\"\",ABS(IF(I25=\"\",0,(((H25*OFFSET($V$1,MATCH($F25,$U$2:$U$105,0),,)-G25)/G25)))))),\"\")","v":0.89583120566298646},2771,{"$f":"IF(COUNT(IF($F$2:$F$501=U25,$I$2:$I$501))<$X$3,\"\",HARMEAN(IF($F$2:$F$501=U25,$I$2:$I$501)))","v":""},{"$f":"IF(OR(J25<(QUARTILE($J$2:$J$501,1))-1.5*(QUARTILE($J$2:$J$501,3)-QUARTILE($J$2:$J$501,1)),J25>(QUARTILE($J$2:$J$501,3))+1.5*(QUARTILE($J$2:$J$501,3)-QUARTILE($J$2:$J$501,1))),\"Outlier\")","v":false}]
[545088,"AMBAC FINANCIAL",8000,8500,8530,8536,2.5499999999999998E-2,0,{"$f":"(IF(IFERROR(G26/H26,\"\")<0,\"\",IFERROR(G26/H26,\"\")))","v":""},{"$f":"IF(COUNTIF($C$2:$C$501,C26)=1,\"\",IF(I26=\"\",\"\",ABS(IF(I26=\"\",0,(((H26*OFFSET($M$1,MATCH($C26,$L$2:$L$40,0),,)-G26)/G26))))))","v":""},{"$f":"IF(OR(J26<(QUARTILE($J$2:$J$501,1))-1.5*(QUARTILE($J$2:$J$501,3)-QUARTILE($J$2:$J$501,1)),J26>(QUARTILE($J$2:$J$501,3))+1.5*(QUARTILE($J$2:$J$501,3)-QUARTILE($J$2:$J$501,1))),\"\",J26)","v":""},null,null,{"$f":"IF(COUNTIF($D$2:$D$501,D26)=1,\"\",IF(I26=\"\",\"\",ABS(IF(I26=\"\",0,(((H26*OFFSET($P$1,MATCH($D26,$O$2:$O$40,0),,)-G26)/G26))))))","v":""},null,null,{"$f":"IFERROR(IF(COUNTIF($E$2:$E$501,E26)=1,\"\",IF(I26=\"\",\"\",ABS(IF(I26=\"\",0,(((H26*OFFSET($S$1,MATCH($E26,$R$2:$R$41,0),,)-G26)/G26)))))),\"\")","v":""},5370,{"$f":"IF(COUNT(IF($E$2:$E$501=R26,$I$2:$I$501))<$X$3,\"\",HARMEAN(IF($E$2:$E$501=R26,$I$2:$I$501)))","v":14.333104378274671},{"$f":"IFERROR(IF(COUNTIF($F$2:$F$501,F26)=1,\"\",IF(I26=\"\",\"\",ABS(IF(I26=\"\",0,(((H26*OFFSET($V$1,MATCH($F26,$U$2:$U$105,0),,)-G26)/G26)))))),\"\")","v":""},2775,{"$f":"IF(COUNT(IF($F$2:$F$501=U26,$I$2:$I$501))<$X$3,\"\",HARMEAN(IF($F$2:$F$501=U26,$I$2:$I$501)))","v":14.533997683827838},{"$f":"IF(OR(J26<(QUARTILE($J$2:$J$501,1))-1.5*(QUARTILE($J$2:$J$501,3)-QUARTILE($J$2:$J$501,1)),J26>(QUARTILE($J$2:$J$501,3))+1.5*(QUARTILE($J$2:$J$501,3)-QUARTILE($J$2:$J$501,1))),\"Outlier\")","v":"Outlier"}]
[670942,"AMEREN",7000,7500,7570,7575,33.56,0.19,{"$f":"(IF(IFERROR(G27/H27,\"\")<0,\"\",IFERROR(G27/H27,\"\")))","v":176.63157894736844},{"$f":"IF(COUNTIF($C$2:$C$501,C27)=1,\"\",IF(I27=\"\",\"\",ABS(IF(I27=\"\",0,(((H27*OFFSET($M$1,MATCH($C27,$L$2:$L$40,0),,)-G27)/G27))))))","v":0.90494878920398869},{"$f":"IF(OR(J27<(QUARTILE($J$2:$J$501,1))-1.5*(QUARTILE($J$2:$J$501,3)-QUARTILE($J$2:$J$501,1)),J27>(QUARTILE($J$2:$J$501,3))+1.5*(QUARTILE($J$2:$J$501,3)-QUARTILE($J$2:$J$501,1))),\"\",J27)","v":0.90494878920398869},null,null,{"$f":"IF(COUNTIF($D$2:$D$501,D27)=1,\"\",IF(I27=\"\",\"\",ABS(IF(I27=\"\",0,(((H27*OFFSET($P$1,MATCH($D27,$O$2:$O$40,0),,)-G27)/G27))))))","v":0.90494878920398869},null,null,{"$f":"IFERROR(IF(COUNTIF($E$2:$E$501,E27)=1,\"\",IF(I27=\"\",\"\",ABS(IF(I27=\"\",0,(((H27*OFFSET($S$1,MATCH($E27,$R$2:$R$41,0),,)-G27)/G27)))))),\"\")","v":0.89245073347625692},5550,{"$f":"IF(COUNT(IF($E$2:$E$501=R27,$I$2:$I$501))<$X$3,\"\",HARMEAN(IF($E$2:$E$501=R27,$I$2:$I$501)))","v":15.170328024276321},{"$f":"IFERROR(IF(COUNTIF($F$2:$F$501,F27)=1,\"\",IF(I27=\"\",\"\",ABS(IF(I27=\"\",0,(((H27*OFFSET($V$1,MATCH($F27,$U$2:$U$105,0),,)-G27)/G27)))))),\"\")","v":0.89404467091937845},2777,{"$f":"IF(COUNT(IF($F$2:$F$501=U27,$I$2:$I$501))<$X$3,\"\",HARMEAN(IF($F$2:$F$501=U27,$I$2:$I$501)))","v":""},{"$f":"IF(OR(J27<(QUARTILE($J$2:$J$501,1))-1.5*(QUARTILE($J$2:$J$501,3)-QUARTILE($J$2:$J$501,1)),J27>(QUARTILE($J$2:$J$501,3))+1.5*(QUARTILE($J$2:$J$501,3)-QUARTILE($J$2:$J$501,1))),\"Outlier\")","v":false}]
[905425,"AMER.ELEC.PWR.",7000,7500,7530,7535,39.93,3.32,{"$f":"(IF(IFERROR(G28/H28,\"\")<0,\"\",IFERROR(G28/H28,\"\")))","v":12.02710843373494},{"$f":"IF(COUNTIF($C$2:$C$501,C28)=1,\"\",IF(I28=\"\",\"\",ABS(IF(I28=\"\",0,(((H28*OFFSET($M$1,MATCH($C28,$L$2:$L$40,0),,)-G28)/G28))))))","v":0.39593365572949213},{"$f":"IF(OR(J28<(QUARTILE($J$2:$J$501,1))-1.5*(QUARTILE($J$2:$J$501,3)-QUARTILE($J$2:$J$501,1)),J28>(QUARTILE($J$2:$J$501,3))+1.5*(QUARTILE($J$2:$J$501,3)-QUARTILE($J$2:$J$501,1))),\"\",J28)","v":0.39593365572949213},null,null,{"$f":"IF(COUNTIF($D$2:$D$501,D28)=1,\"\",IF(I28=\"\",\"\",ABS(IF(I28=\"\",0,(((H28*OFFSET($P$1,MATCH($D28,$O$2:$O$40,0),,)-G28)/G28))))))","v":0.39593365572949213},null,null,{"$f":"IFERROR(IF(COUNTIF($E$2:$E$501,E28)=1,\"\",IF(I28=\"\",\"\",ABS(IF(I28=\"\",0,(((H28*OFFSET($S$1,MATCH($E28,$R$2:$R$41,0),,)-G28)/G28)))))),\"\")","v":0.31927847950119498},5750,{"$f":"IF(COUNT(IF($E$2:$E$501=R28,$I$2:$I$501))<$X$3,\"\",HARMEAN(IF($E$2:$E$501=R28,$I$2:$I$501)))","v":21.898951418481822},{"$f":"IFERROR(IF(COUNTIF($F$2:$F$501,F28)=1,\"\",IF(I28=\"\",\"\",ABS(IF(I28=\"\",0,(((H28*OFFSET($V$1,MATCH($F28,$U$2:$U$105,0),,)-G28)/G28)))))),\"\")","v":0.31927847950119498},2779,{"$f":"IF(COUNT(IF($F$2:$F$501=U28,$I$2:$I$501))<$X$3,\"\",HARMEAN(IF($F$2:$F$501=U28,$I$2:$I$501)))","v":""},{"$f":"IF(OR(J28<(QUARTILE($J$2:$J$501,1))-1.5*(QUARTILE($J$2:$J$501,3)-QUARTILE($J$2:$J$501,1)),J28>(QUARTILE($J$2:$J$501,3))+1.5*(QUARTILE($J$2:$J$501,3)-QUARTILE($J$2:$J$501,1))),\"Outlier\")","v":false}]
[906156,"AMERICAN EXPRESS",8000,8700,8770,8773,56.69,4.21,{"$f":"(IF(IFERROR(G29/H29,\"\")<0,\"\",IFERROR(G29/H29,\"\")))","v":13.465558194774346},{"$f":"IF(COUNTIF($C$2:$C$501,C29)=1,\"\",IF(I29=\"\",\"\",ABS(IF(I29=\"\",0,(((H29*OFFSET($M$1,MATCH($C29,$L$2:$L$40,0),,)-G29)/G29))))))","v":1.223618749524296E-2},{"$f":"IF(OR(J29<(QUARTILE($J$2:$J$501,1))-1.5*(QUARTILE($J$2:$J$501,3)-QUARTILE($J$2:$J$501,1)),J29>(QUARTILE($J$2:$J$501,3))+1.5*(QUARTILE($J$2:$J$501,3)-QUARTILE($J$2:$J$501,1))),\"\",J29)","v":1.223618749524296E-2},null,null,{"$f":"IF(COUNTIF($D$2:$D$501,D29)=1,\"\",IF(I29=\"\",\"\",ABS(IF(I29=\"\",0,(((H29*OFFSET($P$1,MATCH($D29,$O$2:$O$40,0),,)-G29)/G29))))))","v":6.9653192265614922E-2},null,null,{"$f":"IFERROR(IF(COUNTIF($E$2:$E$501,E29)=1,\"\",IF(I29=\"\",\"\",ABS(IF(I29=\"\",0,(((H29*OFFSET($S$1,MATCH($E29,$R$2:$R$41,0),,)-G29)/G29)))))),\"\")","v":6.9653192265614922E-2},6530,{"$f":"IF(COUNT(IF($E$2:$E$501=R29,$I$2:$I$501))<$X$3,\"\",HARMEAN(IF($E$2:$E$501=R29,$I$2:$I$501)))","v":22.860852819174948},{"$f":"IFERROR(IF(COUNTIF($F$2:$F$501,F29)=1,\"\",IF(I29=\"\",\"\",ABS(IF(I29=\"\",0,(((H29*OFFSET($V$1,MATCH($F29,$U$2:$U$105,0),,)-G29)/G29)))))),\"\")","v":0.25420998947905116},2791,{"$f":"IF(COUNT(IF($F$2:$F$501=U29,$I$2:$I$501))<$X$3,\"\",HARMEAN(IF($F$2:$F$501=U29,$I$2:$I$501)))","v":10.335200376652001},{"$f":"IF(OR(J29<(QUARTILE($J$2:$J$501,1))-1.5*(QUARTILE($J$2:$J$501,3)-QUARTILE($J$2:$J$501,1)),J29>(QUARTILE($J$2:$J$501,3))+1.5*(QUARTILE($J$2:$J$501,3)-QUARTILE($J$2:$J$501,1))),\"Outlier\")","v":false}]
[916305,"AMERICAN INTL.GP.",8000,8500,8530,8532,30.84,11.58,{"$f":"(IF(IFERROR(G30/H30,\"\")<0,\"\",IFERROR(G30/H30,\"\")))","v":2.6632124352331608},{"$f":"IF(COUNTIF($C$2:$C$501,C30)=1,\"\",IF(I30=\"\",\"\",ABS(IF(I30=\"\",0,(((H30*OFFSET($M$1,MATCH($C30,$L$2:$L$40,0),,)-G30)/G30))))))","v":3.9942659188622014},{"$f":"IF(OR(J30<(QUARTILE($J$2:$J$501,1))-1.5*(QUARTILE($J$2:$J$501,3)-QUARTILE($J$2:$J$501,1)),J30>(QUARTILE($J$2:$J$501,3))+1.5*(QUARTILE($J$2:$J$501,3)-QUARTILE($J$2:$J$501,1))),\"\",J30)","v":""},null,null,{"$f":"IF(COUNTIF($D$2:$D$501,D30)=1,\"\",IF(I30=\"\",\"\",ABS(IF(I30=\"\",0,(((H30*OFFSET($P$1,MATCH($D30,$O$2:$O$40,0),,)-G30)/G30))))))","v":3.0413081674110192},null,null,{"$f":"IFERROR(IF(COUNTIF($E$2:$E$501,E30)=1,\"\",IF(I30=\"\",\"\",ABS(IF(I30=\"\",0,(((H30*OFFSET($S$1,MATCH($E30,$R$2:$R$41,0),,)-G30)/G30)))))),\"\")","v":3.1534585928199612},6570,{"$f":"IF(COUNT(IF($E$2:$E$501=R30,$I$2:$I$501))<$X$3,\"\",HARMEAN(IF($E$2:$E$501=R30,$I$2:$I$501)))","v":""},{"$f":"IFERROR(IF(COUNTIF($F$2:$F$501,F30)=1,\"\",IF(I30=\"\",\"\",ABS(IF(I30=\"\",0,(((H30*OFFSET($V$1,MATCH($F30,$U$2:$U$105,0),,)-G30)/G30)))))),\"\")","v":""},2793,{"$f":"IF(COUNT(IF($F$2:$F$501=U30,$I$2:$I$501))<$X$3,\"\",HARMEAN(IF($F$2:$F$501=U30,$I$2:$I$501)))","v":""},{"$f":"IF(OR(J30<(QUARTILE($J$2:$J$501,1))-1.5*(QUARTILE($J$2:$J$501,3)-QUARTILE($J$2:$J$501,1)),J30>(QUARTILE($J$2:$J$501,3))+1.5*(QUARTILE($J$2:$J$501,3)-QUARTILE($J$2:$J$501,1))),\"Outlier\")","v":"Outlier"}]
[151860,"TRANE DEAD - MERGER",2000,2300,2350,2353,46.49,2.0099999999999998,{"$f":"(IF(IFERROR(G31/H31,\"\")<0,\"\",IFERROR(G31/H31,\"\")))","v":23.129353233830848},{"$f":"IF(COUNTIF($C$2:$C$501,C31)=1,\"\",IF(I31=\"\",\"\",ABS(IF(I31=\"\",0,(((H31*OFFSET($M$1,MATCH($C31,$L$2:$L$40,0),,)-G31)/G31))))))","v":0.37292535350565109},{"$f":"IF(OR(J31<(QUARTILE($J$2:$J$501,1))-1.5*(QUARTILE($J$2:$J$501,3)-QUARTILE($J$2:$J$501,1)),J31>(QUARTILE($J$2:$J$501,3))+1.5*(QUARTILE($J$2:$J$501,3)-QUARTILE($J$2:$J$501,1))),\"\",J31)","v":0.37292535350565109},null,null,{"$f":"IF(COUNTIF($D$2:$D$501,D31)=1,\"\",IF(I31=\"\",\"\",ABS(IF(I31=\"\",0,(((H31*OFFSET($P$1,MATCH($D31,$O$2:$O$40,0),,)-G31)/G31))))))","v":0.13876868322128344},null,null,{"$f":"IFERROR(IF(COUNTIF($E$2:$E$501,E31)=1,\"\",IF(I31=\"\",\"\",ABS(IF(I31=\"\",0,(((H31*OFFSET($S$1,MATCH($E31,$R$2:$R$41,0),,)-G31)/G31)))))),\"\")","v":""},7530,{"$f":"IF(COUNT(IF($E$2:$E$501=R31,$I$2:$I$501))<$X$3,\"\",HARMEAN(IF($E$2:$E$501=R31,$I$2:$I$501)))","v":15.867105327253832},{"$f":"IFERROR(IF(COUNTIF($F$2:$F$501,F31)=1,\"\",IF(I31=\"\",\"\",ABS(IF(I31=\"\",0,(((H31*OFFSET($V$1,MATCH($F31,$U$2:$U$105,0),,)-G31)/G31)))))),\"\")","v":""},2795,{"$f":"IF(COUNT(IF($F$2:$F$501=U31,$I$2:$I$501))<$X$3,\"\",HARMEAN(IF($F$2:$F$501=U31,$I$2:$I$501)))","v":23.644537887311241},{"$f":"IF(OR(J31<(QUARTILE($J$2:$J$501,1))-1.5*(QUARTILE($J$2:$J$501,3)-QUARTILE($J$2:$J$501,1)),J31>(QUARTILE($J$2:$J$501,3))+1.5*(QUARTILE($J$2:$J$501,3)-QUARTILE($J$2:$J$501,1))),\"Outlier\")","v":false}]
["31604H","AMERIPRISE FINL.",8000,8700,8770,8777,50.8,4.4400000000000004,{"$f":"(IF(IFERROR(G32/H32,\"\")<0,\"\",IFERROR(G32/H32,\"\")))","v":11.441441441441439},{"$f":"IF(COUNTIF($C$2:$C$501,C32)=1,\"\",IF(I32=\"\",\"\",ABS(IF(I32=\"\",0,(((H32*OFFSET($M$1,MATCH($C32,$L$2:$L$40,0),,)-G32)/G32))))))","v":0.16251008826553009},{"$f":"IF(OR(J32<(QUARTILE($J$2:$J$501,1))-1.5*(QUARTILE($J$2:$J$501,3)-QUARTILE($J$2:$J$501,1)),J32>(QUARTILE($J$2:$J$501,3))+1.5*(QUARTILE($J$2:$J$501,3)-QUARTILE($J$2:$J$501,1))),\"\",J32)","v":0.16251008826553009},null,null,{"$f":"IF(COUNTIF($D$2:$D$501,D32)=1,\"\",IF(I32=\"\",\"\",ABS(IF(I32=\"\",0,(((H32*OFFSET($P$1,MATCH($D32,$O$2:$O$40,0),,)-G32)/G32))))))","v":9.4935384233511277E-2},null,null,{"$f":"IFERROR(IF(COUNTIF($E$2:$E$501,E32)=1,\"\",IF(I32=\"\",\"\",ABS(IF(I32=\"\",0,(((H32*OFFSET($S$1,MATCH($E32,$R$2:$R$41,0),,)-G32)/G32)))))),\"\")","v":9.4935384233511277E-2},7570,{"$f":"IF(COUNT(IF($E$2:$E$501=R32,$I$2:$I$501))<$X$3,\"\",HARMEAN(IF($E$2:$E$501=R32,$I$2:$I$501)))","v":18.996596760720095},{"$f":"IFERROR(IF(COUNTIF($F$2:$F$501,F32)=1,\"\",IF(I32=\"\",\"\",ABS(IF(I32=\"\",0,(((H32*OFFSET($V$1,MATCH($F32,$U$2:$U$105,0),,)-G32)/G32)))))),\"\")","v":3.7314116984606988E-2},2797,{"$f":"IF(COUNT(IF($F$2:$F$501=U32,$I$2:$I$501))<$X$3,\"\",HARMEAN(IF($F$2:$F$501=U32,$I$2:$I$501)))","v":""},{"$f":"IF(OR(J32<(QUARTILE($J$2:$J$501,1))-1.5*(QUARTILE($J$2:$J$501,3)-QUARTILE($J$2:$J$501,1)),J32>(QUARTILE($J$2:$J$501,3))+1.5*(QUARTILE($J$2:$J$501,3)-QUARTILE($J$2:$J$501,1))),\"Outlier\")","v":false}]
[154680,"AMERISOURCEBERGEN",5000,5300,5330,5333,38.74,2.62,{"$f":"(IF(IFERROR(G33/H33,\"\")<0,\"\",IFERROR(G33/H33,\"\")))","v":14.786259541984734},{"$f":"IF(COUNTIF($C$2:$C$501,C33)=1,\"\",IF(I33=\"\",\"\",ABS(IF(I33=\"\",0,(((H33*OFFSET($M$1,MATCH($C33,$L$2:$L$40,0),,)-G33)/G33))))))","v":6.6565341776599909E-2},{"$f":"IF(OR(J33<(QUARTILE($J$2:$J$501,1))-1.5*(QUARTILE($J$2:$J$501,3)-QUARTILE($J$2:$J$501,1)),J33>(QUARTILE($J$2:$J$501,3))+1.5*(QUARTILE($J$2:$J$501,3)-QUARTILE($J$2:$J$501,1))),\"\",J33)","v":6.6565341776599909E-2},null,null,{"$f":"IF(COUNTIF($D$2:$D$501,D33)=1,\"\",IF(I33=\"\",\"\",ABS(IF(I33=\"\",0,(((H33*OFFSET($P$1,MATCH($D33,$O$2:$O$40,0),,)-G33)/G33))))))","v":1.4526241012479534E-2},null,null,{"$f":"IFERROR(IF(COUNTIF($E$2:$E$501,E33)=1,\"\",IF(I33=\"\",\"\",ABS(IF(I33=\"\",0,(((H33*OFFSET($S$1,MATCH($E33,$R$2:$R$41,0),,)-G33)/G33)))))),\"\")","v":3.9243455211997409E-2},8350,{"$f":"IF(COUNT(IF($E$2:$E$501=R33,$I$2:$I$501))<$X$3,\"\",HARMEAN(IF($E$2:$E$501=R33,$I$2:$I$501)))","v":12.171450966040917},{"$f":"IFERROR(IF(COUNTIF($F$2:$F$501,F33)=1,\"\",IF(I33=\"\",\"\",ABS(IF(I33=\"\",0,(((H33*OFFSET($V$1,MATCH($F33,$U$2:$U$105,0),,)-G33)/G33)))))),\"\")","v":5.2978765532486899E-2},2799,{"$f":"IF(COUNT(IF($F$2:$F$501=U33,$I$2:$I$501))<$X$3,\"\",HARMEAN(IF($F$2:$F$501=U33,$I$2:$I$501)))","v":""},{"$f":"IF(OR(J33<(QUARTILE($J$2:$J$501,1))-1.5*(QUARTILE($J$2:$J$501,3)-QUARTILE($J$2:$J$501,1)),J33>(QUARTILE($J$2:$J$501,3))+1.5*(QUARTILE($J$2:$J$501,3)-QUARTILE($J$2:$J$501,1))),\"Outlier\")","v":false}]
[938692,"AMGEN",4000,4500,4570,4573,71.42,4.3099999999999996,{"$f":"(IF(IFERROR(G34/H34,\"\")<0,\"\",IFERROR(G34/H34,\"\")))","v":16.570765661252903},{"$f":"IF(COUNTIF($C$2:$C$501,C34)=1,\"\",IF(I34=\"\",\"\",ABS(IF(I34=\"\",0,(((H34*OFFSET($M$1,MATCH($C34,$L$2:$L$40,0),,)-G34)/G34))))))","v":2.1424876838836628E-2},{"$f":"IF(OR(J34<(QUARTILE($J$2:$J$501,1))-1.5*(QUARTILE($J$2:$J$501,3)-QUARTILE($J$2:$J$501,1)),J34>(QUARTILE($J$2:$J$501,3))+1.5*(QUARTILE($J$2:$J$501,3)-QUARTILE($J$2:$J$501,1))),\"\",J34)","v":2.1424876838836628E-2},null,null,{"$f":"IF(COUNTIF($D$2:$D$501,D34)=1,\"\",IF(I34=\"\",\"\",ABS(IF(I34=\"\",0,(((H34*OFFSET($P$1,MATCH($D34,$O$2:$O$40,0),,)-G34)/G34))))))","v":2.1424876838836628E-2},null,null,{"$f":"IFERROR(IF(COUNTIF($E$2:$E$501,E34)=1,\"\",IF(I34=\"\",\"\",ABS(IF(I34=\"\",0,(((H34*OFFSET($S$1,MATCH($E34,$R$2:$R$41,0),,)-G34)/G34)))))),\"\")","v":0.20026343286000436},8530,{"$f":"IF(COUNT(IF($E$2:$E$501=R34,$I$2:$I$501))<$X$3,\"\",HARMEAN(IF($E$2:$E$501=R34,$I$2:$I$501)))","v":11.061542573624145},{"$f":"IFERROR(IF(COUNTIF($F$2:$F$501,F34)=1,\"\",IF(I34=\"\",\"\",ABS(IF(I34=\"\",0,(((H34*OFFSET($V$1,MATCH($F34,$U$2:$U$105,0),,)-G34)/G34)))))),\"\")","v":0.46692424483467532},3353,{"$f":"IF(COUNT(IF($F$2:$F$501=U34,$I$2:$I$501))<$X$3,\"\",HARMEAN(IF($F$2:$F$501=U34,$I$2:$I$501)))","v":""},{"$f":"IF(OR(J34<(QUARTILE($J$2:$J$501,1))-1.5*(QUARTILE($J$2:$J$501,3)-QUARTILE($J$2:$J$501,1)),J34>(QUARTILE($J$2:$J$501,3))+1.5*(QUARTILE($J$2:$J$501,3)-QUARTILE($J$2:$J$501,1))),\"Outlier\")","v":false}]
[741076,"ANADARKO PETROLEUM",1,500,530,533,63.25,0,{"$f":"(IF(IFERROR(G35/H35,\"\")<0,\"\",IFERROR(G35/H35,\"\")))","v":""},{"$f":"IF(COUNTIF($C$2:$C$501,C35)=1,\"\",IF(I35=\"\",\"\",ABS(IF(I35=\"\",0,(((H35*OFFSET($M$1,MATCH($C35,$L$2:$L$40,0),,)-G35)/G35))))))","v":""},{"$f":"IF(OR(J35<(QUARTILE($J$2:$J$501,1))-1.5*(QUARTILE($J$2:$J$501,3)-QUARTILE($J$2:$J$501,1)),J35>(QUARTILE($J$2:$J$501,3))+1.5*(QUARTILE($J$2:$J$501,3)-QUARTILE($J$2:$J$501,1))),\"\",J35)","v":""},null,null,{"$f":"IF(COUNTIF($D$2:$D$501,D35)=1,\"\",IF(I35=\"\",\"\",ABS(IF(I35=\"\",0,(((H35*OFFSET($P$1,MATCH($D35,$O$2:$O$40,0),,)-G35)/G35))))))","v":""},null,null,{"$f":"IFERROR(IF(COUNTIF($E$2:$E$501,E35)=1,\"\",IF(I35=\"\",\"\",ABS(IF(I35=\"\",0,(((H35*OFFSET($S$1,MATCH($E35,$R$2:$R$41,0),,)-G35)/G35)))))),\"\")","v":""},8570,{"$f":"IF(COUNT(IF($E$2:$E$501=R35,$I$2:$I$501))<$X$3,\"\",HARMEAN(IF($E$2:$E$501=R35,$I$2:$I$501)))","v":10.388840421144041},{"$f":"IFERROR(IF(COUNTIF($F$2:$F$501,F35)=1,\"\",IF(I35=\"\",\"\",ABS(IF(I35=\"\",0,(((H35*OFFSET($V$1,MATCH($F35,$U$2:$U$105,0),,)-G35)/G35)))))),\"\")","v":""},3355,{"$f":"IF(COUNT(IF($F$2:$F$501=U35,$I$2:$I$501))<$X$3,\"\",HARMEAN(IF($F$2:$F$501=U35,$I$2:$I$501)))","v":""},{"$f":"IF(OR(J35<(QUARTILE($J$2:$J$501,1))-1.5*(QUARTILE($J$2:$J$501,3)-QUARTILE($J$2:$J$501,1)),J35>(QUARTILE($J$2:$J$501,3))+1.5*(QUARTILE($J$2:$J$501,3)-QUARTILE($J$2:$J$501,1))),\"Outlier\")","v":"Outlier"}]
[905276,"ANALOG DEVICES",9000,9500,9570,9576,36.520000000000003,2.2999999999999998,{"$f":"(IF(IFERROR(G36/H36,\"\")<0,\"\",IFERROR(G36/H36,\"\")))","v":15.878260869565221},{"$f":"IF(COUNTIF($C$2:$C$501,C36)=1,\"\",IF(I36=\"\",\"\",ABS(IF(I36=\"\",0,(((H36*OFFSET($M$1,MATCH($C36,$L$2:$L$40,0),,)-G36)/G36))))))","v":0.17547535252403723},{"$f":"IF(OR(J36<(QUARTILE($J$2:$J$501,1))-1.5*(QUARTILE($J$2:$J$501,3)-QUARTILE($J$2:$J$501,1)),J36>(QUARTILE($J$2:$J$501,3))+1.5*(QUARTILE($J$2:$J$501,3)-QUARTILE($J$2:$J$501,1))),\"\",J36)","v":0.17547535252403723},null,null,{"$f":"IF(COUNTIF($D$2:$D$501,D36)=1,\"\",IF(I36=\"\",\"\",ABS(IF(I36=\"\",0,(((H36*OFFSET($P$1,MATCH($D36,$O$2:$O$40,0),,)-G36)/G36))))))","v":0.17547535252403723},null,null,{"$f":"IFERROR(IF(COUNTIF($E$2:$E$501,E36)=1,\"\",IF(I36=\"\",\"\",ABS(IF(I36=\"\",0,(((H36*OFFSET($S$1,MATCH($E36,$R$2:$R$41,0),,)-G36)/G36)))))),\"\")","v":0.20968222318944466},8630,{"$f":"IF(COUNT(IF($E$2:$E$501=R36,$I$2:$I$501))<$X$3,\"\",HARMEAN(IF($E$2:$E$501=R36,$I$2:$I$501)))","v":""},{"$f":"IFERROR(IF(COUNTIF($F$2:$F$501,F36)=1,\"\",IF(I36=\"\",\"\",ABS(IF(I36=\"\",0,(((H36*OFFSET($V$1,MATCH($F36,$U$2:$U$105,0),,)-G36)/G36)))))),\"\")","v":0.125154848293487},3357,{"$f":"IF(COUNT(IF($F$2:$F$501=U36,$I$2:$I$501))<$X$3,\"\",HARMEAN(IF($F$2:$F$501=U36,$I$2:$I$501)))","v":""},{"$f":"IF(OR(J36<(QUARTILE($J$2:$J$501,1))-1.5*(QUARTILE($J$2:$J$501,3)-QUARTILE($J$2:$J$501,1)),J36>(QUARTILE($J$2:$J$501,3))+1.5*(QUARTILE($J$2:$J$501,3)-QUARTILE($J$2:$J$501,1))),\"Outlier\")","v":false}]
[912059,"ANHEUSER-BUSCH COS. DEAD - DELIST.08/12/08",3000,3500,3530,3533,68.58,2.84,{"$f":"(IF(IFERROR(G37/H37,\"\")<0,\"\",IFERROR(G37/H37,\"\")))","v":24.147887323943664},{"$f":"IF(COUNTIF($C$2:$C$501,C37)=1,\"\",IF(I37=\"\",\"\",ABS(IF(I37=\"\",0,(((H37*OFFSET($M$1,MATCH($C37,$L$2:$L$40,0),,)-G37)/G37))))))","v":0.33782264719620503},{"$f":"IF(OR(J37<(QUARTILE($J$2:$J$501,1))-1.5*(QUARTILE($J$2:$J$501,3)-QUARTILE($J$2:$J$501,1)),J37>(QUARTILE($J$2:$J$501,3))+1.5*(QUARTILE($J$2:$J$501,3)-QUARTILE($J$2:$J$501,1))),\"\",J37)","v":0.33782264719620503},null,null,{"$f":"IF(COUNTIF($D$2:$D$501,D37)=1,\"\",IF(I37=\"\",\"\",ABS(IF(I37=\"\",0,(((H37*OFFSET($P$1,MATCH($D37,$O$2:$O$40,0),,)-G37)/G37))))))","v":0.26021162002564785},null,null,{"$f":"IFERROR(IF(COUNTIF($E$2:$E$501,E37)=1,\"\",IF(I37=\"\",\"\",ABS(IF(I37=\"\",0,(((H37*OFFSET($S$1,MATCH($E37,$R$2:$R$41,0),,)-G37)/G37)))))),\"\")","v":0.25796110379870157},8670,{"$f":"IF(COUNT(IF($E$2:$E$501=R37,$I$2:$I$501))<$X$3,\"\",HARMEAN(IF($E$2:$E$501=R37,$I$2:$I$501)))","v":50.012968024672517},{"$f":"IFERROR(IF(COUNTIF($F$2:$F$501,F37)=1,\"\",IF(I37=\"\",\"\",ABS(IF(I37=\"\",0,(((H37*OFFSET($V$1,MATCH($F37,$U$2:$U$105,0),,)-G37)/G37)))))),\"\")","v":""},3533,{"$f":"IF(COUNT(IF($F$2:$F$501=U37,$I$2:$I$501))<$X$3,\"\",HARMEAN(IF($F$2:$F$501=U37,$I$2:$I$501)))","v":""},{"$f":"IF(OR(J37<(QUARTILE($J$2:$J$501,1))-1.5*(QUARTILE($J$2:$J$501,3)-QUARTILE($J$2:$J$501,1)),J37>(QUARTILE($J$2:$J$501,3))+1.5*(QUARTILE($J$2:$J$501,3)-QUARTILE($J$2:$J$501,1))),\"Outlier\")","v":false}]
[922817,"AON CLASS A",8000,8500,8530,8534,45.72,2.87,{"$f":"(IF(IFERROR(G38/H38,\"\")<0,\"\",IFERROR(G38/H38,\"\")))","v":15.930313588850174},{"$f":"IF(COUNTIF($C$2:$C$501,C38)=1,\"\",IF(I38=\"\",\"\",ABS(IF(I38=\"\",0,(((H38*OFFSET($M$1,MATCH($C38,$L$2:$L$40,0),,)-G38)/G38))))))","v":0.16506407574522744},{"$f":"IF(OR(J38<(QUARTILE($J$2:$J$501,1))-1.5*(QUARTILE($J$2:$J$501,3)-QUARTILE($J$2:$J$501,1)),J38>(QUARTILE($J$2:$J$501,3))+1.5*(QUARTILE($J$2:$J$501,3)-QUARTILE($J$2:$J$501,1))),\"\",J38)","v":0.16506407574522744},null,null,{"$f":"IF(COUNTIF($D$2:$D$501,D38)=1,\"\",IF(I38=\"\",\"\",ABS(IF(I38=\"\",0,(((H38*OFFSET($P$1,MATCH($D38,$O$2:$O$40,0),,)-G38)/G38))))))","v":0.32437851232310805},null,null,{"$f":"IFERROR(IF(COUNTIF($E$2:$E$501,E38)=1,\"\",IF(I38=\"\",\"\",ABS(IF(I38=\"\",0,(((H38*OFFSET($S$1,MATCH($E38,$R$2:$R$41,0),,)-G38)/G38)))))),\"\")","v":0.30562932663382991},8770,{"$f":"IF(COUNT(IF($E$2:$E$501=R38,$I$2:$I$501))<$X$3,\"\",HARMEAN(IF($E$2:$E$501=R38,$I$2:$I$501)))","v":12.527639080869902},{"$f":"IFERROR(IF(COUNTIF($F$2:$F$501,F38)=1,\"\",IF(I38=\"\",\"\",ABS(IF(I38=\"\",0,(((H38*OFFSET($V$1,MATCH($F38,$U$2:$U$105,0),,)-G38)/G38)))))),\"\")","v":""},3535,{"$f":"IF(COUNT(IF($F$2:$F$501=U38,$I$2:$I$501))<$X$3,\"\",HARMEAN(IF($F$2:$F$501=U38,$I$2:$I$501)))","v":""},{"$f":"IF(OR(J38<(QUARTILE($J$2:$J$501,1))-1.5*(QUARTILE($J$2:$J$501,3)-QUARTILE($J$2:$J$501,1)),J38>(QUARTILE($J$2:$J$501,3))+1.5*(QUARTILE($J$2:$J$501,3)-QUARTILE($J$2:$J$501,1))),\"Outlier\")","v":false}]
[921983,"APACHE",1,500,530,533,85.23,10.55,{"$f":"(IF(IFERROR(G39/H39,\"\")<0,\"\",IFERROR(G39/H39,\"\")))","v":8.0786729857819903},{"$f":"IF(COUNTIF($C$2:$C$501,C39)=1,\"\",IF(I39=\"\",\"\",ABS(IF(I39=\"\",0,(((H39*OFFSET($M$1,MATCH($C39,$L$2:$L$40,0),,)-G39)/G39))))))","v":0.14779071119198645},{"$f":"IF(OR(J39<(QUARTILE($J$2:$J$501,1))-1.5*(QUARTILE($J$2:$J$501,3)-QUARTILE($J$2:$J$501,1)),J39>(QUARTILE($J$2:$J$501,3))+1.5*(QUARTILE($J$2:$J$501,3)-QUARTILE($J$2:$J$501,1))),\"\",J39)","v":0.14779071119198645},null,null,{"$f":"IF(COUNTIF($D$2:$D$501,D39)=1,\"\",IF(I39=\"\",\"\",ABS(IF(I39=\"\",0,(((H39*OFFSET($P$1,MATCH($D39,$O$2:$O$40,0),,)-G39)/G39))))))","v":0.14779071119198645},null,null,{"$f":"IFERROR(IF(COUNTIF($E$2:$E$501,E39)=1,\"\",IF(I39=\"\",\"\",ABS(IF(I39=\"\",0,(((H39*OFFSET($S$1,MATCH($E39,$R$2:$R$41,0),,)-G39)/G39)))))),\"\")","v":4.0184377537840189E-2},8980,{"$f":"IF(COUNT(IF($E$2:$E$501=R39,$I$2:$I$501))<$X$3,\"\",HARMEAN(IF($E$2:$E$501=R39,$I$2:$I$501)))","v":""},{"$f":"IFERROR(IF(COUNTIF($F$2:$F$501,F39)=1,\"\",IF(I39=\"\",\"\",ABS(IF(I39=\"\",0,(((H39*OFFSET($V$1,MATCH($F39,$U$2:$U$105,0),,)-G39)/G39)))))),\"\")","v":3.2917698927772819E-2},3537,{"$f":"IF(COUNT(IF($F$2:$F$501=U39,$I$2:$I$501))<$X$3,\"\",HARMEAN(IF($F$2:$F$501=U39,$I$2:$I$501)))","v":17.81688228165115},{"$f":"IF(OR(J39<(QUARTILE($J$2:$J$501,1))-1.5*(QUARTILE($J$2:$J$501,3)-QUARTILE($J$2:$J$501,1)),J39>(QUARTILE($J$2:$J$501,3))+1.5*(QUARTILE($J$2:$J$501,3)-QUARTILE($J$2:$J$501,1))),\"Outlier\")","v":false}]
[132808,"APARTMENT INV.& MAN.'A'",8000,8600,8670,8673,26.68,0,{"$f":"(IF(IFERROR(G40/H40,\"\")<0,\"\",IFERROR(G40/H40,\"\")))","v":""},{"$f":"IF(COUNTIF($C$2:$C$501,C40)=1,\"\",IF(I40=\"\",\"\",ABS(IF(I40=\"\",0,(((H40*OFFSET($M$1,MATCH($C40,$L$2:$L$40,0),,)-G40)/G40))))))","v":""},{"$f":"IF(OR(J40<(QUARTILE($J$2:$J$501,1))-1.5*(QUARTILE($J$2:$J$501,3)-QUARTILE($J$2:$J$501,1)),J40>(QUARTILE($J$2:$J$501,3))+1.5*(QUARTILE($J$2:$J$501,3)-QUARTILE($J$2:$J$501,1))),\"\",J40)","v":""},null,null,{"$f":"IF(COUNTIF($D$2:$D$501,D40)=1,\"\",IF(I40=\"\",\"\",ABS(IF(I40=\"\",0,(((H40*OFFSET($P$1,MATCH($D40,$O$2:$O$40,0),,)-G40)/G40))))))","v":""},null,null,{"$f":"IFERROR(IF(COUNTIF($E$2:$E$501,E40)=1,\"\",IF(I40=\"\",\"\",ABS(IF(I40=\"\",0,(((H40*OFFSET($S$1,MATCH($E40,$R$2:$R$41,0),,)-G40)/G40)))))),\"\")","v":""},9530,{"$f":"IF(COUNT(IF($E$2:$E$501=R40,$I$2:$I$501))<$X$3,\"\",HARMEAN(IF($E$2:$E$501=R40,$I$2:$I$501)))","v":14.121422814463184},{"$f":"IFERROR(IF(COUNTIF($F$2:$F$501,F40)=1,\"\",IF(I40=\"\",\"\",ABS(IF(I40=\"\",0,(((H40*OFFSET($V$1,MATCH($F40,$U$2:$U$105,0),,)-G40)/G40)))))),\"\")","v":""},3573,{"$f":"IF(COUNT(IF($F$2:$F$501=U40,$I$2:$I$501))<$X$3,\"\",HARMEAN(IF($F$2:$F$501=U40,$I$2:$I$501)))","v":""},{"$f":"IF(OR(J40<(QUARTILE($J$2:$J$501,1))-1.5*(QUARTILE($J$2:$J$501,3)-QUARTILE($J$2:$J$501,1)),J40>(QUARTILE($J$2:$J$501,3))+1.5*(QUARTILE($J$2:$J$501,3)-QUARTILE($J$2:$J$501,1))),\"Outlier\")","v":"Outlier"}]
[149387,"APOLLO GP.'A'",5000,5300,5370,5377,35.700000000000003,4.1399999999999997,{"$f":"(IF(IFERROR(G41/H41,\"\")<0,\"\",IFERROR(G41/H41,\"\")))","v":8.6231884057971033},{"$f":"IF(COUNTIF($C$2:$C$501,C41)=1,\"\",IF(I41=\"\",\"\",ABS(IF(I41=\"\",0,(((H41*OFFSET($M$1,MATCH($C41,$L$2:$L$40,0),,)-G41)/G41))))))","v":0.82884928634893706},{"$f":"IF(OR(J41<(QUARTILE($J$2:$J$501,1))-1.5*(QUARTILE($J$2:$J$501,3)-QUARTILE($J$2:$J$501,1)),J41>(QUARTILE($J$2:$J$501,3))+1.5*(QUARTILE($J$2:$J$501,3)-QUARTILE($J$2:$J$501,1))),\"\",J41)","v":0.82884928634893706},null,null,{"$f":"IF(COUNTIF($D$2:$D$501,D41)=1,\"\",IF(I41=\"\",\"\",ABS(IF(I41=\"\",0,(((H41*OFFSET($P$1,MATCH($D41,$O$2:$O$40,0),,)-G41)/G41))))))","v":0.68980081223887424},null,null,{"$f":"IFERROR(IF(COUNTIF($E$2:$E$501,E41)=1,\"\",IF(I41=\"\",\"\",ABS(IF(I41=\"\",0,(((H41*OFFSET($S$1,MATCH($E41,$R$2:$R$41,0),,)-G41)/G41)))))),\"\")","v":0.6621583228587431},9570,{"$f":"IF(COUNT(IF($E$2:$E$501=R41,$I$2:$I$501))<$X$3,\"\",HARMEAN(IF($E$2:$E$501=R41,$I$2:$I$501)))","v":12.548871830052819},{"$f":"IFERROR(IF(COUNTIF($F$2:$F$501,F41)=1,\"\",IF(I41=\"\",\"\",ABS(IF(I41=\"\",0,(((H41*OFFSET($V$1,MATCH($F41,$U$2:$U$105,0),,)-G41)/G41)))))),\"\")","v":""},3577,{"$f":"IF(COUNT(IF($F$2:$F$501=U41,$I$2:$I$501))<$X$3,\"\",HARMEAN(IF($F$2:$F$501=U41,$I$2:$I$501)))","v":17.484029573258351},{"$f":"IF(OR(J41<(QUARTILE($J$2:$J$501,1))-1.5*(QUARTILE($J$2:$J$501,3)-QUARTILE($J$2:$J$501,1)),J41>(QUARTILE($J$2:$J$501,3))+1.5*(QUARTILE($J$2:$J$501,3)-QUARTILE($J$2:$J$501,1))),\"Outlier\")","v":false}]
[992816,"APPLE",9000,9500,9570,9572,569.0498,41.02,{"$f":"(IF(IFERROR(G42/H42,\"\")<0,\"\",IFERROR(G42/H42,\"\")))","v":13.872496343247196},{"$f":"IF(COUNTIF($C$2:$C$501,C42)=1,\"\",IF(I42=\"\",\"\",ABS(IF(I42=\"\",0,(((H42*OFFSET($M$1,MATCH($C42,$L$2:$L$40,0),,)-G42)/G42))))))","v":5.6260883256060698E-2},{"$f":"IF(OR(J42<(QUARTILE($J$2:$J$501,1))-1.5*(QUARTILE($J$2:$J$501,3)-QUARTILE($J$2:$J$501,1)),J42>(QUARTILE($J$2:$J$501,3))+1.5*(QUARTILE($J$2:$J$501,3)-QUARTILE($J$2:$J$501,1))),\"\",J42)","v":5.6260883256060698E-2},null,null,{"$f":"IF(COUNTIF($D$2:$D$501,D42)=1,\"\",IF(I42=\"\",\"\",ABS(IF(I42=\"\",0,(((H42*OFFSET($P$1,MATCH($D42,$O$2:$O$40,0),,)-G42)/G42))))))","v":5.6260883256060698E-2},null,null,{"$f":"IFERROR(IF(COUNTIF($E$2:$E$501,E42)=1,\"\",IF(I42=\"\",\"\",ABS(IF(I42=\"\",0,(((H42*OFFSET($S$1,MATCH($E42,$R$2:$R$41,0),,)-G42)/G42)))))),\"\")","v":9.5413578093223733E-2},null,null,{"$f":"IFERROR(IF(COUNTIF($F$2:$F$501,F42)=1,\"\",IF(I42=\"\",\"\",ABS(IF(I42=\"\",0,(((H42*OFFSET($V$1,MATCH($F42,$U$2:$U$105,0),,)-G42)/G42)))))),\"\")","v":0.19434462973527411},3722,{"$f":"IF(COUNT(IF($F$2:$F$501=U42,$I$2:$I$501))<$X$3,\"\",HARMEAN(IF($F$2:$F$501=U42,$I$2:$I$501)))","v":18.620937348803306},{"$f":"IF(OR(J42<(QUARTILE($J$2:$J$501,1))-1.5*(QUARTILE($J$2:$J$501,3)-QUARTILE($J$2:$J$501,1)),J42>(QUARTILE($J$2:$J$501,3))+1.5*(QUARTILE($J$2:$J$501,3)-QUARTILE($J$2:$J$501,1))),\"Outlier\")","v":false}]
[916427,"APPLIED BIOSYSTEMS DEAD - DELIST.08/12/08",4000,4500,4530,4535,27.81,1.91,{"$f":"(IF(IFERROR(G43/H43,\"\")<0,\"\",IFERROR(G43/H43,\"\")))","v":14.560209424083769},{"$f":"IF(COUNTIF($C$2:$C$501,C43)=1,\"\",IF(I43=\"\",\"\",ABS(IF(I43=\"\",0,(((H43*OFFSET($M$1,MATCH($C43,$L$2:$L$40,0),,)-G43)/G43))))))","v":0.16246901275154962},{"$f":"IF(OR(J43<(QUARTILE($J$2:$J$501,1))-1.5*(QUARTILE($J$2:$J$501,3)-QUARTILE($J$2:$J$501,1)),J43>(QUARTILE($J$2:$J$501,3))+1.5*(QUARTILE($J$2:$J$501,3)-QUARTILE($J$2:$J$501,1))),\"\",J43)","v":0.16246901275154962},null,null,{"$f":"IF(COUNTIF($D$2:$D$501,D43)=1,\"\",IF(I43=\"\",\"\",ABS(IF(I43=\"\",0,(((H43*OFFSET($P$1,MATCH($D43,$O$2:$O$40,0),,)-G43)/G43))))))","v":0.16246901275154962},null,null,{"$f":"IFERROR(IF(COUNTIF($E$2:$E$501,E43)=1,\"\",IF(I43=\"\",\"\",ABS(IF(I43=\"\",0,(((H43*OFFSET($S$1,MATCH($E43,$R$2:$R$41,0),,)-G43)/G43)))))),\"\")","v":5.065024314782595E-2},null,null,{"$f":"IFERROR(IF(COUNTIF($F$2:$F$501,F43)=1,\"\",IF(I43=\"\",\"\",ABS(IF(I43=\"\",0,(((H43*OFFSET($V$1,MATCH($F43,$U$2:$U$105,0),,)-G43)/G43)))))),\"\")","v":0.17185117554628182},3724,{"$f":"IF(COUNT(IF($F$2:$F$501=U43,$I$2:$I$501))<$X$3,\"\",HARMEAN(IF($F$2:$F$501=U43,$I$2:$I$501)))","v":""},{"$f":"IF(OR(J43<(QUARTILE($J$2:$J$501,1))-1.5*(QUARTILE($J$2:$J$501,3)-QUARTILE($J$2:$J$501,1)),J43>(QUARTILE($J$2:$J$501,3))+1.5*(QUARTILE($J$2:$J$501,3)-QUARTILE($J$2:$J$501,1))),\"Outlier\")","v":false}]
[905296,"APPLIED MATS.",9000,9500,9570,9576,11.09,1.01,{"$f":"(IF(IFERROR(G44/H44,\"\")<0,\"\",IFERROR(G44/H44,\"\")))","v":10.98019801980198},{"$f":"IF(COUNTIF($C$2:$C$501,C44)=1,\"\",IF(I44=\"\",\"\",ABS(IF(I44=\"\",0,(((H44*OFFSET($M$1,MATCH($C44,$L$2:$L$40,0),,)-G44)/G44))))))","v":0.19232981248599934},{"$f":"IF(OR(J44<(QUARTILE($J$2:$J$501,1))-1.5*(QUARTILE($J$2:$J$501,3)-QUARTILE($J$2:$J$501,1)),J44>(QUARTILE($J$2:$J$501,3))+1.5*(QUARTILE($J$2:$J$501,3)-QUARTILE($J$2:$J$501,1))),\"\",J44)","v":0.19232981248599934},null,null,{"$f":"IF(COUNTIF($D$2:$D$501,D44)=1,\"\",IF(I44=\"\",\"\",ABS(IF(I44=\"\",0,(((H44*OFFSET($P$1,MATCH($D44,$O$2:$O$40,0),,)-G44)/G44))))))","v":0.19232981248599934},null,null,{"$f":"IFERROR(IF(COUNTIF($E$2:$E$501,E44)=1,\"\",IF(I44=\"\",\"\",ABS(IF(I44=\"\",0,(((H44*OFFSET($S$1,MATCH($E44,$R$2:$R$41,0),,)-G44)/G44)))))),\"\")","v":0.1428638907442154},null,null,{"$f":"IFERROR(IF(COUNTIF($F$2:$F$501,F44)=1,\"\",IF(I44=\"\",\"\",ABS(IF(I44=\"\",0,(((H44*OFFSET($V$1,MATCH($F44,$U$2:$U$105,0),,)-G44)/G44)))))),\"\")","v":0.26509736110577803},3726,{"$f":"IF(COUNT(IF($F$2:$F$501=U44,$I$2:$I$501))<$X$3,\"\",HARMEAN(IF($F$2:$F$501=U44,$I$2:$I$501)))","v":""},{"$f":"IF(OR(J44<(QUARTILE($J$2:$J$501,1))-1.5*(QUARTILE($J$2:$J$501,3)-QUARTILE($J$2:$J$501,1)),J44>(QUARTILE($J$2:$J$501,3))+1.5*(QUARTILE($J$2:$J$501,3)-QUARTILE($J$2:$J$501,1))),\"Outlier\")","v":false}]
[921093,"ARCHER-DANLS.-MIDL.",3000,3500,3570,3577,29.14,1.99,{"$f":"(IF(IFERROR(G45/H45,\"\")<0,\"\",IFERROR(G45/H45,\"\")))","v":14.643216080402011},{"$f":"IF(COUNTIF($C$2:$C$501,C45)=1,\"\",IF(I45=\"\",\"\",ABS(IF(I45=\"\",0,(((H45*OFFSET($M$1,MATCH($C45,$L$2:$L$40,0),,)-G45)/G45))))))","v":9.1985805315955058E-2},{"$f":"IF(OR(J45<(QUARTILE($J$2:$J$501,1))-1.5*(QUARTILE($J$2:$J$501,3)-QUARTILE($J$2:$J$501,1)),J45>(QUARTILE($J$2:$J$501,3))+1.5*(QUARTILE($J$2:$J$501,3)-QUARTILE($J$2:$J$501,1))),\"\",J45)","v":9.1985805315955058E-2},null,null,{"$f":"IF(COUNTIF($D$2:$D$501,D45)=1,\"\",IF(I45=\"\",\"\",ABS(IF(I45=\"\",0,(((H45*OFFSET($P$1,MATCH($D45,$O$2:$O$40,0),,)-G45)/G45))))))","v":0.2199728765248839},null,null,{"$f":"IFERROR(IF(COUNTIF($E$2:$E$501,E45)=1,\"\",IF(I45=\"\",\"\",ABS(IF(I45=\"\",0,(((H45*OFFSET($S$1,MATCH($E45,$R$2:$R$41,0),,)-G45)/G45)))))),\"\")","v":0.21720414933590854},null,null,{"$f":"IFERROR(IF(COUNTIF($F$2:$F$501,F45)=1,\"\",IF(I45=\"\",\"\",ABS(IF(I45=\"\",0,(((H45*OFFSET($V$1,MATCH($F45,$U$2:$U$105,0),,)-G45)/G45)))))),\"\")","v":0.19400201958764976},3728,{"$f":"IF(COUNT(IF($F$2:$F$501=U45,$I$2:$I$501))<$X$3,\"\",HARMEAN(IF($F$2:$F$501=U45,$I$2:$I$501)))","v":""},{"$f":"IF(OR(J45<(QUARTILE($J$2:$J$501,1))-1.5*(QUARTILE($J$2:$J$501,3)-QUARTILE($J$2:$J$501,1)),J45>(QUARTILE($J$2:$J$501,3))+1.5*(QUARTILE($J$2:$J$501,3)-QUARTILE($J$2:$J$501,1))),\"Outlier\")","v":false}]
[937525,"ARCHSTONE SMITH TST. DEAD - MERGER",8000,8600,8670,8671,60.7,0.71,{"$f":"(IF(IFERROR(G46/H46,\"\")<0,\"\",IFERROR(G46/H46,\"\")))","v":85.492957746478879},{"$f":"IF(COUNTIF($C$2:$C$501,C46)=1,\"\",IF(I46=\"\",\"\",ABS(IF(I46=\"\",0,(((H46*OFFSET($M$1,MATCH($C46,$L$2:$L$40,0),,)-G46)/G46))))))","v":0.84442237757854643},{"$f":"IF(OR(J46<(QUARTILE($J$2:$J$501,1))-1.5*(QUARTILE($J$2:$J$501,3)-QUARTILE($J$2:$J$501,1)),J46>(QUARTILE($J$2:$J$501,3))+1.5*(QUARTILE($J$2:$J$501,3)-QUARTILE($J$2:$J$501,1))),\"\",J46)","v":0.84442237757854643},null,null,{"$f":"IF(COUNTIF($D$2:$D$501,D46)=1,\"\",IF(I46=\"\",\"\",ABS(IF(I46=\"\",0,(((H46*OFFSET($P$1,MATCH($D46,$O$2:$O$40,0),,)-G46)/G46))))))","v":0.47625052025303027},null,null,{"$f":"IFERROR(IF(COUNTIF($E$2:$E$501,E46)=1,\"\",IF(I46=\"\",\"\",ABS(IF(I46=\"\",0,(((H46*OFFSET($S$1,MATCH($E46,$R$2:$R$41,0),,)-G46)/G46)))))),\"\")","v":0.41500482211668066},null,null,{"$f":"IFERROR(IF(COUNTIF($F$2:$F$501,F46)=1,\"\",IF(I46=\"\",\"\",ABS(IF(I46=\"\",0,(((H46*OFFSET($V$1,MATCH($F46,$U$2:$U$105,0),,)-G46)/G46)))))),\"\")","v":""},3743,{"$f":"IF(COUNT(IF($F$2:$F$501=U46,$I$2:$I$501))<$X$3,\"\",HARMEAN(IF($F$2:$F$501=U46,$I$2:$I$501)))","v":""},{"$f":"IF(OR(J46<(QUARTILE($J$2:$J$501,1))-1.5*(QUARTILE($J$2:$J$501,3)-QUARTILE($J$2:$J$501,1)),J46>(QUARTILE($J$2:$J$501,3))+1.5*(QUARTILE($J$2:$J$501,3)-QUARTILE($J$2:$J$501,1))),\"Outlier\")","v":false}]
[905342,"ASHLAND",1000,1300,1350,1357,68.38,1.1299999999999999,{"$f":"(IF(IFERROR(G47/H47,\"\")<0,\"\",IFERROR(G47/H47,\"\")))","v":60.513274336283189},{"$f":"IF(COUNTIF($C$2:$C$501,C47)=1,\"\",IF(I47=\"\",\"\",ABS(IF(I47=\"\",0,(((H47*OFFSET($M$1,MATCH($C47,$L$2:$L$40,0),,)-G47)/G47))))))","v":0.74390945402783437},{"$f":"IF(OR(J47<(QUARTILE($J$2:$J$501,1))-1.5*(QUARTILE($J$2:$J$501,3)-QUARTILE($J$2:$J$501,1)),J47>(QUARTILE($J$2:$J$501,3))+1.5*(QUARTILE($J$2:$J$501,3)-QUARTILE($J$2:$J$501,1))),\"\",J47)","v":0.74390945402783437},null,null,{"$f":"IF(COUNTIF($D$2:$D$501,D47)=1,\"\",IF(I47=\"\",\"\",ABS(IF(I47=\"\",0,(((H47*OFFSET($P$1,MATCH($D47,$O$2:$O$40,0),,)-G47)/G47))))))","v":0.70133778455316986},null,null,{"$f":"IFERROR(IF(COUNTIF($E$2:$E$501,E47)=1,\"\",IF(I47=\"\",\"\",ABS(IF(I47=\"\",0,(((H47*OFFSET($S$1,MATCH($E47,$R$2:$R$41,0),,)-G47)/G47)))))),\"\")","v":0.70133778455316986},null,null,{"$f":"IFERROR(IF(COUNTIF($F$2:$F$501,F47)=1,\"\",IF(I47=\"\",\"\",ABS(IF(I47=\"\",0,(((H47*OFFSET($V$1,MATCH($F47,$U$2:$U$105,0),,)-G47)/G47)))))),\"\")","v":0.63946127329698577},3745,{"$f":"IF(COUNT(IF($F$2:$F$501=U47,$I$2:$I$501))<$X$3,\"\",HARMEAN(IF($F$2:$F$501=U47,$I$2:$I$501)))","v":""},{"$f":"IF(OR(J47<(QUARTILE($J$2:$J$501,1))-1.5*(QUARTILE($J$2:$J$501,3)-QUARTILE($J$2:$J$501,1)),J47>(QUARTILE($J$2:$J$501,3))+1.5*(QUARTILE($J$2:$J$501,3)-QUARTILE($J$2:$J$501,1))),\"Outlier\")","v":false}]
["28341F","ASSURANT",8000,8500,8570,8575,34.619999999999997,6.01,{"$f":"(IF(IFERROR(G48/H48,\"\")<0,\"\",IFERROR(G48/H48,\"\")))","v":5.7603993344425959},{"$f":"IF(COUNTIF($C$2:$C$501,C48)=1,\"\",IF(I48=\"\",\"\",ABS(IF(I48=\"\",0,(((H48*OFFSET($M$1,MATCH($C48,$L$2:$L$40,0),,)-G48)/G48))))))","v":1.3090050407524447},{"$f":"IF(OR(J48<(QUARTILE($J$2:$J$501,1))-1.5*(QUARTILE($J$2:$J$501,3)-QUARTILE($J$2:$J$501,1)),J48>(QUARTILE($J$2:$J$501,3))+1.5*(QUARTILE($J$2:$J$501,3)-QUARTILE($J$2:$J$501,1))),\"\",J48)","v":""},null,null,{"$f":"IF(COUNTIF($D$2:$D$501,D48)=1,\"\",IF(I48=\"\",\"\",ABS(IF(I48=\"\",0,(((H48*OFFSET($P$1,MATCH($D48,$O$2:$O$40,0),,)-G48)/G48))))))","v":0.86842292368604146},null,null,{"$f":"IFERROR(IF(COUNTIF($E$2:$E$501,E48)=1,\"\",IF(I48=\"\",\"\",ABS(IF(I48=\"\",0,(((H48*OFFSET($S$1,MATCH($E48,$R$2:$R$41,0),,)-G48)/G48)))))),\"\")","v":0.80349309448514394},null,null,{"$f":"IFERROR(IF(COUNTIF($F$2:$F$501,F48)=1,\"\",IF(I48=\"\",\"\",ABS(IF(I48=\"\",0,(((H48*OFFSET($V$1,MATCH($F48,$U$2:$U$105,0),,)-G48)/G48)))))),\"\")","v":0.80349309448514394},3747,{"$f":"IF(COUNT(IF($F$2:$F$501=U48,$I$2:$I$501))<$X$3,\"\",HARMEAN(IF($F$2:$F$501=U48,$I$2:$I$501)))","v":""},{"$f":"IF(OR(J48<(QUARTILE($J$2:$J$501,1))-1.5*(QUARTILE($J$2:$J$501,3)-QUARTILE($J$2:$J$501,1)),J48>(QUARTILE($J$2:$J$501,3))+1.5*(QUARTILE($J$2:$J$501,3)-QUARTILE($J$2:$J$501,1))),\"Outlier\")","v":"Outlier"}]
[543420,"AUTONATION",5000,5300,5370,5379,34.450000000000003,2,{"$f":"(IF(IFERROR(G49/H49,\"\")<0,\"\",IFERROR(G49/H49,\"\")))","v":17.225000000000001},{"$f":"IF(COUNTIF($C$2:$C$501,C49)=1,\"\",IF(I49=\"\",\"\",ABS(IF(I49=\"\",0,(((H49*OFFSET($M$1,MATCH($C49,$L$2:$L$40,0),,)-G49)/G49))))))","v":8.4440524702789149E-2},{"$f":"IF(OR(J49<(QUARTILE($J$2:$J$501,1))-1.5*(QUARTILE($J$2:$J$501,3)-QUARTILE($J$2:$J$501,1)),J49>(QUARTILE($J$2:$J$501,3))+1.5*(QUARTILE($J$2:$J$501,3)-QUARTILE($J$2:$J$501,1))),\"\",J49)","v":8.4440524702789149E-2},null,null,{"$f":"IF(COUNTIF($D$2:$D$501,D49)=1,\"\",IF(I49=\"\",\"\",ABS(IF(I49=\"\",0,(((H49*OFFSET($P$1,MATCH($D49,$O$2:$O$40,0),,)-G49)/G49))))))","v":0.15405104370364089},null,null,{"$f":"IFERROR(IF(COUNTIF($E$2:$E$501,E49)=1,\"\",IF(I49=\"\",\"\",ABS(IF(I49=\"\",0,(((H49*OFFSET($S$1,MATCH($E49,$R$2:$R$41,0),,)-G49)/G49)))))),\"\")","v":0.16788944102904677},null,null,{"$f":"IFERROR(IF(COUNTIF($F$2:$F$501,F49)=1,\"\",IF(I49=\"\",\"\",ABS(IF(I49=\"\",0,(((H49*OFFSET($V$1,MATCH($F49,$U$2:$U$105,0),,)-G49)/G49)))))),\"\")","v":0.28180633666062588},3763,{"$f":"IF(COUNT(IF($F$2:$F$501=U49,$I$2:$I$501))<$X$3,\"\",HARMEAN(IF($F$2:$F$501=U49,$I$2:$I$501)))","v":18.920404187619376},{"$f":"IF(OR(J49<(QUARTILE($J$2:$J$501,1))-1.5*(QUARTILE($J$2:$J$501,3)-QUARTILE($J$2:$J$501,1)),J49>(QUARTILE($J$2:$J$501,3))+1.5*(QUARTILE($J$2:$J$501,3)-QUARTILE($J$2:$J$501,1))),\"Outlier\")","v":false}]
[544616,"AUTOZONE",5000,5300,5370,5379,358.42989999999998,21.99,{"$f":"(IF(IFERROR(G50/H50,\"\")<0,\"\",IFERROR(G50/H50,\"\")))","v":16.299677125966348},{"$f":"IF(COUNTIF($C$2:$C$501,C50)=1,\"\",IF(I50=\"\",\"\",ABS(IF(I50=\"\",0,(((H50*OFFSET($M$1,MATCH($C50,$L$2:$L$40,0),,)-G50)/G50))))))","v":3.2464763558346675E-2},{"$f":"IF(OR(J50<(QUARTILE($J$2:$J$501,1))-1.5*(QUARTILE($J$2:$J$501,3)-QUARTILE($J$2:$J$501,1)),J50>(QUARTILE($J$2:$J$501,3))+1.5*(QUARTILE($J$2:$J$501,3)-QUARTILE($J$2:$J$501,1))),\"\",J50)","v":3.2464763558346675E-2},null,null,{"$f":"IF(COUNTIF($D$2:$D$501,D50)=1,\"\",IF(I50=\"\",\"\",ABS(IF(I50=\"\",0,(((H50*OFFSET($P$1,MATCH($D50,$O$2:$O$40,0),,)-G50)/G50))))))","v":0.10602702988566724},null,null,{"$f":"IFERROR(IF(COUNTIF($E$2:$E$501,E50)=1,\"\",IF(I50=\"\",\"\",ABS(IF(I50=\"\",0,(((H50*OFFSET($S$1,MATCH($E50,$R$2:$R$41,0),,)-G50)/G50)))))),\"\")","v":0.12065102471010365},null,null,{"$f":"IFERROR(IF(COUNTIF($F$2:$F$501,F50)=1,\"\",IF(I50=\"\",\"\",ABS(IF(I50=\"\",0,(((H50*OFFSET($V$1,MATCH($F50,$U$2:$U$105,0),,)-G50)/G50)))))),\"\")","v":0.24103491404052613},3765,{"$f":"IF(COUNT(IF($F$2:$F$501=U50,$I$2:$I$501))<$X$3,\"\",HARMEAN(IF($F$2:$F$501=U50,$I$2:$I$501)))","v":""},{"$f":"IF(OR(J50<(QUARTILE($J$2:$J$501,1))-1.5*(QUARTILE($J$2:$J$501,3)-QUARTILE($J$2:$J$501,1)),J50>(QUARTILE($J$2:$J$501,3))+1.5*(QUARTILE($J$2:$J$501,3)-QUARTILE($J$2:$J$501,1))),\"Outlier\")","v":false}]
[702259,"AUTODESK",9000,9500,9530,9537,32.83,1.27,{"$f":"(IF(IFERROR(G51/H51,\"\")<0,\"\",IFERROR(G51/H51,\"\")))","v":25.8503937007874},{"$f":"IF(COUNTIF($C$2:$C$501,C51)=1,\"\",IF(I51=\"\",\"\",ABS(IF(I51=\"\",0,(((H51*OFFSET($M$1,MATCH($C51,$L$2:$L$40,0),,)-G51)/G51))))))","v":0.49354669033103138},{"$f":"IF(OR(J51<(QUARTILE($J$2:$J$501,1))-1.5*(QUARTILE($J$2:$J$501,3)-QUARTILE($J$2:$J$501,1)),J51>(QUARTILE($J$2:$J$501,3))+1.5*(QUARTILE($J$2:$J$501,3)-QUARTILE($J$2:$J$501,1))),\"\",J51)","v":0.49354669033103138},null,null,{"$f":"IF(COUNTIF($D$2:$D$501,D51)=1,\"\",IF(I51=\"\",\"\",ABS(IF(I51=\"\",0,(((H51*OFFSET($P$1,MATCH($D51,$O$2:$O$40,0),,)-G51)/G51))))))","v":0.49354669033103138},null,null,{"$f":"IFERROR(IF(COUNTIF($E$2:$E$501,E51)=1,\"\",IF(I51=\"\",\"\",ABS(IF(I51=\"\",0,(((H51*OFFSET($S$1,MATCH($E51,$R$2:$R$41,0),,)-G51)/G51)))))),\"\")","v":0.45372503885567328},null,null,{"$f":"IFERROR(IF(COUNTIF($F$2:$F$501,F51)=1,\"\",IF(I51=\"\",\"\",ABS(IF(I51=\"\",0,(((H51*OFFSET($V$1,MATCH($F51,$U$2:$U$105,0),,)-G51)/G51)))))),\"\")","v":0.43936253952920906},3767,{"$f":"IF(COUNT(IF($F$2:$F$501=U51,$I$2:$I$501))<$X$3,\"\",HARMEAN(IF($F$2:$F$501=U51,$I$2:$I$501)))","v":19.952510049876221},{"$f":"IF(OR(J51<(QUARTILE($J$2:$J$501,1))-1.5*(QUARTILE($J$2:$J$501,3)-QUARTILE($J$2:$J$501,1)),J51>(QUARTILE($J$2:$J$501,3))+1.5*(QUARTILE($J$2:$J$501,3)-QUARTILE($J$2:$J$501,1))),\"Outlier\")","v":false}]
[912669,"AUTOMATIC DATA PROC.",2000,2700,2790,2795,54.18,2.77,{"$f":"(IF(IFERROR(G52/H52,\"\")<0,\"\",IFERROR(G52/H52,\"\")))","v":19.559566787003611},{"$f":"IF(COUNTIF($C$2:$C$501,C52)=1,\"\",IF(I52=\"\",\"\",ABS(IF(I52=\"\",0,(((H52*OFFSET($M$1,MATCH($C52,$L$2:$L$40,0),,)-G52)/G52))))))","v":0.25847892437042608},{"$f":"IF(OR(J52<(QUARTILE($J$2:$J$501,1))-1.5*(QUARTILE($J$2:$J$501,3)-QUARTILE($J$2:$J$501,1)),J52>(QUARTILE($J$2:$J$501,3))+1.5*(QUARTILE($J$2:$J$501,3)-QUARTILE($J$2:$J$501,1))),\"\",J52)","v":0.25847892437042608},null,null,{"$f":"IF(COUNTIF($D$2:$D$501,D52)=1,\"\",IF(I52=\"\",\"\",ABS(IF(I52=\"\",0,(((H52*OFFSET($P$1,MATCH($D52,$O$2:$O$40,0),,)-G52)/G52))))))","v":0.26795665200519941},null,null,{"$f":"IFERROR(IF(COUNTIF($E$2:$E$501,E52)=1,\"\",IF(I52=\"\",\"\",ABS(IF(I52=\"\",0,(((H52*OFFSET($S$1,MATCH($E52,$R$2:$R$41,0),,)-G52)/G52)))))),\"\")","v":0.23731565484362815},null,null,{"$f":"IFERROR(IF(COUNTIF($F$2:$F$501,F52)=1,\"\",IF(I52=\"\",\"\",ABS(IF(I52=\"\",0,(((H52*OFFSET($V$1,MATCH($F52,$U$2:$U$105,0),,)-G52)/G52)))))),\"\")","v":0.20884772882709746},3785,{"$f":"IF(COUNT(IF($F$2:$F$501=U52,$I$2:$I$501))<$X$3,\"\",HARMEAN(IF($F$2:$F$501=U52,$I$2:$I$501)))","v":""},{"$f":"IF(OR(J52<(QUARTILE($J$2:$J$501,1))-1.5*(QUARTILE($J$2:$J$501,3)-QUARTILE($J$2:$J$501,1)),J52>(QUARTILE($J$2:$J$501,3))+1.5*(QUARTILE($J$2:$J$501,3)-QUARTILE($J$2:$J$501,1))),\"Outlier\")","v":false}]
[130502,"AVALONBAY COMMNS.",8000,8600,8670,8673,138.01,2.0499999999999998,{"$f":"(IF(IFERROR(G53/H53,\"\")<0,\"\",IFERROR(G53/H53,\"\")))","v":67.321951219512201},{"$f":"IF(COUNTIF($C$2:$C$501,C53)=1,\"\",IF(I53=\"\",\"\",ABS(IF(I53=\"\",0,(((H53*OFFSET($M$1,MATCH($C53,$L$2:$L$40,0),,)-G53)/G53))))))","v":0.80243010104377421},{"$f":"IF(OR(J53<(QUARTILE($J$2:$J$501,1))-1.5*(QUARTILE($J$2:$J$501,3)-QUARTILE($J$2:$J$501,1)),J53>(QUARTILE($J$2:$J$501,3))+1.5*(QUARTILE($J$2:$J$501,3)-QUARTILE($J$2:$J$501,1))),\"\",J53)","v":0.80243010104377421},null,null,{"$f":"IF(COUNTIF($D$2:$D$501,D53)=1,\"\",IF(I53=\"\",\"\",ABS(IF(I53=\"\",0,(((H53*OFFSET($P$1,MATCH($D53,$O$2:$O$40,0),,)-G53)/G53))))))","v":0.33488421932770562},null,null,{"$f":"IFERROR(IF(COUNTIF($E$2:$E$501,E53)=1,\"\",IF(I53=\"\",\"\",ABS(IF(I53=\"\",0,(((H53*OFFSET($S$1,MATCH($E53,$R$2:$R$41,0),,)-G53)/G53)))))),\"\")","v":0.25710756865025247},null,null,{"$f":"IFERROR(IF(COUNTIF($F$2:$F$501,F53)=1,\"\",IF(I53=\"\",\"\",ABS(IF(I53=\"\",0,(((H53*OFFSET($V$1,MATCH($F53,$U$2:$U$105,0),,)-G53)/G53)))))),\"\")","v":""},4533,{"$f":"IF(COUNT(IF($F$2:$F$501=U53,$I$2:$I$501))<$X$3,\"\",HARMEAN(IF($F$2:$F$501=U53,$I$2:$I$501)))","v":12.949324474286483},{"$f":"IF(OR(J53<(QUARTILE($J$2:$J$501,1))-1.5*(QUARTILE($J$2:$J$501,3)-QUARTILE($J$2:$J$501,1)),J53>(QUARTILE($J$2:$J$501,3))+1.5*(QUARTILE($J$2:$J$501,3)-QUARTILE($J$2:$J$501,1))),\"Outlier\")","v":false}]
[264518,"AVAYA DEAD - MERGER",9000,9500,9570,9578,17.48,0.47,{"$f":"(IF(IFERROR(G54/H54,\"\")<0,\"\",IFERROR(G54/H54,\"\")))","v":37.191489361702132},{"$f":"IF(COUNTIF($C$2:$C$501,C54)=1,\"\",IF(I54=\"\",\"\",ABS(IF(I54=\"\",0,(((H54*OFFSET($M$1,MATCH($C54,$L$2:$L$40,0),,)-G54)/G54))))))","v":0.64798351260729248},{"$f":"IF(OR(J54<(QUARTILE($J$2:$J$501,1))-1.5*(QUARTILE($J$2:$J$501,3)-QUARTILE($J$2:$J$501,1)),J54>(QUARTILE($J$2:$J$501,3))+1.5*(QUARTILE($J$2:$J$501,3)-QUARTILE($J$2:$J$501,1))),\"\",J54)","v":0.64798351260729248},null,null,{"$f":"IF(COUNTIF($D$2:$D$501,D54)=1,\"\",IF(I54=\"\",\"\",ABS(IF(I54=\"\",0,(((H54*OFFSET($P$1,MATCH($D54,$O$2:$O$40,0),,)-G54)/G54))))))","v":0.64798351260729248},null,null,{"$f":"IFERROR(IF(COUNTIF($E$2:$E$501,E54)=1,\"\",IF(I54=\"\",\"\",ABS(IF(I54=\"\",0,(((H54*OFFSET($S$1,MATCH($E54,$R$2:$R$41,0),,)-G54)/G54)))))),\"\")","v":0.66258754232695505},null,null,{"$f":"IFERROR(IF(COUNTIF($F$2:$F$501,F54)=1,\"\",IF(I54=\"\",\"\",ABS(IF(I54=\"\",0,(((H54*OFFSET($V$1,MATCH($F54,$U$2:$U$105,0),,)-G54)/G54)))))),\"\")","v":0.60123404898252575},4535,{"$f":"IF(COUNT(IF($F$2:$F$501=U54,$I$2:$I$501))<$X$3,\"\",HARMEAN(IF($F$2:$F$501=U54,$I$2:$I$501)))","v":17.062398529812615},{"$f":"IF(OR(J54<(QUARTILE($J$2:$J$501,1))-1.5*(QUARTILE($J$2:$J$501,3)-QUARTILE($J$2:$J$501,1)),J54>(QUARTILE($J$2:$J$501,3))+1.5*(QUARTILE($J$2:$J$501,3)-QUARTILE($J$2:$J$501,1))),\"Outlier\")","v":false}]
[921161,"AVERY DENNISON",1000,1300,1350,1357,26.73,1.78,{"$f":"(IF(IFERROR(G55/H55,\"\")<0,\"\",IFERROR(G55/H55,\"\")))","v":15.01685393258427},{"$f":"IF(COUNTIF($C$2:$C$501,C55)=1,\"\",IF(I55=\"\",\"\",ABS(IF(I55=\"\",0,(((H55*OFFSET($M$1,MATCH($C55,$L$2:$L$40,0),,)-G55)/G55))))))","v":3.19656522539883E-2},{"$f":"IF(OR(J55<(QUARTILE($J$2:$J$501,1))-1.5*(QUARTILE($J$2:$J$501,3)-QUARTILE($J$2:$J$501,1)),J55>(QUARTILE($J$2:$J$501,3))+1.5*(QUARTILE($J$2:$J$501,3)-QUARTILE($J$2:$J$501,1))),\"\",J55)","v":3.19656522539883E-2},null,null,{"$f":"IF(COUNTIF($D$2:$D$501,D55)=1,\"\",IF(I55=\"\",\"\",ABS(IF(I55=\"\",0,(((H55*OFFSET($P$1,MATCH($D55,$O$2:$O$40,0),,)-G55)/G55))))))","v":0.20351630630171086},null,null,{"$f":"IFERROR(IF(COUNTIF($E$2:$E$501,E55)=1,\"\",IF(I55=\"\",\"\",ABS(IF(I55=\"\",0,(((H55*OFFSET($S$1,MATCH($E55,$R$2:$R$41,0),,)-G55)/G55)))))),\"\")","v":0.20351630630171086},null,null,{"$f":"IFERROR(IF(COUNTIF($F$2:$F$501,F55)=1,\"\",IF(I55=\"\",\"\",ABS(IF(I55=\"\",0,(((H55*OFFSET($V$1,MATCH($F55,$U$2:$U$105,0),,)-G55)/G55)))))),\"\")","v":0.45285949878578535},4537,{"$f":"IF(COUNT(IF($F$2:$F$501=U55,$I$2:$I$501))<$X$3,\"\",HARMEAN(IF($F$2:$F$501=U55,$I$2:$I$501)))","v":19.307982560359683},{"$f":"IF(OR(J55<(QUARTILE($J$2:$J$501,1))-1.5*(QUARTILE($J$2:$J$501,3)-QUARTILE($J$2:$J$501,1)),J55>(QUARTILE($J$2:$J$501,3))+1.5*(QUARTILE($J$2:$J$501,3)-QUARTILE($J$2:$J$501,1))),\"Outlier\")","v":false}]
[905793,"AVON PRODUCTS",3000,3700,3760,3767,15.45,0.91,{"$f":"(IF(IFERROR(G56/H56,\"\")<0,\"\",IFERROR(G56/H56,\"\")))","v":16.978021978021978},{"$f":"IF(COUNTIF($C$2:$C$501,C56)=1,\"\",IF(I56=\"\",\"\",ABS(IF(I56=\"\",0,(((H56*OFFSET($M$1,MATCH($C56,$L$2:$L$40,0),,)-G56)/G56))))))","v":5.8183331092832788E-2},{"$f":"IF(OR(J56<(QUARTILE($J$2:$J$501,1))-1.5*(QUARTILE($J$2:$J$501,3)-QUARTILE($J$2:$J$501,1)),J56>(QUARTILE($J$2:$J$501,3))+1.5*(QUARTILE($J$2:$J$501,3)-QUARTILE($J$2:$J$501,1))),\"\",J56)","v":5.8183331092832788E-2},null,null,{"$f":"IF(COUNTIF($D$2:$D$501,D56)=1,\"\",IF(I56=\"\",\"\",ABS(IF(I56=\"\",0,(((H56*OFFSET($P$1,MATCH($D56,$O$2:$O$40,0),,)-G56)/G56))))))","v":0.13564403718597368},null,null,{"$f":"IFERROR(IF(COUNTIF($E$2:$E$501,E56)=1,\"\",IF(I56=\"\",\"\",ABS(IF(I56=\"\",0,(((H56*OFFSET($S$1,MATCH($E56,$R$2:$R$41,0),,)-G56)/G56)))))),\"\")","v":0.14528039405312904},null,null,{"$f":"IFERROR(IF(COUNTIF($F$2:$F$501,F56)=1,\"\",IF(I56=\"\",\"\",ABS(IF(I56=\"\",0,(((H56*OFFSET($V$1,MATCH($F56,$U$2:$U$105,0),,)-G56)/G56)))))),\"\")","v":0.17519638481471608},4573,{"$f":"IF(COUNT(IF($F$2:$F$501=U56,$I$2:$I$501))<$X$3,\"\",HARMEAN(IF($F$2:$F$501=U56,$I$2:$I$501)))","v":24.308057903965782},{"$f":"IF(OR(J56<(QUARTILE($J$2:$J$501,1))-1.5*(QUARTILE($J$2:$J$501,3)-QUARTILE($J$2:$J$501,1)),J56>(QUARTILE($J$2:$J$501,3))+1.5*(QUARTILE($J$2:$J$501,3)-QUARTILE($J$2:$J$501,1))),\"Outlier\")","v":false}]
[992305,"BB&T",8000,8300,8350,8355,30.2,2.12,{"$f":"(IF(IFERROR(G57/H57,\"\")<0,\"\",IFERROR(G57/H57,\"\")))","v":14.245283018867923},{"$f":"IF(COUNTIF($C$2:$C$501,C57)=1,\"\",IF(I57=\"\",\"\",ABS(IF(I57=\"\",0,(((H57*OFFSET($M$1,MATCH($C57,$L$2:$L$40,0),,)-G57)/G57))))))","v":6.6302081723610559E-2},{"$f":"IF(OR(J57<(QUARTILE($J$2:$J$501,1))-1.5*(QUARTILE($J$2:$J$501,3)-QUARTILE($J$2:$J$501,1)),J57>(QUARTILE($J$2:$J$501,3))+1.5*(QUARTILE($J$2:$J$501,3)-QUARTILE($J$2:$J$501,1))),\"\",J57)","v":6.6302081723610559E-2},null,null,{"$f":"IF(COUNTIF($D$2:$D$501,D57)=1,\"\",IF(I57=\"\",\"\",ABS(IF(I57=\"\",0,(((H57*OFFSET($P$1,MATCH($D57,$O$2:$O$40,0),,)-G57)/G57))))))","v":0.14558026331103496},null,null,{"$f":"IFERROR(IF(COUNTIF($E$2:$E$501,E57)=1,\"\",IF(I57=\"\",\"\",ABS(IF(I57=\"\",0,(((H57*OFFSET($S$1,MATCH($E57,$R$2:$R$41,0),,)-G57)/G57)))))),\"\")","v":0.14558026331103496},null,null,{"$f":"IFERROR(IF(COUNTIF($F$2:$F$501,F57)=1,\"\",IF(I57=\"\",\"\",ABS(IF(I57=\"\",0,(((H57*OFFSET($V$1,MATCH($F57,$U$2:$U$105,0),,)-G57)/G57)))))),\"\")","v":0.14558026331103496},4577,{"$f":"IF(COUNT(IF($F$2:$F$501=U57,$I$2:$I$501))<$X$3,\"\",HARMEAN(IF($F$2:$F$501=U57,$I$2:$I$501)))","v":18.451767999568048},{"$f":"IF(OR(J57<(QUARTILE($J$2:$J$501,1))-1.5*(QUARTILE($J$2:$J$501,3)-QUARTILE($J$2:$J$501,1)),J57>(QUARTILE($J$2:$J$501,3))+1.5*(QUARTILE($J$2:$J$501,3)-QUARTILE($J$2:$J$501,1))),\"Outlier\")","v":false}]
[545725,"BIOGEN IDEC",4000,4500,4570,4573,140.11000000000001,5.08,{"$f":"(IF(IFERROR(G58/H58,\"\")<0,\"\",IFERROR(G58/H58,\"\")))","v":27.580708661417326},{"$f":"IF(COUNTIF($C$2:$C$501,C58)=1,\"\",IF(I58=\"\",\"\",ABS(IF(I58=\"\",0,(((H58*OFFSET($M$1,MATCH($C58,$L$2:$L$40,0),,)-G58)/G58))))))","v":0.38631771639907242},{"$f":"IF(OR(J58<(QUARTILE($J$2:$J$501,1))-1.5*(QUARTILE($J$2:$J$501,3)-QUARTILE($J$2:$J$501,1)),J58>(QUARTILE($J$2:$J$501,3))+1.5*(QUARTILE($J$2:$J$501,3)-QUARTILE($J$2:$J$501,1))),\"\",J58)","v":0.38631771639907242},null,null,{"$f":"IF(COUNTIF($D$2:$D$501,D58)=1,\"\",IF(I58=\"\",\"\",ABS(IF(I58=\"\",0,(((H58*OFFSET($P$1,MATCH($D58,$O$2:$O$40,0),,)-G58)/G58))))))","v":0.38631771639907242},null,null,{"$f":"IFERROR(IF(COUNTIF($E$2:$E$501,E58)=1,\"\",IF(I58=\"\",\"\",ABS(IF(I58=\"\",0,(((H58*OFFSET($S$1,MATCH($E58,$R$2:$R$41,0),,)-G58)/G58)))))),\"\")","v":0.27886972296990958},null,null,{"$f":"IFERROR(IF(COUNTIF($F$2:$F$501,F58)=1,\"\",IF(I58=\"\",\"\",ABS(IF(I58=\"\",0,(((H58*OFFSET($V$1,MATCH($F58,$U$2:$U$105,0),,)-G58)/G58)))))),\"\")","v":0.11865723965351389},5333,{"$f":"IF(COUNT(IF($F$2:$F$501=U58,$I$2:$I$501))<$X$3,\"\",HARMEAN(IF($F$2:$F$501=U58,$I$2:$I$501)))","v":14.002901764607426},{"$f":"IF(OR(J58<(QUARTILE($J$2:$J$501,1))-1.5*(QUARTILE($J$2:$J$501,3)-QUARTILE($J$2:$J$501,1)),J58>(QUARTILE($J$2:$J$501,3))+1.5*(QUARTILE($J$2:$J$501,3)-QUARTILE($J$2:$J$501,1))),\"Outlier\")","v":false}]
[543697,"BJ SVS. DEAD - DELIST.30/04/10",1,500,570,573,23.18,0,{"$f":"(IF(IFERROR(G59/H59,\"\")<0,\"\",IFERROR(G59/H59,\"\")))","v":""},{"$f":"IF(COUNTIF($C$2:$C$501,C59)=1,\"\",IF(I59=\"\",\"\",ABS(IF(I59=\"\",0,(((H59*OFFSET($M$1,MATCH($C59,$L$2:$L$40,0),,)-G59)/G59))))))","v":""},{"$f":"IF(OR(J59<(QUARTILE($J$2:$J$501,1))-1.5*(QUARTILE($J$2:$J$501,3)-QUARTILE($J$2:$J$501,1)),J59>(QUARTILE($J$2:$J$501,3))+1.5*(QUARTILE($J$2:$J$501,3)-QUARTILE($J$2:$J$501,1))),\"\",J59)","v":""},null,null,{"$f":"IF(COUNTIF($D$2:$D$501,D59)=1,\"\",IF(I59=\"\",\"\",ABS(IF(I59=\"\",0,(((H59*OFFSET($P$1,MATCH($D59,$O$2:$O$40,0),,)-G59)/G59))))))","v":""},null,null,{"$f":"IFERROR(IF(COUNTIF($E$2:$E$501,E59)=1,\"\",IF(I59=\"\",\"\",ABS(IF(I59=\"\",0,(((H59*OFFSET($S$1,MATCH($E59,$R$2:$R$41,0),,)-G59)/G59)))))),\"\")","v":""},null,null,{"$f":"IFERROR(IF(COUNTIF($F$2:$F$501,F59)=1,\"\",IF(I59=\"\",\"\",ABS(IF(I59=\"\",0,(((H59*OFFSET($V$1,MATCH($F59,$U$2:$U$105,0),,)-G59)/G59)))))),\"\")","v":""},5337,{"$f":"IF(COUNT(IF($F$2:$F$501=U59,$I$2:$I$501))<$X$3,\"\",HARMEAN(IF($F$2:$F$501=U59,$I$2:$I$501)))","v":17.496289106311078},{"$f":"IF(OR(J59<(QUARTILE($J$2:$J$501,1))-1.5*(QUARTILE($J$2:$J$501,3)-QUARTILE($J$2:$J$501,1)),J59>(QUARTILE($J$2:$J$501,3))+1.5*(QUARTILE($J$2:$J$501,3)-QUARTILE($J$2:$J$501,1))),\"Outlier\")","v":"Outlier"}]
[777267,"BMC SOFTWARE",9000,9500,9530,9537,41.53,2.3199999999999998,{"$f":"(IF(IFERROR(G60/H60,\"\")<0,\"\",IFERROR(G60/H60,\"\")))","v":17.90086206896552},{"$f":"IF(COUNTIF($C$2:$C$501,C60)=1,\"\",IF(I60=\"\",\"\",ABS(IF(I60=\"\",0,(((H60*OFFSET($M$1,MATCH($C60,$L$2:$L$40,0),,)-G60)/G60))))))","v":0.26863759993396691},{"$f":"IF(OR(J60<(QUARTILE($J$2:$J$501,1))-1.5*(QUARTILE($J$2:$J$501,3)-QUARTILE($J$2:$J$501,1)),J60>(QUARTILE($J$2:$J$501,3))+1.5*(QUARTILE($J$2:$J$501,3)-QUARTILE($J$2:$J$501,1))),\"\",J60)","v":0.26863759993396691},null,null,{"$f":"IF(COUNTIF($D$2:$D$501,D60)=1,\"\",IF(I60=\"\",\"\",ABS(IF(I60=\"\",0,(((H60*OFFSET($P$1,MATCH($D60,$O$2:$O$40,0),,)-G60)/G60))))))","v":0.26863759993396691},null,null,{"$f":"IFERROR(IF(COUNTIF($E$2:$E$501,E60)=1,\"\",IF(I60=\"\",\"\",ABS(IF(I60=\"\",0,(((H60*OFFSET($S$1,MATCH($E60,$R$2:$R$41,0),,)-G60)/G60)))))),\"\")","v":0.21113168963268517},null,null,{"$f":"IFERROR(IF(COUNTIF($F$2:$F$501,F60)=1,\"\",IF(I60=\"\",\"\",ABS(IF(I60=\"\",0,(((H60*OFFSET($V$1,MATCH($F60,$U$2:$U$105,0),,)-G60)/G60)))))),\"\")","v":0.19039099788912539},5371,{"$f":"IF(COUNT(IF($F$2:$F$501=U60,$I$2:$I$501))<$X$3,\"\",HARMEAN(IF($F$2:$F$501=U60,$I$2:$I$501)))","v":13.531197654270809},{"$f":"IF(OR(J60<(QUARTILE($J$2:$J$501,1))-1.5*(QUARTILE($J$2:$J$501,3)-QUARTILE($J$2:$J$501,1)),J60>(QUARTILE($J$2:$J$501,3))+1.5*(QUARTILE($J$2:$J$501,3)-QUARTILE($J$2:$J$501,1))),\"Outlier\")","v":false}]
[921431,"BAKER HUGHES",1,500,570,573,39.96,3.96,{"$f":"(IF(IFERROR(G61/H61,\"\")<0,\"\",IFERROR(G61/H61,\"\")))","v":10.090909090909092},{"$f":"IF(COUNTIF($C$2:$C$501,C61)=1,\"\",IF(I61=\"\",\"\",ABS(IF(I61=\"\",0,(((H61*OFFSET($M$1,MATCH($C61,$L$2:$L$40,0),,)-G61)/G61))))))","v":8.109113576378206E-2},{"$f":"IF(OR(J61<(QUARTILE($J$2:$J$501,1))-1.5*(QUARTILE($J$2:$J$501,3)-QUARTILE($J$2:$J$501,1)),J61>(QUARTILE($J$2:$J$501,3))+1.5*(QUARTILE($J$2:$J$501,3)-QUARTILE($J$2:$J$501,1))),\"\",J61)","v":8.109113576378206E-2},null,null,{"$f":"IF(COUNTIF($D$2:$D$501,D61)=1,\"\",IF(I61=\"\",\"\",ABS(IF(I61=\"\",0,(((H61*OFFSET($P$1,MATCH($D61,$O$2:$O$40,0),,)-G61)/G61))))))","v":8.109113576378206E-2},null,null,{"$f":"IFERROR(IF(COUNTIF($E$2:$E$501,E61)=1,\"\",IF(I61=\"\",\"\",ABS(IF(I61=\"\",0,(((H61*OFFSET($S$1,MATCH($E61,$R$2:$R$41,0),,)-G61)/G61)))))),\"\")","v":2.493796763540472E-2},null,null,{"$f":"IFERROR(IF(COUNTIF($F$2:$F$501,F61)=1,\"\",IF(I61=\"\",\"\",ABS(IF(I61=\"\",0,(((H61*OFFSET($V$1,MATCH($F61,$U$2:$U$105,0),,)-G61)/G61)))))),\"\")","v":0.10755469180123862},5373,{"$f":"IF(COUNT(IF($F$2:$F$501=U61,$I$2:$I$501))<$X$3,\"\",HARMEAN(IF($F$2:$F$501=U61,$I$2:$I$501)))","v":19.05255857415246},{"$f":"IF(OR(J61<(QUARTILE($J$2:$J$501,1))-1.5*(QUARTILE($J$2:$J$501,3)-QUARTILE($J$2:$J$501,1)),J61>(QUARTILE($J$2:$J$501,3))+1.5*(QUARTILE($J$2:$J$501,3)-QUARTILE($J$2:$J$501,1))),\"Outlier\")","v":false}]
[932060,"BALL",2000,2700,2720,2723,40.57,2.65,{"$f":"(IF(IFERROR(G62/H62,\"\")<0,\"\",IFERROR(G62/H62,\"\")))","v":15.309433962264151},{"$f":"IF(COUNTIF($C$2:$C$501,C62)=1,\"\",IF(I62=\"\",\"\",ABS(IF(I62=\"\",0,(((H62*OFFSET($M$1,MATCH($C62,$L$2:$L$40,0),,)-G62)/G62))))))","v":5.2621341945264334E-2},{"$f":"IF(OR(J62<(QUARTILE($J$2:$J$501,1))-1.5*(QUARTILE($J$2:$J$501,3)-QUARTILE($J$2:$J$501,1)),J62>(QUARTILE($J$2:$J$501,3))+1.5*(QUARTILE($J$2:$J$501,3)-QUARTILE($J$2:$J$501,1))),\"\",J62)","v":5.2621341945264334E-2},null,null,{"$f":"IF(COUNTIF($D$2:$D$501,D62)=1,\"\",IF(I62=\"\",\"\",ABS(IF(I62=\"\",0,(((H62*OFFSET($P$1,MATCH($D62,$O$2:$O$40,0),,)-G62)/G62))))))","v":6.4730231608874395E-2},null,null,{"$f":"IFERROR(IF(COUNTIF($E$2:$E$501,E62)=1,\"\",IF(I62=\"\",\"\",ABS(IF(I62=\"\",0,(((H62*OFFSET($S$1,MATCH($E62,$R$2:$R$41,0),,)-G62)/G62)))))),\"\")","v":0.18273962093263882},null,null,{"$f":"IFERROR(IF(COUNTIF($F$2:$F$501,F62)=1,\"\",IF(I62=\"\",\"\",ABS(IF(I62=\"\",0,(((H62*OFFSET($V$1,MATCH($F62,$U$2:$U$105,0),,)-G62)/G62)))))),\"\")","v":0.42198313008995908},5375,{"$f":"IF(COUNT(IF($F$2:$F$501=U62,$I$2:$I$501))<$X$3,\"\",HARMEAN(IF($F$2:$F$501=U62,$I$2:$I$501)))","v":""},{"$f":"IF(OR(J62<(QUARTILE($J$2:$J$501,1))-1.5*(QUARTILE($J$2:$J$501,3)-QUARTILE($J$2:$J$501,1)),J62>(QUARTILE($J$2:$J$501,3))+1.5*(QUARTILE($J$2:$J$501,3)-QUARTILE($J$2:$J$501,1))),\"Outlier\")","v":false}]
[923937,"BANK OF AMERICA",8000,8300,8350,8355,7.74,0,{"$f":"(IF(IFERROR(G63/H63,\"\")<0,\"\",IFERROR(G63/H63,\"\")))","v":""},{"$f":"IF(COUNTIF($C$2:$C$501,C63)=1,\"\",IF(I63=\"\",\"\",ABS(IF(I63=\"\",0,(((H63*OFFSET($M$1,MATCH($C63,$L$2:$L$40,0),,)-G63)/G63))))))","v":""},{"$f":"IF(OR(J63<(QUARTILE($J$2:$J$501,1))-1.5*(QUARTILE($J$2:$J$501,3)-QUARTILE($J$2:$J$501,1)),J63>(QUARTILE($J$2:$J$501,3))+1.5*(QUARTILE($J$2:$J$501,3)-QUARTILE($J$2:$J$501,1))),\"\",J63)","v":""},null,null,{"$f":"IF(COUNTIF($D$2:$D$501,D63)=1,\"\",IF(I63=\"\",\"\",ABS(IF(I63=\"\",0,(((H63*OFFSET($P$1,MATCH($D63,$O$2:$O$40,0),,)-G63)/G63))))))","v":""},null,null,{"$f":"IFERROR(IF(COUNTIF($E$2:$E$501,E63)=1,\"\",IF(I63=\"\",\"\",ABS(IF(I63=\"\",0,(((H63*OFFSET($S$1,MATCH($E63,$R$2:$R$41,0),,)-G63)/G63)))))),\"\")","v":""},null,null,{"$f":"IFERROR(IF(COUNTIF($F$2:$F$501,F63)=1,\"\",IF(I63=\"\",\"\",ABS(IF(I63=\"\",0,(((H63*OFFSET($V$1,MATCH($F63,$U$2:$U$105,0),,)-G63)/G63)))))),\"\")","v":""},5377,{"$f":"IF(COUNT(IF($F$2:$F$501=U63,$I$2:$I$501))<$X$3,\"\",HARMEAN(IF($F$2:$F$501=U63,$I$2:$I$501)))","v":""},{"$f":"IF(OR(J63<(QUARTILE($J$2:$J$501,1))-1.5*(QUARTILE($J$2:$J$501,3)-QUARTILE($J$2:$J$501,1)),J63>(QUARTILE($J$2:$J$501,3))+1.5*(QUARTILE($J$2:$J$501,3)-QUARTILE($J$2:$J$501,1))),\"Outlier\")","v":"Outlier"}]
[905840,"BANK OF NEW YORK MELLON",8000,8700,8770,8771,21.04,2.06,{"$f":"(IF(IFERROR(G64/H64,\"\")<0,\"\",IFERROR(G64/H64,\"\")))","v":10.213592233009708},{"$f":"IF(COUNTIF($C$2:$C$501,C64)=1,\"\",IF(I64=\"\",\"\",ABS(IF(I64=\"\",0,(((H64*OFFSET($M$1,MATCH($C64,$L$2:$L$40,0),,)-G64)/G64))))))","v":0.30226376739298788},{"$f":"IF(OR(J64<(QUARTILE($J$2:$J$501,1))-1.5*(QUARTILE($J$2:$J$501,3)-QUARTILE($J$2:$J$501,1)),J64>(QUARTILE($J$2:$J$501,3))+1.5*(QUARTILE($J$2:$J$501,3)-QUARTILE($J$2:$J$501,1))),\"\",J64)","v":0.30226376739298788},null,null,{"$f":"IF(COUNTIF($D$2:$D$501,D64)=1,\"\",IF(I64=\"\",\"\",ABS(IF(I64=\"\",0,(((H64*OFFSET($P$1,MATCH($D64,$O$2:$O$40,0),,)-G64)/G64))))))","v":0.22656542331711027},null,null,{"$f":"IFERROR(IF(COUNTIF($E$2:$E$501,E64)=1,\"\",IF(I64=\"\",\"\",ABS(IF(I64=\"\",0,(((H64*OFFSET($S$1,MATCH($E64,$R$2:$R$41,0),,)-G64)/G64)))))),\"\")","v":0.22656542331711027},null,null,{"$f":"IFERROR(IF(COUNTIF($F$2:$F$501,F64)=1,\"\",IF(I64=\"\",\"\",ABS(IF(I64=\"\",0,(((H64*OFFSET($V$1,MATCH($F64,$U$2:$U$105,0),,)-G64)/G64)))))),\"\")","v":0.34374215221877119},5379,{"$f":"IF(COUNT(IF($F$2:$F$501=U64,$I$2:$I$501))<$X$3,\"\",HARMEAN(IF($F$2:$F$501=U64,$I$2:$I$501)))","v":12.37088585102072},{"$f":"IF(OR(J64<(QUARTILE($J$2:$J$501,1))-1.5*(QUARTILE($J$2:$J$501,3)-QUARTILE($J$2:$J$501,1)),J64>(QUARTILE($J$2:$J$501,3))+1.5*(QUARTILE($J$2:$J$501,3)-QUARTILE($J$2:$J$501,1))),\"Outlier\")","v":false}]
[905592,"C R BARD",4000,4500,4530,4537,104.82,3.81,{"$f":"(IF(IFERROR(G65/H65,\"\")<0,\"\",IFERROR(G65/H65,\"\")))","v":27.511811023622045},{"$f":"IF(COUNTIF($C$2:$C$501,C65)=1,\"\",IF(I65=\"\",\"\",ABS(IF(I65=\"\",0,(((H65*OFFSET($M$1,MATCH($C65,$L$2:$L$40,0),,)-G65)/G65))))))","v":0.38478087610671169},{"$f":"IF(OR(J65<(QUARTILE($J$2:$J$501,1))-1.5*(QUARTILE($J$2:$J$501,3)-QUARTILE($J$2:$J$501,1)),J65>(QUARTILE($J$2:$J$501,3))+1.5*(QUARTILE($J$2:$J$501,3)-QUARTILE($J$2:$J$501,1))),\"\",J65)","v":0.38478087610671169},null,null,{"$f":"IF(COUNTIF($D$2:$D$501,D65)=1,\"\",IF(I65=\"\",\"\",ABS(IF(I65=\"\",0,(((H65*OFFSET($P$1,MATCH($D65,$O$2:$O$40,0),,)-G65)/G65))))))","v":0.38478087610671169},null,null,{"$f":"IFERROR(IF(COUNTIF($E$2:$E$501,E65)=1,\"\",IF(I65=\"\",\"\",ABS(IF(I65=\"\",0,(((H65*OFFSET($S$1,MATCH($E65,$R$2:$R$41,0),,)-G65)/G65)))))),\"\")","v":0.44395926685589471},null,null,{"$f":"IFERROR(IF(COUNTIF($F$2:$F$501,F65)=1,\"\",IF(I65=\"\",\"\",ABS(IF(I65=\"\",0,(((H65*OFFSET($V$1,MATCH($F65,$U$2:$U$105,0),,)-G65)/G65)))))),\"\")","v":0.29819296360455638},5553,{"$f":"IF(COUNT(IF($F$2:$F$501=U65,$I$2:$I$501))<$X$3,\"\",HARMEAN(IF($F$2:$F$501=U65,$I$2:$I$501)))","v":16.148904145861298},{"$f":"IF(OR(J65<(QUARTILE($J$2:$J$501,1))-1.5*(QUARTILE($J$2:$J$501,3)-QUARTILE($J$2:$J$501,1)),J65>(QUARTILE($J$2:$J$501,3))+1.5*(QUARTILE($J$2:$J$501,3)-QUARTILE($J$2:$J$501,1))),\"Outlier\")","v":false}]
[755187,"BARR PHARMACEUTICALS DEAD - DELIST.02/01/09",4000,4500,4570,4577,65.8,1.41,{"$f":"(IF(IFERROR(G66/H66,\"\")<0,\"\",IFERROR(G66/H66,\"\")))","v":46.666666666666664},{"$f":"IF(COUNTIF($C$2:$C$501,C66)=1,\"\",IF(I66=\"\",\"\",ABS(IF(I66=\"\",0,(((H66*OFFSET($M$1,MATCH($C66,$L$2:$L$40,0),,)-G66)/G66))))))","v":0.63730445125706137},{"$f":"IF(OR(J66<(QUARTILE($J$2:$J$501,1))-1.5*(QUARTILE($J$2:$J$501,3)-QUARTILE($J$2:$J$501,1)),J66>(QUARTILE($J$2:$J$501,3))+1.5*(QUARTILE($J$2:$J$501,3)-QUARTILE($J$2:$J$501,1))),\"\",J66)","v":0.63730445125706137},null,null,{"$f":"IF(COUNTIF($D$2:$D$501,D66)=1,\"\",IF(I66=\"\",\"\",ABS(IF(I66=\"\",0,(((H66*OFFSET($P$1,MATCH($D66,$O$2:$O$40,0),,)-G66)/G66))))))","v":0.63730445125706137},null,null,{"$f":"IFERROR(IF(COUNTIF($E$2:$E$501,E66)=1,\"\",IF(I66=\"\",\"\",ABS(IF(I66=\"\",0,(((H66*OFFSET($S$1,MATCH($E66,$R$2:$R$41,0),,)-G66)/G66)))))),\"\")","v":0.57380105547798377},null,null,{"$f":"IFERROR(IF(COUNTIF($F$2:$F$501,F66)=1,\"\",IF(I66=\"\",\"\",ABS(IF(I66=\"\",0,(((H66*OFFSET($V$1,MATCH($F66,$U$2:$U$105,0),,)-G66)/G66)))))),\"\")","v":0.60460497143782754},5555,{"$f":"IF(COUNT(IF($F$2:$F$501=U66,$I$2:$I$501))<$X$3,\"\",HARMEAN(IF($F$2:$F$501=U66,$I$2:$I$501)))","v":""},{"$f":"IF(OR(J66<(QUARTILE($J$2:$J$501,1))-1.5*(QUARTILE($J$2:$J$501,3)-QUARTILE($J$2:$J$501,1)),J66>(QUARTILE($J$2:$J$501,3))+1.5*(QUARTILE($J$2:$J$501,3)-QUARTILE($J$2:$J$501,1))),\"Outlier\")","v":false}]
[905439,"BAUSCH & LOMB DEAD - MERGER",4000,4500,4530,4537,64.98,0.93,{"$f":"(IF(IFERROR(G67/H67,\"\")<0,\"\",IFERROR(G67/H67,\"\")))","v":69.870967741935488},{"$f":"IF(COUNTIF($C$2:$C$501,C67)=1,\"\",IF(I67=\"\",\"\",ABS(IF(I67=\"\",0,(((H67*OFFSET($M$1,MATCH($C67,$L$2:$L$40,0),,)-G67)/G67))))))","v":0.75775643558874217},{"$f":"IF(OR(J67<(QUARTILE($J$2:$J$501,1))-1.5*(QUARTILE($J$2:$J$501,3)-QUARTILE($J$2:$J$501,1)),J67>(QUARTILE($J$2:$J$501,3))+1.5*(QUARTILE($J$2:$J$501,3)-QUARTILE($J$2:$J$501,1))),\"\",J67)","v":0.75775643558874217},null,null,{"$f":"IF(COUNTIF($D$2:$D$501,D67)=1,\"\",IF(I67=\"\",\"\",ABS(IF(I67=\"\",0,(((H67*OFFSET($P$1,MATCH($D67,$O$2:$O$40,0),,)-G67)/G67))))))","v":0.75775643558874217},null,null,{"$f":"IFERROR(IF(COUNTIF($E$2:$E$501,E67)=1,\"\",IF(I67=\"\",\"\",ABS(IF(I67=\"\",0,(((H67*OFFSET($S$1,MATCH($E67,$R$2:$R$41,0),,)-G67)/G67)))))),\"\")","v":0.78105802644385813},null,null,{"$f":"IFERROR(IF(COUNTIF($F$2:$F$501,F67)=1,\"\",IF(I67=\"\",\"\",ABS(IF(I67=\"\",0,(((H67*OFFSET($V$1,MATCH($F67,$U$2:$U$105,0),,)-G67)/G67)))))),\"\")","v":0.72366229945930283},5557,{"$f":"IF(COUNT(IF($F$2:$F$501=U67,$I$2:$I$501))<$X$3,\"\",HARMEAN(IF($F$2:$F$501=U67,$I$2:$I$501)))","v":15.286053641270851},{"$f":"IF(OR(J67<(QUARTILE($J$2:$J$501,1))-1.5*(QUARTILE($J$2:$J$501,3)-QUARTILE($J$2:$J$501,1)),J67>(QUARTILE($J$2:$J$501,3))+1.5*(QUARTILE($J$2:$J$501,3)-QUARTILE($J$2:$J$501,1))),\"Outlier\")","v":false}]
[916365,"BAXTER INTL.",4000,4500,4530,4537,51.58,3.94,{"$f":"(IF(IFERROR(G68/H68,\"\")<0,\"\",IFERROR(G68/H68,\"\")))","v":13.091370558375635},{"$f":"IF(COUNTIF($C$2:$C$501,C68)=1,\"\",IF(I68=\"\",\"\",ABS(IF(I68=\"\",0,(((H68*OFFSET($M$1,MATCH($C68,$L$2:$L$40,0),,)-G68)/G68))))))","v":0.29289688953473525},{"$f":"IF(OR(J68<(QUARTILE($J$2:$J$501,1))-1.5*(QUARTILE($J$2:$J$501,3)-QUARTILE($J$2:$J$501,1)),J68>(QUARTILE($J$2:$J$501,3))+1.5*(QUARTILE($J$2:$J$501,3)-QUARTILE($J$2:$J$501,1))),\"\",J68)","v":0.29289688953473525},null,null,{"$f":"IF(COUNTIF($D$2:$D$501,D68)=1,\"\",IF(I68=\"\",\"\",ABS(IF(I68=\"\",0,(((H68*OFFSET($P$1,MATCH($D68,$O$2:$O$40,0),,)-G68)/G68))))))","v":0.29289688953473525},null,null,{"$f":"IFERROR(IF(COUNTIF($E$2:$E$501,E68)=1,\"\",IF(I68=\"\",\"\",ABS(IF(I68=\"\",0,(((H68*OFFSET($S$1,MATCH($E68,$R$2:$R$41,0),,)-G68)/G68)))))),\"\")","v":0.16853216425912582},null,null,{"$f":"IFERROR(IF(COUNTIF($F$2:$F$501,F68)=1,\"\",IF(I68=\"\",\"\",ABS(IF(I68=\"\",0,(((H68*OFFSET($V$1,MATCH($F68,$U$2:$U$105,0),,)-G68)/G68)))))),\"\")","v":0.47486334408331043},5751,{"$f":"IF(COUNT(IF($F$2:$F$501=U68,$I$2:$I$501))<$X$3,\"\",HARMEAN(IF($F$2:$F$501=U68,$I$2:$I$501)))","v":""},{"$f":"IF(OR(J68<(QUARTILE($J$2:$J$501,1))-1.5*(QUARTILE($J$2:$J$501,3)-QUARTILE($J$2:$J$501,1)),J68>(QUARTILE($J$2:$J$501,3))+1.5*(QUARTILE($J$2:$J$501,3)-QUARTILE($J$2:$J$501,1))),\"Outlier\")","v":false}]
[936911,"BEAR STEARNS DEAD - DELIST.16/06/08",8000,8700,8770,8777,9.33,0,{"$f":"(IF(IFERROR(G69/H69,\"\")<0,\"\",IFERROR(G69/H69,\"\")))","v":""},{"$f":"IF(COUNTIF($C$2:$C$501,C69)=1,\"\",IF(I69=\"\",\"\",ABS(IF(I69=\"\",0,(((H69*OFFSET($M$1,MATCH($C69,$L$2:$L$40,0),,)-G69)/G69))))))","v":""},{"$f":"IF(OR(J69<(QUARTILE($J$2:$J$501,1))-1.5*(QUARTILE($J$2:$J$501,3)-QUARTILE($J$2:$J$501,1)),J69>(QUARTILE($J$2:$J$501,3))+1.5*(QUARTILE($J$2:$J$501,3)-QUARTILE($J$2:$J$501,1))),\"\",J69)","v":""},null,null,{"$f":"IF(COUNTIF($D$2:$D$501,D69)=1,\"\",IF(I69=\"\",\"\",ABS(IF(I69=\"\",0,(((H69*OFFSET($P$1,MATCH($D69,$O$2:$O$40,0),,)-G69)/G69))))))","v":""},null,null,{"$f":"IFERROR(IF(COUNTIF($E$2:$E$501,E69)=1,\"\",IF(I69=\"\",\"\",ABS(IF(I69=\"\",0,(((H69*OFFSET($S$1,MATCH($E69,$R$2:$R$41,0),,)-G69)/G69)))))),\"\")","v":""},null,null,{"$f":"IFERROR(IF(COUNTIF($F$2:$F$501,F69)=1,\"\",IF(I69=\"\",\"\",ABS(IF(I69=\"\",0,(((H69*OFFSET($V$1,MATCH($F69,$U$2:$U$105,0),,)-G69)/G69)))))),\"\")","v":""},5752,{"$f":"IF(COUNT(IF($F$2:$F$501=U69,$I$2:$I$501))<$X$3,\"\",HARMEAN(IF($F$2:$F$501=U69,$I$2:$I$501)))","v":""},{"$f":"IF(OR(J69<(QUARTILE($J$2:$J$501,1))-1.5*(QUARTILE($J$2:$J$501,3)-QUARTILE($J$2:$J$501,1)),J69>(QUARTILE($J$2:$J$501,3))+1.5*(QUARTILE($J$2:$J$501,3)-QUARTILE($J$2:$J$501,1))),\"Outlier\")","v":"Outlier"}]
[905876,"BECTON DICKINSON",4000,4500,4530,4537,73.14,5.47,{"$f":"(IF(IFERROR(G70/H70,\"\")<0,\"\",IFERROR(G70/H70,\"\")))","v":13.371115173674589},{"$f":"IF(COUNTIF($C$2:$C$501,C70)=1,\"\",IF(I70=\"\",\"\",ABS(IF(I70=\"\",0,(((H70*OFFSET($M$1,MATCH($C70,$L$2:$L$40,0),,)-G70)/G70))))))","v":0.26584746708295659},{"$f":"IF(OR(J70<(QUARTILE($J$2:$J$501,1))-1.5*(QUARTILE($J$2:$J$501,3)-QUARTILE($J$2:$J$501,1)),J70>(QUARTILE($J$2:$J$501,3))+1.5*(QUARTILE($J$2:$J$501,3)-QUARTILE($J$2:$J$501,1))),\"\",J70)","v":0.26584746708295659},null,null,{"$f":"IF(COUNTIF($D$2:$D$501,D70)=1,\"\",IF(I70=\"\",\"\",ABS(IF(I70=\"\",0,(((H70*OFFSET($P$1,MATCH($D70,$O$2:$O$40,0),,)-G70)/G70))))))","v":0.26584746708295659},null,null,{"$f":"IFERROR(IF(COUNTIF($E$2:$E$501,E70)=1,\"\",IF(I70=\"\",\"\",ABS(IF(I70=\"\",0,(((H70*OFFSET($S$1,MATCH($E70,$R$2:$R$41,0),,)-G70)/G70)))))),\"\")","v":0.14408464611952315},null,null,{"$f":"IFERROR(IF(COUNTIF($F$2:$F$501,F70)=1,\"\",IF(I70=\"\",\"\",ABS(IF(I70=\"\",0,(((H70*OFFSET($V$1,MATCH($F70,$U$2:$U$105,0),,)-G70)/G70)))))),\"\")","v":0.44400689916827263},5753,{"$f":"IF(COUNT(IF($F$2:$F$501=U70,$I$2:$I$501))<$X$3,\"\",HARMEAN(IF($F$2:$F$501=U70,$I$2:$I$501)))","v":""},{"$f":"IF(OR(J70<(QUARTILE($J$2:$J$501,1))-1.5*(QUARTILE($J$2:$J$501,3)-QUARTILE($J$2:$J$501,1)),J70>(QUARTILE($J$2:$J$501,3))+1.5*(QUARTILE($J$2:$J$501,3)-QUARTILE($J$2:$J$501,1))),\"Outlier\")","v":false}]
[325972,"BED BATH & BEYOND",5000,5300,5370,5379,59.64,4.24,{"$f":"(IF(IFERROR(G71/H71,\"\")<0,\"\",IFERROR(G71/H71,\"\")))","v":14.066037735849056},{"$f":"IF(COUNTIF($C$2:$C$501,C71)=1,\"\",IF(I71=\"\",\"\",ABS(IF(I71=\"\",0,(((H71*OFFSET($M$1,MATCH($C71,$L$2:$L$40,0),,)-G71)/G71))))))","v":0.12117657140939816},{"$f":"IF(OR(J71<(QUARTILE($J$2:$J$501,1))-1.5*(QUARTILE($J$2:$J$501,3)-QUARTILE($J$2:$J$501,1)),J71>(QUARTILE($J$2:$J$501,3))+1.5*(QUARTILE($J$2:$J$501,3)-QUARTILE($J$2:$J$501,1))),\"\",J71)","v":0.12117657140939816},null,null,{"$f":"IF(COUNTIF($D$2:$D$501,D71)=1,\"\",IF(I71=\"\",\"\",ABS(IF(I71=\"\",0,(((H71*OFFSET($P$1,MATCH($D71,$O$2:$O$40,0),,)-G71)/G71))))))","v":3.5932865093029821E-2},null,null,{"$f":"IFERROR(IF(COUNTIF($E$2:$E$501,E71)=1,\"\",IF(I71=\"\",\"\",ABS(IF(I71=\"\",0,(((H71*OFFSET($S$1,MATCH($E71,$R$2:$R$41,0),,)-G71)/G71)))))),\"\")","v":1.8986629173115447E-2},null,null,{"$f":"IFERROR(IF(COUNTIF($F$2:$F$501,F71)=1,\"\",IF(I71=\"\",\"\",ABS(IF(I71=\"\",0,(((H71*OFFSET($V$1,MATCH($F71,$U$2:$U$105,0),,)-G71)/G71)))))),\"\")","v":0.12051381609108228},5755,{"$f":"IF(COUNT(IF($F$2:$F$501=U71,$I$2:$I$501))<$X$3,\"\",HARMEAN(IF($F$2:$F$501=U71,$I$2:$I$501)))","v":""},{"$f":"IF(OR(J71<(QUARTILE($J$2:$J$501,1))-1.5*(QUARTILE($J$2:$J$501,3)-QUARTILE($J$2:$J$501,1)),J71>(QUARTILE($J$2:$J$501,3))+1.5*(QUARTILE($J$2:$J$501,3)-QUARTILE($J$2:$J$501,1))),\"Outlier\")","v":false}]
[912125,"BEMIS",2000,2700,2720,2723,31.1,1.66,{"$f":"(IF(IFERROR(G72/H72,\"\")<0,\"\",IFERROR(G72/H72,\"\")))","v":18.734939759036145},{"$f":"IF(COUNTIF($C$2:$C$501,C72)=1,\"\",IF(I72=\"\",\"\",ABS(IF(I72=\"\",0,(((H72*OFFSET($M$1,MATCH($C72,$L$2:$L$40,0),,)-G72)/G72))))))","v":0.22584053168615142},{"$f":"IF(OR(J72<(QUARTILE($J$2:$J$501,1))-1.5*(QUARTILE($J$2:$J$501,3)-QUARTILE($J$2:$J$501,1)),J72>(QUARTILE($J$2:$J$501,3))+1.5*(QUARTILE($J$2:$J$501,3)-QUARTILE($J$2:$J$501,1))),\"\",J72)","v":0.22584053168615142},null,null,{"$f":"IF(COUNTIF($D$2:$D$501,D72)=1,\"\",IF(I72=\"\",\"\",ABS(IF(I72=\"\",0,(((H72*OFFSET($P$1,MATCH($D72,$O$2:$O$40,0),,)-G72)/G72))))))","v":0.23573542588093893},null,null,{"$f":"IFERROR(IF(COUNTIF($E$2:$E$501,E72)=1,\"\",IF(I72=\"\",\"\",ABS(IF(I72=\"\",0,(((H72*OFFSET($S$1,MATCH($E72,$R$2:$R$41,0),,)-G72)/G72)))))),\"\")","v":3.3513085491067504E-2},null,null,{"$f":"IFERROR(IF(COUNTIF($F$2:$F$501,F72)=1,\"\",IF(I72=\"\",\"\",ABS(IF(I72=\"\",0,(((H72*OFFSET($V$1,MATCH($F72,$U$2:$U$105,0),,)-G72)/G72)))))),\"\")","v":0.1619870202713633},5757,{"$f":"IF(COUNT(IF($F$2:$F$501=U72,$I$2:$I$501))<$X$3,\"\",HARMEAN(IF($F$2:$F$501=U72,$I$2:$I$501)))","v":21.267878332392705},{"$f":"IF(OR(J72<(QUARTILE($J$2:$J$501,1))-1.5*(QUARTILE($J$2:$J$501,3)-QUARTILE($J$2:$J$501,1)),J72>(QUARTILE($J$2:$J$501,3))+1.5*(QUARTILE($J$2:$J$501,3)-QUARTILE($J$2:$J$501,1))),\"Outlier\")","v":false}]
[929302,"BEST BUY",5000,5300,5370,5379,20.88,0,{"$f":"(IF(IFERROR(G73/H73,\"\")<0,\"\",IFERROR(G73/H73,\"\")))","v":""},{"$f":"IF(COUNTIF($C$2:$C$501,C73)=1,\"\",IF(I73=\"\",\"\",ABS(IF(I73=\"\",0,(((H73*OFFSET($M$1,MATCH($C73,$L$2:$L$40,0),,)-G73)/G73))))))","v":""},{"$f":"IF(OR(J73<(QUARTILE($J$2:$J$501,1))-1.5*(QUARTILE($J$2:$J$501,3)-QUARTILE($J$2:$J$501,1)),J73>(QUARTILE($J$2:$J$501,3))+1.5*(QUARTILE($J$2:$J$501,3)-QUARTILE($J$2:$J$501,1))),\"\",J73)","v":""},null,null,{"$f":"IF(COUNTIF($D$2:$D$501,D73)=1,\"\",IF(I73=\"\",\"\",ABS(IF(I73=\"\",0,(((H73*OFFSET($P$1,MATCH($D73,$O$2:$O$40,0),,)-G73)/G73))))))","v":""},null,null,{"$f":"IFERROR(IF(COUNTIF($E$2:$E$501,E73)=1,\"\",IF(I73=\"\",\"\",ABS(IF(I73=\"\",0,(((H73*OFFSET($S$1,MATCH($E73,$R$2:$R$41,0),,)-G73)/G73)))))),\"\")","v":""},null,null,{"$f":"IFERROR(IF(COUNTIF($F$2:$F$501,F73)=1,\"\",IF(I73=\"\",\"\",ABS(IF(I73=\"\",0,(((H73*OFFSET($V$1,MATCH($F73,$U$2:$U$105,0),,)-G73)/G73)))))),\"\")","v":""},5759,{"$f":"IF(COUNT(IF($F$2:$F$501=U73,$I$2:$I$501))<$X$3,\"\",HARMEAN(IF($F$2:$F$501=U73,$I$2:$I$501)))","v":""},{"$f":"IF(OR(J73<(QUARTILE($J$2:$J$501,1))-1.5*(QUARTILE($J$2:$J$501,3)-QUARTILE($J$2:$J$501,1)),J73>(QUARTILE($J$2:$J$501,3))+1.5*(QUARTILE($J$2:$J$501,3)-QUARTILE($J$2:$J$501,1))),\"Outlier\")","v":"Outlier"}]
[702108,"BIG LOTS",5000,5300,5370,5373,40.119999999999997,2.85,{"$f":"(IF(IFERROR(G74/H74,\"\")<0,\"\",IFERROR(G74/H74,\"\")))","v":14.07719298245614},{"$f":"IF(COUNTIF($C$2:$C$501,C74)=1,\"\",IF(I74=\"\",\"\",ABS(IF(I74=\"\",0,(((H74*OFFSET($M$1,MATCH($C74,$L$2:$L$40,0),,)-G74)/G74))))))","v":0.12028811295324555},{"$f":"IF(OR(J74<(QUARTILE($J$2:$J$501,1))-1.5*(QUARTILE($J$2:$J$501,3)-QUARTILE($J$2:$J$501,1)),J74>(QUARTILE($J$2:$J$501,3))+1.5*(QUARTILE($J$2:$J$501,3)-QUARTILE($J$2:$J$501,1))),\"\",J74)","v":0.12028811295324555},null,null,{"$f":"IF(COUNTIF($D$2:$D$501,D74)=1,\"\",IF(I74=\"\",\"\",ABS(IF(I74=\"\",0,(((H74*OFFSET($P$1,MATCH($D74,$O$2:$O$40,0),,)-G74)/G74))))))","v":3.5111956649642298E-2},null,null,{"$f":"IFERROR(IF(COUNTIF($E$2:$E$501,E74)=1,\"\",IF(I74=\"\",\"\",ABS(IF(I74=\"\",0,(((H74*OFFSET($S$1,MATCH($E74,$R$2:$R$41,0),,)-G74)/G74)))))),\"\")","v":1.8179149503559693E-2},null,null,{"$f":"IFERROR(IF(COUNTIF($F$2:$F$501,F74)=1,\"\",IF(I74=\"\",\"\",ABS(IF(I74=\"\",0,(((H74*OFFSET($V$1,MATCH($F74,$U$2:$U$105,0),,)-G74)/G74)))))),\"\")","v":0.35343449492359219},6535,{"$f":"IF(COUNT(IF($F$2:$F$501=U74,$I$2:$I$501))<$X$3,\"\",HARMEAN(IF($F$2:$F$501=U74,$I$2:$I$501)))","v":22.860852819174948},{"$f":"IF(OR(J74<(QUARTILE($J$2:$J$501,1))-1.5*(QUARTILE($J$2:$J$501,3)-QUARTILE($J$2:$J$501,1)),J74>(QUARTILE($J$2:$J$501,3))+1.5*(QUARTILE($J$2:$J$501,3)-QUARTILE($J$2:$J$501,1))),\"Outlier\")","v":false}]
[982423,"BIOMET DEAD - DEL.26/09/07",4000,4500,4530,4535,45.99,1.37,{"$f":"(IF(IFERROR(G75/H75,\"\")<0,\"\",IFERROR(G75/H75,\"\")))","v":33.569343065693431},{"$f":"IF(COUNTIF($C$2:$C$501,C75)=1,\"\",IF(I75=\"\",\"\",ABS(IF(I75=\"\",0,(((H75*OFFSET($M$1,MATCH($C75,$L$2:$L$40,0),,)-G75)/G75))))))","v":0.4957961422853111},{"$f":"IF(OR(J75<(QUARTILE($J$2:$J$501,1))-1.5*(QUARTILE($J$2:$J$501,3)-QUARTILE($J$2:$J$501,1)),J75>(QUARTILE($J$2:$J$501,3))+1.5*(QUARTILE($J$2:$J$501,3)-QUARTILE($J$2:$J$501,1))),\"\",J75)","v":0.4957961422853111},null,null,{"$f":"IF(COUNTIF($D$2:$D$501,D75)=1,\"\",IF(I75=\"\",\"\",ABS(IF(I75=\"\",0,(((H75*OFFSET($P$1,MATCH($D75,$O$2:$O$40,0),,)-G75)/G75))))))","v":0.4957961422853111},null,null,{"$f":"IFERROR(IF(COUNTIF($E$2:$E$501,E75)=1,\"\",IF(I75=\"\",\"\",ABS(IF(I75=\"\",0,(((H75*OFFSET($S$1,MATCH($E75,$R$2:$R$41,0),,)-G75)/G75)))))),\"\")","v":0.54429589099315667},null,null,{"$f":"IFERROR(IF(COUNTIF($F$2:$F$501,F75)=1,\"\",IF(I75=\"\",\"\",ABS(IF(I75=\"\",0,(((H75*OFFSET($V$1,MATCH($F75,$U$2:$U$105,0),,)-G75)/G75)))))),\"\")","v":0.49172676699623219},6575,{"$f":"IF(COUNT(IF($F$2:$F$501=U75,$I$2:$I$501))<$X$3,\"\",HARMEAN(IF($F$2:$F$501=U75,$I$2:$I$501)))","v":""},{"$f":"IF(OR(J75<(QUARTILE($J$2:$J$501,1))-1.5*(QUARTILE($J$2:$J$501,3)-QUARTILE($J$2:$J$501,1)),J75>(QUARTILE($J$2:$J$501,3))+1.5*(QUARTILE($J$2:$J$501,3)-QUARTILE($J$2:$J$501,1))),\"Outlier\")","v":false}]
[905147,"BLACK & DECKER DEAD - DELIST.25/03/10",3000,3700,3720,3722,74.05,2.17,{"$f":"(IF(IFERROR(G76/H76,\"\")<0,\"\",IFERROR(G76/H76,\"\")))","v":34.124423963133637},{"$f":"IF(COUNTIF($C$2:$C$501,C76)=1,\"\",IF(I76=\"\",\"\",ABS(IF(I76=\"\",0,(((H76*OFFSET($M$1,MATCH($C76,$L$2:$L$40,0),,)-G76)/G76))))))","v":0.53141526663575789},{"$f":"IF(OR(J76<(QUARTILE($J$2:$J$501,1))-1.5*(QUARTILE($J$2:$J$501,3)-QUARTILE($J$2:$J$501,1)),J76>(QUARTILE($J$2:$J$501,3))+1.5*(QUARTILE($J$2:$J$501,3)-QUARTILE($J$2:$J$501,1))),\"\",J76)","v":0.53141526663575789},null,null,{"$f":"IF(COUNTIF($D$2:$D$501,D76)=1,\"\",IF(I76=\"\",\"\",ABS(IF(I76=\"\",0,(((H76*OFFSET($P$1,MATCH($D76,$O$2:$O$40,0),,)-G76)/G76))))))","v":0.43497978329587894},null,null,{"$f":"IFERROR(IF(COUNTIF($E$2:$E$501,E76)=1,\"\",IF(I76=\"\",\"\",ABS(IF(I76=\"\",0,(((H76*OFFSET($S$1,MATCH($E76,$R$2:$R$41,0),,)-G76)/G76)))))),\"\")","v":0.37349720472647824},null,null,{"$f":"IFERROR(IF(COUNTIF($F$2:$F$501,F76)=1,\"\",IF(I76=\"\",\"\",ABS(IF(I76=\"\",0,(((H76*OFFSET($V$1,MATCH($F76,$U$2:$U$105,0),,)-G76)/G76)))))),\"\")","v":0.45432229511271882},7535,{"$f":"IF(COUNT(IF($F$2:$F$501=U76,$I$2:$I$501))<$X$3,\"\",HARMEAN(IF($F$2:$F$501=U76,$I$2:$I$501)))","v":15.867105327253832},{"$f":"IF(OR(J76<(QUARTILE($J$2:$J$501,1))-1.5*(QUARTILE($J$2:$J$501,3)-QUARTILE($J$2:$J$501,1)),J76>(QUARTILE($J$2:$J$501,3))+1.5*(QUARTILE($J$2:$J$501,3)-QUARTILE($J$2:$J$501,1))),\"Outlier\")","v":false}]
[905596,"H&R BLOCK",5000,5300,5370,5377,15.85,0.89,{"$f":"(IF(IFERROR(G77/H77,\"\")<0,\"\",IFERROR(G77/H77,\"\")))","v":17.808988764044944},{"$f":"IF(COUNTIF($C$2:$C$501,C77)=1,\"\",IF(I77=\"\",\"\",ABS(IF(I77=\"\",0,(((H77*OFFSET($M$1,MATCH($C77,$L$2:$L$40,0),,)-G77)/G77))))))","v":0.11446336617192003},{"$f":"IF(OR(J77<(QUARTILE($J$2:$J$501,1))-1.5*(QUARTILE($J$2:$J$501,3)-QUARTILE($J$2:$J$501,1)),J77>(QUARTILE($J$2:$J$501,3))+1.5*(QUARTILE($J$2:$J$501,3)-QUARTILE($J$2:$J$501,1))),\"\",J77)","v":0.11446336617192003},null,null,{"$f":"IF(COUNTIF($D$2:$D$501,D77)=1,\"\",IF(I77=\"\",\"\",ABS(IF(I77=\"\",0,(((H77*OFFSET($P$1,MATCH($D77,$O$2:$O$40,0),,)-G77)/G77))))))","v":0.18179123108755449},null,null,{"$f":"IFERROR(IF(COUNTIF($E$2:$E$501,E77)=1,\"\",IF(I77=\"\",\"\",ABS(IF(I77=\"\",0,(((H77*OFFSET($S$1,MATCH($E77,$R$2:$R$41,0),,)-G77)/G77)))))),\"\")","v":0.19517584248173769},null,null,{"$f":"IFERROR(IF(COUNTIF($F$2:$F$501,F77)=1,\"\",IF(I77=\"\",\"\",ABS(IF(I77=\"\",0,(((H77*OFFSET($V$1,MATCH($F77,$U$2:$U$105,0),,)-G77)/G77)))))),\"\")","v":""},7573,{"$f":"IF(COUNT(IF($F$2:$F$501=U77,$I$2:$I$501))<$X$3,\"\",HARMEAN(IF($F$2:$F$501=U77,$I$2:$I$501)))","v":19.286736499120373},{"$f":"IF(OR(J77<(QUARTILE($J$2:$J$501,1))-1.5*(QUARTILE($J$2:$J$501,3)-QUARTILE($J$2:$J$501,1)),J77>(QUARTILE($J$2:$J$501,3))+1.5*(QUARTILE($J$2:$J$501,3)-QUARTILE($J$2:$J$501,1))),\"Outlier\")","v":false}]
[904818,"BOEING",2000,2700,2710,2713,71.58,5.76,{"$f":"(IF(IFERROR(G78/H78,\"\")<0,\"\",IFERROR(G78/H78,\"\")))","v":12.427083333333334},{"$f":"IF(COUNTIF($C$2:$C$501,C78)=1,\"\",IF(I78=\"\",\"\",ABS(IF(I78=\"\",0,(((H78*OFFSET($M$1,MATCH($C78,$L$2:$L$40,0),,)-G78)/G78))))))","v":0.16711464900565889},{"$f":"IF(OR(J78<(QUARTILE($J$2:$J$501,1))-1.5*(QUARTILE($J$2:$J$501,3)-QUARTILE($J$2:$J$501,1)),J78>(QUARTILE($J$2:$J$501,3))+1.5*(QUARTILE($J$2:$J$501,3)-QUARTILE($J$2:$J$501,1))),\"\",J78)","v":0.16711464900565889},null,null,{"$f":"IF(COUNTIF($D$2:$D$501,D78)=1,\"\",IF(I78=\"\",\"\",ABS(IF(I78=\"\",0,(((H78*OFFSET($P$1,MATCH($D78,$O$2:$O$40,0),,)-G78)/G78))))))","v":0.15219721088370369},null,null,{"$f":"IFERROR(IF(COUNTIF($E$2:$E$501,E78)=1,\"\",IF(I78=\"\",\"\",ABS(IF(I78=\"\",0,(((H78*OFFSET($S$1,MATCH($E78,$R$2:$R$41,0),,)-G78)/G78)))))),\"\")","v":8.6517618006880972E-2},null,null,{"$f":"IFERROR(IF(COUNTIF($F$2:$F$501,F78)=1,\"\",IF(I78=\"\",\"\",ABS(IF(I78=\"\",0,(((H78*OFFSET($V$1,MATCH($F78,$U$2:$U$105,0),,)-G78)/G78)))))),\"\")","v":0.24097323643403099},7575,{"$f":"IF(COUNT(IF($F$2:$F$501=U78,$I$2:$I$501))<$X$3,\"\",HARMEAN(IF($F$2:$F$501=U78,$I$2:$I$501)))","v":18.715057073398199},{"$f":"IF(OR(J78<(QUARTILE($J$2:$J$501,1))-1.5*(QUARTILE($J$2:$J$501,3)-QUARTILE($J$2:$J$501,1)),J78>(QUARTILE($J$2:$J$501,3))+1.5*(QUARTILE($J$2:$J$501,3)-QUARTILE($J$2:$J$501,1))),\"Outlier\")","v":false}]
[894371,"BOSTON PROPERTIES",8000,8600,8670,8671,104.86,2.0099999999999998,{"$f":"(IF(IFERROR(G79/H79,\"\")<0,\"\",IFERROR(G79/H79,\"\")))","v":52.169154228855724},{"$f":"IF(COUNTIF($C$2:$C$501,C79)=1,\"\",IF(I79=\"\",\"\",ABS(IF(I79=\"\",0,(((H79*OFFSET($M$1,MATCH($C79,$L$2:$L$40,0),,)-G79)/G79))))))","v":0.74504491597415878},{"$f":"IF(OR(J79<(QUARTILE($J$2:$J$501,1))-1.5*(QUARTILE($J$2:$J$501,3)-QUARTILE($J$2:$J$501,1)),J79>(QUARTILE($J$2:$J$501,3))+1.5*(QUARTILE($J$2:$J$501,3)-QUARTILE($J$2:$J$501,1))),\"\",J79)","v":0.74504491597415878},null,null,{"$f":"IF(COUNTIF($D$2:$D$501,D79)=1,\"\",IF(I79=\"\",\"\",ABS(IF(I79=\"\",0,(((H79*OFFSET($P$1,MATCH($D79,$O$2:$O$40,0),,)-G79)/G79))))))","v":0.14169794769298663},null,null,{"$f":"IFERROR(IF(COUNTIF($E$2:$E$501,E79)=1,\"\",IF(I79=\"\",\"\",ABS(IF(I79=\"\",0,(((H79*OFFSET($S$1,MATCH($E79,$R$2:$R$41,0),,)-G79)/G79)))))),\"\")","v":4.1330672042802302E-2},null,null,{"$f":"IFERROR(IF(COUNTIF($F$2:$F$501,F79)=1,\"\",IF(I79=\"\",\"\",ABS(IF(I79=\"\",0,(((H79*OFFSET($V$1,MATCH($F79,$U$2:$U$105,0),,)-G79)/G79)))))),\"\")","v":""},7577,{"$f":"IF(COUNT(IF($F$2:$F$501=U79,$I$2:$I$501))<$X$3,\"\",HARMEAN(IF($F$2:$F$501=U79,$I$2:$I$501)))","v":""},{"$f":"IF(OR(J79<(QUARTILE($J$2:$J$501,1))-1.5*(QUARTILE($J$2:$J$501,3)-QUARTILE($J$2:$J$501,1)),J79>(QUARTILE($J$2:$J$501,3))+1.5*(QUARTILE($J$2:$J$501,3)-QUARTILE($J$2:$J$501,1))),\"Outlier\")","v":false}]
[325824,"BOSTON SCIENTIFIC",4000,4500,4530,4535,5.55,0.34,{"$f":"(IF(IFERROR(G80/H80,\"\")<0,\"\",IFERROR(G80/H80,\"\")))","v":16.323529411764703},{"$f":"IF(COUNTIF($C$2:$C$501,C80)=1,\"\",IF(I80=\"\",\"\",ABS(IF(I80=\"\",0,(((H80*OFFSET($M$1,MATCH($C80,$L$2:$L$40,0),,)-G80)/G80))))))","v":3.689538259242512E-2},{"$f":"IF(OR(J80<(QUARTILE($J$2:$J$501,1))-1.5*(QUARTILE($J$2:$J$501,3)-QUARTILE($J$2:$J$501,1)),J80>(QUARTILE($J$2:$J$501,3))+1.5*(QUARTILE($J$2:$J$501,3)-QUARTILE($J$2:$J$501,1))),\"\",J80)","v":3.689538259242512E-2},null,null,{"$f":"IF(COUNTIF($D$2:$D$501,D80)=1,\"\",IF(I80=\"\",\"\",ABS(IF(I80=\"\",0,(((H80*OFFSET($P$1,MATCH($D80,$O$2:$O$40,0),,)-G80)/G80))))))","v":3.689538259242512E-2},null,null,{"$f":"IFERROR(IF(COUNTIF($E$2:$E$501,E80)=1,\"\",IF(I80=\"\",\"\",ABS(IF(I80=\"\",0,(((H80*OFFSET($S$1,MATCH($E80,$R$2:$R$41,0),,)-G80)/G80)))))),\"\")","v":6.2844364977127976E-2},null,null,{"$f":"IFERROR(IF(COUNTIF($F$2:$F$501,F80)=1,\"\",IF(I80=\"\",\"\",ABS(IF(I80=\"\",0,(((H80*OFFSET($V$1,MATCH($F80,$U$2:$U$105,0),,)-G80)/G80)))))),\"\")","v":4.5264054078610796E-2},8355,{"$f":"IF(COUNT(IF($F$2:$F$501=U80,$I$2:$I$501))<$X$3,\"\",HARMEAN(IF($F$2:$F$501=U80,$I$2:$I$501)))","v":12.171450966040917},{"$f":"IF(OR(J80<(QUARTILE($J$2:$J$501,1))-1.5*(QUARTILE($J$2:$J$501,3)-QUARTILE($J$2:$J$501,1)),J80>(QUARTILE($J$2:$J$501,3))+1.5*(QUARTILE($J$2:$J$501,3)-QUARTILE($J$2:$J$501,1))),\"Outlier\")","v":false}]
[905080,"BRISTOL MYERS SQUIBB",4000,4500,4570,4577,35.08,2.23,{"$f":"(IF(IFERROR(G81/H81,\"\")<0,\"\",IFERROR(G81/H81,\"\")))","v":15.730941704035875},{"$f":"IF(COUNTIF($C$2:$C$501,C81)=1,\"\",IF(I81=\"\",\"\",ABS(IF(I81=\"\",0,(((H81*OFFSET($M$1,MATCH($C81,$L$2:$L$40,0),,)-G81)/G81))))))","v":7.5955438213088436E-2},{"$f":"IF(OR(J81<(QUARTILE($J$2:$J$501,1))-1.5*(QUARTILE($J$2:$J$501,3)-QUARTILE($J$2:$J$501,1)),J81>(QUARTILE($J$2:$J$501,3))+1.5*(QUARTILE($J$2:$J$501,3)-QUARTILE($J$2:$J$501,1))),\"\",J81)","v":7.5955438213088436E-2},null,null,{"$f":"IF(COUNTIF($D$2:$D$501,D81)=1,\"\",IF(I81=\"\",\"\",ABS(IF(I81=\"\",0,(((H81*OFFSET($P$1,MATCH($D81,$O$2:$O$40,0),,)-G81)/G81))))))","v":7.5955438213088436E-2},null,null,{"$f":"IFERROR(IF(COUNTIF($E$2:$E$501,E81)=1,\"\",IF(I81=\"\",\"\",ABS(IF(I81=\"\",0,(((H81*OFFSET($S$1,MATCH($E81,$R$2:$R$41,0),,)-G81)/G81)))))),\"\")","v":0.2643416047108843},null,null,{"$f":"IFERROR(IF(COUNTIF($F$2:$F$501,F81)=1,\"\",IF(I81=\"\",\"\",ABS(IF(I81=\"\",0,(((H81*OFFSET($V$1,MATCH($F81,$U$2:$U$105,0),,)-G81)/G81)))))),\"\")","v":0.17296016644916615},8532,{"$f":"IF(COUNT(IF($F$2:$F$501=U81,$I$2:$I$501))<$X$3,\"\",HARMEAN(IF($F$2:$F$501=U81,$I$2:$I$501)))","v":""},{"$f":"IF(OR(J81<(QUARTILE($J$2:$J$501,1))-1.5*(QUARTILE($J$2:$J$501,3)-QUARTILE($J$2:$J$501,1)),J81>(QUARTILE($J$2:$J$501,3))+1.5*(QUARTILE($J$2:$J$501,3)-QUARTILE($J$2:$J$501,1))),\"Outlier\")","v":false}]
[680006,"BROADCOM 'A'",9000,9500,9570,9576,32.479999999999997,1.39,{"$f":"(IF(IFERROR(G82/H82,\"\")<0,\"\",IFERROR(G82/H82,\"\")))","v":23.366906474820144},{"$f":"IF(COUNTIF($C$2:$C$501,C82)=1,\"\",IF(I82=\"\",\"\",ABS(IF(I82=\"\",0,(((H82*OFFSET($M$1,MATCH($C82,$L$2:$L$40,0),,)-G82)/G82))))))","v":0.43971969673788813},{"$f":"IF(OR(J82<(QUARTILE($J$2:$J$501,1))-1.5*(QUARTILE($J$2:$J$501,3)-QUARTILE($J$2:$J$501,1)),J82>(QUARTILE($J$2:$J$501,3))+1.5*(QUARTILE($J$2:$J$501,3)-QUARTILE($J$2:$J$501,1))),\"\",J82)","v":0.43971969673788813},null,null,{"$f":"IF(COUNTIF($D$2:$D$501,D82)=1,\"\",IF(I82=\"\",\"\",ABS(IF(I82=\"\",0,(((H82*OFFSET($P$1,MATCH($D82,$O$2:$O$40,0),,)-G82)/G82))))))","v":0.43971969673788813},null,null,{"$f":"IFERROR(IF(COUNTIF($E$2:$E$501,E82)=1,\"\",IF(I82=\"\",\"\",ABS(IF(I82=\"\",0,(((H82*OFFSET($S$1,MATCH($E82,$R$2:$R$41,0),,)-G82)/G82)))))),\"\")","v":0.46296392106608925},null,null,{"$f":"IFERROR(IF(COUNTIF($F$2:$F$501,F82)=1,\"\",IF(I82=\"\",\"\",ABS(IF(I82=\"\",0,(((H82*OFFSET($V$1,MATCH($F82,$U$2:$U$105,0),,)-G82)/G82)))))),\"\")","v":0.40552594952014098},8534,{"$f":"IF(COUNT(IF($F$2:$F$501=U82,$I$2:$I$501))<$X$3,\"\",HARMEAN(IF($F$2:$F$501=U82,$I$2:$I$501)))","v":""},{"$f":"IF(OR(J82<(QUARTILE($J$2:$J$501,1))-1.5*(QUARTILE($J$2:$J$501,3)-QUARTILE($J$2:$J$501,1)),J82>(QUARTILE($J$2:$J$501,3))+1.5*(QUARTILE($J$2:$J$501,3)-QUARTILE($J$2:$J$501,1))),\"Outlier\")","v":false}]
[912216,"BROWN-FORMAN 'B'",3000,3500,3530,3535,94.7,3.95,{"$f":"(IF(IFERROR(G83/H83,\"\")<0,\"\",IFERROR(G83/H83,\"\")))","v":23.974683544303797},{"$f":"IF(COUNTIF($C$2:$C$501,C83)=1,\"\",IF(I83=\"\",\"\",ABS(IF(I83=\"\",0,(((H83*OFFSET($M$1,MATCH($C83,$L$2:$L$40,0),,)-G83)/G83))))))","v":0.33303878341399507},{"$f":"IF(OR(J83<(QUARTILE($J$2:$J$501,1))-1.5*(QUARTILE($J$2:$J$501,3)-QUARTILE($J$2:$J$501,1)),J83>(QUARTILE($J$2:$J$501,3))+1.5*(QUARTILE($J$2:$J$501,3)-QUARTILE($J$2:$J$501,1))),\"\",J83)","v":0.33303878341399507},null,null,{"$f":"IF(COUNTIF($D$2:$D$501,D83)=1,\"\",IF(I83=\"\",\"\",ABS(IF(I83=\"\",0,(((H83*OFFSET($P$1,MATCH($D83,$O$2:$O$40,0),,)-G83)/G83))))))","v":0.25486705965602191},null,null,{"$f":"IFERROR(IF(COUNTIF($E$2:$E$501,E83)=1,\"\",IF(I83=\"\",\"\",ABS(IF(I83=\"\",0,(((H83*OFFSET($S$1,MATCH($E83,$R$2:$R$41,0),,)-G83)/G83)))))),\"\")","v":0.25260028469865581},null,null,{"$f":"IFERROR(IF(COUNTIF($F$2:$F$501,F83)=1,\"\",IF(I83=\"\",\"\",ABS(IF(I83=\"\",0,(((H83*OFFSET($V$1,MATCH($F83,$U$2:$U$105,0),,)-G83)/G83)))))),\"\")","v":""},8536,{"$f":"IF(COUNT(IF($F$2:$F$501=U83,$I$2:$I$501))<$X$3,\"\",HARMEAN(IF($F$2:$F$501=U83,$I$2:$I$501)))","v":14.359207435506509},{"$f":"IF(OR(J83<(QUARTILE($J$2:$J$501,1))-1.5*(QUARTILE($J$2:$J$501,3)-QUARTILE($J$2:$J$501,1)),J83>(QUARTILE($J$2:$J$501,3))+1.5*(QUARTILE($J$2:$J$501,3)-QUARTILE($J$2:$J$501,1))),\"Outlier\")","v":false}]
[921436,"BRUNSWICK",3000,3700,3740,3745,21.26,0.91,{"$f":"(IF(IFERROR(G84/H84,\"\")<0,\"\",IFERROR(G84/H84,\"\")))","v":23.362637362637365},{"$f":"IF(COUNTIF($C$2:$C$501,C84)=1,\"\",IF(I84=\"\",\"\",ABS(IF(I84=\"\",0,(((H84*OFFSET($M$1,MATCH($C84,$L$2:$L$40,0),,)-G84)/G84))))))","v":0.31556596732757614},{"$f":"IF(OR(J84<(QUARTILE($J$2:$J$501,1))-1.5*(QUARTILE($J$2:$J$501,3)-QUARTILE($J$2:$J$501,1)),J84>(QUARTILE($J$2:$J$501,3))+1.5*(QUARTILE($J$2:$J$501,3)-QUARTILE($J$2:$J$501,1))),\"\",J84)","v":0.31556596732757614},null,null,{"$f":"IF(COUNTIF($D$2:$D$501,D84)=1,\"\",IF(I84=\"\",\"\",ABS(IF(I84=\"\",0,(((H84*OFFSET($P$1,MATCH($D84,$O$2:$O$40,0),,)-G84)/G84))))))","v":0.17470835491423842},null,null,{"$f":"IFERROR(IF(COUNTIF($E$2:$E$501,E84)=1,\"\",IF(I84=\"\",\"\",ABS(IF(I84=\"\",0,(((H84*OFFSET($S$1,MATCH($E84,$R$2:$R$41,0),,)-G84)/G84)))))),\"\")","v":0.3317510629728791},null,null,{"$f":"IFERROR(IF(COUNTIF($F$2:$F$501,F84)=1,\"\",IF(I84=\"\",\"\",ABS(IF(I84=\"\",0,(((H84*OFFSET($V$1,MATCH($F84,$U$2:$U$105,0),,)-G84)/G84)))))),\"\")","v":""},8538,{"$f":"IF(COUNT(IF($F$2:$F$501=U84,$I$2:$I$501))<$X$3,\"\",HARMEAN(IF($F$2:$F$501=U84,$I$2:$I$501)))","v":""},{"$f":"IF(OR(J84<(QUARTILE($J$2:$J$501,1))-1.5*(QUARTILE($J$2:$J$501,3)-QUARTILE($J$2:$J$501,1)),J84>(QUARTILE($J$2:$J$501,3))+1.5*(QUARTILE($J$2:$J$501,3)-QUARTILE($J$2:$J$501,1))),\"Outlier\")","v":false}]
[916098,"BURL.NTHN.SANTA FE C DEAD - DELIST.26/02/10",2000,2700,2770,2775,100.21,5.01,{"$f":"(IF(IFERROR(G85/H85,\"\")<0,\"\",IFERROR(G85/H85,\"\")))","v":20.001996007984033},{"$f":"IF(COUNTIF($C$2:$C$501,C85)=1,\"\",IF(I85=\"\",\"\",ABS(IF(I85=\"\",0,(((H85*OFFSET($M$1,MATCH($C85,$L$2:$L$40,0),,)-G85)/G85))))))","v":0.27488081704655726},{"$f":"IF(OR(J85<(QUARTILE($J$2:$J$501,1))-1.5*(QUARTILE($J$2:$J$501,3)-QUARTILE($J$2:$J$501,1)),J85>(QUARTILE($J$2:$J$501,3))+1.5*(QUARTILE($J$2:$J$501,3)-QUARTILE($J$2:$J$501,1))),\"\",J85)","v":0.27488081704655726},null,null,{"$f":"IF(COUNTIF($D$2:$D$501,D85)=1,\"\",IF(I85=\"\",\"\",ABS(IF(I85=\"\",0,(((H85*OFFSET($P$1,MATCH($D85,$O$2:$O$40,0),,)-G85)/G85))))))","v":0.28414890442080637},null,null,{"$f":"IFERROR(IF(COUNTIF($E$2:$E$501,E85)=1,\"\",IF(I85=\"\",\"\",ABS(IF(I85=\"\",0,(((H85*OFFSET($S$1,MATCH($E85,$R$2:$R$41,0),,)-G85)/G85)))))),\"\")","v":0.26465482953974862},null,null,{"$f":"IFERROR(IF(COUNTIF($F$2:$F$501,F85)=1,\"\",IF(I85=\"\",\"\",ABS(IF(I85=\"\",0,(((H85*OFFSET($V$1,MATCH($F85,$U$2:$U$105,0),,)-G85)/G85)))))),\"\")","v":0.27337263350985463},8575,{"$f":"IF(COUNT(IF($F$2:$F$501=U85,$I$2:$I$501))<$X$3,\"\",HARMEAN(IF($F$2:$F$501=U85,$I$2:$I$501)))","v":10.388840421144041},{"$f":"IF(OR(J85<(QUARTILE($J$2:$J$501,1))-1.5*(QUARTILE($J$2:$J$501,3)-QUARTILE($J$2:$J$501,1)),J85>(QUARTILE($J$2:$J$501,3))+1.5*(QUARTILE($J$2:$J$501,3)-QUARTILE($J$2:$J$501,1))),\"Outlier\")","v":false}]
[879628,"CH ROBINSON WWD.",2000,2700,2770,2779,56.66,2.69,{"$f":"(IF(IFERROR(G86/H86,\"\")<0,\"\",IFERROR(G86/H86,\"\")))","v":21.063197026022305},{"$f":"IF(COUNTIF($C$2:$C$501,C86)=1,\"\",IF(I86=\"\",\"\",ABS(IF(I86=\"\",0,(((H86*OFFSET($M$1,MATCH($C86,$L$2:$L$40,0),,)-G86)/G86))))))","v":0.31141360046963429},{"$f":"IF(OR(J86<(QUARTILE($J$2:$J$501,1))-1.5*(QUARTILE($J$2:$J$501,3)-QUARTILE($J$2:$J$501,1)),J86>(QUARTILE($J$2:$J$501,3))+1.5*(QUARTILE($J$2:$J$501,3)-QUARTILE($J$2:$J$501,1))),\"\",J86)","v":0.31141360046963429},null,null,{"$f":"IF(COUNTIF($D$2:$D$501,D86)=1,\"\",IF(I86=\"\",\"\",ABS(IF(I86=\"\",0,(((H86*OFFSET($P$1,MATCH($D86,$O$2:$O$40,0),,)-G86)/G86))))))","v":0.3202147452546521},null,null,{"$f":"IFERROR(IF(COUNTIF($E$2:$E$501,E86)=1,\"\",IF(I86=\"\",\"\",ABS(IF(I86=\"\",0,(((H86*OFFSET($S$1,MATCH($E86,$R$2:$R$41,0),,)-G86)/G86)))))),\"\")","v":0.30170281625030693},null,null,{"$f":"IFERROR(IF(COUNTIF($F$2:$F$501,F86)=1,\"\",IF(I86=\"\",\"\",ABS(IF(I86=\"\",0,(((H86*OFFSET($V$1,MATCH($F86,$U$2:$U$105,0),,)-G86)/G86)))))),\"\")","v":""},8633,{"$f":"IF(COUNT(IF($F$2:$F$501=U86,$I$2:$I$501))<$X$3,\"\",HARMEAN(IF($F$2:$F$501=U86,$I$2:$I$501)))","v":""},{"$f":"IF(OR(J86<(QUARTILE($J$2:$J$501,1))-1.5*(QUARTILE($J$2:$J$501,3)-QUARTILE($J$2:$J$501,1)),J86>(QUARTILE($J$2:$J$501,3))+1.5*(QUARTILE($J$2:$J$501,3)-QUARTILE($J$2:$J$501,1))),\"Outlier\")","v":false}]
[998326,"CA",9000,9500,9530,9537,25.92,1.88,{"$f":"(IF(IFERROR(G87/H87,\"\")<0,\"\",IFERROR(G87/H87,\"\")))","v":13.787234042553193},{"$f":"IF(COUNTIF($C$2:$C$501,C87)=1,\"\",IF(I87=\"\",\"\",ABS(IF(I87=\"\",0,(((H87*OFFSET($M$1,MATCH($C87,$L$2:$L$40,0),,)-G87)/G87))))))","v":5.0424660551770285E-2},{"$f":"IF(OR(J87<(QUARTILE($J$2:$J$501,1))-1.5*(QUARTILE($J$2:$J$501,3)-QUARTILE($J$2:$J$501,1)),J87>(QUARTILE($J$2:$J$501,3))+1.5*(QUARTILE($J$2:$J$501,3)-QUARTILE($J$2:$J$501,1))),\"\",J87)","v":5.0424660551770285E-2},null,null,{"$f":"IF(COUNTIF($D$2:$D$501,D87)=1,\"\",IF(I87=\"\",\"\",ABS(IF(I87=\"\",0,(((H87*OFFSET($P$1,MATCH($D87,$O$2:$O$40,0),,)-G87)/G87))))))","v":5.0424660551770285E-2},null,null,{"$f":"IFERROR(IF(COUNTIF($E$2:$E$501,E87)=1,\"\",IF(I87=\"\",\"\",ABS(IF(I87=\"\",0,(((H87*OFFSET($S$1,MATCH($E87,$R$2:$R$41,0),,)-G87)/G87)))))),\"\")","v":2.4239000431743089E-2},null,null,{"$f":"IFERROR(IF(COUNTIF($F$2:$F$501,F87)=1,\"\",IF(I87=\"\",\"\",ABS(IF(I87=\"\",0,(((H87*OFFSET($V$1,MATCH($F87,$U$2:$U$105,0),,)-G87)/G87)))))),\"\")","v":5.1167988579074404E-2},8637,{"$f":"IF(COUNT(IF($F$2:$F$501=U87,$I$2:$I$501))<$X$3,\"\",HARMEAN(IF($F$2:$F$501=U87,$I$2:$I$501)))","v":""},{"$f":"IF(OR(J87<(QUARTILE($J$2:$J$501,1))-1.5*(QUARTILE($J$2:$J$501,3)-QUARTILE($J$2:$J$501,1)),J87>(QUARTILE($J$2:$J$501,3))+1.5*(QUARTILE($J$2:$J$501,3)-QUARTILE($J$2:$J$501,1))),\"Outlier\")","v":false}]
["28513N","CBRE GROUP CLASS A",8000,8600,8630,8637,15.75,0.72,{"$f":"(IF(IFERROR(G88/H88,\"\")<0,\"\",IFERROR(G88/H88,\"\")))","v":21.875},{"$f":"IF(COUNTIF($C$2:$C$501,C88)=1,\"\",IF(I88=\"\",\"\",ABS(IF(I88=\"\",0,(((H88*OFFSET($M$1,MATCH($C88,$L$2:$L$40,0),,)-G88)/G88))))))","v":0.39196383542971514},{"$f":"IF(OR(J88<(QUARTILE($J$2:$J$501,1))-1.5*(QUARTILE($J$2:$J$501,3)-QUARTILE($J$2:$J$501,1)),J88>(QUARTILE($J$2:$J$501,3))+1.5*(QUARTILE($J$2:$J$501,3)-QUARTILE($J$2:$J$501,1))),\"\",J88)","v":0.39196383542971514},null,null,{"$f":"IF(COUNTIF($D$2:$D$501,D88)=1,\"\",IF(I88=\"\",\"\",ABS(IF(I88=\"\",0,(((H88*OFFSET($P$1,MATCH($D88,$O$2:$O$40,0),,)-G88)/G88))))))","v":1.0469436407656216},null,null,{"$f":"IFERROR(IF(COUNTIF($E$2:$E$501,E88)=1,\"\",IF(I88=\"\",\"\",ABS(IF(I88=\"\",0,(((H88*OFFSET($S$1,MATCH($E88,$R$2:$R$41,0),,)-G88)/G88)))))),\"\")","v":""},null,null,{"$f":"IFERROR(IF(COUNTIF($F$2:$F$501,F88)=1,\"\",IF(I88=\"\",\"\",ABS(IF(I88=\"\",0,(((H88*OFFSET($V$1,MATCH($F88,$U$2:$U$105,0),,)-G88)/G88)))))),\"\")","v":""},8671,{"$f":"IF(COUNT(IF($F$2:$F$501=U88,$I$2:$I$501))<$X$3,\"\",HARMEAN(IF($F$2:$F$501=U88,$I$2:$I$501)))","v":""},{"$f":"IF(OR(J88<(QUARTILE($J$2:$J$501,1))-1.5*(QUARTILE($J$2:$J$501,3)-QUARTILE($J$2:$J$501,1)),J88>(QUARTILE($J$2:$J$501,3))+1.5*(QUARTILE($J$2:$J$501,3)-QUARTILE($J$2:$J$501,1))),\"Outlier\")","v":false}]
["32480Q","CBS 'B'",5000,5500,5550,5553,31.76,1.92,{"$f":"(IF(IFERROR(G89/H89,\"\")<0,\"\",IFERROR(G89/H89,\"\")))","v":16.541666666666668},{"$f":"IF(COUNTIF($C$2:$C$501,C89)=1,\"\",IF(I89=\"\",\"\",ABS(IF(I89=\"\",0,(((H89*OFFSET($M$1,MATCH($C89,$L$2:$L$40,0),,)-G89)/G89))))))","v":4.6618924211921972E-2},{"$f":"IF(OR(J89<(QUARTILE($J$2:$J$501,1))-1.5*(QUARTILE($J$2:$J$501,3)-QUARTILE($J$2:$J$501,1)),J89>(QUARTILE($J$2:$J$501,3))+1.5*(QUARTILE($J$2:$J$501,3)-QUARTILE($J$2:$J$501,1))),\"\",J89)","v":4.6618924211921972E-2},null,null,{"$f":"IF(COUNTIF($D$2:$D$501,D89)=1,\"\",IF(I89=\"\",\"\",ABS(IF(I89=\"\",0,(((H89*OFFSET($P$1,MATCH($D89,$O$2:$O$40,0),,)-G89)/G89))))))","v":8.2902084174731258E-2},null,null,{"$f":"IFERROR(IF(COUNTIF($E$2:$E$501,E89)=1,\"\",IF(I89=\"\",\"\",ABS(IF(I89=\"\",0,(((H89*OFFSET($S$1,MATCH($E89,$R$2:$R$41,0),,)-G89)/G89)))))),\"\")","v":8.2902084174731258E-2},null,null,{"$f":"IFERROR(IF(COUNTIF($F$2:$F$501,F89)=1,\"\",IF(I89=\"\",\"\",ABS(IF(I89=\"\",0,(((H89*OFFSET($V$1,MATCH($F89,$U$2:$U$105,0),,)-G89)/G89)))))),\"\")","v":2.3743829973120568E-2},8672,{"$f":"IF(COUNT(IF($F$2:$F$501=U89,$I$2:$I$501))<$X$3,\"\",HARMEAN(IF($F$2:$F$501=U89,$I$2:$I$501)))","v":""},{"$f":"IF(OR(J89<(QUARTILE($J$2:$J$501,1))-1.5*(QUARTILE($J$2:$J$501,3)-QUARTILE($J$2:$J$501,1)),J89>(QUARTILE($J$2:$J$501,3))+1.5*(QUARTILE($J$2:$J$501,3)-QUARTILE($J$2:$J$501,1))),\"Outlier\")","v":false}]
[912278,"CIGNA",4000,4500,4530,4533,44.18,4.5599999999999996,{"$f":"(IF(IFERROR(G90/H90,\"\")<0,\"\",IFERROR(G90/H90,\"\")))","v":9.6885964912280702},{"$f":"IF(COUNTIF($C$2:$C$501,C90)=1,\"\",IF(I90=\"\",\"\",ABS(IF(I90=\"\",0,(((H90*OFFSET($M$1,MATCH($C90,$L$2:$L$40,0),,)-G90)/G90))))))","v":0.74698082327970383},{"$f":"IF(OR(J90<(QUARTILE($J$2:$J$501,1))-1.5*(QUARTILE($J$2:$J$501,3)-QUARTILE($J$2:$J$501,1)),J90>(QUARTILE($J$2:$J$501,3))+1.5*(QUARTILE($J$2:$J$501,3)-QUARTILE($J$2:$J$501,1))),\"\",J90)","v":0.74698082327970383},null,null,{"$f":"IF(COUNTIF($D$2:$D$501,D90)=1,\"\",IF(I90=\"\",\"\",ABS(IF(I90=\"\",0,(((H90*OFFSET($P$1,MATCH($D90,$O$2:$O$40,0),,)-G90)/G90))))))","v":0.74698082327970383},null,null,{"$f":"IFERROR(IF(COUNTIF($E$2:$E$501,E90)=1,\"\",IF(I90=\"\",\"\",ABS(IF(I90=\"\",0,(((H90*OFFSET($S$1,MATCH($E90,$R$2:$R$41,0),,)-G90)/G90)))))),\"\")","v":0.5789374225200945},null,null,{"$f":"IFERROR(IF(COUNTIF($F$2:$F$501,F90)=1,\"\",IF(I90=\"\",\"\",ABS(IF(I90=\"\",0,(((H90*OFFSET($V$1,MATCH($F90,$U$2:$U$105,0),,)-G90)/G90)))))),\"\")","v":0.33655318249765415},8673,{"$f":"IF(COUNT(IF($F$2:$F$501=U90,$I$2:$I$501))<$X$3,\"\",HARMEAN(IF($F$2:$F$501=U90,$I$2:$I$501)))","v":""},{"$f":"IF(OR(J90<(QUARTILE($J$2:$J$501,1))-1.5*(QUARTILE($J$2:$J$501,3)-QUARTILE($J$2:$J$501,1)),J90>(QUARTILE($J$2:$J$501,3))+1.5*(QUARTILE($J$2:$J$501,3)-QUARTILE($J$2:$J$501,1))),\"Outlier\")","v":false}]
["25744E","CIT GROUP DEAD - DELIST.10/12/09",8000,8700,8770,8775,0.04,0,{"$f":"(IF(IFERROR(G91/H91,\"\")<0,\"\",IFERROR(G91/H91,\"\")))","v":""},{"$f":"IF(COUNTIF($C$2:$C$501,C91)=1,\"\",IF(I91=\"\",\"\",ABS(IF(I91=\"\",0,(((H91*OFFSET($M$1,MATCH($C91,$L$2:$L$40,0),,)-G91)/G91))))))","v":""},{"$f":"IF(OR(J91<(QUARTILE($J$2:$J$501,1))-1.5*(QUARTILE($J$2:$J$501,3)-QUARTILE($J$2:$J$501,1)),J91>(QUARTILE($J$2:$J$501,3))+1.5*(QUARTILE($J$2:$J$501,3)-QUARTILE($J$2:$J$501,1))),\"\",J91)","v":""},null,null,{"$f":"IF(COUNTIF($D$2:$D$501,D91)=1,\"\",IF(I91=\"\",\"\",ABS(IF(I91=\"\",0,(((H91*OFFSET($P$1,MATCH($D91,$O$2:$O$40,0),,)-G91)/G91))))))","v":""},null,null,{"$f":"IFERROR(IF(COUNTIF($E$2:$E$501,E91)=1,\"\",IF(I91=\"\",\"\",ABS(IF(I91=\"\",0,(((H91*OFFSET($S$1,MATCH($E91,$R$2:$R$41,0),,)-G91)/G91)))))),\"\")","v":""},null,null,{"$f":"IFERROR(IF(COUNTIF($F$2:$F$501,F91)=1,\"\",IF(I91=\"\",\"\",ABS(IF(I91=\"\",0,(((H91*OFFSET($V$1,MATCH($F91,$U$2:$U$105,0),,)-G91)/G91)))))),\"\")","v":""},8675,{"$f":"IF(COUNT(IF($F$2:$F$501=U91,$I$2:$I$501))<$X$3,\"\",HARMEAN(IF($F$2:$F$501=U91,$I$2:$I$501)))","v":""},{"$f":"IF(OR(J91<(QUARTILE($J$2:$J$501,1))-1.5*(QUARTILE($J$2:$J$501,3)-QUARTILE($J$2:$J$501,1)),J91>(QUARTILE($J$2:$J$501,3))+1.5*(QUARTILE($J$2:$J$501,3)-QUARTILE($J$2:$J$501,1))),\"Outlier\")","v":"Outlier"}]
[901686,"CMS ENERGY",7000,7500,7530,7535,23.33,1.31,{"$f":"(IF(IFERROR(G92/H92,\"\")<0,\"\",IFERROR(G92/H92,\"\")))","v":17.809160305343511},{"$f":"IF(COUNTIF($C$2:$C$501,C92)=1,\"\",IF(I92=\"\",\"\",ABS(IF(I92=\"\",0,(((H92*OFFSET($M$1,MATCH($C92,$L$2:$L$40,0),,)-G92)/G92))))))","v":5.7280345849815902E-2},{"$f":"IF(OR(J92<(QUARTILE($J$2:$J$501,1))-1.5*(QUARTILE($J$2:$J$501,3)-QUARTILE($J$2:$J$501,1)),J92>(QUARTILE($J$2:$J$501,3))+1.5*(QUARTILE($J$2:$J$501,3)-QUARTILE($J$2:$J$501,1))),\"\",J92)","v":5.7280345849815902E-2},null,null,{"$f":"IF(COUNTIF($D$2:$D$501,D92)=1,\"\",IF(I92=\"\",\"\",ABS(IF(I92=\"\",0,(((H92*OFFSET($P$1,MATCH($D92,$O$2:$O$40,0),,)-G92)/G92))))))","v":5.7280345849815902E-2},null,null,{"$f":"IFERROR(IF(COUNTIF($E$2:$E$501,E92)=1,\"\",IF(I92=\"\",\"\",ABS(IF(I92=\"\",0,(((H92*OFFSET($S$1,MATCH($E92,$R$2:$R$41,0),,)-G92)/G92)))))),\"\")","v":0.10904809349753437},null,null,{"$f":"IFERROR(IF(COUNTIF($F$2:$F$501,F92)=1,\"\",IF(I92=\"\",\"\",ABS(IF(I92=\"\",0,(((H92*OFFSET($V$1,MATCH($F92,$U$2:$U$105,0),,)-G92)/G92)))))),\"\")","v":0.10904809349753437},8677,{"$f":"IF(COUNT(IF($F$2:$F$501=U92,$I$2:$I$501))<$X$3,\"\",HARMEAN(IF($F$2:$F$501=U92,$I$2:$I$501)))","v":""},{"$f":"IF(OR(J92<(QUARTILE($J$2:$J$501,1))-1.5*(QUARTILE($J$2:$J$501,3)-QUARTILE($J$2:$J$501,1)),J92>(QUARTILE($J$2:$J$501,3))+1.5*(QUARTILE($J$2:$J$501,3)-QUARTILE($J$2:$J$501,1))),\"Outlier\")","v":false}]
[696703,"CONSOL EN.",1000,1700,1770,1771,29.31,2.34,{"$f":"(IF(IFERROR(G93/H93,\"\")<0,\"\",IFERROR(G93/H93,\"\")))","v":12.525641025641026},{"$f":"IF(COUNTIF($C$2:$C$501,C93)=1,\"\",IF(I93=\"\",\"\",ABS(IF(I93=\"\",0,(((H93*OFFSET($M$1,MATCH($C93,$L$2:$L$40,0),,)-G93)/G93))))))","v":0.23721232563018529},{"$f":"IF(OR(J93<(QUARTILE($J$2:$J$501,1))-1.5*(QUARTILE($J$2:$J$501,3)-QUARTILE($J$2:$J$501,1)),J93>(QUARTILE($J$2:$J$501,3))+1.5*(QUARTILE($J$2:$J$501,3)-QUARTILE($J$2:$J$501,1))),\"\",J93)","v":0.23721232563018529},null,null,{"$f":"IF(COUNTIF($D$2:$D$501,D93)=1,\"\",IF(I93=\"\",\"\",ABS(IF(I93=\"\",0,(((H93*OFFSET($P$1,MATCH($D93,$O$2:$O$40,0),,)-G93)/G93))))))","v":4.5329231903465288E-3},null,null,{"$f":"IFERROR(IF(COUNTIF($E$2:$E$501,E93)=1,\"\",IF(I93=\"\",\"\",ABS(IF(I93=\"\",0,(((H93*OFFSET($S$1,MATCH($E93,$R$2:$R$41,0),,)-G93)/G93)))))),\"\")","v":""},null,null,{"$f":"IFERROR(IF(COUNTIF($F$2:$F$501,F93)=1,\"\",IF(I93=\"\",\"\",ABS(IF(I93=\"\",0,(((H93*OFFSET($V$1,MATCH($F93,$U$2:$U$105,0),,)-G93)/G93)))))),\"\")","v":""},8771,{"$f":"IF(COUNT(IF($F$2:$F$501=U93,$I$2:$I$501))<$X$3,\"\",HARMEAN(IF($F$2:$F$501=U93,$I$2:$I$501)))","v":13.72443440906939},{"$f":"IF(OR(J93<(QUARTILE($J$2:$J$501,1))-1.5*(QUARTILE($J$2:$J$501,3)-QUARTILE($J$2:$J$501,1)),J93>(QUARTILE($J$2:$J$501,3))+1.5*(QUARTILE($J$2:$J$501,3)-QUARTILE($J$2:$J$501,1))),\"Outlier\")","v":false}]
[993189,"CSX",2000,2700,2770,2775,21.88,1.75,{"$f":"(IF(IFERROR(G94/H94,\"\")<0,\"\",IFERROR(G94/H94,\"\")))","v":12.502857142857142},{"$f":"IF(COUNTIF($C$2:$C$501,C94)=1,\"\",IF(I94=\"\",\"\",ABS(IF(I94=\"\",0,(((H94*OFFSET($M$1,MATCH($C94,$L$2:$L$40,0),,)-G94)/G94))))))","v":0.16004132791626882},{"$f":"IF(OR(J94<(QUARTILE($J$2:$J$501,1))-1.5*(QUARTILE($J$2:$J$501,3)-QUARTILE($J$2:$J$501,1)),J94>(QUARTILE($J$2:$J$501,3))+1.5*(QUARTILE($J$2:$J$501,3)-QUARTILE($J$2:$J$501,1))),\"\",J94)","v":0.16004132791626882},null,null,{"$f":"IF(COUNTIF($D$2:$D$501,D94)=1,\"\",IF(I94=\"\",\"\",ABS(IF(I94=\"\",0,(((H94*OFFSET($P$1,MATCH($D94,$O$2:$O$40,0),,)-G94)/G94))))))","v":0.14521429721894644},null,null,{"$f":"IFERROR(IF(COUNTIF($E$2:$E$501,E94)=1,\"\",IF(I94=\"\",\"\",ABS(IF(I94=\"\",0,(((H94*OFFSET($S$1,MATCH($E94,$R$2:$R$41,0),,)-G94)/G94)))))),\"\")","v":0.17640080151112891},null,null,{"$f":"IFERROR(IF(COUNTIF($F$2:$F$501,F94)=1,\"\",IF(I94=\"\",\"\",ABS(IF(I94=\"\",0,(((H94*OFFSET($V$1,MATCH($F94,$U$2:$U$105,0),,)-G94)/G94)))))),\"\")","v":0.16245411090944784},8773,{"$f":"IF(COUNT(IF($F$2:$F$501=U94,$I$2:$I$501))<$X$3,\"\",HARMEAN(IF($F$2:$F$501=U94,$I$2:$I$501)))","v":10.042478787751209},{"$f":"IF(OR(J94<(QUARTILE($J$2:$J$501,1))-1.5*(QUARTILE($J$2:$J$501,3)-QUARTILE($J$2:$J$501,1)),J94>(QUARTILE($J$2:$J$501,3))+1.5*(QUARTILE($J$2:$J$501,3)-QUARTILE($J$2:$J$501,1))),\"Outlier\")","v":false}]
[912635,"CVS CAREMARK",5000,5300,5330,5333,45.99,2.65,{"$f":"(IF(IFERROR(G95/H95,\"\")<0,\"\",IFERROR(G95/H95,\"\")))","v":17.354716981132079},{"$f":"IF(COUNTIF($C$2:$C$501,C95)=1,\"\",IF(I95=\"\",\"\",ABS(IF(I95=\"\",0,(((H95*OFFSET($M$1,MATCH($C95,$L$2:$L$40,0),,)-G95)/G95))))))","v":9.1283829108821268E-2},{"$f":"IF(OR(J95<(QUARTILE($J$2:$J$501,1))-1.5*(QUARTILE($J$2:$J$501,3)-QUARTILE($J$2:$J$501,1)),J95>(QUARTILE($J$2:$J$501,3))+1.5*(QUARTILE($J$2:$J$501,3)-QUARTILE($J$2:$J$501,1))),\"\",J95)","v":9.1283829108821268E-2},null,null,{"$f":"IF(COUNTIF($D$2:$D$501,D95)=1,\"\",IF(I95=\"\",\"\",ABS(IF(I95=\"\",0,(((H95*OFFSET($P$1,MATCH($D95,$O$2:$O$40,0),,)-G95)/G95))))))","v":0.16037404769857175},null,null,{"$f":"IFERROR(IF(COUNTIF($E$2:$E$501,E95)=1,\"\",IF(I95=\"\",\"\",ABS(IF(I95=\"\",0,(((H95*OFFSET($S$1,MATCH($E95,$R$2:$R$41,0),,)-G95)/G95)))))),\"\")","v":0.11456214049586892},null,null,{"$f":"IFERROR(IF(COUNTIF($F$2:$F$501,F95)=1,\"\",IF(I95=\"\",\"\",ABS(IF(I95=\"\",0,(((H95*OFFSET($V$1,MATCH($F95,$U$2:$U$105,0),,)-G95)/G95)))))),\"\")","v":0.19313568871037895},8775,{"$f":"IF(COUNT(IF($F$2:$F$501=U95,$I$2:$I$501))<$X$3,\"\",HARMEAN(IF($F$2:$F$501=U95,$I$2:$I$501)))","v":""},{"$f":"IF(OR(J95<(QUARTILE($J$2:$J$501,1))-1.5*(QUARTILE($J$2:$J$501,3)-QUARTILE($J$2:$J$501,1)),J95>(QUARTILE($J$2:$J$501,3))+1.5*(QUARTILE($J$2:$J$501,3)-QUARTILE($J$2:$J$501,1))),\"Outlier\")","v":false}]
[905075,"CAMPBELL SOUP",3000,3500,3570,3577,32.520000000000003,2.3199999999999998,{"$f":"(IF(IFERROR(G96/H96,\"\")<0,\"\",IFERROR(G96/H96,\"\")))","v":14.017241379310347},{"$f":"IF(COUNTIF($C$2:$C$501,C96)=1,\"\",IF(I96=\"\",\"\",ABS(IF(I96=\"\",0,(((H96*OFFSET($M$1,MATCH($C96,$L$2:$L$40,0),,)-G96)/G96))))))","v":0.14075114148887213},{"$f":"IF(OR(J96<(QUARTILE($J$2:$J$501,1))-1.5*(QUARTILE($J$2:$J$501,3)-QUARTILE($J$2:$J$501,1)),J96>(QUARTILE($J$2:$J$501,3))+1.5*(QUARTILE($J$2:$J$501,3)-QUARTILE($J$2:$J$501,1))),\"\",J96)","v":0.14075114148887213},null,null,{"$f":"IF(COUNTIF($D$2:$D$501,D96)=1,\"\",IF(I96=\"\",\"\",ABS(IF(I96=\"\",0,(((H96*OFFSET($P$1,MATCH($D96,$O$2:$O$40,0),,)-G96)/G96))))))","v":0.27445379299463901},null,null,{"$f":"IFERROR(IF(COUNTIF($E$2:$E$501,E96)=1,\"\",IF(I96=\"\",\"\",ABS(IF(I96=\"\",0,(((H96*OFFSET($S$1,MATCH($E96,$R$2:$R$41,0),,)-G96)/G96)))))),\"\")","v":0.27156142142174922},null,null,{"$f":"IFERROR(IF(COUNTIF($F$2:$F$501,F96)=1,\"\",IF(I96=\"\",\"\",ABS(IF(I96=\"\",0,(((H96*OFFSET($V$1,MATCH($F96,$U$2:$U$105,0),,)-G96)/G96)))))),\"\")","v":0.24732314298768041},8777,{"$f":"IF(COUNT(IF($F$2:$F$501=U96,$I$2:$I$501))<$X$3,\"\",HARMEAN(IF($F$2:$F$501=U96,$I$2:$I$501)))","v":11.868368725859916},{"$f":"IF(OR(J96<(QUARTILE($J$2:$J$501,1))-1.5*(QUARTILE($J$2:$J$501,3)-QUARTILE($J$2:$J$501,1)),J96>(QUARTILE($J$2:$J$501,3))+1.5*(QUARTILE($J$2:$J$501,3)-QUARTILE($J$2:$J$501,1))),\"Outlier\")","v":false}]
[134843,"CAPITAL ONE FINL.",8000,8700,8770,8773,53.46,7.3,{"$f":"(IF(IFERROR(G97/H97,\"\")<0,\"\",IFERROR(G97/H97,\"\")))","v":7.3232876712328769},{"$f":"IF(COUNTIF($C$2:$C$501,C97)=1,\"\",IF(I97=\"\",\"\",ABS(IF(I97=\"\",0,(((H97*OFFSET($M$1,MATCH($C97,$L$2:$L$40,0),,)-G97)/G97))))))","v":0.81623223026220271},{"$f":"IF(OR(J97<(QUARTILE($J$2:$J$501,1))-1.5*(QUARTILE($J$2:$J$501,3)-QUARTILE($J$2:$J$501,1)),J97>(QUARTILE($J$2:$J$501,3))+1.5*(QUARTILE($J$2:$J$501,3)-QUARTILE($J$2:$J$501,1))),\"\",J97)","v":0.81623223026220271},null,null,{"$f":"IF(COUNTIF($D$2:$D$501,D97)=1,\"\",IF(I97=\"\",\"\",ABS(IF(I97=\"\",0,(((H97*OFFSET($P$1,MATCH($D97,$O$2:$O$40,0),,)-G97)/G97))))))","v":0.71065778695006132},null,null,{"$f":"IFERROR(IF(COUNTIF($E$2:$E$501,E97)=1,\"\",IF(I97=\"\",\"\",ABS(IF(I97=\"\",0,(((H97*OFFSET($S$1,MATCH($E97,$R$2:$R$41,0),,)-G97)/G97)))))),\"\")","v":0.71065778695006132},null,null,{"$f":"IFERROR(IF(COUNTIF($F$2:$F$501,F97)=1,\"\",IF(I97=\"\",\"\",ABS(IF(I97=\"\",0,(((H97*OFFSET($V$1,MATCH($F97,$U$2:$U$105,0),,)-G97)/G97)))))),\"\")","v":0.37130742892973845},8779,{"$f":"IF(COUNT(IF($F$2:$F$501=U97,$I$2:$I$501))<$X$3,\"\",HARMEAN(IF($F$2:$F$501=U97,$I$2:$I$501)))","v":""},{"$f":"IF(OR(J97<(QUARTILE($J$2:$J$501,1))-1.5*(QUARTILE($J$2:$J$501,3)-QUARTILE($J$2:$J$501,1)),J97>(QUARTILE($J$2:$J$501,3))+1.5*(QUARTILE($J$2:$J$501,3)-QUARTILE($J$2:$J$501,1))),\"Outlier\")","v":false}]
[944704,"CARDINAL HEALTH",5000,5300,5330,5333,40.96,2.95,{"$f":"(IF(IFERROR(G98/H98,\"\")<0,\"\",IFERROR(G98/H98,\"\")))","v":13.884745762711864},{"$f":"IF(COUNTIF($C$2:$C$501,C98)=1,\"\",IF(I98=\"\",\"\",ABS(IF(I98=\"\",0,(((H98*OFFSET($M$1,MATCH($C98,$L$2:$L$40,0),,)-G98)/G98))))))","v":0.13581568085653459},{"$f":"IF(OR(J98<(QUARTILE($J$2:$J$501,1))-1.5*(QUARTILE($J$2:$J$501,3)-QUARTILE($J$2:$J$501,1)),J98>(QUARTILE($J$2:$J$501,3))+1.5*(QUARTILE($J$2:$J$501,3)-QUARTILE($J$2:$J$501,1))),\"\",J98)","v":0.13581568085653459},null,null,{"$f":"IF(COUNTIF($D$2:$D$501,D98)=1,\"\",IF(I98=\"\",\"\",ABS(IF(I98=\"\",0,(((H98*OFFSET($P$1,MATCH($D98,$O$2:$O$40,0),,)-G98)/G98))))))","v":4.9458954541116255E-2},null,null,{"$f":"IFERROR(IF(COUNTIF($E$2:$E$501,E98)=1,\"\",IF(I98=\"\",\"\",ABS(IF(I98=\"\",0,(((H98*OFFSET($S$1,MATCH($E98,$R$2:$R$41,0),,)-G98)/G98)))))),\"\")","v":0.10671982898967455},null,null,{"$f":"IFERROR(IF(COUNTIF($F$2:$F$501,F98)=1,\"\",IF(I98=\"\",\"\",ABS(IF(I98=\"\",0,(((H98*OFFSET($V$1,MATCH($F98,$U$2:$U$105,0),,)-G98)/G98)))))),\"\")","v":8.5097706443337112E-3},8985,{"$f":"IF(COUNT(IF($F$2:$F$501=U98,$I$2:$I$501))<$X$3,\"\",HARMEAN(IF($F$2:$F$501=U98,$I$2:$I$501)))","v":""},{"$f":"IF(OR(J98<(QUARTILE($J$2:$J$501,1))-1.5*(QUARTILE($J$2:$J$501,3)-QUARTILE($J$2:$J$501,1)),J98>(QUARTILE($J$2:$J$501,3))+1.5*(QUARTILE($J$2:$J$501,3)-QUARTILE($J$2:$J$501,1))),\"Outlier\")","v":false}]
[755695,"CARNIVAL",5000,5700,5750,5755,33.74,1.81,{"$f":"(IF(IFERROR(G99/H99,\"\")<0,\"\",IFERROR(G99/H99,\"\")))","v":18.640883977900554},{"$f":"IF(COUNTIF($C$2:$C$501,C99)=1,\"\",IF(I99=\"\",\"\",ABS(IF(I99=\"\",0,(((H99*OFFSET($M$1,MATCH($C99,$L$2:$L$40,0),,)-G99)/G99))))))","v":0.15398261259010171},{"$f":"IF(OR(J99<(QUARTILE($J$2:$J$501,1))-1.5*(QUARTILE($J$2:$J$501,3)-QUARTILE($J$2:$J$501,1)),J99>(QUARTILE($J$2:$J$501,3))+1.5*(QUARTILE($J$2:$J$501,3)-QUARTILE($J$2:$J$501,1))),\"\",J99)","v":0.15398261259010171},null,null,{"$f":"IF(COUNTIF($D$2:$D$501,D99)=1,\"\",IF(I99=\"\",\"\",ABS(IF(I99=\"\",0,(((H99*OFFSET($P$1,MATCH($D99,$O$2:$O$40,0),,)-G99)/G99))))))","v":0.17478073703177521},null,null,{"$f":"IFERROR(IF(COUNTIF($E$2:$E$501,E99)=1,\"\",IF(I99=\"\",\"\",ABS(IF(I99=\"\",0,(((H99*OFFSET($S$1,MATCH($E99,$R$2:$R$41,0),,)-G99)/G99)))))),\"\")","v":0.17478073703177521},null,null,{"$f":"IFERROR(IF(COUNTIF($F$2:$F$501,F99)=1,\"\",IF(I99=\"\",\"\",ABS(IF(I99=\"\",0,(((H99*OFFSET($V$1,MATCH($F99,$U$2:$U$105,0),,)-G99)/G99)))))),\"\")","v":""},9533,{"$f":"IF(COUNT(IF($F$2:$F$501=U99,$I$2:$I$501))<$X$3,\"\",HARMEAN(IF($F$2:$F$501=U99,$I$2:$I$501)))","v":11.763493912152725},{"$f":"IF(OR(J99<(QUARTILE($J$2:$J$501,1))-1.5*(QUARTILE($J$2:$J$501,3)-QUARTILE($J$2:$J$501,1)),J99>(QUARTILE($J$2:$J$501,3))+1.5*(QUARTILE($J$2:$J$501,3)-QUARTILE($J$2:$J$501,1))),\"Outlier\")","v":false}]
[902224,"CATERPILLAR",2000,2700,2750,2753,82.63,7.92,{"$f":"(IF(IFERROR(G100/H100,\"\")<0,\"\",IFERROR(G100/H100,\"\")))","v":10.433080808080808},{"$f":"IF(COUNTIF($C$2:$C$501,C100)=1,\"\",IF(I100=\"\",\"\",ABS(IF(I100=\"\",0,(((H100*OFFSET($M$1,MATCH($C100,$L$2:$L$40,0),,)-G100)/G100))))))","v":0.39017719401863082},{"$f":"IF(OR(J100<(QUARTILE($J$2:$J$501,1))-1.5*(QUARTILE($J$2:$J$501,3)-QUARTILE($J$2:$J$501,1)),J100>(QUARTILE($J$2:$J$501,3))+1.5*(QUARTILE($J$2:$J$501,3)-QUARTILE($J$2:$J$501,1))),\"\",J100)","v":0.39017719401863082},null,null,{"$f":"IF(COUNTIF($D$2:$D$501,D100)=1,\"\",IF(I100=\"\",\"\",ABS(IF(I100=\"\",0,(((H100*OFFSET($P$1,MATCH($D100,$O$2:$O$40,0),,)-G100)/G100))))))","v":0.37240868919522363},null,null,{"$f":"IFERROR(IF(COUNTIF($E$2:$E$501,E100)=1,\"\",IF(I100=\"\",\"\",ABS(IF(I100=\"\",0,(((H100*OFFSET($S$1,MATCH($E100,$R$2:$R$41,0),,)-G100)/G100)))))),\"\")","v":0.17124583813920205},null,null,{"$f":"IFERROR(IF(COUNTIF($F$2:$F$501,F100)=1,\"\",IF(I100=\"\",\"\",ABS(IF(I100=\"\",0,(((H100*OFFSET($V$1,MATCH($F100,$U$2:$U$105,0),,)-G100)/G100)))))),\"\")","v":0.15452975828832832},9535,{"$f":"IF(COUNT(IF($F$2:$F$501=U100,$I$2:$I$501))<$X$3,\"\",HARMEAN(IF($F$2:$F$501=U100,$I$2:$I$501)))","v":""},{"$f":"IF(OR(J100<(QUARTILE($J$2:$J$501,1))-1.5*(QUARTILE($J$2:$J$501,3)-QUARTILE($J$2:$J$501,1)),J100>(QUARTILE($J$2:$J$501,3))+1.5*(QUARTILE($J$2:$J$501,3)-QUARTILE($J$2:$J$501,1))),\"Outlier\")","v":false}]
[755790,"CELGENE",4000,4500,4570,4573,62.05,3.21,{"$f":"(IF(IFERROR(G101/H101,\"\")<0,\"\",IFERROR(G101/H101,\"\")))","v":19.330218068535824},{"$f":"IF(COUNTIF($C$2:$C$501,C101)=1,\"\",IF(I101=\"\",\"\",ABS(IF(I101=\"\",0,(((H101*OFFSET($M$1,MATCH($C101,$L$2:$L$40,0),,)-G101)/G101))))))","v":0.12438689441269617},{"$f":"IF(OR(J101<(QUARTILE($J$2:$J$501,1))-1.5*(QUARTILE($J$2:$J$501,3)-QUARTILE($J$2:$J$501,1)),J101>(QUARTILE($J$2:$J$501,3))+1.5*(QUARTILE($J$2:$J$501,3)-QUARTILE($J$2:$J$501,1))),\"\",J101)","v":0.12438689441269617},null,null,{"$f":"IF(COUNTIF($D$2:$D$501,D101)=1,\"\",IF(I101=\"\",\"\",ABS(IF(I101=\"\",0,(((H101*OFFSET($P$1,MATCH($D101,$O$2:$O$40,0),,)-G101)/G101))))))","v":0.12438689441269617},null,null,{"$f":"IFERROR(IF(COUNTIF($E$2:$E$501,E101)=1,\"\",IF(I101=\"\",\"\",ABS(IF(I101=\"\",0,(((H101*OFFSET($S$1,MATCH($E101,$R$2:$R$41,0),,)-G101)/G101)))))),\"\")","v":2.8921867677647557E-2},null,null,{"$f":"IFERROR(IF(COUNTIF($F$2:$F$501,F101)=1,\"\",IF(I101=\"\",\"\",ABS(IF(I101=\"\",0,(((H101*OFFSET($V$1,MATCH($F101,$U$2:$U$105,0),,)-G101)/G101)))))),\"\")","v":0.25751596892393497},9537,{"$f":"IF(COUNT(IF($F$2:$F$501=U101,$I$2:$I$501))<$X$3,\"\",HARMEAN(IF($F$2:$F$501=U101,$I$2:$I$501)))","v":14.49269907657958},{"$f":"IF(OR(J101<(QUARTILE($J$2:$J$501,1))-1.5*(QUARTILE($J$2:$J$501,3)-QUARTILE($J$2:$J$501,1)),J101>(QUARTILE($J$2:$J$501,3))+1.5*(QUARTILE($J$2:$J$501,3)-QUARTILE($J$2:$J$501,1))),\"Outlier\")","v":false}]
[904842,"CENTERPOINT EN.",7000,7500,7570,7575,20.62,1.79,{"$f":"(IF(IFERROR(G102/H102,\"\")<0,\"\",IFERROR(G102/H102,\"\")))","v":11.519553072625699},{"$f":"IF(COUNTIF($C$2:$C$501,C102)=1,\"\",IF(I102=\"\",\"\",ABS(IF(I102=\"\",0,(((H102*OFFSET($M$1,MATCH($C102,$L$2:$L$40,0),,)-G102)/G102))))))","v":0.4574389594727416},{"$f":"IF(OR(J102<(QUARTILE($J$2:$J$501,1))-1.5*(QUARTILE($J$2:$J$501,3)-QUARTILE($J$2:$J$501,1)),J102>(QUARTILE($J$2:$J$501,3))+1.5*(QUARTILE($J$2:$J$501,3)-QUARTILE($J$2:$J$501,1))),\"\",J102)","v":0.4574389594727416},null,null,{"$f":"IF(COUNTIF($D$2:$D$501,D102)=1,\"\",IF(I102=\"\",\"\",ABS(IF(I102=\"\",0,(((H102*OFFSET($P$1,MATCH($D102,$O$2:$O$40,0),,)-G102)/G102))))))","v":0.4574389594727416},null,null,{"$f":"IFERROR(IF(COUNTIF($E$2:$E$501,E102)=1,\"\",IF(I102=\"\",\"\",ABS(IF(I102=\"\",0,(((H102*OFFSET($S$1,MATCH($E102,$R$2:$R$41,0),,)-G102)/G102)))))),\"\")","v":0.64907411259403347},null,null,{"$f":"IFERROR(IF(COUNTIF($F$2:$F$501,F102)=1,\"\",IF(I102=\"\",\"\",ABS(IF(I102=\"\",0,(((H102*OFFSET($V$1,MATCH($F102,$U$2:$U$105,0),,)-G102)/G102)))))),\"\")","v":0.62463395545018319},9572,{"$f":"IF(COUNT(IF($F$2:$F$501=U102,$I$2:$I$501))<$X$3,\"\",HARMEAN(IF($F$2:$F$501=U102,$I$2:$I$501)))","v":11.176451177914876},{"$f":"IF(OR(J102<(QUARTILE($J$2:$J$501,1))-1.5*(QUARTILE($J$2:$J$501,3)-QUARTILE($J$2:$J$501,1)),J102>(QUARTILE($J$2:$J$501,3))+1.5*(QUARTILE($J$2:$J$501,3)-QUARTILE($J$2:$J$501,1))),\"Outlier\")","v":false}]
[916604,"CENTEX DEAD - DELIST.19/08/09",3000,3700,3720,3728,11.95,0,{"$f":"(IF(IFERROR(G103/H103,\"\")<0,\"\",IFERROR(G103/H103,\"\")))","v":""},{"$f":"IF(COUNTIF($C$2:$C$501,C103)=1,\"\",IF(I103=\"\",\"\",ABS(IF(I103=\"\",0,(((H103*OFFSET($M$1,MATCH($C103,$L$2:$L$40,0),,)-G103)/G103))))))","v":""},{"$f":"IF(OR(J103<(QUARTILE($J$2:$J$501,1))-1.5*(QUARTILE($J$2:$J$501,3)-QUARTILE($J$2:$J$501,1)),J103>(QUARTILE($J$2:$J$501,3))+1.5*(QUARTILE($J$2:$J$501,3)-QUARTILE($J$2:$J$501,1))),\"\",J103)","v":""},null,null,{"$f":"IF(COUNTIF($D$2:$D$501,D103)=1,\"\",IF(I103=\"\",\"\",ABS(IF(I103=\"\",0,(((H103*OFFSET($P$1,MATCH($D103,$O$2:$O$40,0),,)-G103)/G103))))))","v":""},null,null,{"$f":"IFERROR(IF(COUNTIF($E$2:$E$501,E103)=1,\"\",IF(I103=\"\",\"\",ABS(IF(I103=\"\",0,(((H103*OFFSET($S$1,MATCH($E103,$R$2:$R$41,0),,)-G103)/G103)))))),\"\")","v":""},null,null,{"$f":"IFERROR(IF(COUNTIF($F$2:$F$501,F103)=1,\"\",IF(I103=\"\",\"\",ABS(IF(I103=\"\",0,(((H103*OFFSET($V$1,MATCH($F103,$U$2:$U$105,0),,)-G103)/G103)))))),\"\")","v":""},9574,{"$f":"IF(COUNT(IF($F$2:$F$501=U103,$I$2:$I$501))<$X$3,\"\",HARMEAN(IF($F$2:$F$501=U103,$I$2:$I$501)))","v":""},{"$f":"IF(OR(J103<(QUARTILE($J$2:$J$501,1))-1.5*(QUARTILE($J$2:$J$501,3)-QUARTILE($J$2:$J$501,1)),J103>(QUARTILE($J$2:$J$501,3))+1.5*(QUARTILE($J$2:$J$501,3)-QUARTILE($J$2:$J$501,1))),\"Outlier\")","v":"Outlier"}]
[906838,"CENTURYLINK",6000,6500,6530,6535,38.799999999999997,0.99,{"$f":"(IF(IFERROR(G104/H104,\"\")<0,\"\",IFERROR(G104/H104,\"\")))","v":39.19191919191919},{"$f":"IF(COUNTIF($C$2:$C$501,C104)=1,\"\",IF(I104=\"\",\"\",ABS(IF(I104=\"\",0,(((H104*OFFSET($M$1,MATCH($C104,$L$2:$L$40,0),,)-G104)/G104))))))","v":0.40344834893655812},{"$f":"IF(OR(J104<(QUARTILE($J$2:$J$501,1))-1.5*(QUARTILE($J$2:$J$501,3)-QUARTILE($J$2:$J$501,1)),J104>(QUARTILE($J$2:$J$501,3))+1.5*(QUARTILE($J$2:$J$501,3)-QUARTILE($J$2:$J$501,1))),\"\",J104)","v":0.40344834893655812},null,null,{"$f":"IF(COUNTIF($D$2:$D$501,D104)=1,\"\",IF(I104=\"\",\"\",ABS(IF(I104=\"\",0,(((H104*OFFSET($P$1,MATCH($D104,$O$2:$O$40,0),,)-G104)/G104))))))","v":0.40344834893655812},null,null,{"$f":"IFERROR(IF(COUNTIF($E$2:$E$501,E104)=1,\"\",IF(I104=\"\",\"\",ABS(IF(I104=\"\",0,(((H104*OFFSET($S$1,MATCH($E104,$R$2:$R$41,0),,)-G104)/G104)))))),\"\")","v":0.41669473476847424},null,null,{"$f":"IFERROR(IF(COUNTIF($F$2:$F$501,F104)=1,\"\",IF(I104=\"\",\"\",ABS(IF(I104=\"\",0,(((H104*OFFSET($V$1,MATCH($F104,$U$2:$U$105,0),,)-G104)/G104)))))),\"\")","v":0.41669473476847424},9576,{"$f":"IF(COUNT(IF($F$2:$F$501=U104,$I$2:$I$501))<$X$3,\"\",HARMEAN(IF($F$2:$F$501=U104,$I$2:$I$501)))","v":13.891019539270374},{"$f":"IF(OR(J104<(QUARTILE($J$2:$J$501,1))-1.5*(QUARTILE($J$2:$J$501,3)-QUARTILE($J$2:$J$501,1)),J104>(QUARTILE($J$2:$J$501,3))+1.5*(QUARTILE($J$2:$J$501,3)-QUARTILE($J$2:$J$501,1))),\"Outlier\")","v":false}]
[755741,"CHARLES SCHWAB",8000,8700,8770,8777,12.54,0.66,{"$f":"(IF(IFERROR(G105/H105,\"\")<0,\"\",IFERROR(G105/H105,\"\")))","v":18.999999999999996},{"$f":"IF(COUNTIF($C$2:$C$501,C105)=1,\"\",IF(I105=\"\",\"\",ABS(IF(I105=\"\",0,(((H105*OFFSET($M$1,MATCH($C105,$L$2:$L$40,0),,)-G105)/G105))))))","v":0.29995836315921148},{"$f":"IF(OR(J105<(QUARTILE($J$2:$J$501,1))-1.5*(QUARTILE($J$2:$J$501,3)-QUARTILE($J$2:$J$501,1)),J105>(QUARTILE($J$2:$J$501,3))+1.5*(QUARTILE($J$2:$J$501,3)-QUARTILE($J$2:$J$501,1))),\"\",J105)","v":0.29995836315921148},null,null,{"$f":"IF(COUNTIF($D$2:$D$501,D105)=1,\"\",IF(I105=\"\",\"\",ABS(IF(I105=\"\",0,(((H105*OFFSET($P$1,MATCH($D105,$O$2:$O$40,0),,)-G105)/G105))))))","v":0.34065057469105769},null,null,{"$f":"IFERROR(IF(COUNTIF($E$2:$E$501,E105)=1,\"\",IF(I105=\"\",\"\",ABS(IF(I105=\"\",0,(((H105*OFFSET($S$1,MATCH($E105,$R$2:$R$41,0),,)-G105)/G105)))))),\"\")","v":0.34065057469105769},null,null,{"$f":"IFERROR(IF(COUNTIF($F$2:$F$501,F105)=1,\"\",IF(I105=\"\",\"\",ABS(IF(I105=\"\",0,(((H105*OFFSET($V$1,MATCH($F105,$U$2:$U$105,0),,)-G105)/G105)))))),\"\")","v":0.37534901442842539},9578,{"$f":"IF(COUNT(IF($F$2:$F$501=U105,$I$2:$I$501))<$X$3,\"\",HARMEAN(IF($F$2:$F$501=U105,$I$2:$I$501)))","v":14.830699625075425},{"$f":"IF(OR(J105<(QUARTILE($J$2:$J$501,1))-1.5*(QUARTILE($J$2:$J$501,3)-QUARTILE($J$2:$J$501,1)),J105>(QUARTILE($J$2:$J$501,3))+1.5*(QUARTILE($J$2:$J$501,3)-QUARTILE($J$2:$J$501,1))),\"Outlier\")","v":false}]
[130375,"QLOGIC",9000,9500,9570,9578,13.31,1.17,{"$f":"(IF(IFERROR(G106/H106,\"\")<0,\"\",IFERROR(G106/H106,\"\")))","v":11.376068376068377},{"$f":"IF(COUNTIF($C$2:$C$501,C106)=1,\"\",IF(I106=\"\",\"\",ABS(IF(I106=\"\",0,(((H106*OFFSET($M$1,MATCH($C106,$L$2:$L$40,0),,)-G106)/G106))))))","v":0.15083849825929921},{"$f":"IF(OR(J106<(QUARTILE($J$2:$J$501,1))-1.5*(QUARTILE($J$2:$J$501,3)-QUARTILE($J$2:$J$501,1)),J106>(QUARTILE($J$2:$J$501,3))+1.5*(QUARTILE($J$2:$J$501,3)-QUARTILE($J$2:$J$501,1))),\"\",J106)","v":0.15083849825929921},null,null,{"$f":"IF(COUNTIF($D$2:$D$501,D106)=1,\"\",IF(I106=\"\",\"\",ABS(IF(I106=\"\",0,(((H106*OFFSET($P$1,MATCH($D106,$O$2:$O$40,0),,)-G106)/G106))))))","v":0.15083849825929921},null,null,{"$f":"IFERROR(IF(COUNTIF($E$2:$E$501,E106)=1,\"\",IF(I106=\"\",\"\",ABS(IF(I106=\"\",0,(((H106*OFFSET($S$1,MATCH($E106,$R$2:$R$41,0),,)-G106)/G106)))))),\"\")","v":0.10309391744265947},null,null,{"$f":"IFERROR(IF(COUNTIF($F$2:$F$501,F106)=1,\"\",IF(I106=\"\",\"\",ABS(IF(I106=\"\",0,(((H106*OFFSET($V$1,MATCH($F106,$U$2:$U$105,0),,)-G106)/G106)))))),\"\")","v":0.30367532391722374},null,null,{"$f":"IF(OR(J106<(QUARTILE($J$2:$J$501,1))-1.5*(QUARTILE($J$2:$J$501,3)-QUARTILE($J$2:$J$501,1)),J106>(QUARTILE($J$2:$J$501,3))+1.5*(QUARTILE($J$2:$J$501,3)-QUARTILE($J$2:$J$501,1))),\"Outlier\")","v":false}]
[130809,"PROLOGIS DEAD - DELIST.03/06/11",8000,8600,8670,8671,15.21,0,{"$f":"(IF(IFERROR(G107/H107,\"\")<0,\"\",IFERROR(G107/H107,\"\")))","v":""},{"$f":"IF(COUNTIF($C$2:$C$501,C107)=1,\"\",IF(I107=\"\",\"\",ABS(IF(I107=\"\",0,(((H107*OFFSET($M$1,MATCH($C107,$L$2:$L$40,0),,)-G107)/G107))))))","v":""},{"$f":"IF(OR(J107<(QUARTILE($J$2:$J$501,1))-1.5*(QUARTILE($J$2:$J$501,3)-QUARTILE($J$2:$J$501,1)),J107>(QUARTILE($J$2:$J$501,3))+1.5*(QUARTILE($J$2:$J$501,3)-QUARTILE($J$2:$J$501,1))),\"\",J107)","v":""},null,null,{"$f":"IF(COUNTIF($D$2:$D$501,D107)=1,\"\",IF(I107=\"\",\"\",ABS(IF(I107=\"\",0,(((H107*OFFSET($P$1,MATCH($D107,$O$2:$O$40,0),,)-G107)/G107))))))","v":""},null,null,{"$f":"IFERROR(IF(COUNTIF($E$2:$E$501,E107)=1,\"\",IF(I107=\"\",\"\",ABS(IF(I107=\"\",0,(((H107*OFFSET($S$1,MATCH($E107,$R$2:$R$41,0),,)-G107)/G107)))))),\"\")","v":""},null,null,{"$f":"IFERROR(IF(COUNTIF($F$2:$F$501,F107)=1,\"\",IF(I107=\"\",\"\",ABS(IF(I107=\"\",0,(((H107*OFFSET($V$1,MATCH($F107,$U$2:$U$105,0),,)-G107)/G107)))))),\"\")","v":""},null,null,{"$f":"IF(OR(J107<(QUARTILE($J$2:$J$501,1))-1.5*(QUARTILE($J$2:$J$501,3)-QUARTILE($J$2:$J$501,1)),J107>(QUARTILE($J$2:$J$501,3))+1.5*(QUARTILE($J$2:$J$501,3)-QUARTILE($J$2:$J$501,1))),\"Outlier\")","v":"Outlier"}]
[131508,"LEHMAN BROS.HDG. DEAD - DELIST.06/03/12",8000,8700,8770,8777,0.03,0,{"$f":"(IF(IFERROR(G108/H108,\"\")<0,\"\",IFERROR(G108/H108,\"\")))","v":""},{"$f":"IF(COUNTIF($C$2:$C$501,C108)=1,\"\",IF(I108=\"\",\"\",ABS(IF(I108=\"\",0,(((H108*OFFSET($M$1,MATCH($C108,$L$2:$L$40,0),,)-G108)/G108))))))","v":""},{"$f":"IF(OR(J108<(QUARTILE($J$2:$J$501,1))-1.5*(QUARTILE($J$2:$J$501,3)-QUARTILE($J$2:$J$501,1)),J108>(QUARTILE($J$2:$J$501,3))+1.5*(QUARTILE($J$2:$J$501,3)-QUARTILE($J$2:$J$501,1))),\"\",J108)","v":""},null,null,{"$f":"IF(COUNTIF($D$2:$D$501,D108)=1,\"\",IF(I108=\"\",\"\",ABS(IF(I108=\"\",0,(((H108*OFFSET($P$1,MATCH($D108,$O$2:$O$40,0),,)-G108)/G108))))))","v":""},null,null,{"$f":"IFERROR(IF(COUNTIF($E$2:$E$501,E108)=1,\"\",IF(I108=\"\",\"\",ABS(IF(I108=\"\",0,(((H108*OFFSET($S$1,MATCH($E108,$R$2:$R$41,0),,)-G108)/G108)))))),\"\")","v":""},null,null,{"$f":"IFERROR(IF(COUNTIF($F$2:$F$501,F108)=1,\"\",IF(I108=\"\",\"\",ABS(IF(I108=\"\",0,(((H108*OFFSET($V$1,MATCH($F108,$U$2:$U$105,0),,)-G108)/G108)))))),\"\")","v":""},null,null,{"$f":"IF(OR(J108<(QUARTILE($J$2:$J$501,1))-1.5*(QUARTILE($J$2:$J$501,3)-QUARTILE($J$2:$J$501,1)),J108>(QUARTILE($J$2:$J$501,3))+1.5*(QUARTILE($J$2:$J$501,3)-QUARTILE($J$2:$J$501,1))),\"Outlier\")","v":"Outlier"}]
[134784,"MCKESSON",5000,5300,5330,5333,93.27,5.59,{"$f":"(IF(IFERROR(G109/H109,\"\")<0,\"\",IFERROR(G109/H109,\"\")))","v":16.68515205724508},{"$f":"IF(COUNTIF($C$2:$C$501,C109)=1,\"\",IF(I109=\"\",\"\",ABS(IF(I109=\"\",0,(((H109*OFFSET($M$1,MATCH($C109,$L$2:$L$40,0),,)-G109)/G109))))))","v":5.4817606223340566E-2},{"$f":"IF(OR(J109<(QUARTILE($J$2:$J$501,1))-1.5*(QUARTILE($J$2:$J$501,3)-QUARTILE($J$2:$J$501,1)),J109>(QUARTILE($J$2:$J$501,3))+1.5*(QUARTILE($J$2:$J$501,3)-QUARTILE($J$2:$J$501,1))),\"\",J109)","v":5.4817606223340566E-2},null,null,{"$f":"IF(COUNTIF($D$2:$D$501,D109)=1,\"\",IF(I109=\"\",\"\",ABS(IF(I109=\"\",0,(((H109*OFFSET($P$1,MATCH($D109,$O$2:$O$40,0),,)-G109)/G109))))))","v":0.12668037293208145},null,null,{"$f":"IFERROR(IF(COUNTIF($E$2:$E$501,E109)=1,\"\",IF(I109=\"\",\"\",ABS(IF(I109=\"\",0,(((H109*OFFSET($S$1,MATCH($E109,$R$2:$R$41,0),,)-G109)/G109)))))),\"\")","v":7.9030061976505667E-2},null,null,{"$f":"IFERROR(IF(COUNTIF($F$2:$F$501,F109)=1,\"\",IF(I109=\"\",\"\",ABS(IF(I109=\"\",0,(((H109*OFFSET($V$1,MATCH($F109,$U$2:$U$105,0),,)-G109)/G109)))))),\"\")","v":0.16075671851446866},null,null,{"$f":"IF(OR(J109<(QUARTILE($J$2:$J$501,1))-1.5*(QUARTILE($J$2:$J$501,3)-QUARTILE($J$2:$J$501,1)),J109>(QUARTILE($J$2:$J$501,3))+1.5*(QUARTILE($J$2:$J$501,3)-QUARTILE($J$2:$J$501,1))),\"Outlier\")","v":false}]
[152533,"LABORATORY CORP.OF AM. HDG.",4000,4500,4530,4533,92.04,5.49,{"$f":"(IF(IFERROR(G110/H110,\"\")<0,\"\",IFERROR(G110/H110,\"\")))","v":16.765027322404372},{"$f":"IF(COUNTIF($C$2:$C$501,C110)=1,\"\",IF(I110=\"\",\"\",ABS(IF(I110=\"\",0,(((H110*OFFSET($M$1,MATCH($C110,$L$2:$L$40,0),,)-G110)/G110))))))","v":9.5893045191314582E-3},{"$f":"IF(OR(J110<(QUARTILE($J$2:$J$501,1))-1.5*(QUARTILE($J$2:$J$501,3)-QUARTILE($J$2:$J$501,1)),J110>(QUARTILE($J$2:$J$501,3))+1.5*(QUARTILE($J$2:$J$501,3)-QUARTILE($J$2:$J$501,1))),\"\",J110)","v":9.5893045191314582E-3},null,null,{"$f":"IF(COUNTIF($D$2:$D$501,D110)=1,\"\",IF(I110=\"\",\"\",ABS(IF(I110=\"\",0,(((H110*OFFSET($P$1,MATCH($D110,$O$2:$O$40,0),,)-G110)/G110))))))","v":9.5893045191314582E-3},null,null,{"$f":"IFERROR(IF(COUNTIF($E$2:$E$501,E110)=1,\"\",IF(I110=\"\",\"\",ABS(IF(I110=\"\",0,(((H110*OFFSET($S$1,MATCH($E110,$R$2:$R$41,0),,)-G110)/G110)))))),\"\")","v":8.7523850840766346E-2},null,null,{"$f":"IFERROR(IF(COUNTIF($F$2:$F$501,F110)=1,\"\",IF(I110=\"\",\"\",ABS(IF(I110=\"\",0,(((H110*OFFSET($V$1,MATCH($F110,$U$2:$U$105,0),,)-G110)/G110)))))),\"\")","v":0.22759896388708395},null,null,{"$f":"IF(OR(J110<(QUARTILE($J$2:$J$501,1))-1.5*(QUARTILE($J$2:$J$501,3)-QUARTILE($J$2:$J$501,1)),J110>(QUARTILE($J$2:$J$501,3))+1.5*(QUARTILE($J$2:$J$501,3)-QUARTILE($J$2:$J$501,1))),\"Outlier\")","v":false}]
[152594,"FREEPORT-MCMOR.CPR.& GD.",1000,1700,1750,1755,32.26,4,{"$f":"(IF(IFERROR(G111/H111,\"\")<0,\"\",IFERROR(G111/H111,\"\")))","v":8.0649999999999995},{"$f":"IF(COUNTIF($C$2:$C$501,C111)=1,\"\",IF(I111=\"\",\"\",ABS(IF(I111=\"\",0,(((H111*OFFSET($M$1,MATCH($C111,$L$2:$L$40,0),,)-G111)/G111))))))","v":0.92149751560349602},{"$f":"IF(OR(J111<(QUARTILE($J$2:$J$501,1))-1.5*(QUARTILE($J$2:$J$501,3)-QUARTILE($J$2:$J$501,1)),J111>(QUARTILE($J$2:$J$501,3))+1.5*(QUARTILE($J$2:$J$501,3)-QUARTILE($J$2:$J$501,1))),\"\",J111)","v":0.92149751560349602},null,null,{"$f":"IF(COUNTIF($D$2:$D$501,D111)=1,\"\",IF(I111=\"\",\"\",ABS(IF(I111=\"\",0,(((H111*OFFSET($P$1,MATCH($D111,$O$2:$O$40,0),,)-G111)/G111))))))","v":0.56012632291631881},null,null,{"$f":"IFERROR(IF(COUNTIF($E$2:$E$501,E111)=1,\"\",IF(I111=\"\",\"\",ABS(IF(I111=\"\",0,(((H111*OFFSET($S$1,MATCH($E111,$R$2:$R$41,0),,)-G111)/G111)))))),\"\")","v":0.68885791116077033},null,null,{"$f":"IFERROR(IF(COUNTIF($F$2:$F$501,F111)=1,\"\",IF(I111=\"\",\"\",ABS(IF(I111=\"\",0,(((H111*OFFSET($V$1,MATCH($F111,$U$2:$U$105,0),,)-G111)/G111)))))),\"\")","v":""},null,null,{"$f":"IF(OR(J111<(QUARTILE($J$2:$J$501,1))-1.5*(QUARTILE($J$2:$J$501,3)-QUARTILE($J$2:$J$501,1)),J111>(QUARTILE($J$2:$J$501,3))+1.5*(QUARTILE($J$2:$J$501,3)-QUARTILE($J$2:$J$501,1))),\"Outlier\")","v":false}]
[152719,"DARDEN RESTAURANTS",5000,5700,5750,5757,49.2,3.57,{"$f":"(IF(IFERROR(G112/H112,\"\")<0,\"\",IFERROR(G112/H112,\"\")))","v":13.781512605042018},{"$f":"IF(COUNTIF($C$2:$C$501,C112)=1,\"\",IF(I112=\"\",\"\",ABS(IF(I112=\"\",0,(((H112*OFFSET($M$1,MATCH($C112,$L$2:$L$40,0),,)-G112)/G112))))))","v":0.1443237338276466},{"$f":"IF(OR(J112<(QUARTILE($J$2:$J$501,1))-1.5*(QUARTILE($J$2:$J$501,3)-QUARTILE($J$2:$J$501,1)),J112>(QUARTILE($J$2:$J$501,3))+1.5*(QUARTILE($J$2:$J$501,3)-QUARTILE($J$2:$J$501,1))),\"\",J112)","v":0.1443237338276466},null,null,{"$f":"IF(COUNTIF($D$2:$D$501,D112)=1,\"\",IF(I112=\"\",\"\",ABS(IF(I112=\"\",0,(((H112*OFFSET($P$1,MATCH($D112,$O$2:$O$40,0),,)-G112)/G112))))))","v":0.58900927975569306},null,null,{"$f":"IFERROR(IF(COUNTIF($E$2:$E$501,E112)=1,\"\",IF(I112=\"\",\"\",ABS(IF(I112=\"\",0,(((H112*OFFSET($S$1,MATCH($E112,$R$2:$R$41,0),,)-G112)/G112)))))),\"\")","v":0.58900927975569306},null,null,{"$f":"IFERROR(IF(COUNTIF($F$2:$F$501,F112)=1,\"\",IF(I112=\"\",\"\",ABS(IF(I112=\"\",0,(((H112*OFFSET($V$1,MATCH($F112,$U$2:$U$105,0),,)-G112)/G112)))))),\"\")","v":0.54321800094800721},null,null,{"$f":"IF(OR(J112<(QUARTILE($J$2:$J$501,1))-1.5*(QUARTILE($J$2:$J$501,3)-QUARTILE($J$2:$J$501,1)),J112>(QUARTILE($J$2:$J$501,3))+1.5*(QUARTILE($J$2:$J$501,3)-QUARTILE($J$2:$J$501,1))),\"Outlier\")","v":false}]
[154423,"LOCKHEED MARTIN",2000,2700,2710,2717,84.53,8.2799999999999994,{"$f":"(IF(IFERROR(G113/H113,\"\")<0,\"\",IFERROR(G113/H113,\"\")))","v":10.208937198067634},{"$f":"IF(COUNTIF($C$2:$C$501,C113)=1,\"\",IF(I113=\"\",\"\",ABS(IF(I113=\"\",0,(((H113*OFFSET($M$1,MATCH($C113,$L$2:$L$40,0),,)-G113)/G113))))))","v":0.42069940497750524},{"$f":"IF(OR(J113<(QUARTILE($J$2:$J$501,1))-1.5*(QUARTILE($J$2:$J$501,3)-QUARTILE($J$2:$J$501,1)),J113>(QUARTILE($J$2:$J$501,3))+1.5*(QUARTILE($J$2:$J$501,3)-QUARTILE($J$2:$J$501,1))),\"\",J113)","v":0.42069940497750524},null,null,{"$f":"IF(COUNTIF($D$2:$D$501,D113)=1,\"\",IF(I113=\"\",\"\",ABS(IF(I113=\"\",0,(((H113*OFFSET($P$1,MATCH($D113,$O$2:$O$40,0),,)-G113)/G113))))))","v":0.40254078150233397},null,null,{"$f":"IFERROR(IF(COUNTIF($E$2:$E$501,E113)=1,\"\",IF(I113=\"\",\"\",ABS(IF(I113=\"\",0,(((H113*OFFSET($S$1,MATCH($E113,$R$2:$R$41,0),,)-G113)/G113)))))),\"\")","v":0.11195920440269103},null,null,{"$f":"IFERROR(IF(COUNTIF($F$2:$F$501,F113)=1,\"\",IF(I113=\"\",\"\",ABS(IF(I113=\"\",0,(((H113*OFFSET($V$1,MATCH($F113,$U$2:$U$105,0),,)-G113)/G113)))))),\"\")","v":0.12021472426540787},null,null,{"$f":"IF(OR(J113<(QUARTILE($J$2:$J$501,1))-1.5*(QUARTILE($J$2:$J$501,3)-QUARTILE($J$2:$J$501,1)),J113>(QUARTILE($J$2:$J$501,3))+1.5*(QUARTILE($J$2:$J$501,3)-QUARTILE($J$2:$J$501,1))),\"Outlier\")","v":false}]
[255272,"FLUOR",2000,2300,2350,2357,48.34,3.53,{"$f":"(IF(IFERROR(G114/H114,\"\")<0,\"\",IFERROR(G114/H114,\"\")))","v":13.694050991501419},{"$f":"IF(COUNTIF($C$2:$C$501,C114)=1,\"\",IF(I114=\"\",\"\",ABS(IF(I114=\"\",0,(((H114*OFFSET($M$1,MATCH($C114,$L$2:$L$40,0),,)-G114)/G114))))))","v":5.9133707896117868E-2},{"$f":"IF(OR(J114<(QUARTILE($J$2:$J$501,1))-1.5*(QUARTILE($J$2:$J$501,3)-QUARTILE($J$2:$J$501,1)),J114>(QUARTILE($J$2:$J$501,3))+1.5*(QUARTILE($J$2:$J$501,3)-QUARTILE($J$2:$J$501,1))),\"\",J114)","v":5.9133707896117868E-2},null,null,{"$f":"IF(COUNTIF($D$2:$D$501,D114)=1,\"\",IF(I114=\"\",\"\",ABS(IF(I114=\"\",0,(((H114*OFFSET($P$1,MATCH($D114,$O$2:$O$40,0),,)-G114)/G114))))))","v":0.45462605288781732},null,null,{"$f":"IFERROR(IF(COUNTIF($E$2:$E$501,E114)=1,\"\",IF(I114=\"\",\"\",ABS(IF(I114=\"\",0,(((H114*OFFSET($S$1,MATCH($E114,$R$2:$R$41,0),,)-G114)/G114)))))),\"\")","v":""},null,null,{"$f":"IFERROR(IF(COUNTIF($F$2:$F$501,F114)=1,\"\",IF(I114=\"\",\"\",ABS(IF(I114=\"\",0,(((H114*OFFSET($V$1,MATCH($F114,$U$2:$U$105,0),,)-G114)/G114)))))),\"\")","v":""},null,null,{"$f":"IF(OR(J114<(QUARTILE($J$2:$J$501,1))-1.5*(QUARTILE($J$2:$J$501,3)-QUARTILE($J$2:$J$501,1)),J114>(QUARTILE($J$2:$J$501,3))+1.5*(QUARTILE($J$2:$J$501,3)-QUARTILE($J$2:$J$501,1))),\"Outlier\")","v":false}]
[266220,"COACH",3000,3700,3760,3763,56.12,3.35,{"$f":"(IF(IFERROR(G115/H115,\"\")<0,\"\",IFERROR(G115/H115,\"\")))","v":16.752238805970148},{"$f":"IF(COUNTIF($C$2:$C$501,C115)=1,\"\",IF(I115=\"\",\"\",ABS(IF(I115=\"\",0,(((H115*OFFSET($M$1,MATCH($C115,$L$2:$L$40,0),,)-G115)/G115))))))","v":4.5489722945283861E-2},{"$f":"IF(OR(J115<(QUARTILE($J$2:$J$501,1))-1.5*(QUARTILE($J$2:$J$501,3)-QUARTILE($J$2:$J$501,1)),J115>(QUARTILE($J$2:$J$501,3))+1.5*(QUARTILE($J$2:$J$501,3)-QUARTILE($J$2:$J$501,1))),\"\",J115)","v":4.5489722945283861E-2},null,null,{"$f":"IF(COUNTIF($D$2:$D$501,D115)=1,\"\",IF(I115=\"\",\"\",ABS(IF(I115=\"\",0,(((H115*OFFSET($P$1,MATCH($D115,$O$2:$O$40,0),,)-G115)/G115))))))","v":0.15095001007756204},null,null,{"$f":"IFERROR(IF(COUNTIF($E$2:$E$501,E115)=1,\"\",IF(I115=\"\",\"\",ABS(IF(I115=\"\",0,(((H115*OFFSET($S$1,MATCH($E115,$R$2:$R$41,0),,)-G115)/G115)))))),\"\")","v":0.16071624374779361},null,null,{"$f":"IFERROR(IF(COUNTIF($F$2:$F$501,F115)=1,\"\",IF(I115=\"\",\"\",ABS(IF(I115=\"\",0,(((H115*OFFSET($V$1,MATCH($F115,$U$2:$U$105,0),,)-G115)/G115)))))),\"\")","v":0.1294254103443499},null,null,{"$f":"IF(OR(J115<(QUARTILE($J$2:$J$501,1))-1.5*(QUARTILE($J$2:$J$501,3)-QUARTILE($J$2:$J$501,1)),J115>(QUARTILE($J$2:$J$501,3))+1.5*(QUARTILE($J$2:$J$501,3)-QUARTILE($J$2:$J$501,1))),\"Outlier\")","v":false}]
[268193,"MONSANTO",3000,3500,3570,3573,80.25,3.54,{"$f":"(IF(IFERROR(G116/H116,\"\")<0,\"\",IFERROR(G116/H116,\"\")))","v":22.66949152542373},{"$f":"IF(COUNTIF($C$2:$C$501,C116)=1,\"\",IF(I116=\"\",\"\",ABS(IF(I116=\"\",0,(((H116*OFFSET($M$1,MATCH($C116,$L$2:$L$40,0),,)-G116)/G116))))))","v":0.29463860774996142},{"$f":"IF(OR(J116<(QUARTILE($J$2:$J$501,1))-1.5*(QUARTILE($J$2:$J$501,3)-QUARTILE($J$2:$J$501,1)),J116>(QUARTILE($J$2:$J$501,3))+1.5*(QUARTILE($J$2:$J$501,3)-QUARTILE($J$2:$J$501,1))),\"\",J116)","v":0.29463860774996142},null,null,{"$f":"IF(COUNTIF($D$2:$D$501,D116)=1,\"\",IF(I116=\"\",\"\",ABS(IF(I116=\"\",0,(((H116*OFFSET($P$1,MATCH($D116,$O$2:$O$40,0),,)-G116)/G116))))))","v":0.21196616063714016},null,null,{"$f":"IFERROR(IF(COUNTIF($E$2:$E$501,E116)=1,\"\",IF(I116=\"\",\"\",ABS(IF(I116=\"\",0,(((H116*OFFSET($S$1,MATCH($E116,$R$2:$R$41,0),,)-G116)/G116)))))),\"\")","v":0.21375460262536827},null,null,{"$f":"IFERROR(IF(COUNTIF($F$2:$F$501,F116)=1,\"\",IF(I116=\"\",\"\",ABS(IF(I116=\"\",0,(((H116*OFFSET($V$1,MATCH($F116,$U$2:$U$105,0),,)-G116)/G116)))))),\"\")","v":""},null,null,{"$f":"IF(OR(J116<(QUARTILE($J$2:$J$501,1))-1.5*(QUARTILE($J$2:$J$501,3)-QUARTILE($J$2:$J$501,1)),J116>(QUARTILE($J$2:$J$501,3))+1.5*(QUARTILE($J$2:$J$501,3)-QUARTILE($J$2:$J$501,1))),\"Outlier\")","v":false}]
[271662,"HUDSON CITY BANC.",8000,8300,8350,8355,6.24,0,{"$f":"(IF(IFERROR(G117/H117,\"\")<0,\"\",IFERROR(G117/H117,\"\")))","v":""},{"$f":"IF(COUNTIF($C$2:$C$501,C117)=1,\"\",IF(I117=\"\",\"\",ABS(IF(I117=\"\",0,(((H117*OFFSET($M$1,MATCH($C117,$L$2:$L$40,0),,)-G117)/G117))))))","v":""},{"$f":"IF(OR(J117<(QUARTILE($J$2:$J$501,1))-1.5*(QUARTILE($J$2:$J$501,3)-QUARTILE($J$2:$J$501,1)),J117>(QUARTILE($J$2:$J$501,3))+1.5*(QUARTILE($J$2:$J$501,3)-QUARTILE($J$2:$J$501,1))),\"\",J117)","v":""},null,null,{"$f":"IF(COUNTIF($D$2:$D$501,D117)=1,\"\",IF(I117=\"\",\"\",ABS(IF(I117=\"\",0,(((H117*OFFSET($P$1,MATCH($D117,$O$2:$O$40,0),,)-G117)/G117))))))","v":""},null,null,{"$f":"IFERROR(IF(COUNTIF($E$2:$E$501,E117)=1,\"\",IF(I117=\"\",\"\",ABS(IF(I117=\"\",0,(((H117*OFFSET($S$1,MATCH($E117,$R$2:$R$41,0),,)-G117)/G117)))))),\"\")","v":""},null,null,{"$f":"IFERROR(IF(COUNTIF($F$2:$F$501,F117)=1,\"\",IF(I117=\"\",\"\",ABS(IF(I117=\"\",0,(((H117*OFFSET($V$1,MATCH($F117,$U$2:$U$105,0),,)-G117)/G117)))))),\"\")","v":""},null,null,{"$f":"IF(OR(J117<(QUARTILE($J$2:$J$501,1))-1.5*(QUARTILE($J$2:$J$501,3)-QUARTILE($J$2:$J$501,1)),J117>(QUARTILE($J$2:$J$501,3))+1.5*(QUARTILE($J$2:$J$501,3)-QUARTILE($J$2:$J$501,1))),\"Outlier\")","v":"Outlier"}]
[271980,"DEVON ENERGY",1,500,530,533,56.84,11.28,{"$f":"(IF(IFERROR(G118/H118,\"\")<0,\"\",IFERROR(G118/H118,\"\")))","v":5.0390070921985819},{"$f":"IF(COUNTIF($C$2:$C$501,C118)=1,\"\",IF(I118=\"\",\"\",ABS(IF(I118=\"\",0,(((H118*OFFSET($M$1,MATCH($C118,$L$2:$L$40,0),,)-G118)/G118))))))","v":0.84016923218745387},{"$f":"IF(OR(J118<(QUARTILE($J$2:$J$501,1))-1.5*(QUARTILE($J$2:$J$501,3)-QUARTILE($J$2:$J$501,1)),J118>(QUARTILE($J$2:$J$501,3))+1.5*(QUARTILE($J$2:$J$501,3)-QUARTILE($J$2:$J$501,1))),\"\",J118)","v":0.84016923218745387},null,null,{"$f":"IF(COUNTIF($D$2:$D$501,D118)=1,\"\",IF(I118=\"\",\"\",ABS(IF(I118=\"\",0,(((H118*OFFSET($P$1,MATCH($D118,$O$2:$O$40,0),,)-G118)/G118))))))","v":0.84016923218745387},null,null,{"$f":"IFERROR(IF(COUNTIF($E$2:$E$501,E118)=1,\"\",IF(I118=\"\",\"\",ABS(IF(I118=\"\",0,(((H118*OFFSET($S$1,MATCH($E118,$R$2:$R$41,0),,)-G118)/G118)))))),\"\")","v":0.66765183642179293},null,null,{"$f":"IFERROR(IF(COUNTIF($F$2:$F$501,F118)=1,\"\",IF(I118=\"\",\"\",ABS(IF(I118=\"\",0,(((H118*OFFSET($V$1,MATCH($F118,$U$2:$U$105,0),,)-G118)/G118)))))),\"\")","v":0.65600169997439661},null,null,{"$f":"IF(OR(J118<(QUARTILE($J$2:$J$501,1))-1.5*(QUARTILE($J$2:$J$501,3)-QUARTILE($J$2:$J$501,1)),J118>(QUARTILE($J$2:$J$501,3))+1.5*(QUARTILE($J$2:$J$501,3)-QUARTILE($J$2:$J$501,1))),\"Outlier\")","v":false}]
[277343,"PACTIV DEAD - DELIST.17/11/10",2000,2700,2720,2723,33.229999999999997,1.93,{"$f":"(IF(IFERROR(G119/H119,\"\")<0,\"\",IFERROR(G119/H119,\"\")))","v":17.217616580310878},{"$f":"IF(COUNTIF($C$2:$C$501,C119)=1,\"\",IF(I119=\"\",\"\",ABS(IF(I119=\"\",0,(((H119*OFFSET($M$1,MATCH($C119,$L$2:$L$40,0),,)-G119)/G119))))))","v":0.15761679701166126},{"$f":"IF(OR(J119<(QUARTILE($J$2:$J$501,1))-1.5*(QUARTILE($J$2:$J$501,3)-QUARTILE($J$2:$J$501,1)),J119>(QUARTILE($J$2:$J$501,3))+1.5*(QUARTILE($J$2:$J$501,3)-QUARTILE($J$2:$J$501,1))),\"\",J119)","v":0.15761679701166126},null,null,{"$f":"IF(COUNTIF($D$2:$D$501,D119)=1,\"\",IF(I119=\"\",\"\",ABS(IF(I119=\"\",0,(((H119*OFFSET($P$1,MATCH($D119,$O$2:$O$40,0),,)-G119)/G119))))))","v":0.16838369066367639},null,null,{"$f":"IFERROR(IF(COUNTIF($E$2:$E$501,E119)=1,\"\",IF(I119=\"\",\"\",ABS(IF(I119=\"\",0,(((H119*OFFSET($S$1,MATCH($E119,$R$2:$R$41,0),,)-G119)/G119)))))),\"\")","v":5.1659736802817595E-2},null,null,{"$f":"IFERROR(IF(COUNTIF($F$2:$F$501,F119)=1,\"\",IF(I119=\"\",\"\",ABS(IF(I119=\"\",0,(((H119*OFFSET($V$1,MATCH($F119,$U$2:$U$105,0),,)-G119)/G119)))))),\"\")","v":0.26438852462660845},null,null,{"$f":"IF(OR(J119<(QUARTILE($J$2:$J$501,1))-1.5*(QUARTILE($J$2:$J$501,3)-QUARTILE($J$2:$J$501,1)),J119>(QUARTILE($J$2:$J$501,3))+1.5*(QUARTILE($J$2:$J$501,3)-QUARTILE($J$2:$J$501,1))),\"Outlier\")","v":false}]
[277487,"UNITED PARCEL SER.",2000,2700,2770,2771,77.11,3.93,{"$f":"(IF(IFERROR(G120/H120,\"\")<0,\"\",IFERROR(G120/H120,\"\")))","v":19.620865139949107},{"$f":"IF(COUNTIF($C$2:$C$501,C120)=1,\"\",IF(I120=\"\",\"\",ABS(IF(I120=\"\",0,(((H120*OFFSET($M$1,MATCH($C120,$L$2:$L$40,0),,)-G120)/G120))))))","v":0.26079554090523527},{"$f":"IF(OR(J120<(QUARTILE($J$2:$J$501,1))-1.5*(QUARTILE($J$2:$J$501,3)-QUARTILE($J$2:$J$501,1)),J120>(QUARTILE($J$2:$J$501,3))+1.5*(QUARTILE($J$2:$J$501,3)-QUARTILE($J$2:$J$501,1))),\"\",J120)","v":0.26079554090523527},null,null,{"$f":"IF(COUNTIF($D$2:$D$501,D120)=1,\"\",IF(I120=\"\",\"\",ABS(IF(I120=\"\",0,(((H120*OFFSET($P$1,MATCH($D120,$O$2:$O$40,0),,)-G120)/G120))))))","v":0.2702436587807277},null,null,{"$f":"IFERROR(IF(COUNTIF($E$2:$E$501,E120)=1,\"\",IF(I120=\"\",\"\",ABS(IF(I120=\"\",0,(((H120*OFFSET($S$1,MATCH($E120,$R$2:$R$41,0),,)-G120)/G120)))))),\"\")","v":0.25037091590374011},null,null,{"$f":"IFERROR(IF(COUNTIF($F$2:$F$501,F120)=1,\"\",IF(I120=\"\",\"\",ABS(IF(I120=\"\",0,(((H120*OFFSET($V$1,MATCH($F120,$U$2:$U$105,0),,)-G120)/G120)))))),\"\")","v":""},null,null,{"$f":"IF(OR(J120<(QUARTILE($J$2:$J$501,1))-1.5*(QUARTILE($J$2:$J$501,3)-QUARTILE($J$2:$J$501,1)),J120>(QUARTILE($J$2:$J$501,3))+1.5*(QUARTILE($J$2:$J$501,3)-QUARTILE($J$2:$J$501,1))),\"Outlier\")","v":false}]
[286738,"METLIFE",8000,8500,8570,8575,29.49,5.42,{"$f":"(IF(IFERROR(G121/H121,\"\")<0,\"\",IFERROR(G121/H121,\"\")))","v":5.4409594095940959},{"$f":"IF(COUNTIF($C$2:$C$501,C121)=1,\"\",IF(I121=\"\",\"\",ABS(IF(I121=\"\",0,(((H121*OFFSET($M$1,MATCH($C121,$L$2:$L$40,0),,)-G121)/G121))))))","v":1.4445672350581353},{"$f":"IF(OR(J121<(QUARTILE($J$2:$J$501,1))-1.5*(QUARTILE($J$2:$J$501,3)-QUARTILE($J$2:$J$501,1)),J121>(QUARTILE($J$2:$J$501,3))+1.5*(QUARTILE($J$2:$J$501,3)-QUARTILE($J$2:$J$501,1))),\"\",J121)","v":""},null,null,{"$f":"IF(COUNTIF($D$2:$D$501,D121)=1,\"\",IF(I121=\"\",\"\",ABS(IF(I121=\"\",0,(((H121*OFFSET($P$1,MATCH($D121,$O$2:$O$40,0),,)-G121)/G121))))))","v":0.97811844489780675},null,null,{"$f":"IFERROR(IF(COUNTIF($E$2:$E$501,E121)=1,\"\",IF(I121=\"\",\"\",ABS(IF(I121=\"\",0,(((H121*OFFSET($S$1,MATCH($E121,$R$2:$R$41,0),,)-G121)/G121)))))),\"\")","v":0.90937657112922021},null,null,{"$f":"IFERROR(IF(COUNTIF($F$2:$F$501,F121)=1,\"\",IF(I121=\"\",\"\",ABS(IF(I121=\"\",0,(((H121*OFFSET($V$1,MATCH($F121,$U$2:$U$105,0),,)-G121)/G121)))))),\"\")","v":0.90937657112922021},null,null,{"$f":"IF(OR(J121<(QUARTILE($J$2:$J$501,1))-1.5*(QUARTILE($J$2:$J$501,3)-QUARTILE($J$2:$J$501,1)),J121>(QUARTILE($J$2:$J$501,3))+1.5*(QUARTILE($J$2:$J$501,3)-QUARTILE($J$2:$J$501,1))),\"Outlier\")","v":"Outlier"}]
[292731,"JANUS CAPITAL GP.",8000,8700,8770,8771,7.58,0.69,{"$f":"(IF(IFERROR(G122/H122,\"\")<0,\"\",IFERROR(G122/H122,\"\")))","v":10.985507246376812},{"$f":"IF(COUNTIF($C$2:$C$501,C122)=1,\"\",IF(I122=\"\",\"\",ABS(IF(I122=\"\",0,(((H122*OFFSET($M$1,MATCH($C122,$L$2:$L$40,0),,)-G122)/G122))))))","v":0.21075802888954298},{"$f":"IF(OR(J122<(QUARTILE($J$2:$J$501,1))-1.5*(QUARTILE($J$2:$J$501,3)-QUARTILE($J$2:$J$501,1)),J122>(QUARTILE($J$2:$J$501,3))+1.5*(QUARTILE($J$2:$J$501,3)-QUARTILE($J$2:$J$501,1))),\"\",J122)","v":0.21075802888954298},null,null,{"$f":"IF(COUNTIF($D$2:$D$501,D122)=1,\"\",IF(I122=\"\",\"\",ABS(IF(I122=\"\",0,(((H122*OFFSET($P$1,MATCH($D122,$O$2:$O$40,0),,)-G122)/G122))))))","v":0.14037875538261635},null,null,{"$f":"IFERROR(IF(COUNTIF($E$2:$E$501,E122)=1,\"\",IF(I122=\"\",\"\",ABS(IF(I122=\"\",0,(((H122*OFFSET($S$1,MATCH($E122,$R$2:$R$41,0),,)-G122)/G122)))))),\"\")","v":0.14037875538261635},null,null,{"$f":"IFERROR(IF(COUNTIF($F$2:$F$501,F122)=1,\"\",IF(I122=\"\",\"\",ABS(IF(I122=\"\",0,(((H122*OFFSET($V$1,MATCH($F122,$U$2:$U$105,0),,)-G122)/G122)))))),\"\")","v":0.24932186573322926},null,null,{"$f":"IF(OR(J122<(QUARTILE($J$2:$J$501,1))-1.5*(QUARTILE($J$2:$J$501,3)-QUARTILE($J$2:$J$501,1)),J122>(QUARTILE($J$2:$J$501,3))+1.5*(QUARTILE($J$2:$J$501,3)-QUARTILE($J$2:$J$501,1))),\"Outlier\")","v":false}]
[312385,"COSTCO WHOLESALE",5000,5300,5370,5373,92.92,3.58,{"$f":"(IF(IFERROR(G123/H123,\"\")<0,\"\",IFERROR(G123/H123,\"\")))","v":25.955307262569832},{"$f":"IF(COUNTIF($C$2:$C$501,C123)=1,\"\",IF(I123=\"\",\"\",ABS(IF(I123=\"\",0,(((H123*OFFSET($M$1,MATCH($C123,$L$2:$L$40,0),,)-G123)/G123))))))","v":0.39239740826581831},{"$f":"IF(OR(J123<(QUARTILE($J$2:$J$501,1))-1.5*(QUARTILE($J$2:$J$501,3)-QUARTILE($J$2:$J$501,1)),J123>(QUARTILE($J$2:$J$501,3))+1.5*(QUARTILE($J$2:$J$501,3)-QUARTILE($J$2:$J$501,1))),\"\",J123)","v":0.39239740826581831},null,null,{"$f":"IF(COUNTIF($D$2:$D$501,D123)=1,\"\",IF(I123=\"\",\"\",ABS(IF(I123=\"\",0,(((H123*OFFSET($P$1,MATCH($D123,$O$2:$O$40,0),,)-G123)/G123))))))","v":0.43859378643464125},null,null,{"$f":"IFERROR(IF(COUNTIF($E$2:$E$501,E123)=1,\"\",IF(I123=\"\",\"\",ABS(IF(I123=\"\",0,(((H123*OFFSET($S$1,MATCH($E123,$R$2:$R$41,0),,)-G123)/G123)))))),\"\")","v":0.44777751103935293},null,null,{"$f":"IFERROR(IF(COUNTIF($F$2:$F$501,F123)=1,\"\",IF(I123=\"\",\"\",ABS(IF(I123=\"\",0,(((H123*OFFSET($V$1,MATCH($F123,$U$2:$U$105,0),,)-G123)/G123)))))),\"\")","v":0.26594748498207266},null,null,{"$f":"IF(OR(J123<(QUARTILE($J$2:$J$501,1))-1.5*(QUARTILE($J$2:$J$501,3)-QUARTILE($J$2:$J$501,1)),J123>(QUARTILE($J$2:$J$501,3))+1.5*(QUARTILE($J$2:$J$501,3)-QUARTILE($J$2:$J$501,1))),\"Outlier\")","v":false}]
[321354,"IAC/INTERACTIVECORP",9000,9500,9530,9535,44.34,2.04,{"$f":"(IF(IFERROR(G124/H124,\"\")<0,\"\",IFERROR(G124/H124,\"\")))","v":21.735294117647062},{"$f":"IF(COUNTIF($C$2:$C$501,C124)=1,\"\",IF(I124=\"\",\"\",ABS(IF(I124=\"\",0,(((H124*OFFSET($M$1,MATCH($C124,$L$2:$L$40,0),,)-G124)/G124))))))","v":0.39766090234867707},{"$f":"IF(OR(J124<(QUARTILE($J$2:$J$501,1))-1.5*(QUARTILE($J$2:$J$501,3)-QUARTILE($J$2:$J$501,1)),J124>(QUARTILE($J$2:$J$501,3))+1.5*(QUARTILE($J$2:$J$501,3)-QUARTILE($J$2:$J$501,1))),\"\",J124)","v":0.39766090234867707},null,null,{"$f":"IF(COUNTIF($D$2:$D$501,D124)=1,\"\",IF(I124=\"\",\"\",ABS(IF(I124=\"\",0,(((H124*OFFSET($P$1,MATCH($D124,$O$2:$O$40,0),,)-G124)/G124))))))","v":0.39766090234867707},null,null,{"$f":"IFERROR(IF(COUNTIF($E$2:$E$501,E124)=1,\"\",IF(I124=\"\",\"\",ABS(IF(I124=\"\",0,(((H124*OFFSET($S$1,MATCH($E124,$R$2:$R$41,0),,)-G124)/G124)))))),\"\")","v":0.35029989757544222},null,null,{"$f":"IFERROR(IF(COUNTIF($F$2:$F$501,F124)=1,\"\",IF(I124=\"\",\"\",ABS(IF(I124=\"\",0,(((H124*OFFSET($V$1,MATCH($F124,$U$2:$U$105,0),,)-G124)/G124)))))),\"\")","v":""},null,null,{"$f":"IF(OR(J124<(QUARTILE($J$2:$J$501,1))-1.5*(QUARTILE($J$2:$J$501,3)-QUARTILE($J$2:$J$501,1)),J124>(QUARTILE($J$2:$J$501,3))+1.5*(QUARTILE($J$2:$J$501,3)-QUARTILE($J$2:$J$501,1))),\"Outlier\")","v":false}]
[322668,"TRANSOCEAN",1,500,570,573,42.9,17.82,{"$f":"(IF(IFERROR(G125/H125,\"\")<0,\"\",IFERROR(G125/H125,\"\")))","v":2.4074074074074074},{"$f":"IF(COUNTIF($C$2:$C$501,C125)=1,\"\",IF(I125=\"\",\"\",ABS(IF(I125=\"\",0,(((H125*OFFSET($M$1,MATCH($C125,$L$2:$L$40,0),,)-G125)/G125))))))","v":2.8517061064558678},{"$f":"IF(OR(J125<(QUARTILE($J$2:$J$501,1))-1.5*(QUARTILE($J$2:$J$501,3)-QUARTILE($J$2:$J$501,1)),J125>(QUARTILE($J$2:$J$501,3))+1.5*(QUARTILE($J$2:$J$501,3)-QUARTILE($J$2:$J$501,1))),\"\",J125)","v":""},null,null,{"$f":"IF(COUNTIF($D$2:$D$501,D125)=1,\"\",IF(I125=\"\",\"\",ABS(IF(I125=\"\",0,(((H125*OFFSET($P$1,MATCH($D125,$O$2:$O$40,0),,)-G125)/G125))))))","v":2.8517061064558678},null,null,{"$f":"IFERROR(IF(COUNTIF($E$2:$E$501,E125)=1,\"\",IF(I125=\"\",\"\",ABS(IF(I125=\"\",0,(((H125*OFFSET($S$1,MATCH($E125,$R$2:$R$41,0),,)-G125)/G125)))))),\"\")","v":3.2961385860186123},null,null,{"$f":"IFERROR(IF(COUNTIF($F$2:$F$501,F125)=1,\"\",IF(I125=\"\",\"\",ABS(IF(I125=\"\",0,(((H125*OFFSET($V$1,MATCH($F125,$U$2:$U$105,0),,)-G125)/G125)))))),\"\")","v":2.7407812428974658},null,null,{"$f":"IF(OR(J125<(QUARTILE($J$2:$J$501,1))-1.5*(QUARTILE($J$2:$J$501,3)-QUARTILE($J$2:$J$501,1)),J125>(QUARTILE($J$2:$J$501,3))+1.5*(QUARTILE($J$2:$J$501,3)-QUARTILE($J$2:$J$501,1))),\"Outlier\")","v":"Outlier"}]
[325308,"EL PASO DEAD - MERGER.74500P",1,500,570,577,28.75,0.21,{"$f":"(IF(IFERROR(G126/H126,\"\")<0,\"\",IFERROR(G126/H126,\"\")))","v":136.9047619047619},{"$f":"IF(COUNTIF($C$2:$C$501,C126)=1,\"\",IF(I126=\"\",\"\",ABS(IF(I126=\"\",0,(((H126*OFFSET($M$1,MATCH($C126,$L$2:$L$40,0),,)-G126)/G126))))))","v":0.93226951580918183},{"$f":"IF(OR(J126<(QUARTILE($J$2:$J$501,1))-1.5*(QUARTILE($J$2:$J$501,3)-QUARTILE($J$2:$J$501,1)),J126>(QUARTILE($J$2:$J$501,3))+1.5*(QUARTILE($J$2:$J$501,3)-QUARTILE($J$2:$J$501,1))),\"\",J126)","v":0.93226951580918183},null,null,{"$f":"IF(COUNTIF($D$2:$D$501,D126)=1,\"\",IF(I126=\"\",\"\",ABS(IF(I126=\"\",0,(((H126*OFFSET($P$1,MATCH($D126,$O$2:$O$40,0),,)-G126)/G126))))))","v":0.93226951580918183},null,null,{"$f":"IFERROR(IF(COUNTIF($E$2:$E$501,E126)=1,\"\",IF(I126=\"\",\"\",ABS(IF(I126=\"\",0,(((H126*OFFSET($S$1,MATCH($E126,$R$2:$R$41,0),,)-G126)/G126)))))),\"\")","v":0.92445437462266788},null,null,{"$f":"IFERROR(IF(COUNTIF($F$2:$F$501,F126)=1,\"\",IF(I126=\"\",\"\",ABS(IF(I126=\"\",0,(((H126*OFFSET($V$1,MATCH($F126,$U$2:$U$105,0),,)-G126)/G126)))))),\"\")","v":""},null,null,{"$f":"IF(OR(J126<(QUARTILE($J$2:$J$501,1))-1.5*(QUARTILE($J$2:$J$501,3)-QUARTILE($J$2:$J$501,1)),J126>(QUARTILE($J$2:$J$501,3))+1.5*(QUARTILE($J$2:$J$501,3)-QUARTILE($J$2:$J$501,1))),\"Outlier\")","v":false}]
[325364,"TIME WARNER",5000,5500,5550,5553,37.869999999999997,2.68,{"$f":"(IF(IFERROR(G127/H127,\"\")<0,\"\",IFERROR(G127/H127,\"\")))","v":14.130597014925371},{"$f":"IF(COUNTIF($C$2:$C$501,C127)=1,\"\",IF(I127=\"\",\"\",ABS(IF(I127=\"\",0,(((H127*OFFSET($M$1,MATCH($C127,$L$2:$L$40,0),,)-G127)/G127))))))","v":0.11605418690639425},{"$f":"IF(OR(J127<(QUARTILE($J$2:$J$501,1))-1.5*(QUARTILE($J$2:$J$501,3)-QUARTILE($J$2:$J$501,1)),J127>(QUARTILE($J$2:$J$501,3))+1.5*(QUARTILE($J$2:$J$501,3)-QUARTILE($J$2:$J$501,1))),\"\",J127)","v":0.11605418690639425},null,null,{"$f":"IF(COUNTIF($D$2:$D$501,D127)=1,\"\",IF(I127=\"\",\"\",ABS(IF(I127=\"\",0,(((H127*OFFSET($P$1,MATCH($D127,$O$2:$O$40,0),,)-G127)/G127))))))","v":7.3580118961197344E-2},null,null,{"$f":"IFERROR(IF(COUNTIF($E$2:$E$501,E127)=1,\"\",IF(I127=\"\",\"\",ABS(IF(I127=\"\",0,(((H127*OFFSET($S$1,MATCH($E127,$R$2:$R$41,0),,)-G127)/G127)))))),\"\")","v":7.3580118961197344E-2},null,null,{"$f":"IFERROR(IF(COUNTIF($F$2:$F$501,F127)=1,\"\",IF(I127=\"\",\"\",ABS(IF(I127=\"\",0,(((H127*OFFSET($V$1,MATCH($F127,$U$2:$U$105,0),,)-G127)/G127)))))),\"\")","v":0.1428324032455317},null,null,{"$f":"IF(OR(J127<(QUARTILE($J$2:$J$501,1))-1.5*(QUARTILE($J$2:$J$501,3)-QUARTILE($J$2:$J$501,1)),J127>(QUARTILE($J$2:$J$501,3))+1.5*(QUARTILE($J$2:$J$501,3)-QUARTILE($J$2:$J$501,1))),\"Outlier\")","v":false}]
[325518,"FIRST DATA DEAD - MERGER",2000,2700,2790,2795,33.97,0.57999999999999996,{"$f":"(IF(IFERROR(G128/H128,\"\")<0,\"\",IFERROR(G128/H128,\"\")))","v":58.568965517241381},{"$f":"IF(COUNTIF($C$2:$C$501,C128)=1,\"\",IF(I128=\"\",\"\",ABS(IF(I128=\"\",0,(((H128*OFFSET($M$1,MATCH($C128,$L$2:$L$40,0),,)-G128)/G128))))))","v":0.75236320336786877},{"$f":"IF(OR(J128<(QUARTILE($J$2:$J$501,1))-1.5*(QUARTILE($J$2:$J$501,3)-QUARTILE($J$2:$J$501,1)),J128>(QUARTILE($J$2:$J$501,3))+1.5*(QUARTILE($J$2:$J$501,3)-QUARTILE($J$2:$J$501,1))),\"\",J128)","v":0.75236320336786877},null,null,{"$f":"IF(COUNTIF($D$2:$D$501,D128)=1,\"\",IF(I128=\"\",\"\",ABS(IF(I128=\"\",0,(((H128*OFFSET($P$1,MATCH($D128,$O$2:$O$40,0),,)-G128)/G128))))))","v":0.75552836507124232},null,null,{"$f":"IFERROR(IF(COUNTIF($E$2:$E$501,E128)=1,\"\",IF(I128=\"\",\"\",ABS(IF(I128=\"\",0,(((H128*OFFSET($S$1,MATCH($E128,$R$2:$R$41,0),,)-G128)/G128)))))),\"\")","v":0.7452955630213971},null,null,{"$f":"IFERROR(IF(COUNTIF($F$2:$F$501,F128)=1,\"\",IF(I128=\"\",\"\",ABS(IF(I128=\"\",0,(((H128*OFFSET($V$1,MATCH($F128,$U$2:$U$105,0),,)-G128)/G128)))))),\"\")","v":0.59629579114982278},null,null,{"$f":"IF(OR(J128<(QUARTILE($J$2:$J$501,1))-1.5*(QUARTILE($J$2:$J$501,3)-QUARTILE($J$2:$J$501,1)),J128>(QUARTILE($J$2:$J$501,3))+1.5*(QUARTILE($J$2:$J$501,3)-QUARTILE($J$2:$J$501,1))),\"Outlier\")","v":false}]
[325596,"WATSON PHARMS.",4000,4500,4570,4577,72.2,2.14,{"$f":"(IF(IFERROR(G129/H129,\"\")<0,\"\",IFERROR(G129/H129,\"\")))","v":33.738317757009348},{"$f":"IF(COUNTIF($C$2:$C$501,C129)=1,\"\",IF(I129=\"\",\"\",ABS(IF(I129=\"\",0,(((H129*OFFSET($M$1,MATCH($C129,$L$2:$L$40,0),,)-G129)/G129))))))","v":0.49832139241281442},{"$f":"IF(OR(J129<(QUARTILE($J$2:$J$501,1))-1.5*(QUARTILE($J$2:$J$501,3)-QUARTILE($J$2:$J$501,1)),J129>(QUARTILE($J$2:$J$501,3))+1.5*(QUARTILE($J$2:$J$501,3)-QUARTILE($J$2:$J$501,1))),\"\",J129)","v":0.49832139241281442},null,null,{"$f":"IF(COUNTIF($D$2:$D$501,D129)=1,\"\",IF(I129=\"\",\"\",ABS(IF(I129=\"\",0,(((H129*OFFSET($P$1,MATCH($D129,$O$2:$O$40,0),,)-G129)/G129))))))","v":0.49832139241281442},null,null,{"$f":"IFERROR(IF(COUNTIF($E$2:$E$501,E129)=1,\"\",IF(I129=\"\",\"\",ABS(IF(I129=\"\",0,(((H129*OFFSET($S$1,MATCH($E129,$R$2:$R$41,0),,)-G129)/G129)))))),\"\")","v":0.41048382373593695},null,null,{"$f":"IFERROR(IF(COUNTIF($F$2:$F$501,F129)=1,\"\",IF(I129=\"\",\"\",ABS(IF(I129=\"\",0,(((H129*OFFSET($V$1,MATCH($F129,$U$2:$U$105,0),,)-G129)/G129)))))),\"\")","v":0.45309164101003296},null,null,{"$f":"IF(OR(J129<(QUARTILE($J$2:$J$501,1))-1.5*(QUARTILE($J$2:$J$501,3)-QUARTILE($J$2:$J$501,1)),J129>(QUARTILE($J$2:$J$501,3))+1.5*(QUARTILE($J$2:$J$501,3)-QUARTILE($J$2:$J$501,1))),\"Outlier\")","v":false}]
[325849,"KOHL'S",5000,5300,5370,5371,44.55,4.1900000000000004,{"$f":"(IF(IFERROR(G130/H130,\"\")<0,\"\",IFERROR(G130/H130,\"\")))","v":10.632458233890214},{"$f":"IF(COUNTIF($C$2:$C$501,C130)=1,\"\",IF(I130=\"\",\"\",ABS(IF(I130=\"\",0,(((H130*OFFSET($M$1,MATCH($C130,$L$2:$L$40,0),,)-G130)/G130))))))","v":0.48324231471956874},{"$f":"IF(OR(J130<(QUARTILE($J$2:$J$501,1))-1.5*(QUARTILE($J$2:$J$501,3)-QUARTILE($J$2:$J$501,1)),J130>(QUARTILE($J$2:$J$501,3))+1.5*(QUARTILE($J$2:$J$501,3)-QUARTILE($J$2:$J$501,1))),\"\",J130)","v":0.48324231471956874},null,null,{"$f":"IF(COUNTIF($D$2:$D$501,D130)=1,\"\",IF(I130=\"\",\"\",ABS(IF(I130=\"\",0,(((H130*OFFSET($P$1,MATCH($D130,$O$2:$O$40,0),,)-G130)/G130))))))","v":0.37047053951825071},null,null,{"$f":"IFERROR(IF(COUNTIF($E$2:$E$501,E130)=1,\"\",IF(I130=\"\",\"\",ABS(IF(I130=\"\",0,(((H130*OFFSET($S$1,MATCH($E130,$R$2:$R$41,0),,)-G130)/G130)))))),\"\")","v":0.34805179225523863},null,null,{"$f":"IFERROR(IF(COUNTIF($F$2:$F$501,F130)=1,\"\",IF(I130=\"\",\"\",ABS(IF(I130=\"\",0,(((H130*OFFSET($V$1,MATCH($F130,$U$2:$U$105,0),,)-G130)/G130)))))),\"\")","v":0.27263115985173286},null,null,{"$f":"IF(OR(J130<(QUARTILE($J$2:$J$501,1))-1.5*(QUARTILE($J$2:$J$501,3)-QUARTILE($J$2:$J$501,1)),J130>(QUARTILE($J$2:$J$501,3))+1.5*(QUARTILE($J$2:$J$501,3)-QUARTILE($J$2:$J$501,1))),\"Outlier\")","v":false}]
[325922,"D R HORTON",3000,3700,3720,3728,17.39,0.42,{"$f":"(IF(IFERROR(G131/H131,\"\")<0,\"\",IFERROR(G131/H131,\"\")))","v":41.404761904761905},{"$f":"IF(COUNTIF($C$2:$C$501,C131)=1,\"\",IF(I131=\"\",\"\",ABS(IF(I131=\"\",0,(((H131*OFFSET($M$1,MATCH($C131,$L$2:$L$40,0),,)-G131)/G131))))))","v":0.61380808949575627},{"$f":"IF(OR(J131<(QUARTILE($J$2:$J$501,1))-1.5*(QUARTILE($J$2:$J$501,3)-QUARTILE($J$2:$J$501,1)),J131>(QUARTILE($J$2:$J$501,3))+1.5*(QUARTILE($J$2:$J$501,3)-QUARTILE($J$2:$J$501,1))),\"\",J131)","v":0.61380808949575627},null,null,{"$f":"IF(COUNTIF($D$2:$D$501,D131)=1,\"\",IF(I131=\"\",\"\",ABS(IF(I131=\"\",0,(((H131*OFFSET($P$1,MATCH($D131,$O$2:$O$40,0),,)-G131)/G131))))))","v":0.53432918013385344},null,null,{"$f":"IFERROR(IF(COUNTIF($E$2:$E$501,E131)=1,\"\",IF(I131=\"\",\"\",ABS(IF(I131=\"\",0,(((H131*OFFSET($S$1,MATCH($E131,$R$2:$R$41,0),,)-G131)/G131)))))),\"\")","v":0.48365728924664581},null,null,{"$f":"IFERROR(IF(COUNTIF($F$2:$F$501,F131)=1,\"\",IF(I131=\"\",\"\",ABS(IF(I131=\"\",0,(((H131*OFFSET($V$1,MATCH($F131,$U$2:$U$105,0),,)-G131)/G131)))))),\"\")","v":""},null,null,{"$f":"IF(OR(J131<(QUARTILE($J$2:$J$501,1))-1.5*(QUARTILE($J$2:$J$501,3)-QUARTILE($J$2:$J$501,1)),J131>(QUARTILE($J$2:$J$501,3))+1.5*(QUARTILE($J$2:$J$501,3)-QUARTILE($J$2:$J$501,1))),\"Outlier\")","v":false}]
[326038,"EXPRESS SCRIPTS HOLDING",4000,4500,4530,4533,54.79,2.46,{"$f":"(IF(IFERROR(G132/H132,\"\")<0,\"\",IFERROR(G132/H132,\"\")))","v":22.272357723577237},{"$f":"IF(COUNTIF($C$2:$C$501,C132)=1,\"\",IF(I132=\"\",\"\",ABS(IF(I132=\"\",0,(((H132*OFFSET($M$1,MATCH($C132,$L$2:$L$40,0),,)-G132)/G132))))))","v":0.24005386027214184},{"$f":"IF(OR(J132<(QUARTILE($J$2:$J$501,1))-1.5*(QUARTILE($J$2:$J$501,3)-QUARTILE($J$2:$J$501,1)),J132>(QUARTILE($J$2:$J$501,3))+1.5*(QUARTILE($J$2:$J$501,3)-QUARTILE($J$2:$J$501,1))),\"\",J132)","v":0.24005386027214184},null,null,{"$f":"IF(COUNTIF($D$2:$D$501,D132)=1,\"\",IF(I132=\"\",\"\",ABS(IF(I132=\"\",0,(((H132*OFFSET($P$1,MATCH($D132,$O$2:$O$40,0),,)-G132)/G132))))))","v":0.24005386027214184},null,null,{"$f":"IFERROR(IF(COUNTIF($E$2:$E$501,E132)=1,\"\",IF(I132=\"\",\"\",ABS(IF(I132=\"\",0,(((H132*OFFSET($S$1,MATCH($E132,$R$2:$R$41,0),,)-G132)/G132)))))),\"\")","v":0.31315365164492931},null,null,{"$f":"IFERROR(IF(COUNTIF($F$2:$F$501,F132)=1,\"\",IF(I132=\"\",\"\",ABS(IF(I132=\"\",0,(((H132*OFFSET($V$1,MATCH($F132,$U$2:$U$105,0),,)-G132)/G132)))))),\"\")","v":0.41859211157611337},null,null,{"$f":"IF(OR(J132<(QUARTILE($J$2:$J$501,1))-1.5*(QUARTILE($J$2:$J$501,3)-QUARTILE($J$2:$J$501,1)),J132>(QUARTILE($J$2:$J$501,3))+1.5*(QUARTILE($J$2:$J$501,3)-QUARTILE($J$2:$J$501,1))),\"Outlier\")","v":false}]
[326105,"PRAXAIR",1000,1300,1350,1353,105.34,5.54,{"$f":"(IF(IFERROR(G133/H133,\"\")<0,\"\",IFERROR(G133/H133,\"\")))","v":19.014440433212997},{"$f":"IF(COUNTIF($C$2:$C$501,C133)=1,\"\",IF(I133=\"\",\"\",ABS(IF(I133=\"\",0,(((H133*OFFSET($M$1,MATCH($C133,$L$2:$L$40,0),,)-G133)/G133))))))","v":0.18499429327021302},{"$f":"IF(OR(J133<(QUARTILE($J$2:$J$501,1))-1.5*(QUARTILE($J$2:$J$501,3)-QUARTILE($J$2:$J$501,1)),J133>(QUARTILE($J$2:$J$501,3))+1.5*(QUARTILE($J$2:$J$501,3)-QUARTILE($J$2:$J$501,1))),\"\",J133)","v":0.18499429327021302},null,null,{"$f":"IF(COUNTIF($D$2:$D$501,D133)=1,\"\",IF(I133=\"\",\"\",ABS(IF(I133=\"\",0,(((H133*OFFSET($P$1,MATCH($D133,$O$2:$O$40,0),,)-G133)/G133))))))","v":4.9510363415820859E-2},null,null,{"$f":"IFERROR(IF(COUNTIF($E$2:$E$501,E133)=1,\"\",IF(I133=\"\",\"\",ABS(IF(I133=\"\",0,(((H133*OFFSET($S$1,MATCH($E133,$R$2:$R$41,0),,)-G133)/G133)))))),\"\")","v":4.9510363415820859E-2},null,null,{"$f":"IFERROR(IF(COUNTIF($F$2:$F$501,F133)=1,\"\",IF(I133=\"\",\"\",ABS(IF(I133=\"\",0,(((H133*OFFSET($V$1,MATCH($F133,$U$2:$U$105,0),,)-G133)/G133)))))),\"\")","v":0.25428152133676779},null,null,{"$f":"IF(OR(J133<(QUARTILE($J$2:$J$501,1))-1.5*(QUARTILE($J$2:$J$501,3)-QUARTILE($J$2:$J$501,1)),J133>(QUARTILE($J$2:$J$501,3))+1.5*(QUARTILE($J$2:$J$501,3)-QUARTILE($J$2:$J$501,1))),\"Outlier\")","v":false}]
[326143,"STARBUCKS",5000,5700,5750,5757,52.09,1.73,{"$f":"(IF(IFERROR(G134/H134,\"\")<0,\"\",IFERROR(G134/H134,\"\")))","v":30.109826589595379},{"$f":"IF(COUNTIF($C$2:$C$501,C134)=1,\"\",IF(I134=\"\",\"\",ABS(IF(I134=\"\",0,(((H134*OFFSET($M$1,MATCH($C134,$L$2:$L$40,0),,)-G134)/G134))))))","v":0.47623371675464748},{"$f":"IF(OR(J134<(QUARTILE($J$2:$J$501,1))-1.5*(QUARTILE($J$2:$J$501,3)-QUARTILE($J$2:$J$501,1)),J134>(QUARTILE($J$2:$J$501,3))+1.5*(QUARTILE($J$2:$J$501,3)-QUARTILE($J$2:$J$501,1))),\"\",J134)","v":0.47623371675464748},null,null,{"$f":"IF(COUNTIF($D$2:$D$501,D134)=1,\"\",IF(I134=\"\",\"\",ABS(IF(I134=\"\",0,(((H134*OFFSET($P$1,MATCH($D134,$O$2:$O$40,0),,)-G134)/G134))))))","v":0.27269752440058453},null,null,{"$f":"IFERROR(IF(COUNTIF($E$2:$E$501,E134)=1,\"\",IF(I134=\"\",\"\",ABS(IF(I134=\"\",0,(((H134*OFFSET($S$1,MATCH($E134,$R$2:$R$41,0),,)-G134)/G134)))))),\"\")","v":0.27269752440058453},null,null,{"$f":"IFERROR(IF(COUNTIF($F$2:$F$501,F134)=1,\"\",IF(I134=\"\",\"\",ABS(IF(I134=\"\",0,(((H134*OFFSET($V$1,MATCH($F134,$U$2:$U$105,0),,)-G134)/G134)))))),\"\")","v":0.29365656527088929},null,null,{"$f":"IF(OR(J134<(QUARTILE($J$2:$J$501,1))-1.5*(QUARTILE($J$2:$J$501,3)-QUARTILE($J$2:$J$501,1)),J134>(QUARTILE($J$2:$J$501,3))+1.5*(QUARTILE($J$2:$J$501,3)-QUARTILE($J$2:$J$501,1))),\"Outlier\")","v":false}]
[326996,"PATTERSON COMPANIES",4000,4500,4530,4537,33.61,1.92,{"$f":"(IF(IFERROR(G135/H135,\"\")<0,\"\",IFERROR(G135/H135,\"\")))","v":17.505208333333332},{"$f":"IF(COUNTIF($C$2:$C$501,C135)=1,\"\",IF(I135=\"\",\"\",ABS(IF(I135=\"\",0,(((H135*OFFSET($M$1,MATCH($C135,$L$2:$L$40,0),,)-G135)/G135))))))","v":3.3099637983716262E-2},{"$f":"IF(OR(J135<(QUARTILE($J$2:$J$501,1))-1.5*(QUARTILE($J$2:$J$501,3)-QUARTILE($J$2:$J$501,1)),J135>(QUARTILE($J$2:$J$501,3))+1.5*(QUARTILE($J$2:$J$501,3)-QUARTILE($J$2:$J$501,1))),\"\",J135)","v":3.3099637983716262E-2},null,null,{"$f":"IF(COUNTIF($D$2:$D$501,D135)=1,\"\",IF(I135=\"\",\"\",ABS(IF(I135=\"\",0,(((H135*OFFSET($P$1,MATCH($D135,$O$2:$O$40,0),,)-G135)/G135))))))","v":3.3099637983716262E-2},null,null,{"$f":"IFERROR(IF(COUNTIF($E$2:$E$501,E135)=1,\"\",IF(I135=\"\",\"\",ABS(IF(I135=\"\",0,(((H135*OFFSET($S$1,MATCH($E135,$R$2:$R$41,0),,)-G135)/G135)))))),\"\")","v":0.126106511822136},null,null,{"$f":"IFERROR(IF(COUNTIF($F$2:$F$501,F135)=1,\"\",IF(I135=\"\",\"\",ABS(IF(I135=\"\",0,(((H135*OFFSET($V$1,MATCH($F135,$U$2:$U$105,0),,)-G135)/G135)))))),\"\")","v":0.10298501981227583},null,null,{"$f":"IF(OR(J135<(QUARTILE($J$2:$J$501,1))-1.5*(QUARTILE($J$2:$J$501,3)-QUARTILE($J$2:$J$501,1)),J135>(QUARTILE($J$2:$J$501,3))+1.5*(QUARTILE($J$2:$J$501,3)-QUARTILE($J$2:$J$501,1))),\"Outlier\")","v":false}]
[327352,"COMPUWARE",9000,9500,9530,9537,8.98,0.4,{"$f":"(IF(IFERROR(G136/H136,\"\")<0,\"\",IFERROR(G136/H136,\"\")))","v":22.45},{"$f":"IF(COUNTIF($C$2:$C$501,C136)=1,\"\",IF(I136=\"\",\"\",ABS(IF(I136=\"\",0,(((H136*OFFSET($M$1,MATCH($C136,$L$2:$L$40,0),,)-G136)/G136))))))","v":0.41683663937596266},{"$f":"IF(OR(J136<(QUARTILE($J$2:$J$501,1))-1.5*(QUARTILE($J$2:$J$501,3)-QUARTILE($J$2:$J$501,1)),J136>(QUARTILE($J$2:$J$501,3))+1.5*(QUARTILE($J$2:$J$501,3)-QUARTILE($J$2:$J$501,1))),\"\",J136)","v":0.41683663937596266},null,null,{"$f":"IF(COUNTIF($D$2:$D$501,D136)=1,\"\",IF(I136=\"\",\"\",ABS(IF(I136=\"\",0,(((H136*OFFSET($P$1,MATCH($D136,$O$2:$O$40,0),,)-G136)/G136))))))","v":0.41683663937596266},null,null,{"$f":"IFERROR(IF(COUNTIF($E$2:$E$501,E136)=1,\"\",IF(I136=\"\",\"\",ABS(IF(I136=\"\",0,(((H136*OFFSET($S$1,MATCH($E136,$R$2:$R$41,0),,)-G136)/G136)))))),\"\")","v":0.37098339356511428},null,null,{"$f":"IFERROR(IF(COUNTIF($F$2:$F$501,F136)=1,\"\",IF(I136=\"\",\"\",ABS(IF(I136=\"\",0,(((H136*OFFSET($V$1,MATCH($F136,$U$2:$U$105,0),,)-G136)/G136)))))),\"\")","v":0.35444547543075366},null,null,{"$f":"IF(OR(J136<(QUARTILE($J$2:$J$501,1))-1.5*(QUARTILE($J$2:$J$501,3)-QUARTILE($J$2:$J$501,1)),J136>(QUARTILE($J$2:$J$501,3))+1.5*(QUARTILE($J$2:$J$501,3)-QUARTILE($J$2:$J$501,1))),\"Outlier\")","v":false}]
[327731,"DDR",8000,8600,8670,8672,14.2,0,{"$f":"(IF(IFERROR(G137/H137,\"\")<0,\"\",IFERROR(G137/H137,\"\")))","v":""},{"$f":"IF(COUNTIF($C$2:$C$501,C137)=1,\"\",IF(I137=\"\",\"\",ABS(IF(I137=\"\",0,(((H137*OFFSET($M$1,MATCH($C137,$L$2:$L$40,0),,)-G137)/G137))))))","v":""},{"$f":"IF(OR(J137<(QUARTILE($J$2:$J$501,1))-1.5*(QUARTILE($J$2:$J$501,3)-QUARTILE($J$2:$J$501,1)),J137>(QUARTILE($J$2:$J$501,3))+1.5*(QUARTILE($J$2:$J$501,3)-QUARTILE($J$2:$J$501,1))),\"\",J137)","v":""},null,null,{"$f":"IF(COUNTIF($D$2:$D$501,D137)=1,\"\",IF(I137=\"\",\"\",ABS(IF(I137=\"\",0,(((H137*OFFSET($P$1,MATCH($D137,$O$2:$O$40,0),,)-G137)/G137))))))","v":""},null,null,{"$f":"IFERROR(IF(COUNTIF($E$2:$E$501,E137)=1,\"\",IF(I137=\"\",\"\",ABS(IF(I137=\"\",0,(((H137*OFFSET($S$1,MATCH($E137,$R$2:$R$41,0),,)-G137)/G137)))))),\"\")","v":""},null,null,{"$f":"IFERROR(IF(COUNTIF($F$2:$F$501,F137)=1,\"\",IF(I137=\"\",\"\",ABS(IF(I137=\"\",0,(((H137*OFFSET($V$1,MATCH($F137,$U$2:$U$105,0),,)-G137)/G137)))))),\"\")","v":""},null,null,{"$f":"IF(OR(J137<(QUARTILE($J$2:$J$501,1))-1.5*(QUARTILE($J$2:$J$501,3)-QUARTILE($J$2:$J$501,1)),J137>(QUARTILE($J$2:$J$501,3))+1.5*(QUARTILE($J$2:$J$501,3)-QUARTILE($J$2:$J$501,1))),\"Outlier\")","v":"Outlier"}]
[327747,"CHESAPEAKE ENERGY",1,500,530,533,17.78,2.71,{"$f":"(IF(IFERROR(G138/H138,\"\")<0,\"\",IFERROR(G138/H138,\"\")))","v":6.560885608856089},{"$f":"IF(COUNTIF($C$2:$C$501,C138)=1,\"\",IF(I138=\"\",\"\",ABS(IF(I138=\"\",0,(((H138*OFFSET($M$1,MATCH($C138,$L$2:$L$40,0),,)-G138)/G138))))))","v":0.41331923228804945},{"$f":"IF(OR(J138<(QUARTILE($J$2:$J$501,1))-1.5*(QUARTILE($J$2:$J$501,3)-QUARTILE($J$2:$J$501,1)),J138>(QUARTILE($J$2:$J$501,3))+1.5*(QUARTILE($J$2:$J$501,3)-QUARTILE($J$2:$J$501,1))),\"\",J138)","v":0.41331923228804945},null,null,{"$f":"IF(COUNTIF($D$2:$D$501,D138)=1,\"\",IF(I138=\"\",\"\",ABS(IF(I138=\"\",0,(((H138*OFFSET($P$1,MATCH($D138,$O$2:$O$40,0),,)-G138)/G138))))))","v":0.41331923228804945},null,null,{"$f":"IFERROR(IF(COUNTIF($E$2:$E$501,E138)=1,\"\",IF(I138=\"\",\"\",ABS(IF(I138=\"\",0,(((H138*OFFSET($S$1,MATCH($E138,$R$2:$R$41,0),,)-G138)/G138)))))),\"\")","v":0.28081937897291698},null,null,{"$f":"IFERROR(IF(COUNTIF($F$2:$F$501,F138)=1,\"\",IF(I138=\"\",\"\",ABS(IF(I138=\"\",0,(((H138*OFFSET($V$1,MATCH($F138,$U$2:$U$105,0),,)-G138)/G138)))))),\"\")","v":0.27187163568285422},null,null,{"$f":"IF(OR(J138<(QUARTILE($J$2:$J$501,1))-1.5*(QUARTILE($J$2:$J$501,3)-QUARTILE($J$2:$J$501,1)),J138>(QUARTILE($J$2:$J$501,3))+1.5*(QUARTILE($J$2:$J$501,3)-QUARTILE($J$2:$J$501,1))),\"Outlier\")","v":false}]
[327998,"MORGAN STANLEY",8000,8700,8770,8777,13.87,1.69,{"$f":"(IF(IFERROR(G139/H139,\"\")<0,\"\",IFERROR(G139/H139,\"\")))","v":8.2071005917159763},{"$f":"IF(COUNTIF($C$2:$C$501,C139)=1,\"\",IF(I139=\"\",\"\",ABS(IF(I139=\"\",0,(((H139*OFFSET($M$1,MATCH($C139,$L$2:$L$40,0),,)-G139)/G139))))))","v":0.62064433734374336},{"$f":"IF(OR(J139<(QUARTILE($J$2:$J$501,1))-1.5*(QUARTILE($J$2:$J$501,3)-QUARTILE($J$2:$J$501,1)),J139>(QUARTILE($J$2:$J$501,3))+1.5*(QUARTILE($J$2:$J$501,3)-QUARTILE($J$2:$J$501,1))),\"\",J139)","v":0.62064433734374336},null,null,{"$f":"IF(COUNTIF($D$2:$D$501,D139)=1,\"\",IF(I139=\"\",\"\",ABS(IF(I139=\"\",0,(((H139*OFFSET($P$1,MATCH($D139,$O$2:$O$40,0),,)-G139)/G139))))))","v":0.52643908050974286},null,null,{"$f":"IFERROR(IF(COUNTIF($E$2:$E$501,E139)=1,\"\",IF(I139=\"\",\"\",ABS(IF(I139=\"\",0,(((H139*OFFSET($S$1,MATCH($E139,$R$2:$R$41,0),,)-G139)/G139)))))),\"\")","v":0.52643908050974286},null,null,{"$f":"IFERROR(IF(COUNTIF($F$2:$F$501,F139)=1,\"\",IF(I139=\"\",\"\",ABS(IF(I139=\"\",0,(((H139*OFFSET($V$1,MATCH($F139,$U$2:$U$105,0),,)-G139)/G139)))))),\"\")","v":0.44610981591227522},null,null,{"$f":"IF(OR(J139<(QUARTILE($J$2:$J$501,1))-1.5*(QUARTILE($J$2:$J$501,3)-QUARTILE($J$2:$J$501,1)),J139>(QUARTILE($J$2:$J$501,3))+1.5*(QUARTILE($J$2:$J$501,3)-QUARTILE($J$2:$J$501,1))),\"Outlier\")","v":false}]
[328184,"INTUIT",9000,9500,9530,9537,57,2.39,{"$f":"(IF(IFERROR(G140/H140,\"\")<0,\"\",IFERROR(G140/H140,\"\")))","v":23.849372384937237},{"$f":"IF(COUNTIF($C$2:$C$501,C140)=1,\"\",IF(I140=\"\",\"\",ABS(IF(I140=\"\",0,(((H140*OFFSET($M$1,MATCH($C140,$L$2:$L$40,0),,)-G140)/G140))))))","v":0.45105400533398188},{"$f":"IF(OR(J140<(QUARTILE($J$2:$J$501,1))-1.5*(QUARTILE($J$2:$J$501,3)-QUARTILE($J$2:$J$501,1)),J140>(QUARTILE($J$2:$J$501,3))+1.5*(QUARTILE($J$2:$J$501,3)-QUARTILE($J$2:$J$501,1))),\"\",J140)","v":0.45105400533398188},null,null,{"$f":"IF(COUNTIF($D$2:$D$501,D140)=1,\"\",IF(I140=\"\",\"\",ABS(IF(I140=\"\",0,(((H140*OFFSET($P$1,MATCH($D140,$O$2:$O$40,0),,)-G140)/G140))))))","v":0.45105400533398188},null,null,{"$f":"IFERROR(IF(COUNTIF($E$2:$E$501,E140)=1,\"\",IF(I140=\"\",\"\",ABS(IF(I140=\"\",0,(((H140*OFFSET($S$1,MATCH($E140,$R$2:$R$41,0),,)-G140)/G140)))))),\"\")","v":0.40789121883215768},null,null,{"$f":"IFERROR(IF(COUNTIF($F$2:$F$501,F140)=1,\"\",IF(I140=\"\",\"\",ABS(IF(I140=\"\",0,(((H140*OFFSET($V$1,MATCH($F140,$U$2:$U$105,0),,)-G140)/G140)))))),\"\")","v":0.39232367029780352},null,null,{"$f":"IF(OR(J140<(QUARTILE($J$2:$J$501,1))-1.5*(QUARTILE($J$2:$J$501,3)-QUARTILE($J$2:$J$501,1)),J140>(QUARTILE($J$2:$J$501,3))+1.5*(QUARTILE($J$2:$J$501,3)-QUARTILE($J$2:$J$501,1))),\"Outlier\")","v":false}]
[328426,"SANMINA-SCI",2000,2700,2730,2733,7.85,0.42,{"$f":"(IF(IFERROR(G141/H141,\"\")<0,\"\",IFERROR(G141/H141,\"\")))","v":18.69047619047619},{"$f":"IF(COUNTIF($C$2:$C$501,C141)=1,\"\",IF(I141=\"\",\"\",ABS(IF(I141=\"\",0,(((H141*OFFSET($M$1,MATCH($C141,$L$2:$L$40,0),,)-G141)/G141))))))","v":0.22399885080841911},{"$f":"IF(OR(J141<(QUARTILE($J$2:$J$501,1))-1.5*(QUARTILE($J$2:$J$501,3)-QUARTILE($J$2:$J$501,1)),J141>(QUARTILE($J$2:$J$501,3))+1.5*(QUARTILE($J$2:$J$501,3)-QUARTILE($J$2:$J$501,1))),\"\",J141)","v":0.22399885080841911},null,null,{"$f":"IF(COUNTIF($D$2:$D$501,D141)=1,\"\",IF(I141=\"\",\"\",ABS(IF(I141=\"\",0,(((H141*OFFSET($P$1,MATCH($D141,$O$2:$O$40,0),,)-G141)/G141))))))","v":0.23391728438775403},null,null,{"$f":"IFERROR(IF(COUNTIF($E$2:$E$501,E141)=1,\"\",IF(I141=\"\",\"\",ABS(IF(I141=\"\",0,(((H141*OFFSET($S$1,MATCH($E141,$R$2:$R$41,0),,)-G141)/G141)))))),\"\")","v":0.12382235337633073},null,null,{"$f":"IFERROR(IF(COUNTIF($F$2:$F$501,F141)=1,\"\",IF(I141=\"\",\"\",ABS(IF(I141=\"\",0,(((H141*OFFSET($V$1,MATCH($F141,$U$2:$U$105,0),,)-G141)/G141)))))),\"\")","v":0.12521302136637477},null,null,{"$f":"IF(OR(J141<(QUARTILE($J$2:$J$501,1))-1.5*(QUARTILE($J$2:$J$501,3)-QUARTILE($J$2:$J$501,1)),J141>(QUARTILE($J$2:$J$501,3))+1.5*(QUARTILE($J$2:$J$501,3)-QUARTILE($J$2:$J$501,1))),\"Outlier\")","v":false}]
[328576,"JABIL CIRCUIT",2000,2700,2730,2733,19.53,2,{"$f":"(IF(IFERROR(G142/H142,\"\")<0,\"\",IFERROR(G142/H142,\"\")))","v":9.7650000000000006},{"$f":"IF(COUNTIF($C$2:$C$501,C142)=1,\"\",IF(I142=\"\",\"\",ABS(IF(I142=\"\",0,(((H142*OFFSET($M$1,MATCH($C142,$L$2:$L$40,0),,)-G142)/G142))))))","v":0.48528735307193088},{"$f":"IF(OR(J142<(QUARTILE($J$2:$J$501,1))-1.5*(QUARTILE($J$2:$J$501,3)-QUARTILE($J$2:$J$501,1)),J142>(QUARTILE($J$2:$J$501,3))+1.5*(QUARTILE($J$2:$J$501,3)-QUARTILE($J$2:$J$501,1))),\"\",J142)","v":0.48528735307193088},null,null,{"$f":"IF(COUNTIF($D$2:$D$501,D142)=1,\"\",IF(I142=\"\",\"\",ABS(IF(I142=\"\",0,(((H142*OFFSET($P$1,MATCH($D142,$O$2:$O$40,0),,)-G142)/G142))))))","v":0.46630320082806198},null,null,{"$f":"IFERROR(IF(COUNTIF($E$2:$E$501,E142)=1,\"\",IF(I142=\"\",\"\",ABS(IF(I142=\"\",0,(((H142*OFFSET($S$1,MATCH($E142,$R$2:$R$41,0),,)-G142)/G142)))))),\"\")","v":0.67702789993314394},null,null,{"$f":"IFERROR(IF(COUNTIF($F$2:$F$501,F142)=1,\"\",IF(I142=\"\",\"\",ABS(IF(I142=\"\",0,(((H142*OFFSET($V$1,MATCH($F142,$U$2:$U$105,0),,)-G142)/G142)))))),\"\")","v":0.67436612349107783},null,null,{"$f":"IF(OR(J142<(QUARTILE($J$2:$J$501,1))-1.5*(QUARTILE($J$2:$J$501,3)-QUARTILE($J$2:$J$501,1)),J142>(QUARTILE($J$2:$J$501,3))+1.5*(QUARTILE($J$2:$J$501,3)-QUARTILE($J$2:$J$501,1))),\"Outlier\")","v":false}]
[328723,"XTO EN. DEAD - DELIST.08/07/10",1,500,530,533,41.81,3.19,{"$f":"(IF(IFERROR(G143/H143,\"\")<0,\"\",IFERROR(G143/H143,\"\")))","v":13.106583072100314},{"$f":"IF(COUNTIF($C$2:$C$501,C143)=1,\"\",IF(I143=\"\",\"\",ABS(IF(I143=\"\",0,(((H143*OFFSET($M$1,MATCH($C143,$L$2:$L$40,0),,)-G143)/G143))))))","v":0.29252149390662868},{"$f":"IF(OR(J143<(QUARTILE($J$2:$J$501,1))-1.5*(QUARTILE($J$2:$J$501,3)-QUARTILE($J$2:$J$501,1)),J143>(QUARTILE($J$2:$J$501,3))+1.5*(QUARTILE($J$2:$J$501,3)-QUARTILE($J$2:$J$501,1))),\"\",J143)","v":0.29252149390662868},null,null,{"$f":"IF(COUNTIF($D$2:$D$501,D143)=1,\"\",IF(I143=\"\",\"\",ABS(IF(I143=\"\",0,(((H143*OFFSET($P$1,MATCH($D143,$O$2:$O$40,0),,)-G143)/G143))))))","v":0.29252149390662868},null,null,{"$f":"IFERROR(IF(COUNTIF($E$2:$E$501,E143)=1,\"\",IF(I143=\"\",\"\",ABS(IF(I143=\"\",0,(((H143*OFFSET($S$1,MATCH($E143,$R$2:$R$41,0),,)-G143)/G143)))))),\"\")","v":0.35884819217791869},null,null,{"$f":"IFERROR(IF(COUNTIF($F$2:$F$501,F143)=1,\"\",IF(I143=\"\",\"\",ABS(IF(I143=\"\",0,(((H143*OFFSET($V$1,MATCH($F143,$U$2:$U$105,0),,)-G143)/G143)))))),\"\")","v":0.3633272482263617},null,null,{"$f":"IF(OR(J143<(QUARTILE($J$2:$J$501,1))-1.5*(QUARTILE($J$2:$J$501,3)-QUARTILE($J$2:$J$501,1)),J143>(QUARTILE($J$2:$J$501,3))+1.5*(QUARTILE($J$2:$J$501,3)-QUARTILE($J$2:$J$501,1))),\"Outlier\")","v":false}]
[329534,"EQUITY RESD.TST.PROPS. SHBI",8000,8600,8670,8673,60.53,0.31,{"$f":"(IF(IFERROR(G144/H144,\"\")<0,\"\",IFERROR(G144/H144,\"\")))","v":195.25806451612902},{"$f":"IF(COUNTIF($C$2:$C$501,C144)=1,\"\",IF(I144=\"\",\"\",ABS(IF(I144=\"\",0,(((H144*OFFSET($M$1,MATCH($C144,$L$2:$L$40,0),,)-G144)/G144))))))","v":0.93188096413361565},{"$f":"IF(OR(J144<(QUARTILE($J$2:$J$501,1))-1.5*(QUARTILE($J$2:$J$501,3)-QUARTILE($J$2:$J$501,1)),J144>(QUARTILE($J$2:$J$501,3))+1.5*(QUARTILE($J$2:$J$501,3)-QUARTILE($J$2:$J$501,1))),\"\",J144)","v":0.93188096413361565},null,null,{"$f":"IF(COUNTIF($D$2:$D$501,D144)=1,\"\",IF(I144=\"\",\"\",ABS(IF(I144=\"\",0,(((H144*OFFSET($P$1,MATCH($D144,$O$2:$O$40,0),,)-G144)/G144))))))","v":0.77067839808455529},null,null,{"$f":"IFERROR(IF(COUNTIF($E$2:$E$501,E144)=1,\"\",IF(I144=\"\",\"\",ABS(IF(I144=\"\",0,(((H144*OFFSET($S$1,MATCH($E144,$R$2:$R$41,0),,)-G144)/G144)))))),\"\")","v":0.74386221563442123},null,null,{"$f":"IFERROR(IF(COUNTIF($F$2:$F$501,F144)=1,\"\",IF(I144=\"\",\"\",ABS(IF(I144=\"\",0,(((H144*OFFSET($V$1,MATCH($F144,$U$2:$U$105,0),,)-G144)/G144)))))),\"\")","v":""},null,null,{"$f":"IF(OR(J144<(QUARTILE($J$2:$J$501,1))-1.5*(QUARTILE($J$2:$J$501,3)-QUARTILE($J$2:$J$501,1)),J144>(QUARTILE($J$2:$J$501,3))+1.5*(QUARTILE($J$2:$J$501,3)-QUARTILE($J$2:$J$501,1))),\"Outlier\")","v":false}]
[357344,"JDS UNIPHASE",9000,9500,9570,9578,10.48,0,{"$f":"(IF(IFERROR(G145/H145,\"\")<0,\"\",IFERROR(G145/H145,\"\")))","v":""},{"$f":"IF(COUNTIF($C$2:$C$501,C145)=1,\"\",IF(I145=\"\",\"\",ABS(IF(I145=\"\",0,(((H145*OFFSET($M$1,MATCH($C145,$L$2:$L$40,0),,)-G145)/G145))))))","v":""},{"$f":"IF(OR(J145<(QUARTILE($J$2:$J$501,1))-1.5*(QUARTILE($J$2:$J$501,3)-QUARTILE($J$2:$J$501,1)),J145>(QUARTILE($J$2:$J$501,3))+1.5*(QUARTILE($J$2:$J$501,3)-QUARTILE($J$2:$J$501,1))),\"\",J145)","v":""},null,null,{"$f":"IF(COUNTIF($D$2:$D$501,D145)=1,\"\",IF(I145=\"\",\"\",ABS(IF(I145=\"\",0,(((H145*OFFSET($P$1,MATCH($D145,$O$2:$O$40,0),,)-G145)/G145))))))","v":""},null,null,{"$f":"IFERROR(IF(COUNTIF($E$2:$E$501,E145)=1,\"\",IF(I145=\"\",\"\",ABS(IF(I145=\"\",0,(((H145*OFFSET($S$1,MATCH($E145,$R$2:$R$41,0),,)-G145)/G145)))))),\"\")","v":""},null,null,{"$f":"IFERROR(IF(COUNTIF($F$2:$F$501,F145)=1,\"\",IF(I145=\"\",\"\",ABS(IF(I145=\"\",0,(((H145*OFFSET($V$1,MATCH($F145,$U$2:$U$105,0),,)-G145)/G145)))))),\"\")","v":""},null,null,{"$f":"IF(OR(J145<(QUARTILE($J$2:$J$501,1))-1.5*(QUARTILE($J$2:$J$501,3)-QUARTILE($J$2:$J$501,1)),J145>(QUARTILE($J$2:$J$501,3))+1.5*(QUARTILE($J$2:$J$501,3)-QUARTILE($J$2:$J$501,1))),\"Outlier\")","v":"Outlier"}]
[357834,"SIMON PR.GP.",8000,8600,8670,8672,151.69999999999999,5.05,{"$f":"(IF(IFERROR(G146/H146,\"\")<0,\"\",IFERROR(G146/H146,\"\")))","v":30.03960396039604},{"$f":"IF(COUNTIF($C$2:$C$501,C146)=1,\"\",IF(I146=\"\",\"\",ABS(IF(I146=\"\",0,(((H146*OFFSET($M$1,MATCH($C146,$L$2:$L$40,0),,)-G146)/G146))))))","v":0.55722481835943538},{"$f":"IF(OR(J146<(QUARTILE($J$2:$J$501,1))-1.5*(QUARTILE($J$2:$J$501,3)-QUARTILE($J$2:$J$501,1)),J146>(QUARTILE($J$2:$J$501,3))+1.5*(QUARTILE($J$2:$J$501,3)-QUARTILE($J$2:$J$501,1))),\"\",J146)","v":0.55722481835943538},null,null,{"$f":"IF(COUNTIF($D$2:$D$501,D146)=1,\"\",IF(I146=\"\",\"\",ABS(IF(I146=\"\",0,(((H146*OFFSET($P$1,MATCH($D146,$O$2:$O$40,0),,)-G146)/G146))))))","v":0.49059528883208503},null,null,{"$f":"IFERROR(IF(COUNTIF($E$2:$E$501,E146)=1,\"\",IF(I146=\"\",\"\",ABS(IF(I146=\"\",0,(((H146*OFFSET($S$1,MATCH($E146,$R$2:$R$41,0),,)-G146)/G146)))))),\"\")","v":0.66490104498745028},null,null,{"$f":"IFERROR(IF(COUNTIF($F$2:$F$501,F146)=1,\"\",IF(I146=\"\",\"\",ABS(IF(I146=\"\",0,(((H146*OFFSET($V$1,MATCH($F146,$U$2:$U$105,0),,)-G146)/G146)))))),\"\")","v":""},null,null,{"$f":"IF(OR(J146<(QUARTILE($J$2:$J$501,1))-1.5*(QUARTILE($J$2:$J$501,3)-QUARTILE($J$2:$J$501,1)),J146>(QUARTILE($J$2:$J$501,3))+1.5*(QUARTILE($J$2:$J$501,3)-QUARTILE($J$2:$J$501,1))),\"Outlier\")","v":false}]
[357922,"EASTMAN CHEMICAL",1000,1300,1350,1353,48.13,4.46,{"$f":"(IF(IFERROR(G147/H147,\"\")<0,\"\",IFERROR(G147/H147,\"\")))","v":10.791479820627803},{"$f":"IF(COUNTIF($C$2:$C$501,C147)=1,\"\",IF(I147=\"\",\"\",ABS(IF(I147=\"\",0,(((H147*OFFSET($M$1,MATCH($C147,$L$2:$L$40,0),,)-G147)/G147))))))","v":0.43602895255570701},{"$f":"IF(OR(J147<(QUARTILE($J$2:$J$501,1))-1.5*(QUARTILE($J$2:$J$501,3)-QUARTILE($J$2:$J$501,1)),J147>(QUARTILE($J$2:$J$501,3))+1.5*(QUARTILE($J$2:$J$501,3)-QUARTILE($J$2:$J$501,1))),\"\",J147)","v":0.43602895255570701},null,null,{"$f":"IF(COUNTIF($D$2:$D$501,D147)=1,\"\",IF(I147=\"\",\"\",ABS(IF(I147=\"\",0,(((H147*OFFSET($P$1,MATCH($D147,$O$2:$O$40,0),,)-G147)/G147))))))","v":0.67474979128161194},null,null,{"$f":"IFERROR(IF(COUNTIF($E$2:$E$501,E147)=1,\"\",IF(I147=\"\",\"\",ABS(IF(I147=\"\",0,(((H147*OFFSET($S$1,MATCH($E147,$R$2:$R$41,0),,)-G147)/G147)))))),\"\")","v":0.67474979128161194},null,null,{"$f":"IFERROR(IF(COUNTIF($F$2:$F$501,F147)=1,\"\",IF(I147=\"\",\"\",ABS(IF(I147=\"\",0,(((H147*OFFSET($V$1,MATCH($F147,$U$2:$U$105,0),,)-G147)/G147)))))),\"\")","v":0.3139458005920957},null,null,{"$f":"IF(OR(J147<(QUARTILE($J$2:$J$501,1))-1.5*(QUARTILE($J$2:$J$501,3)-QUARTILE($J$2:$J$501,1)),J147>(QUARTILE($J$2:$J$501,3))+1.5*(QUARTILE($J$2:$J$501,3)-QUARTILE($J$2:$J$501,1))),\"Outlier\")","v":false}]
[500157,"STAPLES",5000,5300,5370,5379,12.59,1.4,{"$f":"(IF(IFERROR(G148/H148,\"\")<0,\"\",IFERROR(G148/H148,\"\")))","v":8.9928571428571438},{"$f":"IF(COUNTIF($C$2:$C$501,C148)=1,\"\",IF(I148=\"\",\"\",ABS(IF(I148=\"\",0,(((H148*OFFSET($M$1,MATCH($C148,$L$2:$L$40,0),,)-G148)/G148))))))","v":0.75367090919715962},{"$f":"IF(OR(J148<(QUARTILE($J$2:$J$501,1))-1.5*(QUARTILE($J$2:$J$501,3)-QUARTILE($J$2:$J$501,1)),J148>(QUARTILE($J$2:$J$501,3))+1.5*(QUARTILE($J$2:$J$501,3)-QUARTILE($J$2:$J$501,1))),\"\",J148)","v":0.75367090919715962},null,null,{"$f":"IF(COUNTIF($D$2:$D$501,D148)=1,\"\",IF(I148=\"\",\"\",ABS(IF(I148=\"\",0,(((H148*OFFSET($P$1,MATCH($D148,$O$2:$O$40,0),,)-G148)/G148))))))","v":0.62033829079322467},null,null,{"$f":"IFERROR(IF(COUNTIF($E$2:$E$501,E148)=1,\"\",IF(I148=\"\",\"\",ABS(IF(I148=\"\",0,(((H148*OFFSET($S$1,MATCH($E148,$R$2:$R$41,0),,)-G148)/G148)))))),\"\")","v":0.59383209925214764},null,null,{"$f":"IFERROR(IF(COUNTIF($F$2:$F$501,F148)=1,\"\",IF(I148=\"\",\"\",ABS(IF(I148=\"\",0,(((H148*OFFSET($V$1,MATCH($F148,$U$2:$U$105,0),,)-G148)/G148)))))),\"\")","v":0.37563464586409906},null,null,{"$f":"IF(OR(J148<(QUARTILE($J$2:$J$501,1))-1.5*(QUARTILE($J$2:$J$501,3)-QUARTILE($J$2:$J$501,1)),J148>(QUARTILE($J$2:$J$501,3))+1.5*(QUARTILE($J$2:$J$501,3)-QUARTILE($J$2:$J$501,1))),\"Outlier\")","v":false}]
[500320,"ELECTRONIC ARTS",3000,3700,3740,3747,11.89,0.23,{"$f":"(IF(IFERROR(G149/H149,\"\")<0,\"\",IFERROR(G149/H149,\"\")))","v":51.695652173913047},{"$f":"IF(COUNTIF($C$2:$C$501,C149)=1,\"\",IF(I149=\"\",\"\",ABS(IF(I149=\"\",0,(((H149*OFFSET($M$1,MATCH($C149,$L$2:$L$40,0),,)-G149)/G149))))))","v":0.69068609386763113},{"$f":"IF(OR(J149<(QUARTILE($J$2:$J$501,1))-1.5*(QUARTILE($J$2:$J$501,3)-QUARTILE($J$2:$J$501,1)),J149>(QUARTILE($J$2:$J$501,3))+1.5*(QUARTILE($J$2:$J$501,3)-QUARTILE($J$2:$J$501,1))),\"\",J149)","v":0.69068609386763113},null,null,{"$f":"IF(COUNTIF($D$2:$D$501,D149)=1,\"\",IF(I149=\"\",\"\",ABS(IF(I149=\"\",0,(((H149*OFFSET($P$1,MATCH($D149,$O$2:$O$40,0),,)-G149)/G149))))))","v":0.62702880006835948},null,null,{"$f":"IFERROR(IF(COUNTIF($E$2:$E$501,E149)=1,\"\",IF(I149=\"\",\"\",ABS(IF(I149=\"\",0,(((H149*OFFSET($S$1,MATCH($E149,$R$2:$R$41,0),,)-G149)/G149)))))),\"\")","v":0.69800056818683953},null,null,{"$f":"IFERROR(IF(COUNTIF($F$2:$F$501,F149)=1,\"\",IF(I149=\"\",\"\",ABS(IF(I149=\"\",0,(((H149*OFFSET($V$1,MATCH($F149,$U$2:$U$105,0),,)-G149)/G149)))))),\"\")","v":""},null,null,{"$f":"IF(OR(J149<(QUARTILE($J$2:$J$501,1))-1.5*(QUARTILE($J$2:$J$501,3)-QUARTILE($J$2:$J$501,1)),J149>(QUARTILE($J$2:$J$501,3))+1.5*(QUARTILE($J$2:$J$501,3)-QUARTILE($J$2:$J$501,1))),\"Outlier\")","v":false}]
[500373,"EOG RES.",1,500,530,533,85.16,4.7699999999999996,{"$f":"(IF(IFERROR(G150/H150,\"\")<0,\"\",IFERROR(G150/H150,\"\")))","v":17.853249475890987},{"$f":"IF(COUNTIF($C$2:$C$501,C150)=1,\"\",IF(I150=\"\",\"\",ABS(IF(I150=\"\",0,(((H150*OFFSET($M$1,MATCH($C150,$L$2:$L$40,0),,)-G150)/G150))))))","v":0.48061971439093221},{"$f":"IF(OR(J150<(QUARTILE($J$2:$J$501,1))-1.5*(QUARTILE($J$2:$J$501,3)-QUARTILE($J$2:$J$501,1)),J150>(QUARTILE($J$2:$J$501,3))+1.5*(QUARTILE($J$2:$J$501,3)-QUARTILE($J$2:$J$501,1))),\"\",J150)","v":0.48061971439093221},null,null,{"$f":"IF(COUNTIF($D$2:$D$501,D150)=1,\"\",IF(I150=\"\",\"\",ABS(IF(I150=\"\",0,(((H150*OFFSET($P$1,MATCH($D150,$O$2:$O$40,0),,)-G150)/G150))))))","v":0.48061971439093221},null,null,{"$f":"IFERROR(IF(COUNTIF($E$2:$E$501,E150)=1,\"\",IF(I150=\"\",\"\",ABS(IF(I150=\"\",0,(((H150*OFFSET($S$1,MATCH($E150,$R$2:$R$41,0),,)-G150)/G150)))))),\"\")","v":0.52931204807308452},null,null,{"$f":"IFERROR(IF(COUNTIF($F$2:$F$501,F150)=1,\"\",IF(I150=\"\",\"\",ABS(IF(I150=\"\",0,(((H150*OFFSET($V$1,MATCH($F150,$U$2:$U$105,0),,)-G150)/G150)))))),\"\")","v":0.53260025172826719},null,null,{"$f":"IF(OR(J150<(QUARTILE($J$2:$J$501,1))-1.5*(QUARTILE($J$2:$J$501,3)-QUARTILE($J$2:$J$501,1)),J150>(QUARTILE($J$2:$J$501,3))+1.5*(QUARTILE($J$2:$J$501,3)-QUARTILE($J$2:$J$501,1))),\"Outlier\")","v":false}]
[501541,"HARRAHS ENTERTAINMENT DEAD - MERGER.08/02/08",5000,5700,5750,5752,89.97,3.72,{"$f":"(IF(IFERROR(G151/H151,\"\")<0,\"\",IFERROR(G151/H151,\"\")))","v":24.18548387096774},{"$f":"IF(COUNTIF($C$2:$C$501,C151)=1,\"\",IF(I151=\"\",\"\",ABS(IF(I151=\"\",0,(((H151*OFFSET($M$1,MATCH($C151,$L$2:$L$40,0),,)-G151)/G151))))))","v":0.34793481717662122},{"$f":"IF(OR(J151<(QUARTILE($J$2:$J$501,1))-1.5*(QUARTILE($J$2:$J$501,3)-QUARTILE($J$2:$J$501,1)),J151>(QUARTILE($J$2:$J$501,3))+1.5*(QUARTILE($J$2:$J$501,3)-QUARTILE($J$2:$J$501,1))),\"\",J151)","v":0.34793481717662122},null,null,{"$f":"IF(COUNTIF($D$2:$D$501,D151)=1,\"\",IF(I151=\"\",\"\",ABS(IF(I151=\"\",0,(((H151*OFFSET($P$1,MATCH($D151,$O$2:$O$40,0),,)-G151)/G151))))))","v":9.4541521876710249E-2},null,null,{"$f":"IFERROR(IF(COUNTIF($E$2:$E$501,E151)=1,\"\",IF(I151=\"\",\"\",ABS(IF(I151=\"\",0,(((H151*OFFSET($S$1,MATCH($E151,$R$2:$R$41,0),,)-G151)/G151)))))),\"\")","v":9.4541521876710249E-2},null,null,{"$f":"IFERROR(IF(COUNTIF($F$2:$F$501,F151)=1,\"\",IF(I151=\"\",\"\",ABS(IF(I151=\"\",0,(((H151*OFFSET($V$1,MATCH($F151,$U$2:$U$105,0),,)-G151)/G151)))))),\"\")","v":""},null,null,{"$f":"IF(OR(J151<(QUARTILE($J$2:$J$501,1))-1.5*(QUARTILE($J$2:$J$501,3)-QUARTILE($J$2:$J$501,1)),J151>(QUARTILE($J$2:$J$501,3))+1.5*(QUARTILE($J$2:$J$501,3)-QUARTILE($J$2:$J$501,1))),\"Outlier\")","v":false}]
[510056,"SYNOVUS FINL.",8000,8300,8350,8355,1.93,0,{"$f":"(IF(IFERROR(G152/H152,\"\")<0,\"\",IFERROR(G152/H152,\"\")))","v":""},{"$f":"IF(COUNTIF($C$2:$C$501,C152)=1,\"\",IF(I152=\"\",\"\",ABS(IF(I152=\"\",0,(((H152*OFFSET($M$1,MATCH($C152,$L$2:$L$40,0),,)-G152)/G152))))))","v":""},{"$f":"IF(OR(J152<(QUARTILE($J$2:$J$501,1))-1.5*(QUARTILE($J$2:$J$501,3)-QUARTILE($J$2:$J$501,1)),J152>(QUARTILE($J$2:$J$501,3))+1.5*(QUARTILE($J$2:$J$501,3)-QUARTILE($J$2:$J$501,1))),\"\",J152)","v":""},null,null,{"$f":"IF(COUNTIF($D$2:$D$501,D152)=1,\"\",IF(I152=\"\",\"\",ABS(IF(I152=\"\",0,(((H152*OFFSET($P$1,MATCH($D152,$O$2:$O$40,0),,)-G152)/G152))))))","v":""},null,null,{"$f":"IFERROR(IF(COUNTIF($E$2:$E$501,E152)=1,\"\",IF(I152=\"\",\"\",ABS(IF(I152=\"\",0,(((H152*OFFSET($S$1,MATCH($E152,$R$2:$R$41,0),,)-G152)/G152)))))),\"\")","v":""},null,null,{"$f":"IFERROR(IF(COUNTIF($F$2:$F$501,F152)=1,\"\",IF(I152=\"\",\"\",ABS(IF(I152=\"\",0,(((H152*OFFSET($V$1,MATCH($F152,$U$2:$U$105,0),,)-G152)/G152)))))),\"\")","v":""},null,null,{"$f":"IF(OR(J152<(QUARTILE($J$2:$J$501,1))-1.5*(QUARTILE($J$2:$J$501,3)-QUARTILE($J$2:$J$501,1)),J152>(QUARTILE($J$2:$J$501,3))+1.5*(QUARTILE($J$2:$J$501,3)-QUARTILE($J$2:$J$501,1))),\"Outlier\")","v":"Outlier"}]
[510078,"COMPASS BANCSHARES DEAD - DEL.07/09/07",8000,8300,8350,8355,64.36,3.47,{"$f":"(IF(IFERROR(G153/H153,\"\")<0,\"\",IFERROR(G153/H153,\"\")))","v":18.547550432276655},{"$f":"IF(COUNTIF($C$2:$C$501,C153)=1,\"\",IF(I153=\"\",\"\",ABS(IF(I153=\"\",0,(((H153*OFFSET($M$1,MATCH($C153,$L$2:$L$40,0),,)-G153)/G153))))))","v":0.28288152397586719},{"$f":"IF(OR(J153<(QUARTILE($J$2:$J$501,1))-1.5*(QUARTILE($J$2:$J$501,3)-QUARTILE($J$2:$J$501,1)),J153>(QUARTILE($J$2:$J$501,3))+1.5*(QUARTILE($J$2:$J$501,3)-QUARTILE($J$2:$J$501,1))),\"\",J153)","v":0.28288152397586719},null,null,{"$f":"IF(COUNTIF($D$2:$D$501,D153)=1,\"\",IF(I153=\"\",\"\",ABS(IF(I153=\"\",0,(((H153*OFFSET($P$1,MATCH($D153,$O$2:$O$40,0),,)-G153)/G153))))))","v":0.34377043424235576},null,null,{"$f":"IFERROR(IF(COUNTIF($E$2:$E$501,E153)=1,\"\",IF(I153=\"\",\"\",ABS(IF(I153=\"\",0,(((H153*OFFSET($S$1,MATCH($E153,$R$2:$R$41,0),,)-G153)/G153)))))),\"\")","v":0.34377043424235576},null,null,{"$f":"IFERROR(IF(COUNTIF($F$2:$F$501,F153)=1,\"\",IF(I153=\"\",\"\",ABS(IF(I153=\"\",0,(((H153*OFFSET($V$1,MATCH($F153,$U$2:$U$105,0),,)-G153)/G153)))))),\"\")","v":0.34377043424235576},null,null,{"$f":"IF(OR(J153<(QUARTILE($J$2:$J$501,1))-1.5*(QUARTILE($J$2:$J$501,3)-QUARTILE($J$2:$J$501,1)),J153>(QUARTILE($J$2:$J$501,3))+1.5*(QUARTILE($J$2:$J$501,3)-QUARTILE($J$2:$J$501,1))),\"Outlier\")","v":false}]
[510096,"CLEAR CHL.COMMS. DEAD - DELIST.11/08/08",5000,5500,5550,5553,35.979999999999997,1.69,{"$f":"(IF(IFERROR(G154/H154,\"\")<0,\"\",IFERROR(G154/H154,\"\")))","v":21.289940828402365},{"$f":"IF(COUNTIF($C$2:$C$501,C154)=1,\"\",IF(I154=\"\",\"\",ABS(IF(I154=\"\",0,(((H154*OFFSET($M$1,MATCH($C154,$L$2:$L$40,0),,)-G154)/G154))))))","v":0.2592505498674087},{"$f":"IF(OR(J154<(QUARTILE($J$2:$J$501,1))-1.5*(QUARTILE($J$2:$J$501,3)-QUARTILE($J$2:$J$501,1)),J154>(QUARTILE($J$2:$J$501,3))+1.5*(QUARTILE($J$2:$J$501,3)-QUARTILE($J$2:$J$501,1))),\"\",J154)","v":0.2592505498674087},null,null,{"$f":"IF(COUNTIF($D$2:$D$501,D154)=1,\"\",IF(I154=\"\",\"\",ABS(IF(I154=\"\",0,(((H154*OFFSET($P$1,MATCH($D154,$O$2:$O$40,0),,)-G154)/G154))))))","v":0.28744151303426951},null,null,{"$f":"IFERROR(IF(COUNTIF($E$2:$E$501,E154)=1,\"\",IF(I154=\"\",\"\",ABS(IF(I154=\"\",0,(((H154*OFFSET($S$1,MATCH($E154,$R$2:$R$41,0),,)-G154)/G154)))))),\"\")","v":0.28744151303426951},null,null,{"$f":"IFERROR(IF(COUNTIF($F$2:$F$501,F154)=1,\"\",IF(I154=\"\",\"\",ABS(IF(I154=\"\",0,(((H154*OFFSET($V$1,MATCH($F154,$U$2:$U$105,0),,)-G154)/G154)))))),\"\")","v":0.24147726496649263},null,null,{"$f":"IF(OR(J154<(QUARTILE($J$2:$J$501,1))-1.5*(QUARTILE($J$2:$J$501,3)-QUARTILE($J$2:$J$501,1)),J154>(QUARTILE($J$2:$J$501,3))+1.5*(QUARTILE($J$2:$J$501,3)-QUARTILE($J$2:$J$501,1))),\"Outlier\")","v":false}]
[510428,"SOVEREIGN BANCORP DEAD - DELIST.12/02/09",8000,8300,8350,8355,2.4700000000000002,0,{"$f":"(IF(IFERROR(G155/H155,\"\")<0,\"\",IFERROR(G155/H155,\"\")))","v":""},{"$f":"IF(COUNTIF($C$2:$C$501,C155)=1,\"\",IF(I155=\"\",\"\",ABS(IF(I155=\"\",0,(((H155*OFFSET($M$1,MATCH($C155,$L$2:$L$40,0),,)-G155)/G155))))))","v":""},{"$f":"IF(OR(J155<(QUARTILE($J$2:$J$501,1))-1.5*(QUARTILE($J$2:$J$501,3)-QUARTILE($J$2:$J$501,1)),J155>(QUARTILE($J$2:$J$501,3))+1.5*(QUARTILE($J$2:$J$501,3)-QUARTILE($J$2:$J$501,1))),\"\",J155)","v":""},null,null,{"$f":"IF(COUNTIF($D$2:$D$501,D155)=1,\"\",IF(I155=\"\",\"\",ABS(IF(I155=\"\",0,(((H155*OFFSET($P$1,MATCH($D155,$O$2:$O$40,0),,)-G155)/G155))))))","v":""},null,null,{"$f":"IFERROR(IF(COUNTIF($E$2:$E$501,E155)=1,\"\",IF(I155=\"\",\"\",ABS(IF(I155=\"\",0,(((H155*OFFSET($S$1,MATCH($E155,$R$2:$R$41,0),,)-G155)/G155)))))),\"\")","v":""},null,null,{"$f":"IFERROR(IF(COUNTIF($F$2:$F$501,F155)=1,\"\",IF(I155=\"\",\"\",ABS(IF(I155=\"\",0,(((H155*OFFSET($V$1,MATCH($F155,$U$2:$U$105,0),,)-G155)/G155)))))),\"\")","v":""},null,null,{"$f":"IF(OR(J155<(QUARTILE($J$2:$J$501,1))-1.5*(QUARTILE($J$2:$J$501,3)-QUARTILE($J$2:$J$501,1)),J155>(QUARTILE($J$2:$J$501,3))+1.5*(QUARTILE($J$2:$J$501,3)-QUARTILE($J$2:$J$501,1))),\"Outlier\")","v":"Outlier"}]
[510493,"MCCORMICK & CO NV.",3000,3500,3570,3577,59.06,2.77,{"$f":"(IF(IFERROR(G156/H156,\"\")<0,\"\",IFERROR(G156/H156,\"\")))","v":21.321299638989171},{"$f":"IF(COUNTIF($C$2:$C$501,C156)=1,\"\",IF(I156=\"\",\"\",ABS(IF(I156=\"\",0,(((H156*OFFSET($M$1,MATCH($C156,$L$2:$L$40,0),,)-G156)/G156))))))","v":0.25003708147636083},{"$f":"IF(OR(J156<(QUARTILE($J$2:$J$501,1))-1.5*(QUARTILE($J$2:$J$501,3)-QUARTILE($J$2:$J$501,1)),J156>(QUARTILE($J$2:$J$501,3))+1.5*(QUARTILE($J$2:$J$501,3)-QUARTILE($J$2:$J$501,1))),\"\",J156)","v":0.25003708147636083},null,null,{"$f":"IF(COUNTIF($D$2:$D$501,D156)=1,\"\",IF(I156=\"\",\"\",ABS(IF(I156=\"\",0,(((H156*OFFSET($P$1,MATCH($D156,$O$2:$O$40,0),,)-G156)/G156))))))","v":0.16213707674198732},null,null,{"$f":"IFERROR(IF(COUNTIF($E$2:$E$501,E156)=1,\"\",IF(I156=\"\",\"\",ABS(IF(I156=\"\",0,(((H156*OFFSET($S$1,MATCH($E156,$R$2:$R$41,0),,)-G156)/G156)))))),\"\")","v":0.16403860578488458},null,null,{"$f":"IFERROR(IF(COUNTIF($F$2:$F$501,F156)=1,\"\",IF(I156=\"\",\"\",ABS(IF(I156=\"\",0,(((H156*OFFSET($V$1,MATCH($F156,$U$2:$U$105,0),,)-G156)/G156)))))),\"\")","v":0.17997355370935272},null,null,{"$f":"IF(OR(J156<(QUARTILE($J$2:$J$501,1))-1.5*(QUARTILE($J$2:$J$501,3)-QUARTILE($J$2:$J$501,1)),J156>(QUARTILE($J$2:$J$501,3))+1.5*(QUARTILE($J$2:$J$501,3)-QUARTILE($J$2:$J$501,1))),\"Outlier\")","v":false}]
[512545,"COM.BANC. DEAD - DELIST.10/04/08",8000,8300,8350,8355,35,0.71,{"$f":"(IF(IFERROR(G157/H157,\"\")<0,\"\",IFERROR(G157/H157,\"\")))","v":49.295774647887328},{"$f":"IF(COUNTIF($C$2:$C$501,C157)=1,\"\",IF(I157=\"\",\"\",ABS(IF(I157=\"\",0,(((H157*OFFSET($M$1,MATCH($C157,$L$2:$L$40,0),,)-G157)/G157))))))","v":0.7301839519719362},{"$f":"IF(OR(J157<(QUARTILE($J$2:$J$501,1))-1.5*(QUARTILE($J$2:$J$501,3)-QUARTILE($J$2:$J$501,1)),J157>(QUARTILE($J$2:$J$501,3))+1.5*(QUARTILE($J$2:$J$501,3)-QUARTILE($J$2:$J$501,1))),\"\",J157)","v":0.7301839519719362},null,null,{"$f":"IF(COUNTIF($D$2:$D$501,D157)=1,\"\",IF(I157=\"\",\"\",ABS(IF(I157=\"\",0,(((H157*OFFSET($P$1,MATCH($D157,$O$2:$O$40,0),,)-G157)/G157))))))","v":0.75309342326031281},null,null,{"$f":"IFERROR(IF(COUNTIF($E$2:$E$501,E157)=1,\"\",IF(I157=\"\",\"\",ABS(IF(I157=\"\",0,(((H157*OFFSET($S$1,MATCH($E157,$R$2:$R$41,0),,)-G157)/G157)))))),\"\")","v":0.75309342326031281},null,null,{"$f":"IFERROR(IF(COUNTIF($F$2:$F$501,F157)=1,\"\",IF(I157=\"\",\"\",ABS(IF(I157=\"\",0,(((H157*OFFSET($V$1,MATCH($F157,$U$2:$U$105,0),,)-G157)/G157)))))),\"\")","v":0.75309342326031281},null,null,{"$f":"IF(OR(J157<(QUARTILE($J$2:$J$501,1))-1.5*(QUARTILE($J$2:$J$501,3)-QUARTILE($J$2:$J$501,1)),J157>(QUARTILE($J$2:$J$501,3))+1.5*(QUARTILE($J$2:$J$501,3)-QUARTILE($J$2:$J$501,1))),\"Outlier\")","v":false}]
[514950,"STARWOOD HTLS.& RSTS. WORLDWIDE",5000,5700,5750,5753,50.3,3.08,{"$f":"(IF(IFERROR(G158/H158,\"\")<0,\"\",IFERROR(G158/H158,\"\")))","v":16.331168831168831},{"$f":"IF(COUNTIF($C$2:$C$501,C158)=1,\"\",IF(I158=\"\",\"\",ABS(IF(I158=\"\",0,(((H158*OFFSET($M$1,MATCH($C158,$L$2:$L$40,0),,)-G158)/G158))))))","v":3.433048025958374E-2},{"$f":"IF(OR(J158<(QUARTILE($J$2:$J$501,1))-1.5*(QUARTILE($J$2:$J$501,3)-QUARTILE($J$2:$J$501,1)),J158>(QUARTILE($J$2:$J$501,3))+1.5*(QUARTILE($J$2:$J$501,3)-QUARTILE($J$2:$J$501,1))),\"\",J158)","v":3.433048025958374E-2},null,null,{"$f":"IF(COUNTIF($D$2:$D$501,D158)=1,\"\",IF(I158=\"\",\"\",ABS(IF(I158=\"\",0,(((H158*OFFSET($P$1,MATCH($D158,$O$2:$O$40,0),,)-G158)/G158))))))","v":0.34092982840803221},null,null,{"$f":"IFERROR(IF(COUNTIF($E$2:$E$501,E158)=1,\"\",IF(I158=\"\",\"\",ABS(IF(I158=\"\",0,(((H158*OFFSET($S$1,MATCH($E158,$R$2:$R$41,0),,)-G158)/G158)))))),\"\")","v":0.34092982840803221},null,null,{"$f":"IFERROR(IF(COUNTIF($F$2:$F$501,F158)=1,\"\",IF(I158=\"\",\"\",ABS(IF(I158=\"\",0,(((H158*OFFSET($V$1,MATCH($F158,$U$2:$U$105,0),,)-G158)/G158)))))),\"\")","v":""},null,null,{"$f":"IF(OR(J158<(QUARTILE($J$2:$J$501,1))-1.5*(QUARTILE($J$2:$J$501,3)-QUARTILE($J$2:$J$501,1)),J158>(QUARTILE($J$2:$J$501,3))+1.5*(QUARTILE($J$2:$J$501,3)-QUARTILE($J$2:$J$501,1))),\"Outlier\")","v":false}]
[519514,"WASTE MAN.",2000,2700,2790,2799,32.549999999999997,2.0299999999999998,{"$f":"(IF(IFERROR(G159/H159,\"\")<0,\"\",IFERROR(G159/H159,\"\")))","v":16.03448275862069},{"$f":"IF(COUNTIF($C$2:$C$501,C159)=1,\"\",IF(I159=\"\",\"\",ABS(IF(I159=\"\",0,(((H159*OFFSET($M$1,MATCH($C159,$L$2:$L$40,0),,)-G159)/G159))))))","v":9.546000197919402E-2},{"$f":"IF(OR(J159<(QUARTILE($J$2:$J$501,1))-1.5*(QUARTILE($J$2:$J$501,3)-QUARTILE($J$2:$J$501,1)),J159>(QUARTILE($J$2:$J$501,3))+1.5*(QUARTILE($J$2:$J$501,3)-QUARTILE($J$2:$J$501,1))),\"\",J159)","v":9.546000197919402E-2},null,null,{"$f":"IF(COUNTIF($D$2:$D$501,D159)=1,\"\",IF(I159=\"\",\"\",ABS(IF(I159=\"\",0,(((H159*OFFSET($P$1,MATCH($D159,$O$2:$O$40,0),,)-G159)/G159))))))","v":0.1070213506957102},null,null,{"$f":"IFERROR(IF(COUNTIF($E$2:$E$501,E159)=1,\"\",IF(I159=\"\",\"\",ABS(IF(I159=\"\",0,(((H159*OFFSET($S$1,MATCH($E159,$R$2:$R$41,0),,)-G159)/G159)))))),\"\")","v":6.964411568138304E-2},null,null,{"$f":"IFERROR(IF(COUNTIF($F$2:$F$501,F159)=1,\"\",IF(I159=\"\",\"\",ABS(IF(I159=\"\",0,(((H159*OFFSET($V$1,MATCH($F159,$U$2:$U$105,0),,)-G159)/G159)))))),\"\")","v":""},null,null,{"$f":"IF(OR(J159<(QUARTILE($J$2:$J$501,1))-1.5*(QUARTILE($J$2:$J$501,3)-QUARTILE($J$2:$J$501,1)),J159>(QUARTILE($J$2:$J$501,3))+1.5*(QUARTILE($J$2:$J$501,3)-QUARTILE($J$2:$J$501,1))),\"Outlier\")","v":false}]
[541806,"PLUM CREEK TIMBER",8000,8600,8670,8675,38.880000000000003,1.1399999999999999,{"$f":"(IF(IFERROR(G160/H160,\"\")<0,\"\",IFERROR(G160/H160,\"\")))","v":34.10526315789474},{"$f":"IF(COUNTIF($C$2:$C$501,C160)=1,\"\",IF(I160=\"\",\"\",ABS(IF(I160=\"\",0,(((H160*OFFSET($M$1,MATCH($C160,$L$2:$L$40,0),,)-G160)/G160))))))","v":0.61000766836493114},{"$f":"IF(OR(J160<(QUARTILE($J$2:$J$501,1))-1.5*(QUARTILE($J$2:$J$501,3)-QUARTILE($J$2:$J$501,1)),J160>(QUARTILE($J$2:$J$501,3))+1.5*(QUARTILE($J$2:$J$501,3)-QUARTILE($J$2:$J$501,1))),\"\",J160)","v":0.61000766836493114},null,null,{"$f":"IF(COUNTIF($D$2:$D$501,D160)=1,\"\",IF(I160=\"\",\"\",ABS(IF(I160=\"\",0,(((H160*OFFSET($P$1,MATCH($D160,$O$2:$O$40,0),,)-G160)/G160))))))","v":0.3129027016870547},null,null,{"$f":"IFERROR(IF(COUNTIF($E$2:$E$501,E160)=1,\"\",IF(I160=\"\",\"\",ABS(IF(I160=\"\",0,(((H160*OFFSET($S$1,MATCH($E160,$R$2:$R$41,0),,)-G160)/G160)))))),\"\")","v":0.46642961800737298},null,null,{"$f":"IFERROR(IF(COUNTIF($F$2:$F$501,F160)=1,\"\",IF(I160=\"\",\"\",ABS(IF(I160=\"\",0,(((H160*OFFSET($V$1,MATCH($F160,$U$2:$U$105,0),,)-G160)/G160)))))),\"\")","v":""},null,null,{"$f":"IF(OR(J160<(QUARTILE($J$2:$J$501,1))-1.5*(QUARTILE($J$2:$J$501,3)-QUARTILE($J$2:$J$501,1)),J160>(QUARTILE($J$2:$J$501,3))+1.5*(QUARTILE($J$2:$J$501,3)-QUARTILE($J$2:$J$501,1))),\"Outlier\")","v":false}]
[541900,"SYMANTEC",9000,9500,9530,9537,13.89,1.57,{"$f":"(IF(IFERROR(G161/H161,\"\")<0,\"\",IFERROR(G161/H161,\"\")))","v":8.8471337579617835},{"$f":"IF(COUNTIF($C$2:$C$501,C161)=1,\"\",IF(I161=\"\",\"\",ABS(IF(I161=\"\",0,(((H161*OFFSET($M$1,MATCH($C161,$L$2:$L$40,0),,)-G161)/G161))))))","v":0.47980326783550237},{"$f":"IF(OR(J161<(QUARTILE($J$2:$J$501,1))-1.5*(QUARTILE($J$2:$J$501,3)-QUARTILE($J$2:$J$501,1)),J161>(QUARTILE($J$2:$J$501,3))+1.5*(QUARTILE($J$2:$J$501,3)-QUARTILE($J$2:$J$501,1))),\"\",J161)","v":0.47980326783550237},null,null,{"$f":"IF(COUNTIF($D$2:$D$501,D161)=1,\"\",IF(I161=\"\",\"\",ABS(IF(I161=\"\",0,(((H161*OFFSET($P$1,MATCH($D161,$O$2:$O$40,0),,)-G161)/G161))))))","v":0.47980326783550237},null,null,{"$f":"IFERROR(IF(COUNTIF($E$2:$E$501,E161)=1,\"\",IF(I161=\"\",\"\",ABS(IF(I161=\"\",0,(((H161*OFFSET($S$1,MATCH($E161,$R$2:$R$41,0),,)-G161)/G161)))))),\"\")","v":0.5961579423115333},null,null,{"$f":"IFERROR(IF(COUNTIF($F$2:$F$501,F161)=1,\"\",IF(I161=\"\",\"\",ABS(IF(I161=\"\",0,(((H161*OFFSET($V$1,MATCH($F161,$U$2:$U$105,0),,)-G161)/G161)))))),\"\")","v":0.63812365372425794},null,null,{"$f":"IF(OR(J161<(QUARTILE($J$2:$J$501,1))-1.5*(QUARTILE($J$2:$J$501,3)-QUARTILE($J$2:$J$501,1)),J161>(QUARTILE($J$2:$J$501,3))+1.5*(QUARTILE($J$2:$J$501,3)-QUARTILE($J$2:$J$501,1))),\"Outlier\")","v":false}]
[542452,"SOLECTRON DEAD - MERGER",2000,2700,2730,2733,3.87,0.08,{"$f":"(IF(IFERROR(G162/H162,\"\")<0,\"\",IFERROR(G162/H162,\"\")))","v":48.375},{"$f":"IF(COUNTIF($C$2:$C$501,C162)=1,\"\",IF(I162=\"\",\"\",ABS(IF(I162=\"\",0,(((H162*OFFSET($M$1,MATCH($C162,$L$2:$L$40,0),,)-G162)/G162))))))","v":0.70017920407757306},{"$f":"IF(OR(J162<(QUARTILE($J$2:$J$501,1))-1.5*(QUARTILE($J$2:$J$501,3)-QUARTILE($J$2:$J$501,1)),J162>(QUARTILE($J$2:$J$501,3))+1.5*(QUARTILE($J$2:$J$501,3)-QUARTILE($J$2:$J$501,1))),\"\",J162)","v":0.70017920407757306},null,null,{"$f":"IF(COUNTIF($D$2:$D$501,D162)=1,\"\",IF(I162=\"\",\"\",ABS(IF(I162=\"\",0,(((H162*OFFSET($P$1,MATCH($D162,$O$2:$O$40,0),,)-G162)/G162))))))","v":0.70401135387935865},null,null,{"$f":"IFERROR(IF(COUNTIF($E$2:$E$501,E162)=1,\"\",IF(I162=\"\",\"\",ABS(IF(I162=\"\",0,(((H162*OFFSET($S$1,MATCH($E162,$R$2:$R$41,0),,)-G162)/G162)))))),\"\")","v":0.66147436810651883},null,null,{"$f":"IFERROR(IF(COUNTIF($F$2:$F$501,F162)=1,\"\",IF(I162=\"\",\"\",ABS(IF(I162=\"\",0,(((H162*OFFSET($V$1,MATCH($F162,$U$2:$U$105,0),,)-G162)/G162)))))),\"\")","v":0.6620116755371499},null,null,{"$f":"IF(OR(J162<(QUARTILE($J$2:$J$501,1))-1.5*(QUARTILE($J$2:$J$501,3)-QUARTILE($J$2:$J$501,1)),J162>(QUARTILE($J$2:$J$501,3))+1.5*(QUARTILE($J$2:$J$501,3)-QUARTILE($J$2:$J$501,1))),\"Outlier\")","v":false}]
[542868,"CISCO SYSTEMS",9000,9500,9570,9578,16.48,1.35,{"$f":"(IF(IFERROR(G163/H163,\"\")<0,\"\",IFERROR(G163/H163,\"\")))","v":12.207407407407407},{"$f":"IF(COUNTIF($C$2:$C$501,C163)=1,\"\",IF(I163=\"\",\"\",ABS(IF(I163=\"\",0,(((H163*OFFSET($M$1,MATCH($C163,$L$2:$L$40,0),,)-G163)/G163))))))","v":7.2465021366080629E-2},{"$f":"IF(OR(J163<(QUARTILE($J$2:$J$501,1))-1.5*(QUARTILE($J$2:$J$501,3)-QUARTILE($J$2:$J$501,1)),J163>(QUARTILE($J$2:$J$501,3))+1.5*(QUARTILE($J$2:$J$501,3)-QUARTILE($J$2:$J$501,1))),\"\",J163)","v":7.2465021366080629E-2},null,null,{"$f":"IF(COUNTIF($D$2:$D$501,D163)=1,\"\",IF(I163=\"\",\"\",ABS(IF(I163=\"\",0,(((H163*OFFSET($P$1,MATCH($D163,$O$2:$O$40,0),,)-G163)/G163))))))","v":7.2465021366080629E-2},null,null,{"$f":"IFERROR(IF(COUNTIF($E$2:$E$501,E163)=1,\"\",IF(I163=\"\",\"\",ABS(IF(I163=\"\",0,(((H163*OFFSET($S$1,MATCH($E163,$R$2:$R$41,0),,)-G163)/G163)))))),\"\")","v":2.7971903554084077E-2},null,null,{"$f":"IFERROR(IF(COUNTIF($F$2:$F$501,F163)=1,\"\",IF(I163=\"\",\"\",ABS(IF(I163=\"\",0,(((H163*OFFSET($V$1,MATCH($F163,$U$2:$U$105,0),,)-G163)/G163)))))),\"\")","v":0.2148934765686786},null,null,{"$f":"IF(OR(J163<(QUARTILE($J$2:$J$501,1))-1.5*(QUARTILE($J$2:$J$501,3)-QUARTILE($J$2:$J$501,1)),J163>(QUARTILE($J$2:$J$501,3))+1.5*(QUARTILE($J$2:$J$501,3)-QUARTILE($J$2:$J$501,1))),\"Outlier\")","v":false}]
[543349,"SAFEWAY",5000,5300,5330,5337,17.87,1.69,{"$f":"(IF(IFERROR(G164/H164,\"\")<0,\"\",IFERROR(G164/H164,\"\")))","v":10.573964497041421},{"$f":"IF(COUNTIF($C$2:$C$501,C164)=1,\"\",IF(I164=\"\",\"\",ABS(IF(I164=\"\",0,(((H164*OFFSET($M$1,MATCH($C164,$L$2:$L$40,0),,)-G164)/G164))))))","v":0.49144740994799285},{"$f":"IF(OR(J164<(QUARTILE($J$2:$J$501,1))-1.5*(QUARTILE($J$2:$J$501,3)-QUARTILE($J$2:$J$501,1)),J164>(QUARTILE($J$2:$J$501,3))+1.5*(QUARTILE($J$2:$J$501,3)-QUARTILE($J$2:$J$501,1))),\"\",J164)","v":0.49144740994799285},null,null,{"$f":"IF(COUNTIF($D$2:$D$501,D164)=1,\"\",IF(I164=\"\",\"\",ABS(IF(I164=\"\",0,(((H164*OFFSET($P$1,MATCH($D164,$O$2:$O$40,0),,)-G164)/G164))))))","v":0.3780517965879176},null,null,{"$f":"IFERROR(IF(COUNTIF($E$2:$E$501,E164)=1,\"\",IF(I164=\"\",\"\",ABS(IF(I164=\"\",0,(((H164*OFFSET($S$1,MATCH($E164,$R$2:$R$41,0),,)-G164)/G164)))))),\"\")","v":0.45324144604165362},null,null,{"$f":"IFERROR(IF(COUNTIF($F$2:$F$501,F164)=1,\"\",IF(I164=\"\",\"\",ABS(IF(I164=\"\",0,(((H164*OFFSET($V$1,MATCH($F164,$U$2:$U$105,0),,)-G164)/G164)))))),\"\")","v":0.65465744765896583},null,null,{"$f":"IF(OR(J164<(QUARTILE($J$2:$J$501,1))-1.5*(QUARTILE($J$2:$J$501,3)-QUARTILE($J$2:$J$501,1)),J164>(QUARTILE($J$2:$J$501,3))+1.5*(QUARTILE($J$2:$J$501,3)-QUARTILE($J$2:$J$501,1))),\"Outlier\")","v":false}]
[543487,"VIACOM 'B'",5000,5500,5550,5553,46.61,2.98,{"$f":"(IF(IFERROR(G165/H165,\"\")<0,\"\",IFERROR(G165/H165,\"\")))","v":15.640939597315436},{"$f":"IF(COUNTIF($C$2:$C$501,C165)=1,\"\",IF(I165=\"\",\"\",ABS(IF(I165=\"\",0,(((H165*OFFSET($M$1,MATCH($C165,$L$2:$L$40,0),,)-G165)/G165))))))","v":8.2841803635161342E-3},{"$f":"IF(OR(J165<(QUARTILE($J$2:$J$501,1))-1.5*(QUARTILE($J$2:$J$501,3)-QUARTILE($J$2:$J$501,1)),J165>(QUARTILE($J$2:$J$501,3))+1.5*(QUARTILE($J$2:$J$501,3)-QUARTILE($J$2:$J$501,1))),\"\",J165)","v":8.2841803635161342E-3},null,null,{"$f":"IF(COUNTIF($D$2:$D$501,D165)=1,\"\",IF(I165=\"\",\"\",ABS(IF(I165=\"\",0,(((H165*OFFSET($P$1,MATCH($D165,$O$2:$O$40,0),,)-G165)/G165))))))","v":3.0088446420436933E-2},null,null,{"$f":"IFERROR(IF(COUNTIF($E$2:$E$501,E165)=1,\"\",IF(I165=\"\",\"\",ABS(IF(I165=\"\",0,(((H165*OFFSET($S$1,MATCH($E165,$R$2:$R$41,0),,)-G165)/G165)))))),\"\")","v":3.0088446420436933E-2},null,null,{"$f":"IFERROR(IF(COUNTIF($F$2:$F$501,F165)=1,\"\",IF(I165=\"\",\"\",ABS(IF(I165=\"\",0,(((H165*OFFSET($V$1,MATCH($F165,$U$2:$U$105,0),,)-G165)/G165)))))),\"\")","v":3.2476600615032547E-2},null,null,{"$f":"IF(OR(J165<(QUARTILE($J$2:$J$501,1))-1.5*(QUARTILE($J$2:$J$501,3)-QUARTILE($J$2:$J$501,1)),J165>(QUARTILE($J$2:$J$501,3))+1.5*(QUARTILE($J$2:$J$501,3)-QUARTILE($J$2:$J$501,1))),\"Outlier\")","v":false}]
[543542,"XILINX",9000,9500,9570,9576,32.369999999999997,1.95,{"$f":"(IF(IFERROR(G166/H166,\"\")<0,\"\",IFERROR(G166/H166,\"\")))","v":16.599999999999998},{"$f":"IF(COUNTIF($C$2:$C$501,C166)=1,\"\",IF(I166=\"\",\"\",ABS(IF(I166=\"\",0,(((H166*OFFSET($M$1,MATCH($C166,$L$2:$L$40,0),,)-G166)/G166))))))","v":0.21132425024038326},{"$f":"IF(OR(J166<(QUARTILE($J$2:$J$501,1))-1.5*(QUARTILE($J$2:$J$501,3)-QUARTILE($J$2:$J$501,1)),J166>(QUARTILE($J$2:$J$501,3))+1.5*(QUARTILE($J$2:$J$501,3)-QUARTILE($J$2:$J$501,1))),\"\",J166)","v":0.21132425024038326},null,null,{"$f":"IF(COUNTIF($D$2:$D$501,D166)=1,\"\",IF(I166=\"\",\"\",ABS(IF(I166=\"\",0,(((H166*OFFSET($P$1,MATCH($D166,$O$2:$O$40,0),,)-G166)/G166))))))","v":0.21132425024038326},null,null,{"$f":"IFERROR(IF(COUNTIF($E$2:$E$501,E166)=1,\"\",IF(I166=\"\",\"\",ABS(IF(I166=\"\",0,(((H166*OFFSET($S$1,MATCH($E166,$R$2:$R$41,0),,)-G166)/G166)))))),\"\")","v":0.24404386565946862},null,null,{"$f":"IFERROR(IF(COUNTIF($F$2:$F$501,F166)=1,\"\",IF(I166=\"\",\"\",ABS(IF(I166=\"\",0,(((H166*OFFSET($V$1,MATCH($F166,$U$2:$U$105,0),,)-G166)/G166)))))),\"\")","v":0.16319159401985694},null,null,{"$f":"IF(OR(J166<(QUARTILE($J$2:$J$501,1))-1.5*(QUARTILE($J$2:$J$501,3)-QUARTILE($J$2:$J$501,1)),J166>(QUARTILE($J$2:$J$501,3))+1.5*(QUARTILE($J$2:$J$501,3)-QUARTILE($J$2:$J$501,1))),\"Outlier\")","v":false}]
[544665,"COVENTRY HEALTH CARE",4000,4500,4530,4533,32.46,4.16,{"$f":"(IF(IFERROR(G167/H167,\"\")<0,\"\",IFERROR(G167/H167,\"\")))","v":7.802884615384615},{"$f":"IF(COUNTIF($C$2:$C$501,C167)=1,\"\",IF(I167=\"\",\"\",ABS(IF(I167=\"\",0,(((H167*OFFSET($M$1,MATCH($C167,$L$2:$L$40,0),,)-G167)/G167))))))","v":1.1691711602781623},{"$f":"IF(OR(J167<(QUARTILE($J$2:$J$501,1))-1.5*(QUARTILE($J$2:$J$501,3)-QUARTILE($J$2:$J$501,1)),J167>(QUARTILE($J$2:$J$501,3))+1.5*(QUARTILE($J$2:$J$501,3)-QUARTILE($J$2:$J$501,1))),\"\",J167)","v":""},null,null,{"$f":"IF(COUNTIF($D$2:$D$501,D167)=1,\"\",IF(I167=\"\",\"\",ABS(IF(I167=\"\",0,(((H167*OFFSET($P$1,MATCH($D167,$O$2:$O$40,0),,)-G167)/G167))))))","v":1.1691711602781623},null,null,{"$f":"IFERROR(IF(COUNTIF($E$2:$E$501,E167)=1,\"\",IF(I167=\"\",\"\",ABS(IF(I167=\"\",0,(((H167*OFFSET($S$1,MATCH($E167,$R$2:$R$41,0),,)-G167)/G167)))))),\"\")","v":0.96051695311950158},null,null,{"$f":"IFERROR(IF(COUNTIF($F$2:$F$501,F167)=1,\"\",IF(I167=\"\",\"\",ABS(IF(I167=\"\",0,(((H167*OFFSET($V$1,MATCH($F167,$U$2:$U$105,0),,)-G167)/G167)))))),\"\")","v":0.65955606324805194},null,null,{"$f":"IF(OR(J167<(QUARTILE($J$2:$J$501,1))-1.5*(QUARTILE($J$2:$J$501,3)-QUARTILE($J$2:$J$501,1)),J167>(QUARTILE($J$2:$J$501,3))+1.5*(QUARTILE($J$2:$J$501,3)-QUARTILE($J$2:$J$501,1))),\"Outlier\")","v":"Outlier"}]
[544682,"MARATHON OIL",1,500,530,533,24.66,3.33,{"$f":"(IF(IFERROR(G168/H168,\"\")<0,\"\",IFERROR(G168/H168,\"\")))","v":7.4054054054054053},{"$f":"IF(COUNTIF($C$2:$C$501,C168)=1,\"\",IF(I168=\"\",\"\",ABS(IF(I168=\"\",0,(((H168*OFFSET($M$1,MATCH($C168,$L$2:$L$40,0),,)-G168)/G168))))))","v":0.25214290159858904},{"$f":"IF(OR(J168<(QUARTILE($J$2:$J$501,1))-1.5*(QUARTILE($J$2:$J$501,3)-QUARTILE($J$2:$J$501,1)),J168>(QUARTILE($J$2:$J$501,3))+1.5*(QUARTILE($J$2:$J$501,3)-QUARTILE($J$2:$J$501,1))),\"\",J168)","v":0.25214290159858904},null,null,{"$f":"IF(COUNTIF($D$2:$D$501,D168)=1,\"\",IF(I168=\"\",\"\",ABS(IF(I168=\"\",0,(((H168*OFFSET($P$1,MATCH($D168,$O$2:$O$40,0),,)-G168)/G168))))))","v":0.25214290159858904},null,null,{"$f":"IFERROR(IF(COUNTIF($E$2:$E$501,E168)=1,\"\",IF(I168=\"\",\"\",ABS(IF(I168=\"\",0,(((H168*OFFSET($S$1,MATCH($E168,$R$2:$R$41,0),,)-G168)/G168)))))),\"\")","v":0.13475346331662022},null,null,{"$f":"IFERROR(IF(COUNTIF($F$2:$F$501,F168)=1,\"\",IF(I168=\"\",\"\",ABS(IF(I168=\"\",0,(((H168*OFFSET($V$1,MATCH($F168,$U$2:$U$105,0),,)-G168)/G168)))))),\"\")","v":0.12682612956921188},null,null,{"$f":"IF(OR(J168<(QUARTILE($J$2:$J$501,1))-1.5*(QUARTILE($J$2:$J$501,3)-QUARTILE($J$2:$J$501,1)),J168>(QUARTILE($J$2:$J$501,3))+1.5*(QUARTILE($J$2:$J$501,3)-QUARTILE($J$2:$J$501,1))),\"Outlier\")","v":false}]
[544683,"US.STEEL",1000,1700,1750,1757,20.79,0,{"$f":"(IF(IFERROR(G169/H169,\"\")<0,\"\",IFERROR(G169/H169,\"\")))","v":""},{"$f":"IF(COUNTIF($C$2:$C$501,C169)=1,\"\",IF(I169=\"\",\"\",ABS(IF(I169=\"\",0,(((H169*OFFSET($M$1,MATCH($C169,$L$2:$L$40,0),,)-G169)/G169))))))","v":""},{"$f":"IF(OR(J169<(QUARTILE($J$2:$J$501,1))-1.5*(QUARTILE($J$2:$J$501,3)-QUARTILE($J$2:$J$501,1)),J169>(QUARTILE($J$2:$J$501,3))+1.5*(QUARTILE($J$2:$J$501,3)-QUARTILE($J$2:$J$501,1))),\"\",J169)","v":""},null,null,{"$f":"IF(COUNTIF($D$2:$D$501,D169)=1,\"\",IF(I169=\"\",\"\",ABS(IF(I169=\"\",0,(((H169*OFFSET($P$1,MATCH($D169,$O$2:$O$40,0),,)-G169)/G169))))))","v":""},null,null,{"$f":"IFERROR(IF(COUNTIF($E$2:$E$501,E169)=1,\"\",IF(I169=\"\",\"\",ABS(IF(I169=\"\",0,(((H169*OFFSET($S$1,MATCH($E169,$R$2:$R$41,0),,)-G169)/G169)))))),\"\")","v":""},null,null,{"$f":"IFERROR(IF(COUNTIF($F$2:$F$501,F169)=1,\"\",IF(I169=\"\",\"\",ABS(IF(I169=\"\",0,(((H169*OFFSET($V$1,MATCH($F169,$U$2:$U$105,0),,)-G169)/G169)))))),\"\")","v":""},null,null,{"$f":"IF(OR(J169<(QUARTILE($J$2:$J$501,1))-1.5*(QUARTILE($J$2:$J$501,3)-QUARTILE($J$2:$J$501,1)),J169>(QUARTILE($J$2:$J$501,3))+1.5*(QUARTILE($J$2:$J$501,3)-QUARTILE($J$2:$J$501,1))),\"Outlier\")","v":"Outlier"}]
[544717,"PMC-SIERRA",9000,9500,9570,9576,5.98,0,{"$f":"(IF(IFERROR(G170/H170,\"\")<0,\"\",IFERROR(G170/H170,\"\")))","v":""},{"$f":"IF(COUNTIF($C$2:$C$501,C170)=1,\"\",IF(I170=\"\",\"\",ABS(IF(I170=\"\",0,(((H170*OFFSET($M$1,MATCH($C170,$L$2:$L$40,0),,)-G170)/G170))))))","v":""},{"$f":"IF(OR(J170<(QUARTILE($J$2:$J$501,1))-1.5*(QUARTILE($J$2:$J$501,3)-QUARTILE($J$2:$J$501,1)),J170>(QUARTILE($J$2:$J$501,3))+1.5*(QUARTILE($J$2:$J$501,3)-QUARTILE($J$2:$J$501,1))),\"\",J170)","v":""},null,null,{"$f":"IF(COUNTIF($D$2:$D$501,D170)=1,\"\",IF(I170=\"\",\"\",ABS(IF(I170=\"\",0,(((H170*OFFSET($P$1,MATCH($D170,$O$2:$O$40,0),,)-G170)/G170))))))","v":""},null,null,{"$f":"IFERROR(IF(COUNTIF($E$2:$E$501,E170)=1,\"\",IF(I170=\"\",\"\",ABS(IF(I170=\"\",0,(((H170*OFFSET($S$1,MATCH($E170,$R$2:$R$41,0),,)-G170)/G170)))))),\"\")","v":""},null,null,{"$f":"IFERROR(IF(COUNTIF($F$2:$F$501,F170)=1,\"\",IF(I170=\"\",\"\",ABS(IF(I170=\"\",0,(((H170*OFFSET($V$1,MATCH($F170,$U$2:$U$105,0),,)-G170)/G170)))))),\"\")","v":""},null,null,{"$f":"IF(OR(J170<(QUARTILE($J$2:$J$501,1))-1.5*(QUARTILE($J$2:$J$501,3)-QUARTILE($J$2:$J$501,1)),J170>(QUARTILE($J$2:$J$501,3))+1.5*(QUARTILE($J$2:$J$501,3)-QUARTILE($J$2:$J$501,1))),\"Outlier\")","v":"Outlier"}]
[544794,"MEDIMMUNE DEAD - MERGER.19/06/07",4000,4500,4570,4573,57.97,0.67,{"$f":"(IF(IFERROR(G171/H171,\"\")<0,\"\",IFERROR(G171/H171,\"\")))","v":86.522388059701484},{"$f":"IF(COUNTIF($C$2:$C$501,C171)=1,\"\",IF(I171=\"\",\"\",ABS(IF(I171=\"\",0,(((H171*OFFSET($M$1,MATCH($C171,$L$2:$L$40,0),,)-G171)/G171))))))","v":0.80437673237831264},{"$f":"IF(OR(J171<(QUARTILE($J$2:$J$501,1))-1.5*(QUARTILE($J$2:$J$501,3)-QUARTILE($J$2:$J$501,1)),J171>(QUARTILE($J$2:$J$501,3))+1.5*(QUARTILE($J$2:$J$501,3)-QUARTILE($J$2:$J$501,1))),\"\",J171)","v":0.80437673237831264},null,null,{"$f":"IF(COUNTIF($D$2:$D$501,D171)=1,\"\",IF(I171=\"\",\"\",ABS(IF(I171=\"\",0,(((H171*OFFSET($P$1,MATCH($D171,$O$2:$O$40,0),,)-G171)/G171))))))","v":0.80437673237831264},null,null,{"$f":"IFERROR(IF(COUNTIF($E$2:$E$501,E171)=1,\"\",IF(I171=\"\",\"\",ABS(IF(I171=\"\",0,(((H171*OFFSET($S$1,MATCH($E171,$R$2:$R$41,0),,)-G171)/G171)))))),\"\")","v":0.77012557646963864},null,null,{"$f":"IFERROR(IF(COUNTIF($F$2:$F$501,F171)=1,\"\",IF(I171=\"\",\"\",ABS(IF(I171=\"\",0,(((H171*OFFSET($V$1,MATCH($F171,$U$2:$U$105,0),,)-G171)/G171)))))),\"\")","v":0.71905470423223949},null,null,{"$f":"IF(OR(J171<(QUARTILE($J$2:$J$501,1))-1.5*(QUARTILE($J$2:$J$501,3)-QUARTILE($J$2:$J$501,1)),J171>(QUARTILE($J$2:$J$501,3))+1.5*(QUARTILE($J$2:$J$501,3)-QUARTILE($J$2:$J$501,1))),\"Outlier\")","v":false}]
[544882,"JONES GROUP",3000,3700,3760,3763,9.06,0.28999999999999998,{"$f":"(IF(IFERROR(G172/H172,\"\")<0,\"\",IFERROR(G172/H172,\"\")))","v":31.241379310344833},{"$f":"IF(COUNTIF($C$2:$C$501,C172)=1,\"\",IF(I172=\"\",\"\",ABS(IF(I172=\"\",0,(((H172*OFFSET($M$1,MATCH($C172,$L$2:$L$40,0),,)-G172)/G172))))))","v":0.48817291499423121},{"$f":"IF(OR(J172<(QUARTILE($J$2:$J$501,1))-1.5*(QUARTILE($J$2:$J$501,3)-QUARTILE($J$2:$J$501,1)),J172>(QUARTILE($J$2:$J$501,3))+1.5*(QUARTILE($J$2:$J$501,3)-QUARTILE($J$2:$J$501,1))),\"\",J172)","v":0.48817291499423121},null,null,{"$f":"IF(COUNTIF($D$2:$D$501,D172)=1,\"\",IF(I172=\"\",\"\",ABS(IF(I172=\"\",0,(((H172*OFFSET($P$1,MATCH($D172,$O$2:$O$40,0),,)-G172)/G172))))))","v":0.38283808691607185},null,null,{"$f":"IFERROR(IF(COUNTIF($E$2:$E$501,E172)=1,\"\",IF(I172=\"\",\"\",ABS(IF(I172=\"\",0,(((H172*OFFSET($S$1,MATCH($E172,$R$2:$R$41,0),,)-G172)/G172)))))),\"\")","v":0.37760124135130341},null,null,{"$f":"IFERROR(IF(COUNTIF($F$2:$F$501,F172)=1,\"\",IF(I172=\"\",\"\",ABS(IF(I172=\"\",0,(((H172*OFFSET($V$1,MATCH($F172,$U$2:$U$105,0),,)-G172)/G172)))))),\"\")","v":0.39437999840953447},null,null,{"$f":"IF(OR(J172<(QUARTILE($J$2:$J$501,1))-1.5*(QUARTILE($J$2:$J$501,3)-QUARTILE($J$2:$J$501,1)),J172>(QUARTILE($J$2:$J$501,3))+1.5*(QUARTILE($J$2:$J$501,3)-QUARTILE($J$2:$J$501,1))),\"Outlier\")","v":false}]
[545534,"MGIC INVESTMENT",8000,8700,8770,8779,2.7,0,{"$f":"(IF(IFERROR(G173/H173,\"\")<0,\"\",IFERROR(G173/H173,\"\")))","v":""},{"$f":"IF(COUNTIF($C$2:$C$501,C173)=1,\"\",IF(I173=\"\",\"\",ABS(IF(I173=\"\",0,(((H173*OFFSET($M$1,MATCH($C173,$L$2:$L$40,0),,)-G173)/G173))))))","v":""},{"$f":"IF(OR(J173<(QUARTILE($J$2:$J$501,1))-1.5*(QUARTILE($J$2:$J$501,3)-QUARTILE($J$2:$J$501,1)),J173>(QUARTILE($J$2:$J$501,3))+1.5*(QUARTILE($J$2:$J$501,3)-QUARTILE($J$2:$J$501,1))),\"\",J173)","v":""},null,null,{"$f":"IF(COUNTIF($D$2:$D$501,D173)=1,\"\",IF(I173=\"\",\"\",ABS(IF(I173=\"\",0,(((H173*OFFSET($P$1,MATCH($D173,$O$2:$O$40,0),,)-G173)/G173))))))","v":""},null,null,{"$f":"IFERROR(IF(COUNTIF($E$2:$E$501,E173)=1,\"\",IF(I173=\"\",\"\",ABS(IF(I173=\"\",0,(((H173*OFFSET($S$1,MATCH($E173,$R$2:$R$41,0),,)-G173)/G173)))))),\"\")","v":""},null,null,{"$f":"IFERROR(IF(COUNTIF($F$2:$F$501,F173)=1,\"\",IF(I173=\"\",\"\",ABS(IF(I173=\"\",0,(((H173*OFFSET($V$1,MATCH($F173,$U$2:$U$105,0),,)-G173)/G173)))))),\"\")","v":""},null,null,{"$f":"IF(OR(J173<(QUARTILE($J$2:$J$501,1))-1.5*(QUARTILE($J$2:$J$501,3)-QUARTILE($J$2:$J$501,1)),J173>(QUARTILE($J$2:$J$501,3))+1.5*(QUARTILE($J$2:$J$501,3)-QUARTILE($J$2:$J$501,1))),\"Outlier\")","v":"Outlier"}]
[545615,"TYCO INTERNATIONAL",2000,2700,2720,2727,51.41,2.3199999999999998,{"$f":"(IF(IFERROR(G174/H174,\"\")<0,\"\",IFERROR(G174/H174,\"\")))","v":22.15948275862069},{"$f":"IF(COUNTIF($C$2:$C$501,C174)=1,\"\",IF(I174=\"\",\"\",ABS(IF(I174=\"\",0,(((H174*OFFSET($M$1,MATCH($C174,$L$2:$L$40,0),,)-G174)/G174))))))","v":0.34547971355039908},{"$f":"IF(OR(J174<(QUARTILE($J$2:$J$501,1))-1.5*(QUARTILE($J$2:$J$501,3)-QUARTILE($J$2:$J$501,1)),J174>(QUARTILE($J$2:$J$501,3))+1.5*(QUARTILE($J$2:$J$501,3)-QUARTILE($J$2:$J$501,1))),\"\",J174)","v":0.34547971355039908},null,null,{"$f":"IF(COUNTIF($D$2:$D$501,D174)=1,\"\",IF(I174=\"\",\"\",ABS(IF(I174=\"\",0,(((H174*OFFSET($P$1,MATCH($D174,$O$2:$O$40,0),,)-G174)/G174))))))","v":0.35384544341335183},null,null,{"$f":"IFERROR(IF(COUNTIF($E$2:$E$501,E174)=1,\"\",IF(I174=\"\",\"\",ABS(IF(I174=\"\",0,(((H174*OFFSET($S$1,MATCH($E174,$R$2:$R$41,0),,)-G174)/G174)))))),\"\")","v":0.1828746943934246},null,null,{"$f":"IFERROR(IF(COUNTIF($F$2:$F$501,F174)=1,\"\",IF(I174=\"\",\"\",ABS(IF(I174=\"\",0,(((H174*OFFSET($V$1,MATCH($F174,$U$2:$U$105,0),,)-G174)/G174)))))),\"\")","v":0.30055395676255237},null,null,{"$f":"IF(OR(J174<(QUARTILE($J$2:$J$501,1))-1.5*(QUARTILE($J$2:$J$501,3)-QUARTILE($J$2:$J$501,1)),J174>(QUARTILE($J$2:$J$501,3))+1.5*(QUARTILE($J$2:$J$501,3)-QUARTILE($J$2:$J$501,1))),\"Outlier\")","v":false}]
[545900,"MANOR CARE",4000,4500,4530,4533,66.989999999999995,2.09,{"$f":"(IF(IFERROR(G175/H175,\"\")<0,\"\",IFERROR(G175/H175,\"\")))","v":32.05263157894737},{"$f":"IF(COUNTIF($C$2:$C$501,C175)=1,\"\",IF(I175=\"\",\"\",ABS(IF(I175=\"\",0,(((H175*OFFSET($M$1,MATCH($C175,$L$2:$L$40,0),,)-G175)/G175))))))","v":0.47193751524016603},{"$f":"IF(OR(J175<(QUARTILE($J$2:$J$501,1))-1.5*(QUARTILE($J$2:$J$501,3)-QUARTILE($J$2:$J$501,1)),J175>(QUARTILE($J$2:$J$501,3))+1.5*(QUARTILE($J$2:$J$501,3)-QUARTILE($J$2:$J$501,1))),\"\",J175)","v":0.47193751524016603},null,null,{"$f":"IF(COUNTIF($D$2:$D$501,D175)=1,\"\",IF(I175=\"\",\"\",ABS(IF(I175=\"\",0,(((H175*OFFSET($P$1,MATCH($D175,$O$2:$O$40,0),,)-G175)/G175))))))","v":0.47193751524016603},null,null,{"$f":"IFERROR(IF(COUNTIF($E$2:$E$501,E175)=1,\"\",IF(I175=\"\",\"\",ABS(IF(I175=\"\",0,(((H175*OFFSET($S$1,MATCH($E175,$R$2:$R$41,0),,)-G175)/G175)))))),\"\")","v":0.52273224324755219},null,null,{"$f":"IFERROR(IF(COUNTIF($F$2:$F$501,F175)=1,\"\",IF(I175=\"\",\"\",ABS(IF(I175=\"\",0,(((H175*OFFSET($V$1,MATCH($F175,$U$2:$U$105,0),,)-G175)/G175)))))),\"\")","v":0.5959980870091246},null,null,{"$f":"IF(OR(J175<(QUARTILE($J$2:$J$501,1))-1.5*(QUARTILE($J$2:$J$501,3)-QUARTILE($J$2:$J$501,1)),J175>(QUARTILE($J$2:$J$501,3))+1.5*(QUARTILE($J$2:$J$501,3)-QUARTILE($J$2:$J$501,1))),\"Outlier\")","v":false}]
[546169,"KIMCO REALTY",8000,8600,8670,8672,18.45,0.3,{"$f":"(IF(IFERROR(G176/H176,\"\")<0,\"\",IFERROR(G176/H176,\"\")))","v":61.5},{"$f":"IF(COUNTIF($C$2:$C$501,C176)=1,\"\",IF(I176=\"\",\"\",ABS(IF(I176=\"\",0,(((H176*OFFSET($M$1,MATCH($C176,$L$2:$L$40,0),,)-G176)/G176))))))","v":0.78372697398414659},{"$f":"IF(OR(J176<(QUARTILE($J$2:$J$501,1))-1.5*(QUARTILE($J$2:$J$501,3)-QUARTILE($J$2:$J$501,1)),J176>(QUARTILE($J$2:$J$501,3))+1.5*(QUARTILE($J$2:$J$501,3)-QUARTILE($J$2:$J$501,1))),\"\",J176)","v":0.78372697398414659},null,null,{"$f":"IF(COUNTIF($D$2:$D$501,D176)=1,\"\",IF(I176=\"\",\"\",ABS(IF(I176=\"\",0,(((H176*OFFSET($P$1,MATCH($D176,$O$2:$O$40,0),,)-G176)/G176))))))","v":0.27192045297970763},null,null,{"$f":"IFERROR(IF(COUNTIF($E$2:$E$501,E176)=1,\"\",IF(I176=\"\",\"\",ABS(IF(I176=\"\",0,(((H176*OFFSET($S$1,MATCH($E176,$R$2:$R$41,0),,)-G176)/G176)))))),\"\")","v":0.18678100772890213},null,null,{"$f":"IFERROR(IF(COUNTIF($F$2:$F$501,F176)=1,\"\",IF(I176=\"\",\"\",ABS(IF(I176=\"\",0,(((H176*OFFSET($V$1,MATCH($F176,$U$2:$U$105,0),,)-G176)/G176)))))),\"\")","v":""},null,null,{"$f":"IF(OR(J176<(QUARTILE($J$2:$J$501,1))-1.5*(QUARTILE($J$2:$J$501,3)-QUARTILE($J$2:$J$501,1)),J176>(QUARTILE($J$2:$J$501,3))+1.5*(QUARTILE($J$2:$J$501,3)-QUARTILE($J$2:$J$501,1))),\"Outlier\")","v":false}]
[546370,"QUALCOMM",9000,9500,9570,9576,54.3,3.32,{"$f":"(IF(IFERROR(G177/H177,\"\")<0,\"\",IFERROR(G177/H177,\"\")))","v":16.355421686746986},{"$f":"IF(COUNTIF($C$2:$C$501,C177)=1,\"\",IF(I177=\"\",\"\",ABS(IF(I177=\"\",0,(((H177*OFFSET($M$1,MATCH($C177,$L$2:$L$40,0),,)-G177)/G177))))))","v":0.19953042503219162},{"$f":"IF(OR(J177<(QUARTILE($J$2:$J$501,1))-1.5*(QUARTILE($J$2:$J$501,3)-QUARTILE($J$2:$J$501,1)),J177>(QUARTILE($J$2:$J$501,3))+1.5*(QUARTILE($J$2:$J$501,3)-QUARTILE($J$2:$J$501,1))),\"\",J177)","v":0.19953042503219162},null,null,{"$f":"IF(COUNTIF($D$2:$D$501,D177)=1,\"\",IF(I177=\"\",\"\",ABS(IF(I177=\"\",0,(((H177*OFFSET($P$1,MATCH($D177,$O$2:$O$40,0),,)-G177)/G177))))))","v":0.19953042503219162},null,null,{"$f":"IFERROR(IF(COUNTIF($E$2:$E$501,E177)=1,\"\",IF(I177=\"\",\"\",ABS(IF(I177=\"\",0,(((H177*OFFSET($S$1,MATCH($E177,$R$2:$R$41,0),,)-G177)/G177)))))),\"\")","v":0.23273932825459745},null,null,{"$f":"IFERROR(IF(COUNTIF($F$2:$F$501,F177)=1,\"\",IF(I177=\"\",\"\",ABS(IF(I177=\"\",0,(((H177*OFFSET($V$1,MATCH($F177,$U$2:$U$105,0),,)-G177)/G177)))))),\"\")","v":0.15067799502066959},null,null,{"$f":"IF(OR(J177<(QUARTILE($J$2:$J$501,1))-1.5*(QUARTILE($J$2:$J$501,3)-QUARTILE($J$2:$J$501,1)),J177>(QUARTILE($J$2:$J$501,3))+1.5*(QUARTILE($J$2:$J$501,3)-QUARTILE($J$2:$J$501,1))),\"Outlier\")","v":false}]
[546689,"WHOLE FOODS MARKET",5000,5300,5330,5337,93.72,2.2000000000000002,{"$f":"(IF(IFERROR(G178/H178,\"\")<0,\"\",IFERROR(G178/H178,\"\")))","v":42.599999999999994},{"$f":"IF(COUNTIF($C$2:$C$501,C178)=1,\"\",IF(I178=\"\",\"\",ABS(IF(I178=\"\",0,(((H178*OFFSET($M$1,MATCH($C178,$L$2:$L$40,0),,)-G178)/G178))))))","v":0.62980018868557608},{"$f":"IF(OR(J178<(QUARTILE($J$2:$J$501,1))-1.5*(QUARTILE($J$2:$J$501,3)-QUARTILE($J$2:$J$501,1)),J178>(QUARTILE($J$2:$J$501,3))+1.5*(QUARTILE($J$2:$J$501,3)-QUARTILE($J$2:$J$501,1))),\"\",J178)","v":0.62980018868557608},null,null,{"$f":"IF(COUNTIF($D$2:$D$501,D178)=1,\"\",IF(I178=\"\",\"\",ABS(IF(I178=\"\",0,(((H178*OFFSET($P$1,MATCH($D178,$O$2:$O$40,0),,)-G178)/G178))))))","v":0.65794669548815055},null,null,{"$f":"IFERROR(IF(COUNTIF($E$2:$E$501,E178)=1,\"\",IF(I178=\"\",\"\",ABS(IF(I178=\"\",0,(((H178*OFFSET($S$1,MATCH($E178,$R$2:$R$41,0),,)-G178)/G178)))))),\"\")","v":0.63928348694662951},null,null,{"$f":"IFERROR(IF(COUNTIF($F$2:$F$501,F178)=1,\"\",IF(I178=\"\",\"\",ABS(IF(I178=\"\",0,(((H178*OFFSET($V$1,MATCH($F178,$U$2:$U$105,0),,)-G178)/G178)))))),\"\")","v":0.58928898811476338},null,null,{"$f":"IF(OR(J178<(QUARTILE($J$2:$J$501,1))-1.5*(QUARTILE($J$2:$J$501,3)-QUARTILE($J$2:$J$501,1)),J178>(QUARTILE($J$2:$J$501,3))+1.5*(QUARTILE($J$2:$J$501,3)-QUARTILE($J$2:$J$501,1))),\"Outlier\")","v":false}]
[546697,"GILEAD SCIENCES",4000,4500,4570,4573,50.04,3.32,{"$f":"(IF(IFERROR(G179/H179,\"\")<0,\"\",IFERROR(G179/H179,\"\")))","v":15.072289156626507},{"$f":"IF(COUNTIF($C$2:$C$501,C179)=1,\"\",IF(I179=\"\",\"\",ABS(IF(I179=\"\",0,(((H179*OFFSET($M$1,MATCH($C179,$L$2:$L$40,0),,)-G179)/G179))))))","v":0.12297422765599413},{"$f":"IF(OR(J179<(QUARTILE($J$2:$J$501,1))-1.5*(QUARTILE($J$2:$J$501,3)-QUARTILE($J$2:$J$501,1)),J179>(QUARTILE($J$2:$J$501,3))+1.5*(QUARTILE($J$2:$J$501,3)-QUARTILE($J$2:$J$501,1))),\"\",J179)","v":0.12297422765599413},null,null,{"$f":"IF(COUNTIF($D$2:$D$501,D179)=1,\"\",IF(I179=\"\",\"\",ABS(IF(I179=\"\",0,(((H179*OFFSET($P$1,MATCH($D179,$O$2:$O$40,0),,)-G179)/G179))))))","v":0.12297422765599413},null,null,{"$f":"IFERROR(IF(COUNTIF($E$2:$E$501,E179)=1,\"\",IF(I179=\"\",\"\",ABS(IF(I179=\"\",0,(((H179*OFFSET($S$1,MATCH($E179,$R$2:$R$41,0),,)-G179)/G179)))))),\"\")","v":0.31959278852806511},null,null,{"$f":"IFERROR(IF(COUNTIF($F$2:$F$501,F179)=1,\"\",IF(I179=\"\",\"\",ABS(IF(I179=\"\",0,(((H179*OFFSET($V$1,MATCH($F179,$U$2:$U$105,0),,)-G179)/G179)))))),\"\")","v":0.61276483295696238},null,null,{"$f":"IF(OR(J179<(QUARTILE($J$2:$J$501,1))-1.5*(QUARTILE($J$2:$J$501,3)-QUARTILE($J$2:$J$501,1)),J179>(QUARTILE($J$2:$J$501,3))+1.5*(QUARTILE($J$2:$J$501,3)-QUARTILE($J$2:$J$501,1))),\"Outlier\")","v":false}]
[546814,"MACY'S",5000,5300,5370,5373,33.450000000000003,3.04,{"$f":"(IF(IFERROR(G180/H180,\"\")<0,\"\",IFERROR(G180/H180,\"\")))","v":11.003289473684211},{"$f":"IF(COUNTIF($C$2:$C$501,C180)=1,\"\",IF(I180=\"\",\"\",ABS(IF(I180=\"\",0,(((H180*OFFSET($M$1,MATCH($C180,$L$2:$L$40,0),,)-G180)/G180))))))","v":0.43325430088081157},{"$f":"IF(OR(J180<(QUARTILE($J$2:$J$501,1))-1.5*(QUARTILE($J$2:$J$501,3)-QUARTILE($J$2:$J$501,1)),J180>(QUARTILE($J$2:$J$501,3))+1.5*(QUARTILE($J$2:$J$501,3)-QUARTILE($J$2:$J$501,1))),\"\",J180)","v":0.43325430088081157},null,null,{"$f":"IF(COUNTIF($D$2:$D$501,D180)=1,\"\",IF(I180=\"\",\"\",ABS(IF(I180=\"\",0,(((H180*OFFSET($P$1,MATCH($D180,$O$2:$O$40,0),,)-G180)/G180))))))","v":0.32428314342309572},null,null,{"$f":"IFERROR(IF(COUNTIF($E$2:$E$501,E180)=1,\"\",IF(I180=\"\",\"\",ABS(IF(I180=\"\",0,(((H180*OFFSET($S$1,MATCH($E180,$R$2:$R$41,0),,)-G180)/G180)))))),\"\")","v":0.30261994947548565},null,null,{"$f":"IFERROR(IF(COUNTIF($F$2:$F$501,F180)=1,\"\",IF(I180=\"\",\"\",ABS(IF(I180=\"\",0,(((H180*OFFSET($V$1,MATCH($F180,$U$2:$U$105,0),,)-G180)/G180)))))),\"\")","v":0.73153297654479743},null,null,{"$f":"IF(OR(J180<(QUARTILE($J$2:$J$501,1))-1.5*(QUARTILE($J$2:$J$501,3)-QUARTILE($J$2:$J$501,1)),J180>(QUARTILE($J$2:$J$501,3))+1.5*(QUARTILE($J$2:$J$501,3)-QUARTILE($J$2:$J$501,1))),\"Outlier\")","v":false}]
[674693,"VERISIGN",9000,9500,9530,9533,42.52,1.05,{"$f":"(IF(IFERROR(G181/H181,\"\")<0,\"\",IFERROR(G181/H181,\"\")))","v":40.495238095238093},{"$f":"IF(COUNTIF($C$2:$C$501,C181)=1,\"\",IF(I181=\"\",\"\",ABS(IF(I181=\"\",0,(((H181*OFFSET($M$1,MATCH($C181,$L$2:$L$40,0),,)-G181)/G181))))))","v":0.67670229731161524},{"$f":"IF(OR(J181<(QUARTILE($J$2:$J$501,1))-1.5*(QUARTILE($J$2:$J$501,3)-QUARTILE($J$2:$J$501,1)),J181>(QUARTILE($J$2:$J$501,3))+1.5*(QUARTILE($J$2:$J$501,3)-QUARTILE($J$2:$J$501,1))),\"\",J181)","v":0.67670229731161524},null,null,{"$f":"IF(COUNTIF($D$2:$D$501,D181)=1,\"\",IF(I181=\"\",\"\",ABS(IF(I181=\"\",0,(((H181*OFFSET($P$1,MATCH($D181,$O$2:$O$40,0),,)-G181)/G181))))))","v":0.67670229731161524},null,null,{"$f":"IFERROR(IF(COUNTIF($E$2:$E$501,E181)=1,\"\",IF(I181=\"\",\"\",ABS(IF(I181=\"\",0,(((H181*OFFSET($S$1,MATCH($E181,$R$2:$R$41,0),,)-G181)/G181)))))),\"\")","v":0.65128189192882546},null,null,{"$f":"IFERROR(IF(COUNTIF($F$2:$F$501,F181)=1,\"\",IF(I181=\"\",\"\",ABS(IF(I181=\"\",0,(((H181*OFFSET($V$1,MATCH($F181,$U$2:$U$105,0),,)-G181)/G181)))))),\"\")","v":0.70950920489745162},null,null,{"$f":"IF(OR(J181<(QUARTILE($J$2:$J$501,1))-1.5*(QUARTILE($J$2:$J$501,3)-QUARTILE($J$2:$J$501,1)),J181>(QUARTILE($J$2:$J$501,3))+1.5*(QUARTILE($J$2:$J$501,3)-QUARTILE($J$2:$J$501,1))),\"Outlier\")","v":false}]
[677631,"MARRIOTT INTL.'A'",5000,5700,5750,5753,37.54,0.56999999999999995,{"$f":"(IF(IFERROR(G182/H182,\"\")<0,\"\",IFERROR(G182/H182,\"\")))","v":65.859649122807028},{"$f":"IF(COUNTIF($C$2:$C$501,C182)=1,\"\",IF(I182=\"\",\"\",ABS(IF(I182=\"\",0,(((H182*OFFSET($M$1,MATCH($C182,$L$2:$L$40,0),,)-G182)/G182))))))","v":0.76054363829683425},{"$f":"IF(OR(J182<(QUARTILE($J$2:$J$501,1))-1.5*(QUARTILE($J$2:$J$501,3)-QUARTILE($J$2:$J$501,1)),J182>(QUARTILE($J$2:$J$501,3))+1.5*(QUARTILE($J$2:$J$501,3)-QUARTILE($J$2:$J$501,1))),\"\",J182)","v":0.76054363829683425},null,null,{"$f":"IF(COUNTIF($D$2:$D$501,D182)=1,\"\",IF(I182=\"\",\"\",ABS(IF(I182=\"\",0,(((H182*OFFSET($P$1,MATCH($D182,$O$2:$O$40,0),,)-G182)/G182))))))","v":0.6674906151162856},null,null,{"$f":"IFERROR(IF(COUNTIF($E$2:$E$501,E182)=1,\"\",IF(I182=\"\",\"\",ABS(IF(I182=\"\",0,(((H182*OFFSET($S$1,MATCH($E182,$R$2:$R$41,0),,)-G182)/G182)))))),\"\")","v":0.6674906151162856},null,null,{"$f":"IFERROR(IF(COUNTIF($F$2:$F$501,F182)=1,\"\",IF(I182=\"\",\"\",ABS(IF(I182=\"\",0,(((H182*OFFSET($V$1,MATCH($F182,$U$2:$U$105,0),,)-G182)/G182)))))),\"\")","v":""},null,null,{"$f":"IF(OR(J182<(QUARTILE($J$2:$J$501,1))-1.5*(QUARTILE($J$2:$J$501,3)-QUARTILE($J$2:$J$501,1)),J182>(QUARTILE($J$2:$J$501,3))+1.5*(QUARTILE($J$2:$J$501,3)-QUARTILE($J$2:$J$501,1))),\"Outlier\")","v":false}]
[680531,"FEDERATED INVRS.'B'",8000,8700,8770,8771,20.94,1.59,{"$f":"(IF(IFERROR(G183/H183,\"\")<0,\"\",IFERROR(G183/H183,\"\")))","v":13.169811320754716},{"$f":"IF(COUNTIF($C$2:$C$501,C183)=1,\"\",IF(I183=\"\",\"\",ABS(IF(I183=\"\",0,(((H183*OFFSET($M$1,MATCH($C183,$L$2:$L$40,0),,)-G183)/G183))))))","v":9.9454560152922224E-3},{"$f":"IF(OR(J183<(QUARTILE($J$2:$J$501,1))-1.5*(QUARTILE($J$2:$J$501,3)-QUARTILE($J$2:$J$501,1)),J183>(QUARTILE($J$2:$J$501,3))+1.5*(QUARTILE($J$2:$J$501,3)-QUARTILE($J$2:$J$501,1))),\"\",J183)","v":9.9454560152922224E-3},null,null,{"$f":"IF(COUNTIF($D$2:$D$501,D183)=1,\"\",IF(I183=\"\",\"\",ABS(IF(I183=\"\",0,(((H183*OFFSET($P$1,MATCH($D183,$O$2:$O$40,0),,)-G183)/G183))))))","v":4.8760929389534684E-2},null,null,{"$f":"IFERROR(IF(COUNTIF($E$2:$E$501,E183)=1,\"\",IF(I183=\"\",\"\",ABS(IF(I183=\"\",0,(((H183*OFFSET($S$1,MATCH($E183,$R$2:$R$41,0),,)-G183)/G183)))))),\"\")","v":4.8760929389534684E-2},null,null,{"$f":"IFERROR(IF(COUNTIF($F$2:$F$501,F183)=1,\"\",IF(I183=\"\",\"\",ABS(IF(I183=\"\",0,(((H183*OFFSET($V$1,MATCH($F183,$U$2:$U$105,0),,)-G183)/G183)))))),\"\")","v":4.2113214442231636E-2},null,null,{"$f":"IF(OR(J183<(QUARTILE($J$2:$J$501,1))-1.5*(QUARTILE($J$2:$J$501,3)-QUARTILE($J$2:$J$501,1)),J183>(QUARTILE($J$2:$J$501,3))+1.5*(QUARTILE($J$2:$J$501,3)-QUARTILE($J$2:$J$501,1))),\"Outlier\")","v":false}]
[680604,"L3 COMMUNICATIONS",2000,2700,2710,2717,71.45,9.1199999999999992,{"$f":"(IF(IFERROR(G184/H184,\"\")<0,\"\",IFERROR(G184/H184,\"\")))","v":7.8344298245614041},{"$f":"IF(COUNTIF($C$2:$C$501,C184)=1,\"\",IF(I184=\"\",\"\",ABS(IF(I184=\"\",0,(((H184*OFFSET($M$1,MATCH($C184,$L$2:$L$40,0),,)-G184)/G184))))))","v":0.85129375430449705},{"$f":"IF(OR(J184<(QUARTILE($J$2:$J$501,1))-1.5*(QUARTILE($J$2:$J$501,3)-QUARTILE($J$2:$J$501,1)),J184>(QUARTILE($J$2:$J$501,3))+1.5*(QUARTILE($J$2:$J$501,3)-QUARTILE($J$2:$J$501,1))),\"\",J184)","v":0.85129375430449705},null,null,{"$f":"IF(COUNTIF($D$2:$D$501,D184)=1,\"\",IF(I184=\"\",\"\",ABS(IF(I184=\"\",0,(((H184*OFFSET($P$1,MATCH($D184,$O$2:$O$40,0),,)-G184)/G184))))))","v":0.82763150308613775},null,null,{"$f":"IFERROR(IF(COUNTIF($E$2:$E$501,E184)=1,\"\",IF(I184=\"\",\"\",ABS(IF(I184=\"\",0,(((H184*OFFSET($S$1,MATCH($E184,$R$2:$R$41,0),,)-G184)/G184)))))),\"\")","v":0.44897866708453671},null,null,{"$f":"IFERROR(IF(COUNTIF($F$2:$F$501,F184)=1,\"\",IF(I184=\"\",\"\",ABS(IF(I184=\"\",0,(((H184*OFFSET($V$1,MATCH($F184,$U$2:$U$105,0),,)-G184)/G184)))))),\"\")","v":0.14643603030318661},null,null,{"$f":"IF(OR(J184<(QUARTILE($J$2:$J$501,1))-1.5*(QUARTILE($J$2:$J$501,3)-QUARTILE($J$2:$J$501,1)),J184>(QUARTILE($J$2:$J$501,3))+1.5*(QUARTILE($J$2:$J$501,3)-QUARTILE($J$2:$J$501,1))),\"Outlier\")","v":false}]
[683118,"MOODY'S",8000,8700,8770,8775,35.549999999999997,2.58,{"$f":"(IF(IFERROR(G185/H185,\"\")<0,\"\",IFERROR(G185/H185,\"\")))","v":13.779069767441859},{"$f":"IF(COUNTIF($C$2:$C$501,C185)=1,\"\",IF(I185=\"\",\"\",ABS(IF(I185=\"\",0,(((H185*OFFSET($M$1,MATCH($C185,$L$2:$L$40,0),,)-G185)/G185))))))","v":3.4710519326710022E-2},{"$f":"IF(OR(J185<(QUARTILE($J$2:$J$501,1))-1.5*(QUARTILE($J$2:$J$501,3)-QUARTILE($J$2:$J$501,1)),J185>(QUARTILE($J$2:$J$501,3))+1.5*(QUARTILE($J$2:$J$501,3)-QUARTILE($J$2:$J$501,1))),\"\",J185)","v":3.4710519326710022E-2},null,null,{"$f":"IF(COUNTIF($D$2:$D$501,D185)=1,\"\",IF(I185=\"\",\"\",ABS(IF(I185=\"\",0,(((H185*OFFSET($P$1,MATCH($D185,$O$2:$O$40,0),,)-G185)/G185))))))","v":9.0821129995939512E-2},null,null,{"$f":"IFERROR(IF(COUNTIF($E$2:$E$501,E185)=1,\"\",IF(I185=\"\",\"\",ABS(IF(I185=\"\",0,(((H185*OFFSET($S$1,MATCH($E185,$R$2:$R$41,0),,)-G185)/G185)))))),\"\")","v":9.0821129995939512E-2},null,null,{"$f":"IFERROR(IF(COUNTIF($F$2:$F$501,F185)=1,\"\",IF(I185=\"\",\"\",ABS(IF(I185=\"\",0,(((H185*OFFSET($V$1,MATCH($F185,$U$2:$U$105,0),,)-G185)/G185)))))),\"\")","v":""},null,null,{"$f":"IF(OR(J185<(QUARTILE($J$2:$J$501,1))-1.5*(QUARTILE($J$2:$J$501,3)-QUARTILE($J$2:$J$501,1)),J185>(QUARTILE($J$2:$J$501,3))+1.5*(QUARTILE($J$2:$J$501,3)-QUARTILE($J$2:$J$501,1))),\"Outlier\")","v":false}]
[683199,"COGNIZANT TECH.SLTN.'A'",9000,9500,9530,9533,56.2,2.97,{"$f":"(IF(IFERROR(G186/H186,\"\")<0,\"\",IFERROR(G186/H186,\"\")))","v":18.922558922558924},{"$f":"IF(COUNTIF($C$2:$C$501,C186)=1,\"\",IF(I186=\"\",\"\",ABS(IF(I186=\"\",0,(((H186*OFFSET($M$1,MATCH($C186,$L$2:$L$40,0),,)-G186)/G186))))))","v":0.30812648016639466},{"$f":"IF(OR(J186<(QUARTILE($J$2:$J$501,1))-1.5*(QUARTILE($J$2:$J$501,3)-QUARTILE($J$2:$J$501,1)),J186>(QUARTILE($J$2:$J$501,3))+1.5*(QUARTILE($J$2:$J$501,3)-QUARTILE($J$2:$J$501,1))),\"\",J186)","v":0.30812648016639466},null,null,{"$f":"IF(COUNTIF($D$2:$D$501,D186)=1,\"\",IF(I186=\"\",\"\",ABS(IF(I186=\"\",0,(((H186*OFFSET($P$1,MATCH($D186,$O$2:$O$40,0),,)-G186)/G186))))))","v":0.30812648016639466},null,null,{"$f":"IFERROR(IF(COUNTIF($E$2:$E$501,E186)=1,\"\",IF(I186=\"\",\"\",ABS(IF(I186=\"\",0,(((H186*OFFSET($S$1,MATCH($E186,$R$2:$R$41,0),,)-G186)/G186)))))),\"\")","v":0.25372552030328011},null,null,{"$f":"IFERROR(IF(COUNTIF($F$2:$F$501,F186)=1,\"\",IF(I186=\"\",\"\",ABS(IF(I186=\"\",0,(((H186*OFFSET($V$1,MATCH($F186,$U$2:$U$105,0),,)-G186)/G186)))))),\"\")","v":0.37833493026523857},null,null,{"$f":"IF(OR(J186<(QUARTILE($J$2:$J$501,1))-1.5*(QUARTILE($J$2:$J$501,3)-QUARTILE($J$2:$J$501,1)),J186>(QUARTILE($J$2:$J$501,3))+1.5*(QUARTILE($J$2:$J$501,3)-QUARTILE($J$2:$J$501,1))),\"Outlier\")","v":false}]
[683214,"IMS HEALTH DEAD - DELIST.08/03/10",2000,2700,2790,2791,21.98,1.42,{"$f":"(IF(IFERROR(G187/H187,\"\")<0,\"\",IFERROR(G187/H187,\"\")))","v":15.47887323943662},{"$f":"IF(COUNTIF($C$2:$C$501,C187)=1,\"\",IF(I187=\"\",\"\",ABS(IF(I187=\"\",0,(((H187*OFFSET($M$1,MATCH($C187,$L$2:$L$40,0),,)-G187)/G187))))))","v":6.2991809649621741E-2},{"$f":"IF(OR(J187<(QUARTILE($J$2:$J$501,1))-1.5*(QUARTILE($J$2:$J$501,3)-QUARTILE($J$2:$J$501,1)),J187>(QUARTILE($J$2:$J$501,3))+1.5*(QUARTILE($J$2:$J$501,3)-QUARTILE($J$2:$J$501,1))),\"\",J187)","v":6.2991809649621741E-2},null,null,{"$f":"IF(COUNTIF($D$2:$D$501,D187)=1,\"\",IF(I187=\"\",\"\",ABS(IF(I187=\"\",0,(((H187*OFFSET($P$1,MATCH($D187,$O$2:$O$40,0),,)-G187)/G187))))))","v":7.4968149515825505E-2},null,null,{"$f":"IFERROR(IF(COUNTIF($E$2:$E$501,E187)=1,\"\",IF(I187=\"\",\"\",ABS(IF(I187=\"\",0,(((H187*OFFSET($S$1,MATCH($E187,$R$2:$R$41,0),,)-G187)/G187)))))),\"\")","v":3.6249269844713501E-2},null,null,{"$f":"IFERROR(IF(COUNTIF($F$2:$F$501,F187)=1,\"\",IF(I187=\"\",\"\",ABS(IF(I187=\"\",0,(((H187*OFFSET($V$1,MATCH($F187,$U$2:$U$105,0),,)-G187)/G187)))))),\"\")","v":0.33230279641283711},null,null,{"$f":"IF(OR(J187<(QUARTILE($J$2:$J$501,1))-1.5*(QUARTILE($J$2:$J$501,3)-QUARTILE($J$2:$J$501,1)),J187>(QUARTILE($J$2:$J$501,3))+1.5*(QUARTILE($J$2:$J$501,3)-QUARTILE($J$2:$J$501,1))),\"Outlier\")","v":false}]
[683363,"KING PHARMS. DEAD - DELIST.01/03/11",4000,4500,4570,4577,14.24,0.34,{"$f":"(IF(IFERROR(G188/H188,\"\")<0,\"\",IFERROR(G188/H188,\"\")))","v":41.882352941176471},{"$f":"IF(COUNTIF($C$2:$C$501,C188)=1,\"\",IF(I188=\"\",\"\",ABS(IF(I188=\"\",0,(((H188*OFFSET($M$1,MATCH($C188,$L$2:$L$40,0),,)-G188)/G188))))))","v":0.59587293726208146},{"$f":"IF(OR(J188<(QUARTILE($J$2:$J$501,1))-1.5*(QUARTILE($J$2:$J$501,3)-QUARTILE($J$2:$J$501,1)),J188>(QUARTILE($J$2:$J$501,3))+1.5*(QUARTILE($J$2:$J$501,3)-QUARTILE($J$2:$J$501,1))),\"\",J188)","v":0.59587293726208146},null,null,{"$f":"IF(COUNTIF($D$2:$D$501,D188)=1,\"\",IF(I188=\"\",\"\",ABS(IF(I188=\"\",0,(((H188*OFFSET($P$1,MATCH($D188,$O$2:$O$40,0),,)-G188)/G188))))))","v":0.59587293726208146},null,null,{"$f":"IFERROR(IF(COUNTIF($E$2:$E$501,E188)=1,\"\",IF(I188=\"\",\"\",ABS(IF(I188=\"\",0,(((H188*OFFSET($S$1,MATCH($E188,$R$2:$R$41,0),,)-G188)/G188)))))),\"\")","v":0.52511540825730396},null,null,{"$f":"IFERROR(IF(COUNTIF($F$2:$F$501,F188)=1,\"\",IF(I188=\"\",\"\",ABS(IF(I188=\"\",0,(((H188*OFFSET($V$1,MATCH($F188,$U$2:$U$105,0),,)-G188)/G188)))))),\"\")","v":0.55943812360581913},null,null,{"$f":"IF(OR(J188<(QUARTILE($J$2:$J$501,1))-1.5*(QUARTILE($J$2:$J$501,3)-QUARTILE($J$2:$J$501,1)),J188>(QUARTILE($J$2:$J$501,3))+1.5*(QUARTILE($J$2:$J$501,3)-QUARTILE($J$2:$J$501,1))),\"Outlier\")","v":false}]
[687027,"XL GROUP",8000,8500,8530,8536,20.49,0,{"$f":"(IF(IFERROR(G189/H189,\"\")<0,\"\",IFERROR(G189/H189,\"\")))","v":""},{"$f":"IF(COUNTIF($C$2:$C$501,C189)=1,\"\",IF(I189=\"\",\"\",ABS(IF(I189=\"\",0,(((H189*OFFSET($M$1,MATCH($C189,$L$2:$L$40,0),,)-G189)/G189))))))","v":""},{"$f":"IF(OR(J189<(QUARTILE($J$2:$J$501,1))-1.5*(QUARTILE($J$2:$J$501,3)-QUARTILE($J$2:$J$501,1)),J189>(QUARTILE($J$2:$J$501,3))+1.5*(QUARTILE($J$2:$J$501,3)-QUARTILE($J$2:$J$501,1))),\"\",J189)","v":""},null,null,{"$f":"IF(COUNTIF($D$2:$D$501,D189)=1,\"\",IF(I189=\"\",\"\",ABS(IF(I189=\"\",0,(((H189*OFFSET($P$1,MATCH($D189,$O$2:$O$40,0),,)-G189)/G189))))))","v":""},null,null,{"$f":"IFERROR(IF(COUNTIF($E$2:$E$501,E189)=1,\"\",IF(I189=\"\",\"\",ABS(IF(I189=\"\",0,(((H189*OFFSET($S$1,MATCH($E189,$R$2:$R$41,0),,)-G189)/G189)))))),\"\")","v":""},null,null,{"$f":"IFERROR(IF(COUNTIF($F$2:$F$501,F189)=1,\"\",IF(I189=\"\",\"\",ABS(IF(I189=\"\",0,(((H189*OFFSET($V$1,MATCH($F189,$U$2:$U$105,0),,)-G189)/G189)))))),\"\")","v":""},null,null,{"$f":"IF(OR(J189<(QUARTILE($J$2:$J$501,1))-1.5*(QUARTILE($J$2:$J$501,3)-QUARTILE($J$2:$J$501,1)),J189>(QUARTILE($J$2:$J$501,3))+1.5*(QUARTILE($J$2:$J$501,3)-QUARTILE($J$2:$J$501,1))),\"Outlier\")","v":"Outlier"}]
[687141,"CONVERGYS",2000,2700,2790,2791,14.42,2.66,{"$f":"(IF(IFERROR(G190/H190,\"\")<0,\"\",IFERROR(G190/H190,\"\")))","v":5.4210526315789469},{"$f":"IF(COUNTIF($C$2:$C$501,C190)=1,\"\",IF(I190=\"\",\"\",ABS(IF(I190=\"\",0,(((H190*OFFSET($M$1,MATCH($C190,$L$2:$L$40,0),,)-G190)/G190))))))","v":1.6754639713805892},{"$f":"IF(OR(J190<(QUARTILE($J$2:$J$501,1))-1.5*(QUARTILE($J$2:$J$501,3)-QUARTILE($J$2:$J$501,1)),J190>(QUARTILE($J$2:$J$501,3))+1.5*(QUARTILE($J$2:$J$501,3)-QUARTILE($J$2:$J$501,1))),\"\",J190)","v":""},null,null,{"$f":"IF(COUNTIF($D$2:$D$501,D190)=1,\"\",IF(I190=\"\",\"\",ABS(IF(I190=\"\",0,(((H190*OFFSET($P$1,MATCH($D190,$O$2:$O$40,0),,)-G190)/G190))))))","v":1.6412676152003352},null,null,{"$f":"IFERROR(IF(COUNTIF($E$2:$E$501,E190)=1,\"\",IF(I190=\"\",\"\",ABS(IF(I190=\"\",0,(((H190*OFFSET($S$1,MATCH($E190,$R$2:$R$41,0),,)-G190)/G190)))))),\"\")","v":1.7518226441094682},null,null,{"$f":"IFERROR(IF(COUNTIF($F$2:$F$501,F190)=1,\"\",IF(I190=\"\",\"\",ABS(IF(I190=\"\",0,(((H190*OFFSET($V$1,MATCH($F190,$U$2:$U$105,0),,)-G190)/G190)))))),\"\")","v":0.90649327336299068},null,null,{"$f":"IF(OR(J190<(QUARTILE($J$2:$J$501,1))-1.5*(QUARTILE($J$2:$J$501,3)-QUARTILE($J$2:$J$501,1)),J190>(QUARTILE($J$2:$J$501,3))+1.5*(QUARTILE($J$2:$J$501,3)-QUARTILE($J$2:$J$501,1))),\"Outlier\")","v":"Outlier"}]
[687609,"EBAY",5000,5300,5370,5377,40.78,2.54,{"$f":"(IF(IFERROR(G191/H191,\"\")<0,\"\",IFERROR(G191/H191,\"\")))","v":16.055118110236222},{"$f":"IF(COUNTIF($C$2:$C$501,C191)=1,\"\",IF(I191=\"\",\"\",ABS(IF(I191=\"\",0,(((H191*OFFSET($M$1,MATCH($C191,$L$2:$L$40,0),,)-G191)/G191))))))","v":1.7726817472635579E-2},{"$f":"IF(OR(J191<(QUARTILE($J$2:$J$501,1))-1.5*(QUARTILE($J$2:$J$501,3)-QUARTILE($J$2:$J$501,1)),J191>(QUARTILE($J$2:$J$501,3))+1.5*(QUARTILE($J$2:$J$501,3)-QUARTILE($J$2:$J$501,1))),\"\",J191)","v":1.7726817472635579E-2},null,null,{"$f":"IF(COUNTIF($D$2:$D$501,D191)=1,\"\",IF(I191=\"\",\"\",ABS(IF(I191=\"\",0,(((H191*OFFSET($P$1,MATCH($D191,$O$2:$O$40,0),,)-G191)/G191))))))","v":9.240961840607749E-2},null,null,{"$f":"IFERROR(IF(COUNTIF($E$2:$E$501,E191)=1,\"\",IF(I191=\"\",\"\",ABS(IF(I191=\"\",0,(((H191*OFFSET($S$1,MATCH($E191,$R$2:$R$41,0),,)-G191)/G191)))))),\"\")","v":0.10725637271168065},null,null,{"$f":"IFERROR(IF(COUNTIF($F$2:$F$501,F191)=1,\"\",IF(I191=\"\",\"\",ABS(IF(I191=\"\",0,(((H191*OFFSET($V$1,MATCH($F191,$U$2:$U$105,0),,)-G191)/G191)))))),\"\")","v":""},null,null,{"$f":"IF(OR(J191<(QUARTILE($J$2:$J$501,1))-1.5*(QUARTILE($J$2:$J$501,3)-QUARTILE($J$2:$J$501,1)),J191>(QUARTILE($J$2:$J$501,3))+1.5*(QUARTILE($J$2:$J$501,3)-QUARTILE($J$2:$J$501,1))),\"Outlier\")","v":false}]
[694405,"NVIDIA",9000,9500,9570,9576,13.24,0.83,{"$f":"(IF(IFERROR(G192/H192,\"\")<0,\"\",IFERROR(G192/H192,\"\")))","v":15.951807228915664},{"$f":"IF(COUNTIF($C$2:$C$501,C192)=1,\"\",IF(I192=\"\",\"\",ABS(IF(I192=\"\",0,(((H192*OFFSET($M$1,MATCH($C192,$L$2:$L$40,0),,)-G192)/G192))))))","v":0.17927685194954698},{"$f":"IF(OR(J192<(QUARTILE($J$2:$J$501,1))-1.5*(QUARTILE($J$2:$J$501,3)-QUARTILE($J$2:$J$501,1)),J192>(QUARTILE($J$2:$J$501,3))+1.5*(QUARTILE($J$2:$J$501,3)-QUARTILE($J$2:$J$501,1))),\"\",J192)","v":0.17927685194954698},null,null,{"$f":"IF(COUNTIF($D$2:$D$501,D192)=1,\"\",IF(I192=\"\",\"\",ABS(IF(I192=\"\",0,(((H192*OFFSET($P$1,MATCH($D192,$O$2:$O$40,0),,)-G192)/G192))))))","v":0.17927685194954698},null,null,{"$f":"IFERROR(IF(COUNTIF($E$2:$E$501,E192)=1,\"\",IF(I192=\"\",\"\",ABS(IF(I192=\"\",0,(((H192*OFFSET($S$1,MATCH($E192,$R$2:$R$41,0),,)-G192)/G192)))))),\"\")","v":0.21332601065378862},null,null,{"$f":"IFERROR(IF(COUNTIF($F$2:$F$501,F192)=1,\"\",IF(I192=\"\",\"\",ABS(IF(I192=\"\",0,(((H192*OFFSET($V$1,MATCH($F192,$U$2:$U$105,0),,)-G192)/G192)))))),\"\")","v":0.12918835214543734},null,null,{"$f":"IF(OR(J192<(QUARTILE($J$2:$J$501,1))-1.5*(QUARTILE($J$2:$J$501,3)-QUARTILE($J$2:$J$501,1)),J192>(QUARTILE($J$2:$J$501,3))+1.5*(QUARTILE($J$2:$J$501,3)-QUARTILE($J$2:$J$501,1))),\"Outlier\")","v":false}]
[696324,"PEPSI BOTTLING GP. DEAD - DELIST.11/03/10",3000,3500,3530,3537,38.229999999999997,1.1499999999999999,{"$f":"(IF(IFERROR(G193/H193,\"\")<0,\"\",IFERROR(G193/H193,\"\")))","v":33.243478260869566},{"$f":"IF(COUNTIF($C$2:$C$501,C193)=1,\"\",IF(I193=\"\",\"\",ABS(IF(I193=\"\",0,(((H193*OFFSET($M$1,MATCH($C193,$L$2:$L$40,0),,)-G193)/G193))))))","v":0.51899786242298374},{"$f":"IF(OR(J193<(QUARTILE($J$2:$J$501,1))-1.5*(QUARTILE($J$2:$J$501,3)-QUARTILE($J$2:$J$501,1)),J193>(QUARTILE($J$2:$J$501,3))+1.5*(QUARTILE($J$2:$J$501,3)-QUARTILE($J$2:$J$501,1))),\"\",J193)","v":0.51899786242298374},null,null,{"$f":"IF(COUNTIF($D$2:$D$501,D193)=1,\"\",IF(I193=\"\",\"\",ABS(IF(I193=\"\",0,(((H193*OFFSET($P$1,MATCH($D193,$O$2:$O$40,0),,)-G193)/G193))))))","v":0.46262162151030611},null,null,{"$f":"IFERROR(IF(COUNTIF($E$2:$E$501,E193)=1,\"\",IF(I193=\"\",\"\",ABS(IF(I193=\"\",0,(((H193*OFFSET($S$1,MATCH($E193,$R$2:$R$41,0),,)-G193)/G193)))))),\"\")","v":0.46098685838947551},null,null,{"$f":"IFERROR(IF(COUNTIF($F$2:$F$501,F193)=1,\"\",IF(I193=\"\",\"\",ABS(IF(I193=\"\",0,(((H193*OFFSET($V$1,MATCH($F193,$U$2:$U$105,0),,)-G193)/G193)))))),\"\")","v":0.46404879351559453},null,null,{"$f":"IF(OR(J193<(QUARTILE($J$2:$J$501,1))-1.5*(QUARTILE($J$2:$J$501,3)-QUARTILE($J$2:$J$501,1)),J193>(QUARTILE($J$2:$J$501,3))+1.5*(QUARTILE($J$2:$J$501,3)-QUARTILE($J$2:$J$501,1))),\"Outlier\")","v":false}]
[696738,"GOLDMAN SACHS GP.",8000,8700,8770,8777,93.49,6.8,{"$f":"(IF(IFERROR(G194/H194,\"\")<0,\"\",IFERROR(G194/H194,\"\")))","v":13.748529411764705},{"$f":"IF(COUNTIF($C$2:$C$501,C194)=1,\"\",IF(I194=\"\",\"\",ABS(IF(I194=\"\",0,(((H194*OFFSET($M$1,MATCH($C194,$L$2:$L$40,0),,)-G194)/G194))))))","v":3.2566269335438311E-2},{"$f":"IF(OR(J194<(QUARTILE($J$2:$J$501,1))-1.5*(QUARTILE($J$2:$J$501,3)-QUARTILE($J$2:$J$501,1)),J194>(QUARTILE($J$2:$J$501,3))+1.5*(QUARTILE($J$2:$J$501,3)-QUARTILE($J$2:$J$501,1))),\"\",J194)","v":3.2566269335438311E-2},null,null,{"$f":"IF(COUNTIF($D$2:$D$501,D194)=1,\"\",IF(I194=\"\",\"\",ABS(IF(I194=\"\",0,(((H194*OFFSET($P$1,MATCH($D194,$O$2:$O$40,0),,)-G194)/G194))))))","v":8.8801521554012899E-2},null,null,{"$f":"IFERROR(IF(COUNTIF($E$2:$E$501,E194)=1,\"\",IF(I194=\"\",\"\",ABS(IF(I194=\"\",0,(((H194*OFFSET($S$1,MATCH($E194,$R$2:$R$41,0),,)-G194)/G194)))))),\"\")","v":8.8801521554012899E-2},null,null,{"$f":"IFERROR(IF(COUNTIF($F$2:$F$501,F194)=1,\"\",IF(I194=\"\",\"\",ABS(IF(I194=\"\",0,(((H194*OFFSET($V$1,MATCH($F194,$U$2:$U$105,0),,)-G194)/G194)))))),\"\")","v":0.13675358502676835},null,null,{"$f":"IF(OR(J194<(QUARTILE($J$2:$J$501,1))-1.5*(QUARTILE($J$2:$J$501,3)-QUARTILE($J$2:$J$501,1)),J194>(QUARTILE($J$2:$J$501,3))+1.5*(QUARTILE($J$2:$J$501,3)-QUARTILE($J$2:$J$501,1))),\"Outlier\")","v":false}]
[699577,"REYNOLDS AMERICAN",3000,3700,3780,3785,44.13,2.2200000000000002,{"$f":"(IF(IFERROR(G195/H195,\"\")<0,\"\",IFERROR(G195/H195,\"\")))","v":19.878378378378379},{"$f":"IF(COUNTIF($C$2:$C$501,C195)=1,\"\",IF(I195=\"\",\"\",ABS(IF(I195=\"\",0,(((H195*OFFSET($M$1,MATCH($C195,$L$2:$L$40,0),,)-G195)/G195))))))","v":0.1955991681209881},{"$f":"IF(OR(J195<(QUARTILE($J$2:$J$501,1))-1.5*(QUARTILE($J$2:$J$501,3)-QUARTILE($J$2:$J$501,1)),J195>(QUARTILE($J$2:$J$501,3))+1.5*(QUARTILE($J$2:$J$501,3)-QUARTILE($J$2:$J$501,1))),\"\",J195)","v":0.1955991681209881},null,null,{"$f":"IF(COUNTIF($D$2:$D$501,D195)=1,\"\",IF(I195=\"\",\"\",ABS(IF(I195=\"\",0,(((H195*OFFSET($P$1,MATCH($D195,$O$2:$O$40,0),,)-G195)/G195))))))","v":3.005219764178977E-2},null,null,{"$f":"IFERROR(IF(COUNTIF($E$2:$E$501,E195)=1,\"\",IF(I195=\"\",\"\",ABS(IF(I195=\"\",0,(((H195*OFFSET($S$1,MATCH($E195,$R$2:$R$41,0),,)-G195)/G195)))))),\"\")","v":""},null,null,{"$f":"IFERROR(IF(COUNTIF($F$2:$F$501,F195)=1,\"\",IF(I195=\"\",\"\",ABS(IF(I195=\"\",0,(((H195*OFFSET($V$1,MATCH($F195,$U$2:$U$105,0),,)-G195)/G195)))))),\"\")","v":""},null,null,{"$f":"IF(OR(J195<(QUARTILE($J$2:$J$501,1))-1.5*(QUARTILE($J$2:$J$501,3)-QUARTILE($J$2:$J$501,1)),J195>(QUARTILE($J$2:$J$501,3))+1.5*(QUARTILE($J$2:$J$501,3)-QUARTILE($J$2:$J$501,1))),\"Outlier\")","v":false}]
[699943,"JUNIPER NETWORKS",9000,9500,9570,9578,15.53,0.57999999999999996,{"$f":"(IF(IFERROR(G196/H196,\"\")<0,\"\",IFERROR(G196/H196,\"\")))","v":26.77586206896552},{"$f":"IF(COUNTIF($C$2:$C$501,C196)=1,\"\",IF(I196=\"\",\"\",ABS(IF(I196=\"\",0,(((H196*OFFSET($M$1,MATCH($C196,$L$2:$L$40,0),,)-G196)/G196))))))","v":0.51105150555791445},{"$f":"IF(OR(J196<(QUARTILE($J$2:$J$501,1))-1.5*(QUARTILE($J$2:$J$501,3)-QUARTILE($J$2:$J$501,1)),J196>(QUARTILE($J$2:$J$501,3))+1.5*(QUARTILE($J$2:$J$501,3)-QUARTILE($J$2:$J$501,1))),\"\",J196)","v":0.51105150555791445},null,null,{"$f":"IF(COUNTIF($D$2:$D$501,D196)=1,\"\",IF(I196=\"\",\"\",ABS(IF(I196=\"\",0,(((H196*OFFSET($P$1,MATCH($D196,$O$2:$O$40,0),,)-G196)/G196))))))","v":0.51105150555791445},null,null,{"$f":"IFERROR(IF(COUNTIF($E$2:$E$501,E196)=1,\"\",IF(I196=\"\",\"\",ABS(IF(I196=\"\",0,(((H196*OFFSET($S$1,MATCH($E196,$R$2:$R$41,0),,)-G196)/G196)))))),\"\")","v":0.53133640299867124},null,null,{"$f":"IFERROR(IF(COUNTIF($F$2:$F$501,F196)=1,\"\",IF(I196=\"\",\"\",ABS(IF(I196=\"\",0,(((H196*OFFSET($V$1,MATCH($F196,$U$2:$U$105,0),,)-G196)/G196)))))),\"\")","v":0.44611682018391846},null,null,{"$f":"IF(OR(J196<(QUARTILE($J$2:$J$501,1))-1.5*(QUARTILE($J$2:$J$501,3)-QUARTILE($J$2:$J$501,1)),J196>(QUARTILE($J$2:$J$501,3))+1.5*(QUARTILE($J$2:$J$501,3)-QUARTILE($J$2:$J$501,1))),\"Outlier\")","v":false}]
[702181,"LEGG MASON",8000,8700,8770,8771,25.15,1.54,{"$f":"(IF(IFERROR(G197/H197,\"\")<0,\"\",IFERROR(G197/H197,\"\")))","v":16.331168831168831},{"$f":"IF(COUNTIF($C$2:$C$501,C197)=1,\"\",IF(I197=\"\",\"\",ABS(IF(I197=\"\",0,(((H197*OFFSET($M$1,MATCH($C197,$L$2:$L$40,0),,)-G197)/G197))))))","v":0.18555792071723767},{"$f":"IF(OR(J197<(QUARTILE($J$2:$J$501,1))-1.5*(QUARTILE($J$2:$J$501,3)-QUARTILE($J$2:$J$501,1)),J197>(QUARTILE($J$2:$J$501,3))+1.5*(QUARTILE($J$2:$J$501,3)-QUARTILE($J$2:$J$501,1))),\"\",J197)","v":0.18555792071723767},null,null,{"$f":"IF(COUNTIF($D$2:$D$501,D197)=1,\"\",IF(I197=\"\",\"\",ABS(IF(I197=\"\",0,(((H197*OFFSET($P$1,MATCH($D197,$O$2:$O$40,0),,)-G197)/G197))))))","v":0.23290003242387075},null,null,{"$f":"IFERROR(IF(COUNTIF($E$2:$E$501,E197)=1,\"\",IF(I197=\"\",\"\",ABS(IF(I197=\"\",0,(((H197*OFFSET($S$1,MATCH($E197,$R$2:$R$41,0),,)-G197)/G197)))))),\"\")","v":0.23290003242387075},null,null,{"$f":"IFERROR(IF(COUNTIF($F$2:$F$501,F197)=1,\"\",IF(I197=\"\",\"\",ABS(IF(I197=\"\",0,(((H197*OFFSET($V$1,MATCH($F197,$U$2:$U$105,0),,)-G197)/G197)))))),\"\")","v":0.15961713757587029},null,null,{"$f":"IF(OR(J197<(QUARTILE($J$2:$J$501,1))-1.5*(QUARTILE($J$2:$J$501,3)-QUARTILE($J$2:$J$501,1)),J197>(QUARTILE($J$2:$J$501,3))+1.5*(QUARTILE($J$2:$J$501,3)-QUARTILE($J$2:$J$501,1))),\"Outlier\")","v":false}]
[702406,"WASHINGTON MUTUAL",8000,8300,8350,8355,1.9699999999999999E-2,0,{"$f":"(IF(IFERROR(G198/H198,\"\")<0,\"\",IFERROR(G198/H198,\"\")))","v":""},{"$f":"IF(COUNTIF($C$2:$C$501,C198)=1,\"\",IF(I198=\"\",\"\",ABS(IF(I198=\"\",0,(((H198*OFFSET($M$1,MATCH($C198,$L$2:$L$40,0),,)-G198)/G198))))))","v":""},{"$f":"IF(OR(J198<(QUARTILE($J$2:$J$501,1))-1.5*(QUARTILE($J$2:$J$501,3)-QUARTILE($J$2:$J$501,1)),J198>(QUARTILE($J$2:$J$501,3))+1.5*(QUARTILE($J$2:$J$501,3)-QUARTILE($J$2:$J$501,1))),\"\",J198)","v":""},null,null,{"$f":"IF(COUNTIF($D$2:$D$501,D198)=1,\"\",IF(I198=\"\",\"\",ABS(IF(I198=\"\",0,(((H198*OFFSET($P$1,MATCH($D198,$O$2:$O$40,0),,)-G198)/G198))))))","v":""},null,null,{"$f":"IFERROR(IF(COUNTIF($E$2:$E$501,E198)=1,\"\",IF(I198=\"\",\"\",ABS(IF(I198=\"\",0,(((H198*OFFSET($S$1,MATCH($E198,$R$2:$R$41,0),,)-G198)/G198)))))),\"\")","v":""},null,null,{"$f":"IFERROR(IF(COUNTIF($F$2:$F$501,F198)=1,\"\",IF(I198=\"\",\"\",ABS(IF(I198=\"\",0,(((H198*OFFSET($V$1,MATCH($F198,$U$2:$U$105,0),,)-G198)/G198)))))),\"\")","v":""},null,null,{"$f":"IF(OR(J198<(QUARTILE($J$2:$J$501,1))-1.5*(QUARTILE($J$2:$J$501,3)-QUARTILE($J$2:$J$501,1)),J198>(QUARTILE($J$2:$J$501,3))+1.5*(QUARTILE($J$2:$J$501,3)-QUARTILE($J$2:$J$501,1))),\"Outlier\")","v":"Outlier"}]
[702597,"NOBLE",1,500,570,573,31.03,3.02,{"$f":"(IF(IFERROR(G199/H199,\"\")<0,\"\",IFERROR(G199/H199,\"\")))","v":10.274834437086094},{"$f":"IF(COUNTIF($C$2:$C$501,C199)=1,\"\",IF(I199=\"\",\"\",ABS(IF(I199=\"\",0,(((H199*OFFSET($M$1,MATCH($C199,$L$2:$L$40,0),,)-G199)/G199))))))","v":9.7540124017036295E-2},{"$f":"IF(OR(J199<(QUARTILE($J$2:$J$501,1))-1.5*(QUARTILE($J$2:$J$501,3)-QUARTILE($J$2:$J$501,1)),J199>(QUARTILE($J$2:$J$501,3))+1.5*(QUARTILE($J$2:$J$501,3)-QUARTILE($J$2:$J$501,1))),\"\",J199)","v":9.7540124017036295E-2},null,null,{"$f":"IF(COUNTIF($D$2:$D$501,D199)=1,\"\",IF(I199=\"\",\"\",ABS(IF(I199=\"\",0,(((H199*OFFSET($P$1,MATCH($D199,$O$2:$O$40,0),,)-G199)/G199))))))","v":9.7540124017036295E-2},null,null,{"$f":"IFERROR(IF(COUNTIF($E$2:$E$501,E199)=1,\"\",IF(I199=\"\",\"\",ABS(IF(I199=\"\",0,(((H199*OFFSET($S$1,MATCH($E199,$R$2:$R$41,0),,)-G199)/G199)))))),\"\")","v":6.5909984787165601E-3},null,null,{"$f":"IFERROR(IF(COUNTIF($F$2:$F$501,F199)=1,\"\",IF(I199=\"\",\"\",ABS(IF(I199=\"\",0,(((H199*OFFSET($V$1,MATCH($F199,$U$2:$U$105,0),,)-G199)/G199)))))),\"\")","v":0.12352996743799612},null,null,{"$f":"IF(OR(J199<(QUARTILE($J$2:$J$501,1))-1.5*(QUARTILE($J$2:$J$501,3)-QUARTILE($J$2:$J$501,1)),J199>(QUARTILE($J$2:$J$501,3))+1.5*(QUARTILE($J$2:$J$501,3)-QUARTILE($J$2:$J$501,1))),\"Outlier\")","v":false}]
[702635,"UNITEDHEALTH GP.",4000,4500,4530,4533,59.6,4.8099999999999996,{"$f":"(IF(IFERROR(G200/H200,\"\")<0,\"\",IFERROR(G200/H200,\"\")))","v":12.390852390852393},{"$f":"IF(COUNTIF($C$2:$C$501,C200)=1,\"\",IF(I200=\"\",\"\",ABS(IF(I200=\"\",0,(((H200*OFFSET($M$1,MATCH($C200,$L$2:$L$40,0),,)-G200)/G200))))))","v":0.36599095371082102},{"$f":"IF(OR(J200<(QUARTILE($J$2:$J$501,1))-1.5*(QUARTILE($J$2:$J$501,3)-QUARTILE($J$2:$J$501,1)),J200>(QUARTILE($J$2:$J$501,3))+1.5*(QUARTILE($J$2:$J$501,3)-QUARTILE($J$2:$J$501,1))),\"\",J200)","v":0.36599095371082102},null,null,{"$f":"IF(COUNTIF($D$2:$D$501,D200)=1,\"\",IF(I200=\"\",\"\",ABS(IF(I200=\"\",0,(((H200*OFFSET($P$1,MATCH($D200,$O$2:$O$40,0),,)-G200)/G200))))))","v":0.36599095371082102},null,null,{"$f":"IFERROR(IF(COUNTIF($E$2:$E$501,E200)=1,\"\",IF(I200=\"\",\"\",ABS(IF(I200=\"\",0,(((H200*OFFSET($S$1,MATCH($E200,$R$2:$R$41,0),,)-G200)/G200)))))),\"\")","v":0.23459525536681172},null,null,{"$f":"IFERROR(IF(COUNTIF($F$2:$F$501,F200)=1,\"\",IF(I200=\"\",\"\",ABS(IF(I200=\"\",0,(((H200*OFFSET($V$1,MATCH($F200,$U$2:$U$105,0),,)-G200)/G200)))))),\"\")","v":4.5071320827482809E-2},null,null,{"$f":"IF(OR(J200<(QUARTILE($J$2:$J$501,1))-1.5*(QUARTILE($J$2:$J$501,3)-QUARTILE($J$2:$J$501,1)),J200>(QUARTILE($J$2:$J$501,3))+1.5*(QUARTILE($J$2:$J$501,3)-QUARTILE($J$2:$J$501,1))),\"Outlier\")","v":false}]
[719563,"SUN MICROSYSTEMS DEAD - ACQD.BY 719618",9000,9500,9570,9572,9.49,0,{"$f":"(IF(IFERROR(G201/H201,\"\")<0,\"\",IFERROR(G201/H201,\"\")))","v":""},{"$f":"IF(COUNTIF($C$2:$C$501,C201)=1,\"\",IF(I201=\"\",\"\",ABS(IF(I201=\"\",0,(((H201*OFFSET($M$1,MATCH($C201,$L$2:$L$40,0),,)-G201)/G201))))))","v":""},{"$f":"IF(OR(J201<(QUARTILE($J$2:$J$501,1))-1.5*(QUARTILE($J$2:$J$501,3)-QUARTILE($J$2:$J$501,1)),J201>(QUARTILE($J$2:$J$501,3))+1.5*(QUARTILE($J$2:$J$501,3)-QUARTILE($J$2:$J$501,1))),\"\",J201)","v":""},null,null,{"$f":"IF(COUNTIF($D$2:$D$501,D201)=1,\"\",IF(I201=\"\",\"\",ABS(IF(I201=\"\",0,(((H201*OFFSET($P$1,MATCH($D201,$O$2:$O$40,0),,)-G201)/G201))))))","v":""},null,null,{"$f":"IFERROR(IF(COUNTIF($E$2:$E$501,E201)=1,\"\",IF(I201=\"\",\"\",ABS(IF(I201=\"\",0,(((H201*OFFSET($S$1,MATCH($E201,$R$2:$R$41,0),,)-G201)/G201)))))),\"\")","v":""},null,null,{"$f":"IFERROR(IF(COUNTIF($F$2:$F$501,F201)=1,\"\",IF(I201=\"\",\"\",ABS(IF(I201=\"\",0,(((H201*OFFSET($V$1,MATCH($F201,$U$2:$U$105,0),,)-G201)/G201)))))),\"\")","v":""},null,null,{"$f":"IF(OR(J201<(QUARTILE($J$2:$J$501,1))-1.5*(QUARTILE($J$2:$J$501,3)-QUARTILE($J$2:$J$501,1)),J201>(QUARTILE($J$2:$J$501,3))+1.5*(QUARTILE($J$2:$J$501,3)-QUARTILE($J$2:$J$501,1))),\"Outlier\")","v":"Outlier"}]
[719618,"ORACLE",9000,9500,9530,9537,28.17,1.96,{"$f":"(IF(IFERROR(G202/H202,\"\")<0,\"\",IFERROR(G202/H202,\"\")))","v":14.372448979591837},{"$f":"IF(COUNTIF($C$2:$C$501,C202)=1,\"\",IF(I202=\"\",\"\",ABS(IF(I202=\"\",0,(((H202*OFFSET($M$1,MATCH($C202,$L$2:$L$40,0),,)-G202)/G202))))))","v":8.9089307980870266E-2},{"$f":"IF(OR(J202<(QUARTILE($J$2:$J$501,1))-1.5*(QUARTILE($J$2:$J$501,3)-QUARTILE($J$2:$J$501,1)),J202>(QUARTILE($J$2:$J$501,3))+1.5*(QUARTILE($J$2:$J$501,3)-QUARTILE($J$2:$J$501,1))),\"\",J202)","v":8.9089307980870266E-2},null,null,{"$f":"IF(COUNTIF($D$2:$D$501,D202)=1,\"\",IF(I202=\"\",\"\",ABS(IF(I202=\"\",0,(((H202*OFFSET($P$1,MATCH($D202,$O$2:$O$40,0),,)-G202)/G202))))))","v":8.9089307980870266E-2},null,null,{"$f":"IFERROR(IF(COUNTIF($E$2:$E$501,E202)=1,\"\",IF(I202=\"\",\"\",ABS(IF(I202=\"\",0,(((H202*OFFSET($S$1,MATCH($E202,$R$2:$R$41,0),,)-G202)/G202)))))),\"\")","v":1.7465789267027371E-2},null,null,{"$f":"IFERROR(IF(COUNTIF($F$2:$F$501,F202)=1,\"\",IF(I202=\"\",\"\",ABS(IF(I202=\"\",0,(((H202*OFFSET($V$1,MATCH($F202,$U$2:$U$105,0),,)-G202)/G202)))))),\"\")","v":8.3667089135951809E-3},null,null,{"$f":"IF(OR(J202<(QUARTILE($J$2:$J$501,1))-1.5*(QUARTILE($J$2:$J$501,3)-QUARTILE($J$2:$J$501,1)),J202>(QUARTILE($J$2:$J$501,3))+1.5*(QUARTILE($J$2:$J$501,3)-QUARTILE($J$2:$J$501,1))),\"Outlier\")","v":false}]
[719630,"EMC",9000,9500,9570,9572,23.71,1.1599999999999999,{"$f":"(IF(IFERROR(G203/H203,\"\")<0,\"\",IFERROR(G203/H203,\"\")))","v":20.439655172413794},{"$f":"IF(COUNTIF($C$2:$C$501,C203)=1,\"\",IF(I203=\"\",\"\",ABS(IF(I203=\"\",0,(((H203*OFFSET($M$1,MATCH($C203,$L$2:$L$40,0),,)-G203)/G203))))))","v":0.359479534484556},{"$f":"IF(OR(J203<(QUARTILE($J$2:$J$501,1))-1.5*(QUARTILE($J$2:$J$501,3)-QUARTILE($J$2:$J$501,1)),J203>(QUARTILE($J$2:$J$501,3))+1.5*(QUARTILE($J$2:$J$501,3)-QUARTILE($J$2:$J$501,1))),\"\",J203)","v":0.359479534484556},null,null,{"$f":"IF(COUNTIF($D$2:$D$501,D203)=1,\"\",IF(I203=\"\",\"\",ABS(IF(I203=\"\",0,(((H203*OFFSET($P$1,MATCH($D203,$O$2:$O$40,0),,)-G203)/G203))))))","v":0.359479534484556},null,null,{"$f":"IFERROR(IF(COUNTIF($E$2:$E$501,E203)=1,\"\",IF(I203=\"\",\"\",ABS(IF(I203=\"\",0,(((H203*OFFSET($S$1,MATCH($E203,$R$2:$R$41,0),,)-G203)/G203)))))),\"\")","v":0.38605266457776177},null,null,{"$f":"IFERROR(IF(COUNTIF($F$2:$F$501,F203)=1,\"\",IF(I203=\"\",\"\",ABS(IF(I203=\"\",0,(((H203*OFFSET($V$1,MATCH($F203,$U$2:$U$105,0),,)-G203)/G203)))))),\"\")","v":0.45319766485106477},null,null,{"$f":"IF(OR(J203<(QUARTILE($J$2:$J$501,1))-1.5*(QUARTILE($J$2:$J$501,3)-QUARTILE($J$2:$J$501,1)),J203>(QUARTILE($J$2:$J$501,3))+1.5*(QUARTILE($J$2:$J$501,3)-QUARTILE($J$2:$J$501,1))),\"Outlier\")","v":false}]
[719643,"MICROSOFT",9000,9500,9530,9537,29.91,2.74,{"$f":"(IF(IFERROR(G204/H204,\"\")<0,\"\",IFERROR(G204/H204,\"\")))","v":10.916058394160583},{"$f":"IF(COUNTIF($C$2:$C$501,C204)=1,\"\",IF(I204=\"\",\"\",ABS(IF(I204=\"\",0,(((H204*OFFSET($M$1,MATCH($C204,$L$2:$L$40,0),,)-G204)/G204))))))","v":0.19933560020282209},{"$f":"IF(OR(J204<(QUARTILE($J$2:$J$501,1))-1.5*(QUARTILE($J$2:$J$501,3)-QUARTILE($J$2:$J$501,1)),J204>(QUARTILE($J$2:$J$501,3))+1.5*(QUARTILE($J$2:$J$501,3)-QUARTILE($J$2:$J$501,1))),\"\",J204)","v":0.19933560020282209},null,null,{"$f":"IF(COUNTIF($D$2:$D$501,D204)=1,\"\",IF(I204=\"\",\"\",ABS(IF(I204=\"\",0,(((H204*OFFSET($P$1,MATCH($D204,$O$2:$O$40,0),,)-G204)/G204))))))","v":0.19933560020282209},null,null,{"$f":"IFERROR(IF(COUNTIF($E$2:$E$501,E204)=1,\"\",IF(I204=\"\",\"\",ABS(IF(I204=\"\",0,(((H204*OFFSET($S$1,MATCH($E204,$R$2:$R$41,0),,)-G204)/G204)))))),\"\")","v":0.29363752964323386},null,null,{"$f":"IFERROR(IF(COUNTIF($F$2:$F$501,F204)=1,\"\",IF(I204=\"\",\"\",ABS(IF(I204=\"\",0,(((H204*OFFSET($V$1,MATCH($F204,$U$2:$U$105,0),,)-G204)/G204)))))),\"\")","v":0.32764946405309431},null,null,{"$f":"IF(OR(J204<(QUARTILE($J$2:$J$501,1))-1.5*(QUARTILE($J$2:$J$501,3)-QUARTILE($J$2:$J$501,1)),J204>(QUARTILE($J$2:$J$501,3))+1.5*(QUARTILE($J$2:$J$501,3)-QUARTILE($J$2:$J$501,1))),\"Outlier\")","v":false}]
[729104,"T ROWE PRICE GP.",8000,8700,8770,8771,60.74,2.95,{"$f":"(IF(IFERROR(G205/H205,\"\")<0,\"\",IFERROR(G205/H205,\"\")))","v":20.589830508474577},{"$f":"IF(COUNTIF($C$2:$C$501,C205)=1,\"\",IF(I205=\"\",\"\",ABS(IF(I205=\"\",0,(((H205*OFFSET($M$1,MATCH($C205,$L$2:$L$40,0),,)-G205)/G205))))))","v":0.35401162751191645},{"$f":"IF(OR(J205<(QUARTILE($J$2:$J$501,1))-1.5*(QUARTILE($J$2:$J$501,3)-QUARTILE($J$2:$J$501,1)),J205>(QUARTILE($J$2:$J$501,3))+1.5*(QUARTILE($J$2:$J$501,3)-QUARTILE($J$2:$J$501,1))),\"\",J205)","v":0.35401162751191645},null,null,{"$f":"IF(COUNTIF($D$2:$D$501,D205)=1,\"\",IF(I205=\"\",\"\",ABS(IF(I205=\"\",0,(((H205*OFFSET($P$1,MATCH($D205,$O$2:$O$40,0),,)-G205)/G205))))))","v":0.39156181612502117},null,null,{"$f":"IFERROR(IF(COUNTIF($E$2:$E$501,E205)=1,\"\",IF(I205=\"\",\"\",ABS(IF(I205=\"\",0,(((H205*OFFSET($S$1,MATCH($E205,$R$2:$R$41,0),,)-G205)/G205)))))),\"\")","v":0.39156181612502117},null,null,{"$f":"IFERROR(IF(COUNTIF($F$2:$F$501,F205)=1,\"\",IF(I205=\"\",\"\",ABS(IF(I205=\"\",0,(((H205*OFFSET($V$1,MATCH($F205,$U$2:$U$105,0),,)-G205)/G205)))))),\"\")","v":0.33343626100173357},null,null,{"$f":"IF(OR(J205<(QUARTILE($J$2:$J$501,1))-1.5*(QUARTILE($J$2:$J$501,3)-QUARTILE($J$2:$J$501,1)),J205>(QUARTILE($J$2:$J$501,3))+1.5*(QUARTILE($J$2:$J$501,3)-QUARTILE($J$2:$J$501,1))),\"Outlier\")","v":false}]
[729152,"NOVELL DEAD - DELIST.28/04/11",9000,9500,9530,9537,6.1,0.96,{"$f":"(IF(IFERROR(G206/H206,\"\")<0,\"\",IFERROR(G206/H206,\"\")))","v":6.354166666666667},{"$f":"IF(COUNTIF($C$2:$C$501,C206)=1,\"\",IF(I206=\"\",\"\",ABS(IF(I206=\"\",0,(((H206*OFFSET($M$1,MATCH($C206,$L$2:$L$40,0),,)-G206)/G206))))))","v":1.0603830734703692},{"$f":"IF(OR(J206<(QUARTILE($J$2:$J$501,1))-1.5*(QUARTILE($J$2:$J$501,3)-QUARTILE($J$2:$J$501,1)),J206>(QUARTILE($J$2:$J$501,3))+1.5*(QUARTILE($J$2:$J$501,3)-QUARTILE($J$2:$J$501,1))),\"\",J206)","v":1.0603830734703692},null,null,{"$f":"IF(COUNTIF($D$2:$D$501,D206)=1,\"\",IF(I206=\"\",\"\",ABS(IF(I206=\"\",0,(((H206*OFFSET($P$1,MATCH($D206,$O$2:$O$40,0),,)-G206)/G206))))))","v":1.0603830734703692},null,null,{"$f":"IFERROR(IF(COUNTIF($E$2:$E$501,E206)=1,\"\",IF(I206=\"\",\"\",ABS(IF(I206=\"\",0,(((H206*OFFSET($S$1,MATCH($E206,$R$2:$R$41,0),,)-G206)/G206)))))),\"\")","v":1.2223878527679766},null,null,{"$f":"IFERROR(IF(COUNTIF($F$2:$F$501,F206)=1,\"\",IF(I206=\"\",\"\",ABS(IF(I206=\"\",0,(((H206*OFFSET($V$1,MATCH($F206,$U$2:$U$105,0),,)-G206)/G206)))))),\"\")","v":1.280818215330557},null,null,{"$f":"IF(OR(J206<(QUARTILE($J$2:$J$501,1))-1.5*(QUARTILE($J$2:$J$501,3)-QUARTILE($J$2:$J$501,1)),J206>(QUARTILE($J$2:$J$501,3))+1.5*(QUARTILE($J$2:$J$501,3)-QUARTILE($J$2:$J$501,1))),\"Outlier\")","v":false}]
[729431,"GENZYME DEAD - DELIST.11/04/11",4000,4500,4570,4573,76.25,1.57,{"$f":"(IF(IFERROR(G207/H207,\"\")<0,\"\",IFERROR(G207/H207,\"\")))","v":48.566878980891715},{"$f":"IF(COUNTIF($C$2:$C$501,C207)=1,\"\",IF(I207=\"\",\"\",ABS(IF(I207=\"\",0,(((H207*OFFSET($M$1,MATCH($C207,$L$2:$L$40,0),,)-G207)/G207))))))","v":0.65149516234449001},{"$f":"IF(OR(J207<(QUARTILE($J$2:$J$501,1))-1.5*(QUARTILE($J$2:$J$501,3)-QUARTILE($J$2:$J$501,1)),J207>(QUARTILE($J$2:$J$501,3))+1.5*(QUARTILE($J$2:$J$501,3)-QUARTILE($J$2:$J$501,1))),\"\",J207)","v":0.65149516234449001},null,null,{"$f":"IF(COUNTIF($D$2:$D$501,D207)=1,\"\",IF(I207=\"\",\"\",ABS(IF(I207=\"\",0,(((H207*OFFSET($P$1,MATCH($D207,$O$2:$O$40,0),,)-G207)/G207))))))","v":0.65149516234449001},null,null,{"$f":"IFERROR(IF(COUNTIF($E$2:$E$501,E207)=1,\"\",IF(I207=\"\",\"\",ABS(IF(I207=\"\",0,(((H207*OFFSET($S$1,MATCH($E207,$R$2:$R$41,0),,)-G207)/G207)))))),\"\")","v":0.5904763803019053},null,null,{"$f":"IFERROR(IF(COUNTIF($F$2:$F$501,F207)=1,\"\",IF(I207=\"\",\"\",ABS(IF(I207=\"\",0,(((H207*OFFSET($V$1,MATCH($F207,$U$2:$U$105,0),,)-G207)/G207)))))),\"\")","v":0.49949310282981929},null,null,{"$f":"IF(OR(J207<(QUARTILE($J$2:$J$501,1))-1.5*(QUARTILE($J$2:$J$501,3)-QUARTILE($J$2:$J$501,1)),J207>(QUARTILE($J$2:$J$501,3))+1.5*(QUARTILE($J$2:$J$501,3)-QUARTILE($J$2:$J$501,1))),\"Outlier\")","v":false}]
[729665,"HARLEY-DAVIDSON",3000,3300,3350,3353,44.69,2.79,{"$f":"(IF(IFERROR(G208/H208,\"\")<0,\"\",IFERROR(G208/H208,\"\")))","v":16.017921146953405},{"$f":"IF(COUNTIF($C$2:$C$501,C208)=1,\"\",IF(I208=\"\",\"\",ABS(IF(I208=\"\",0,(((H208*OFFSET($M$1,MATCH($C208,$L$2:$L$40,0),,)-G208)/G208))))))","v":1.7316256414052031E-3},{"$f":"IF(OR(J208<(QUARTILE($J$2:$J$501,1))-1.5*(QUARTILE($J$2:$J$501,3)-QUARTILE($J$2:$J$501,1)),J208>(QUARTILE($J$2:$J$501,3))+1.5*(QUARTILE($J$2:$J$501,3)-QUARTILE($J$2:$J$501,1))),\"\",J208)","v":1.7316256414052031E-3},null,null,{"$f":"IF(COUNTIF($D$2:$D$501,D208)=1,\"\",IF(I208=\"\",\"\",ABS(IF(I208=\"\",0,(((H208*OFFSET($P$1,MATCH($D208,$O$2:$O$40,0),,)-G208)/G208))))))","v":0.58343130053583869},null,null,{"$f":"IFERROR(IF(COUNTIF($E$2:$E$501,E208)=1,\"\",IF(I208=\"\",\"\",ABS(IF(I208=\"\",0,(((H208*OFFSET($S$1,MATCH($E208,$R$2:$R$41,0),,)-G208)/G208)))))),\"\")","v":0.58343130053583869},null,null,{"$f":"IFERROR(IF(COUNTIF($F$2:$F$501,F208)=1,\"\",IF(I208=\"\",\"\",ABS(IF(I208=\"\",0,(((H208*OFFSET($V$1,MATCH($F208,$U$2:$U$105,0),,)-G208)/G208)))))),\"\")","v":""},null,null,{"$f":"IF(OR(J208<(QUARTILE($J$2:$J$501,1))-1.5*(QUARTILE($J$2:$J$501,3)-QUARTILE($J$2:$J$501,1)),J208>(QUARTILE($J$2:$J$501,3))+1.5*(QUARTILE($J$2:$J$501,3)-QUARTILE($J$2:$J$501,1))),\"Outlier\")","v":false}]
[729935,"KB HOME",3000,3700,3720,3728,8.6999999999999993,0,{"$f":"(IF(IFERROR(G209/H209,\"\")<0,\"\",IFERROR(G209/H209,\"\")))","v":""},{"$f":"IF(COUNTIF($C$2:$C$501,C209)=1,\"\",IF(I209=\"\",\"\",ABS(IF(I209=\"\",0,(((H209*OFFSET($M$1,MATCH($C209,$L$2:$L$40,0),,)-G209)/G209))))))","v":""},{"$f":"IF(OR(J209<(QUARTILE($J$2:$J$501,1))-1.5*(QUARTILE($J$2:$J$501,3)-QUARTILE($J$2:$J$501,1)),J209>(QUARTILE($J$2:$J$501,3))+1.5*(QUARTILE($J$2:$J$501,3)-QUARTILE($J$2:$J$501,1))),\"\",J209)","v":""},null,null,{"$f":"IF(COUNTIF($D$2:$D$501,D209)=1,\"\",IF(I209=\"\",\"\",ABS(IF(I209=\"\",0,(((H209*OFFSET($P$1,MATCH($D209,$O$2:$O$40,0),,)-G209)/G209))))))","v":""},null,null,{"$f":"IFERROR(IF(COUNTIF($E$2:$E$501,E209)=1,\"\",IF(I209=\"\",\"\",ABS(IF(I209=\"\",0,(((H209*OFFSET($S$1,MATCH($E209,$R$2:$R$41,0),,)-G209)/G209)))))),\"\")","v":""},null,null,{"$f":"IFERROR(IF(COUNTIF($F$2:$F$501,F209)=1,\"\",IF(I209=\"\",\"\",ABS(IF(I209=\"\",0,(((H209*OFFSET($V$1,MATCH($F209,$U$2:$U$105,0),,)-G209)/G209)))))),\"\")","v":""},null,null,{"$f":"IF(OR(J209<(QUARTILE($J$2:$J$501,1))-1.5*(QUARTILE($J$2:$J$501,3)-QUARTILE($J$2:$J$501,1)),J209>(QUARTILE($J$2:$J$501,3))+1.5*(QUARTILE($J$2:$J$501,3)-QUARTILE($J$2:$J$501,1))),\"Outlier\")","v":"Outlier"}]
[741123,"FISERV",2000,2700,2790,2795,69.81,3.45,{"$f":"(IF(IFERROR(G210/H210,\"\")<0,\"\",IFERROR(G210/H210,\"\")))","v":20.234782608695653},{"$f":"IF(COUNTIF($C$2:$C$501,C210)=1,\"\",IF(I210=\"\",\"\",ABS(IF(I210=\"\",0,(((H210*OFFSET($M$1,MATCH($C210,$L$2:$L$40,0),,)-G210)/G210))))))","v":0.28322279101162368},{"$f":"IF(OR(J210<(QUARTILE($J$2:$J$501,1))-1.5*(QUARTILE($J$2:$J$501,3)-QUARTILE($J$2:$J$501,1)),J210>(QUARTILE($J$2:$J$501,3))+1.5*(QUARTILE($J$2:$J$501,3)-QUARTILE($J$2:$J$501,1))),\"\",J210)","v":0.28322279101162368},null,null,{"$f":"IF(COUNTIF($D$2:$D$501,D210)=1,\"\",IF(I210=\"\",\"\",ABS(IF(I210=\"\",0,(((H210*OFFSET($P$1,MATCH($D210,$O$2:$O$40,0),,)-G210)/G210))))))","v":0.29238425571555954},null,null,{"$f":"IFERROR(IF(COUNTIF($E$2:$E$501,E210)=1,\"\",IF(I210=\"\",\"\",ABS(IF(I210=\"\",0,(((H210*OFFSET($S$1,MATCH($E210,$R$2:$R$41,0),,)-G210)/G210)))))),\"\")","v":0.26276572004893017},null,null,{"$f":"IFERROR(IF(COUNTIF($F$2:$F$501,F210)=1,\"\",IF(I210=\"\",\"\",ABS(IF(I210=\"\",0,(((H210*OFFSET($V$1,MATCH($F210,$U$2:$U$105,0),,)-G210)/G210)))))),\"\")","v":0.16850960766686401},null,null,{"$f":"IF(OR(J210<(QUARTILE($J$2:$J$501,1))-1.5*(QUARTILE($J$2:$J$501,3)-QUARTILE($J$2:$J$501,1)),J210>(QUARTILE($J$2:$J$501,3))+1.5*(QUARTILE($J$2:$J$501,3)-QUARTILE($J$2:$J$501,1))),\"Outlier\")","v":false}]
[741344,"CITIGROUP",8000,8300,8350,8355,26.39,3.58,{"$f":"(IF(IFERROR(G211/H211,\"\")<0,\"\",IFERROR(G211/H211,\"\")))","v":7.3715083798882679},{"$f":"IF(COUNTIF($C$2:$C$501,C211)=1,\"\",IF(I211=\"\",\"\",ABS(IF(I211=\"\",0,(((H211*OFFSET($M$1,MATCH($C211,$L$2:$L$40,0),,)-G211)/G211))))))","v":0.80435135043237715},{"$f":"IF(OR(J211<(QUARTILE($J$2:$J$501,1))-1.5*(QUARTILE($J$2:$J$501,3)-QUARTILE($J$2:$J$501,1)),J211>(QUARTILE($J$2:$J$501,3))+1.5*(QUARTILE($J$2:$J$501,3)-QUARTILE($J$2:$J$501,1))),\"\",J211)","v":0.80435135043237715},null,null,{"$f":"IF(COUNTIF($D$2:$D$501,D211)=1,\"\",IF(I211=\"\",\"\",ABS(IF(I211=\"\",0,(((H211*OFFSET($P$1,MATCH($D211,$O$2:$O$40,0),,)-G211)/G211))))))","v":0.65114795219501642},null,null,{"$f":"IFERROR(IF(COUNTIF($E$2:$E$501,E211)=1,\"\",IF(I211=\"\",\"\",ABS(IF(I211=\"\",0,(((H211*OFFSET($S$1,MATCH($E211,$R$2:$R$41,0),,)-G211)/G211)))))),\"\")","v":0.65114795219501642},null,null,{"$f":"IFERROR(IF(COUNTIF($F$2:$F$501,F211)=1,\"\",IF(I211=\"\",\"\",ABS(IF(I211=\"\",0,(((H211*OFFSET($V$1,MATCH($F211,$U$2:$U$105,0),,)-G211)/G211)))))),\"\")","v":0.65114795219501642},null,null,{"$f":"IF(OR(J211<(QUARTILE($J$2:$J$501,1))-1.5*(QUARTILE($J$2:$J$501,3)-QUARTILE($J$2:$J$501,1)),J211>(QUARTILE($J$2:$J$501,3))+1.5*(QUARTILE($J$2:$J$501,3)-QUARTILE($J$2:$J$501,1))),\"Outlier\")","v":false}]
[741410,"UNUM GROUP",8000,8500,8570,8575,18.899999999999999,0.96,{"$f":"(IF(IFERROR(G212/H212,\"\")<0,\"\",IFERROR(G212/H212,\"\")))","v":19.6875},{"$f":"IF(COUNTIF($C$2:$C$501,C212)=1,\"\",IF(I212=\"\",\"\",ABS(IF(I212=\"\",0,(((H212*OFFSET($M$1,MATCH($C212,$L$2:$L$40,0),,)-G212)/G212))))))","v":0.32440426158857233},{"$f":"IF(OR(J212<(QUARTILE($J$2:$J$501,1))-1.5*(QUARTILE($J$2:$J$501,3)-QUARTILE($J$2:$J$501,1)),J212>(QUARTILE($J$2:$J$501,3))+1.5*(QUARTILE($J$2:$J$501,3)-QUARTILE($J$2:$J$501,1))),\"\",J212)","v":0.32440426158857233},null,null,{"$f":"IF(COUNTIF($D$2:$D$501,D212)=1,\"\",IF(I212=\"\",\"\",ABS(IF(I212=\"\",0,(((H212*OFFSET($P$1,MATCH($D212,$O$2:$O$40,0),,)-G212)/G212))))))","v":0.45331493759703551},null,null,{"$f":"IFERROR(IF(COUNTIF($E$2:$E$501,E212)=1,\"\",IF(I212=\"\",\"\",ABS(IF(I212=\"\",0,(((H212*OFFSET($S$1,MATCH($E212,$R$2:$R$41,0),,)-G212)/G212)))))),\"\")","v":0.4723128674974455},null,null,{"$f":"IFERROR(IF(COUNTIF($F$2:$F$501,F212)=1,\"\",IF(I212=\"\",\"\",ABS(IF(I212=\"\",0,(((H212*OFFSET($V$1,MATCH($F212,$U$2:$U$105,0),,)-G212)/G212)))))),\"\")","v":0.4723128674974455},null,null,{"$f":"IF(OR(J212<(QUARTILE($J$2:$J$501,1))-1.5*(QUARTILE($J$2:$J$501,3)-QUARTILE($J$2:$J$501,1)),J212>(QUARTILE($J$2:$J$501,3))+1.5*(QUARTILE($J$2:$J$501,3)-QUARTILE($J$2:$J$501,1))),\"Outlier\")","v":false}]
[741497,"HARMAN INTL.INDS.",3000,3700,3740,3743,37.85,4.1399999999999997,{"$f":"(IF(IFERROR(G213/H213,\"\")<0,\"\",IFERROR(G213/H213,\"\")))","v":9.1425120772946862},{"$f":"IF(COUNTIF($C$2:$C$501,C213)=1,\"\",IF(I213=\"\",\"\",ABS(IF(I213=\"\",0,(((H213*OFFSET($M$1,MATCH($C213,$L$2:$L$40,0),,)-G213)/G213))))))","v":0.74899239604886625},{"$f":"IF(OR(J213<(QUARTILE($J$2:$J$501,1))-1.5*(QUARTILE($J$2:$J$501,3)-QUARTILE($J$2:$J$501,1)),J213>(QUARTILE($J$2:$J$501,3))+1.5*(QUARTILE($J$2:$J$501,3)-QUARTILE($J$2:$J$501,1))),\"\",J213)","v":0.74899239604886625},null,null,{"$f":"IF(COUNTIF($D$2:$D$501,D213)=1,\"\",IF(I213=\"\",\"\",ABS(IF(I213=\"\",0,(((H213*OFFSET($P$1,MATCH($D213,$O$2:$O$40,0),,)-G213)/G213))))))","v":1.1089378126649854},null,null,{"$f":"IFERROR(IF(COUNTIF($E$2:$E$501,E213)=1,\"\",IF(I213=\"\",\"\",ABS(IF(I213=\"\",0,(((H213*OFFSET($S$1,MATCH($E213,$R$2:$R$41,0),,)-G213)/G213)))))),\"\")","v":0.70763324693930296},null,null,{"$f":"IFERROR(IF(COUNTIF($F$2:$F$501,F213)=1,\"\",IF(I213=\"\",\"\",ABS(IF(I213=\"\",0,(((H213*OFFSET($V$1,MATCH($F213,$U$2:$U$105,0),,)-G213)/G213)))))),\"\")","v":""},null,null,{"$f":"IF(OR(J213<(QUARTILE($J$2:$J$501,1))-1.5*(QUARTILE($J$2:$J$501,3)-QUARTILE($J$2:$J$501,1)),J213>(QUARTILE($J$2:$J$501,3))+1.5*(QUARTILE($J$2:$J$501,3)-QUARTILE($J$2:$J$501,1))),\"Outlier\")","v":false}]
[741521,"COCA COLA ENTS.",3000,3500,3530,3537,26.61,2.33,{"$f":"(IF(IFERROR(G214/H214,\"\")<0,\"\",IFERROR(G214/H214,\"\")))","v":11.420600858369099},{"$f":"IF(COUNTIF($C$2:$C$501,C214)=1,\"\",IF(I214=\"\",\"\",ABS(IF(I214=\"\",0,(((H214*OFFSET($M$1,MATCH($C214,$L$2:$L$40,0),,)-G214)/G214))))))","v":0.400117585954824},{"$f":"IF(OR(J214<(QUARTILE($J$2:$J$501,1))-1.5*(QUARTILE($J$2:$J$501,3)-QUARTILE($J$2:$J$501,1)),J214>(QUARTILE($J$2:$J$501,3))+1.5*(QUARTILE($J$2:$J$501,3)-QUARTILE($J$2:$J$501,1))),\"\",J214)","v":0.400117585954824},null,null,{"$f":"IF(COUNTIF($D$2:$D$501,D214)=1,\"\",IF(I214=\"\",\"\",ABS(IF(I214=\"\",0,(((H214*OFFSET($P$1,MATCH($D214,$O$2:$O$40,0),,)-G214)/G214))))))","v":0.56421948938810595},null,null,{"$f":"IFERROR(IF(COUNTIF($E$2:$E$501,E214)=1,\"\",IF(I214=\"\",\"\",ABS(IF(I214=\"\",0,(((H214*OFFSET($S$1,MATCH($E214,$R$2:$R$41,0),,)-G214)/G214)))))),\"\")","v":0.56897801417528315},null,null,{"$f":"IFERROR(IF(COUNTIF($F$2:$F$501,F214)=1,\"\",IF(I214=\"\",\"\",ABS(IF(I214=\"\",0,(((H214*OFFSET($V$1,MATCH($F214,$U$2:$U$105,0),,)-G214)/G214)))))),\"\")","v":0.56006522796870295},null,null,{"$f":"IF(OR(J214<(QUARTILE($J$2:$J$501,1))-1.5*(QUARTILE($J$2:$J$501,3)-QUARTILE($J$2:$J$501,1)),J214>(QUARTILE($J$2:$J$501,3))+1.5*(QUARTILE($J$2:$J$501,3)-QUARTILE($J$2:$J$501,1))),\"Outlier\")","v":false}]
[745110,"TIFFANY & CO",5000,5300,5370,5379,51.07,3.42,{"$f":"(IF(IFERROR(G215/H215,\"\")<0,\"\",IFERROR(G215/H215,\"\")))","v":14.932748538011696},{"$f":"IF(COUNTIF($C$2:$C$501,C215)=1,\"\",IF(I215=\"\",\"\",ABS(IF(I215=\"\",0,(((H215*OFFSET($M$1,MATCH($C215,$L$2:$L$40,0),,)-G215)/G215))))))","v":5.6102426278070161E-2},{"$f":"IF(OR(J215<(QUARTILE($J$2:$J$501,1))-1.5*(QUARTILE($J$2:$J$501,3)-QUARTILE($J$2:$J$501,1)),J215>(QUARTILE($J$2:$J$501,3))+1.5*(QUARTILE($J$2:$J$501,3)-QUARTILE($J$2:$J$501,1))),\"\",J215)","v":5.6102426278070161E-2},null,null,{"$f":"IF(COUNTIF($D$2:$D$501,D215)=1,\"\",IF(I215=\"\",\"\",ABS(IF(I215=\"\",0,(((H215*OFFSET($P$1,MATCH($D215,$O$2:$O$40,0),,)-G215)/G215))))))","v":2.4193654964942857E-2},null,null,{"$f":"IFERROR(IF(COUNTIF($E$2:$E$501,E215)=1,\"\",IF(I215=\"\",\"\",ABS(IF(I215=\"\",0,(((H215*OFFSET($S$1,MATCH($E215,$R$2:$R$41,0),,)-G215)/G215)))))),\"\")","v":4.0156315376945924E-2},null,null,{"$f":"IFERROR(IF(COUNTIF($F$2:$F$501,F215)=1,\"\",IF(I215=\"\",\"\",ABS(IF(I215=\"\",0,(((H215*OFFSET($V$1,MATCH($F215,$U$2:$U$105,0),,)-G215)/G215)))))),\"\")","v":0.17156002329173956},null,null,{"$f":"IF(OR(J215<(QUARTILE($J$2:$J$501,1))-1.5*(QUARTILE($J$2:$J$501,3)-QUARTILE($J$2:$J$501,1)),J215>(QUARTILE($J$2:$J$501,3))+1.5*(QUARTILE($J$2:$J$501,3)-QUARTILE($J$2:$J$501,1))),\"Outlier\")","v":false}]
[755411,"MBIA",8000,8500,8530,8536,10.57,0,{"$f":"(IF(IFERROR(G216/H216,\"\")<0,\"\",IFERROR(G216/H216,\"\")))","v":""},{"$f":"IF(COUNTIF($C$2:$C$501,C216)=1,\"\",IF(I216=\"\",\"\",ABS(IF(I216=\"\",0,(((H216*OFFSET($M$1,MATCH($C216,$L$2:$L$40,0),,)-G216)/G216))))))","v":""},{"$f":"IF(OR(J216<(QUARTILE($J$2:$J$501,1))-1.5*(QUARTILE($J$2:$J$501,3)-QUARTILE($J$2:$J$501,1)),J216>(QUARTILE($J$2:$J$501,3))+1.5*(QUARTILE($J$2:$J$501,3)-QUARTILE($J$2:$J$501,1))),\"\",J216)","v":""},null,null,{"$f":"IF(COUNTIF($D$2:$D$501,D216)=1,\"\",IF(I216=\"\",\"\",ABS(IF(I216=\"\",0,(((H216*OFFSET($P$1,MATCH($D216,$O$2:$O$40,0),,)-G216)/G216))))))","v":""},null,null,{"$f":"IFERROR(IF(COUNTIF($E$2:$E$501,E216)=1,\"\",IF(I216=\"\",\"\",ABS(IF(I216=\"\",0,(((H216*OFFSET($S$1,MATCH($E216,$R$2:$R$41,0),,)-G216)/G216)))))),\"\")","v":""},null,null,{"$f":"IFERROR(IF(COUNTIF($F$2:$F$501,F216)=1,\"\",IF(I216=\"\",\"\",ABS(IF(I216=\"\",0,(((H216*OFFSET($V$1,MATCH($F216,$U$2:$U$105,0),,)-G216)/G216)))))),\"\")","v":""},null,null,{"$f":"IF(OR(J216<(QUARTILE($J$2:$J$501,1))-1.5*(QUARTILE($J$2:$J$501,3)-QUARTILE($J$2:$J$501,1)),J216>(QUARTILE($J$2:$J$501,3))+1.5*(QUARTILE($J$2:$J$501,3)-QUARTILE($J$2:$J$501,1))),\"Outlier\")","v":"Outlier"}]
[771830,"MAXIM INTEGRATED PRDS.",9000,9500,9570,9576,24.91,1.22,{"$f":"(IF(IFERROR(G217/H217,\"\")<0,\"\",IFERROR(G217/H217,\"\")))","v":20.418032786885245},{"$f":"IF(COUNTIF($C$2:$C$501,C217)=1,\"\",IF(I217=\"\",\"\",ABS(IF(I217=\"\",0,(((H217*OFFSET($M$1,MATCH($C217,$L$2:$L$40,0),,)-G217)/G217))))))","v":0.35880123307379541},{"$f":"IF(OR(J217<(QUARTILE($J$2:$J$501,1))-1.5*(QUARTILE($J$2:$J$501,3)-QUARTILE($J$2:$J$501,1)),J217>(QUARTILE($J$2:$J$501,3))+1.5*(QUARTILE($J$2:$J$501,3)-QUARTILE($J$2:$J$501,1))),\"\",J217)","v":0.35880123307379541},null,null,{"$f":"IF(COUNTIF($D$2:$D$501,D217)=1,\"\",IF(I217=\"\",\"\",ABS(IF(I217=\"\",0,(((H217*OFFSET($P$1,MATCH($D217,$O$2:$O$40,0),,)-G217)/G217))))))","v":0.35880123307379541},null,null,{"$f":"IFERROR(IF(COUNTIF($E$2:$E$501,E217)=1,\"\",IF(I217=\"\",\"\",ABS(IF(I217=\"\",0,(((H217*OFFSET($S$1,MATCH($E217,$R$2:$R$41,0),,)-G217)/G217)))))),\"\")","v":0.38540250370676676},null,null,{"$f":"IFERROR(IF(COUNTIF($F$2:$F$501,F217)=1,\"\",IF(I217=\"\",\"\",ABS(IF(I217=\"\",0,(((H217*OFFSET($V$1,MATCH($F217,$U$2:$U$105,0),,)-G217)/G217)))))),\"\")","v":0.31966905508190063},null,null,{"$f":"IF(OR(J217<(QUARTILE($J$2:$J$501,1))-1.5*(QUARTILE($J$2:$J$501,3)-QUARTILE($J$2:$J$501,1)),J217>(QUARTILE($J$2:$J$501,3))+1.5*(QUARTILE($J$2:$J$501,3)-QUARTILE($J$2:$J$501,1))),\"Outlier\")","v":false}]
[772128,"OFFICE DEPOT",5000,5300,5370,5379,2.0499999999999998,0.35,{"$f":"(IF(IFERROR(G218/H218,\"\")<0,\"\",IFERROR(G218/H218,\"\")))","v":5.8571428571428568},{"$f":"IF(COUNTIF($C$2:$C$501,C218)=1,\"\",IF(I218=\"\",\"\",ABS(IF(I218=\"\",0,(((H218*OFFSET($M$1,MATCH($C218,$L$2:$L$40,0),,)-G218)/G218))))))","v":1.6925264325356391},{"$f":"IF(OR(J218<(QUARTILE($J$2:$J$501,1))-1.5*(QUARTILE($J$2:$J$501,3)-QUARTILE($J$2:$J$501,1)),J218>(QUARTILE($J$2:$J$501,3))+1.5*(QUARTILE($J$2:$J$501,3)-QUARTILE($J$2:$J$501,1))),\"\",J218)","v":""},null,null,{"$f":"IF(COUNTIF($D$2:$D$501,D218)=1,\"\",IF(I218=\"\",\"\",ABS(IF(I218=\"\",0,(((H218*OFFSET($P$1,MATCH($D218,$O$2:$O$40,0),,)-G218)/G218))))))","v":1.4878120830593538},null,null,{"$f":"IFERROR(IF(COUNTIF($E$2:$E$501,E218)=1,\"\",IF(I218=\"\",\"\",ABS(IF(I218=\"\",0,(((H218*OFFSET($S$1,MATCH($E218,$R$2:$R$41,0),,)-G218)/G218)))))),\"\")","v":1.4471153816566511},null,null,{"$f":"IFERROR(IF(COUNTIF($F$2:$F$501,F218)=1,\"\",IF(I218=\"\",\"\",ABS(IF(I218=\"\",0,(((H218*OFFSET($V$1,MATCH($F218,$U$2:$U$105,0),,)-G218)/G218)))))),\"\")","v":1.1121024623693911},null,null,{"$f":"IF(OR(J218<(QUARTILE($J$2:$J$501,1))-1.5*(QUARTILE($J$2:$J$501,3)-QUARTILE($J$2:$J$501,1)),J218>(QUARTILE($J$2:$J$501,3))+1.5*(QUARTILE($J$2:$J$501,3)-QUARTILE($J$2:$J$501,1))),\"Outlier\")","v":"Outlier"}]
[772203,"DELL",9000,9500,9570,9572,11.95,1.76,{"$f":"(IF(IFERROR(G219/H219,\"\")<0,\"\",IFERROR(G219/H219,\"\")))","v":6.7897727272727266},{"$f":"IF(COUNTIF($C$2:$C$501,C219)=1,\"\",IF(I219=\"\",\"\",ABS(IF(I219=\"\",0,(((H219*OFFSET($M$1,MATCH($C219,$L$2:$L$40,0),,)-G219)/G219))))))","v":0.92819671171355345},{"$f":"IF(OR(J219<(QUARTILE($J$2:$J$501,1))-1.5*(QUARTILE($J$2:$J$501,3)-QUARTILE($J$2:$J$501,1)),J219>(QUARTILE($J$2:$J$501,3))+1.5*(QUARTILE($J$2:$J$501,3)-QUARTILE($J$2:$J$501,1))),\"\",J219)","v":0.92819671171355345},null,null,{"$f":"IF(COUNTIF($D$2:$D$501,D219)=1,\"\",IF(I219=\"\",\"\",ABS(IF(I219=\"\",0,(((H219*OFFSET($P$1,MATCH($D219,$O$2:$O$40,0),,)-G219)/G219))))))","v":0.92819671171355345},null,null,{"$f":"IFERROR(IF(COUNTIF($E$2:$E$501,E219)=1,\"\",IF(I219=\"\",\"\",ABS(IF(I219=\"\",0,(((H219*OFFSET($S$1,MATCH($E219,$R$2:$R$41,0),,)-G219)/G219)))))),\"\")","v":0.84820204358936935},null,null,{"$f":"IFERROR(IF(COUNTIF($F$2:$F$501,F219)=1,\"\",IF(I219=\"\",\"\",ABS(IF(I219=\"\",0,(((H219*OFFSET($V$1,MATCH($F219,$U$2:$U$105,0),,)-G219)/G219)))))),\"\")","v":0.64607147055482694},null,null,{"$f":"IF(OR(J219<(QUARTILE($J$2:$J$501,1))-1.5*(QUARTILE($J$2:$J$501,3)-QUARTILE($J$2:$J$501,1)),J219>(QUARTILE($J$2:$J$501,3))+1.5*(QUARTILE($J$2:$J$501,3)-QUARTILE($J$2:$J$501,1))),\"Outlier\")","v":false}]
[772209,"SCRIPPS E W 'A'",5000,5500,5550,5557,9.5,0,{"$f":"(IF(IFERROR(G220/H220,\"\")<0,\"\",IFERROR(G220/H220,\"\")))","v":""},{"$f":"IF(COUNTIF($C$2:$C$501,C220)=1,\"\",IF(I220=\"\",\"\",ABS(IF(I220=\"\",0,(((H220*OFFSET($M$1,MATCH($C220,$L$2:$L$40,0),,)-G220)/G220))))))","v":""},{"$f":"IF(OR(J220<(QUARTILE($J$2:$J$501,1))-1.5*(QUARTILE($J$2:$J$501,3)-QUARTILE($J$2:$J$501,1)),J220>(QUARTILE($J$2:$J$501,3))+1.5*(QUARTILE($J$2:$J$501,3)-QUARTILE($J$2:$J$501,1))),\"\",J220)","v":""},null,null,{"$f":"IF(COUNTIF($D$2:$D$501,D220)=1,\"\",IF(I220=\"\",\"\",ABS(IF(I220=\"\",0,(((H220*OFFSET($P$1,MATCH($D220,$O$2:$O$40,0),,)-G220)/G220))))))","v":""},null,null,{"$f":"IFERROR(IF(COUNTIF($E$2:$E$501,E220)=1,\"\",IF(I220=\"\",\"\",ABS(IF(I220=\"\",0,(((H220*OFFSET($S$1,MATCH($E220,$R$2:$R$41,0),,)-G220)/G220)))))),\"\")","v":""},null,null,{"$f":"IFERROR(IF(COUNTIF($F$2:$F$501,F220)=1,\"\",IF(I220=\"\",\"\",ABS(IF(I220=\"\",0,(((H220*OFFSET($V$1,MATCH($F220,$U$2:$U$105,0),,)-G220)/G220)))))),\"\")","v":""},null,null,{"$f":"IF(OR(J220<(QUARTILE($J$2:$J$501,1))-1.5*(QUARTILE($J$2:$J$501,3)-QUARTILE($J$2:$J$501,1)),J220>(QUARTILE($J$2:$J$501,3))+1.5*(QUARTILE($J$2:$J$501,3)-QUARTILE($J$2:$J$501,1))),\"Outlier\")","v":"Outlier"}]
[777266,"NOVELLUS SYSTEMS DEAD - ACQD.BY 946387",9000,9500,9570,9576,40.39,2.56,{"$f":"(IF(IFERROR(G221/H221,\"\")<0,\"\",IFERROR(G221/H221,\"\")))","v":15.77734375},{"$f":"IF(COUNTIF($C$2:$C$501,C221)=1,\"\",IF(I221=\"\",\"\",ABS(IF(I221=\"\",0,(((H221*OFFSET($M$1,MATCH($C221,$L$2:$L$40,0),,)-G221)/G221))))))","v":0.17020141961414528},{"$f":"IF(OR(J221<(QUARTILE($J$2:$J$501,1))-1.5*(QUARTILE($J$2:$J$501,3)-QUARTILE($J$2:$J$501,1)),J221>(QUARTILE($J$2:$J$501,3))+1.5*(QUARTILE($J$2:$J$501,3)-QUARTILE($J$2:$J$501,1))),\"\",J221)","v":0.17020141961414528},null,null,{"$f":"IF(COUNTIF($D$2:$D$501,D221)=1,\"\",IF(I221=\"\",\"\",ABS(IF(I221=\"\",0,(((H221*OFFSET($P$1,MATCH($D221,$O$2:$O$40,0),,)-G221)/G221))))))","v":0.17020141961414528},null,null,{"$f":"IFERROR(IF(COUNTIF($E$2:$E$501,E221)=1,\"\",IF(I221=\"\",\"\",ABS(IF(I221=\"\",0,(((H221*OFFSET($S$1,MATCH($E221,$R$2:$R$41,0),,)-G221)/G221)))))),\"\")","v":0.20462708876119795},null,null,{"$f":"IFERROR(IF(COUNTIF($F$2:$F$501,F221)=1,\"\",IF(I221=\"\",\"\",ABS(IF(I221=\"\",0,(((H221*OFFSET($V$1,MATCH($F221,$U$2:$U$105,0),,)-G221)/G221)))))),\"\")","v":0.11955904876127363},null,null,{"$f":"IF(OR(J221<(QUARTILE($J$2:$J$501,1))-1.5*(QUARTILE($J$2:$J$501,3)-QUARTILE($J$2:$J$501,1)),J221>(QUARTILE($J$2:$J$501,3))+1.5*(QUARTILE($J$2:$J$501,3)-QUARTILE($J$2:$J$501,1))),\"Outlier\")","v":false}]
[777771,"FREDDIE MAC",8000,8700,8770,8779,0.254,0,{"$f":"(IF(IFERROR(G222/H222,\"\")<0,\"\",IFERROR(G222/H222,\"\")))","v":""},{"$f":"IF(COUNTIF($C$2:$C$501,C222)=1,\"\",IF(I222=\"\",\"\",ABS(IF(I222=\"\",0,(((H222*OFFSET($M$1,MATCH($C222,$L$2:$L$40,0),,)-G222)/G222))))))","v":""},{"$f":"IF(OR(J222<(QUARTILE($J$2:$J$501,1))-1.5*(QUARTILE($J$2:$J$501,3)-QUARTILE($J$2:$J$501,1)),J222>(QUARTILE($J$2:$J$501,3))+1.5*(QUARTILE($J$2:$J$501,3)-QUARTILE($J$2:$J$501,1))),\"\",J222)","v":""},null,null,{"$f":"IF(COUNTIF($D$2:$D$501,D222)=1,\"\",IF(I222=\"\",\"\",ABS(IF(I222=\"\",0,(((H222*OFFSET($P$1,MATCH($D222,$O$2:$O$40,0),,)-G222)/G222))))))","v":""},null,null,{"$f":"IFERROR(IF(COUNTIF($E$2:$E$501,E222)=1,\"\",IF(I222=\"\",\"\",ABS(IF(I222=\"\",0,(((H222*OFFSET($S$1,MATCH($E222,$R$2:$R$41,0),,)-G222)/G222)))))),\"\")","v":""},null,null,{"$f":"IFERROR(IF(COUNTIF($F$2:$F$501,F222)=1,\"\",IF(I222=\"\",\"\",ABS(IF(I222=\"\",0,(((H222*OFFSET($V$1,MATCH($F222,$U$2:$U$105,0),,)-G222)/G222)))))),\"\")","v":""},null,null,{"$f":"IF(OR(J222<(QUARTILE($J$2:$J$501,1))-1.5*(QUARTILE($J$2:$J$501,3)-QUARTILE($J$2:$J$501,1)),J222>(QUARTILE($J$2:$J$501,3))+1.5*(QUARTILE($J$2:$J$501,3)-QUARTILE($J$2:$J$501,1))),\"Outlier\")","v":"Outlier"}]
[867232,"SANDISK",9000,9500,9570,9576,34.700000000000003,3.58,{"$f":"(IF(IFERROR(G223/H223,\"\")<0,\"\",IFERROR(G223/H223,\"\")))","v":9.6927374301675986},{"$f":"IF(COUNTIF($C$2:$C$501,C223)=1,\"\",IF(I223=\"\",\"\",ABS(IF(I223=\"\",0,(((H223*OFFSET($M$1,MATCH($C223,$L$2:$L$40,0),,)-G223)/G223))))))","v":0.35070381719638327},{"$f":"IF(OR(J223<(QUARTILE($J$2:$J$501,1))-1.5*(QUARTILE($J$2:$J$501,3)-QUARTILE($J$2:$J$501,1)),J223>(QUARTILE($J$2:$J$501,3))+1.5*(QUARTILE($J$2:$J$501,3)-QUARTILE($J$2:$J$501,1))),\"\",J223)","v":0.35070381719638327},null,null,{"$f":"IF(COUNTIF($D$2:$D$501,D223)=1,\"\",IF(I223=\"\",\"\",ABS(IF(I223=\"\",0,(((H223*OFFSET($P$1,MATCH($D223,$O$2:$O$40,0),,)-G223)/G223))))))","v":0.35070381719638327},null,null,{"$f":"IFERROR(IF(COUNTIF($E$2:$E$501,E223)=1,\"\",IF(I223=\"\",\"\",ABS(IF(I223=\"\",0,(((H223*OFFSET($S$1,MATCH($E223,$R$2:$R$41,0),,)-G223)/G223)))))),\"\")","v":0.29466746834550694},null,null,{"$f":"IFERROR(IF(COUNTIF($F$2:$F$501,F223)=1,\"\",IF(I223=\"\",\"\",ABS(IF(I223=\"\",0,(((H223*OFFSET($V$1,MATCH($F223,$U$2:$U$105,0),,)-G223)/G223)))))),\"\")","v":0.43313688618409041},null,null,{"$f":"IF(OR(J223<(QUARTILE($J$2:$J$501,1))-1.5*(QUARTILE($J$2:$J$501,3)-QUARTILE($J$2:$J$501,1)),J223>(QUARTILE($J$2:$J$501,3))+1.5*(QUARTILE($J$2:$J$501,3)-QUARTILE($J$2:$J$501,1))),\"Outlier\")","v":false}]
[867344,"LEXMARK INTL.",9000,9500,9570,9572,26.07,3.92,{"$f":"(IF(IFERROR(G224/H224,\"\")<0,\"\",IFERROR(G224/H224,\"\")))","v":6.6505102040816331},{"$f":"IF(COUNTIF($C$2:$C$501,C224)=1,\"\",IF(I224=\"\",\"\",ABS(IF(I224=\"\",0,(((H224*OFFSET($M$1,MATCH($C224,$L$2:$L$40,0),,)-G224)/G224))))))","v":0.96857339425998357},{"$f":"IF(OR(J224<(QUARTILE($J$2:$J$501,1))-1.5*(QUARTILE($J$2:$J$501,3)-QUARTILE($J$2:$J$501,1)),J224>(QUARTILE($J$2:$J$501,3))+1.5*(QUARTILE($J$2:$J$501,3)-QUARTILE($J$2:$J$501,1))),\"\",J224)","v":0.96857339425998357},null,null,{"$f":"IF(COUNTIF($D$2:$D$501,D224)=1,\"\",IF(I224=\"\",\"\",ABS(IF(I224=\"\",0,(((H224*OFFSET($P$1,MATCH($D224,$O$2:$O$40,0),,)-G224)/G224))))))","v":0.96857339425998357},null,null,{"$f":"IFERROR(IF(COUNTIF($E$2:$E$501,E224)=1,\"\",IF(I224=\"\",\"\",ABS(IF(I224=\"\",0,(((H224*OFFSET($S$1,MATCH($E224,$R$2:$R$41,0),,)-G224)/G224)))))),\"\")","v":0.88690362768726705},null,null,{"$f":"IFERROR(IF(COUNTIF($F$2:$F$501,F224)=1,\"\",IF(I224=\"\",\"\",ABS(IF(I224=\"\",0,(((H224*OFFSET($V$1,MATCH($F224,$U$2:$U$105,0),,)-G224)/G224)))))),\"\")","v":0.68054041493771811},null,null,{"$f":"IF(OR(J224<(QUARTILE($J$2:$J$501,1))-1.5*(QUARTILE($J$2:$J$501,3)-QUARTILE($J$2:$J$501,1)),J224>(QUARTILE($J$2:$J$501,3))+1.5*(QUARTILE($J$2:$J$501,3)-QUARTILE($J$2:$J$501,1))),\"Outlier\")","v":false}]
[867375,"ESTEE LAUDER COS.'A'",3000,3700,3760,3767,52.92,2.13,{"$f":"(IF(IFERROR(G225/H225,\"\")<0,\"\",IFERROR(G225/H225,\"\")))","v":24.845070422535212},{"$f":"IF(COUNTIF($C$2:$C$501,C225)=1,\"\",IF(I225=\"\",\"\",ABS(IF(I225=\"\",0,(((H225*OFFSET($M$1,MATCH($C225,$L$2:$L$40,0),,)-G225)/G225))))))","v":0.35640415454529112},{"$f":"IF(OR(J225<(QUARTILE($J$2:$J$501,1))-1.5*(QUARTILE($J$2:$J$501,3)-QUARTILE($J$2:$J$501,1)),J225>(QUARTILE($J$2:$J$501,3))+1.5*(QUARTILE($J$2:$J$501,3)-QUARTILE($J$2:$J$501,1))),\"\",J225)","v":0.35640415454529112},null,null,{"$f":"IF(COUNTIF($D$2:$D$501,D225)=1,\"\",IF(I225=\"\",\"\",ABS(IF(I225=\"\",0,(((H225*OFFSET($P$1,MATCH($D225,$O$2:$O$40,0),,)-G225)/G225))))))","v":0.22395110600835158},null,null,{"$f":"IFERROR(IF(COUNTIF($E$2:$E$501,E225)=1,\"\",IF(I225=\"\",\"\",ABS(IF(I225=\"\",0,(((H225*OFFSET($S$1,MATCH($E225,$R$2:$R$41,0),,)-G225)/G225)))))),\"\")","v":0.21736604603886045},null,null,{"$f":"IFERROR(IF(COUNTIF($F$2:$F$501,F225)=1,\"\",IF(I225=\"\",\"\",ABS(IF(I225=\"\",0,(((H225*OFFSET($V$1,MATCH($F225,$U$2:$U$105,0),,)-G225)/G225)))))),\"\")","v":0.19692278143922251},null,null,{"$f":"IF(OR(J225<(QUARTILE($J$2:$J$501,1))-1.5*(QUARTILE($J$2:$J$501,3)-QUARTILE($J$2:$J$501,1)),J225>(QUARTILE($J$2:$J$501,3))+1.5*(QUARTILE($J$2:$J$501,3)-QUARTILE($J$2:$J$501,1))),\"Outlier\")","v":false}]
[867390,"WATERS",4000,4500,4530,4535,76.89,4.66,{"$f":"(IF(IFERROR(G226/H226,\"\")<0,\"\",IFERROR(G226/H226,\"\")))","v":16.5},{"$f":"IF(COUNTIF($C$2:$C$501,C226)=1,\"\",IF(I226=\"\",\"\",ABS(IF(I226=\"\",0,(((H226*OFFSET($M$1,MATCH($C226,$L$2:$L$40,0),,)-G226)/G226))))))","v":2.5805592404270786E-2},{"$f":"IF(OR(J226<(QUARTILE($J$2:$J$501,1))-1.5*(QUARTILE($J$2:$J$501,3)-QUARTILE($J$2:$J$501,1)),J226>(QUARTILE($J$2:$J$501,3))+1.5*(QUARTILE($J$2:$J$501,3)-QUARTILE($J$2:$J$501,1))),\"\",J226)","v":2.5805592404270786E-2},null,null,{"$f":"IF(COUNTIF($D$2:$D$501,D226)=1,\"\",IF(I226=\"\",\"\",ABS(IF(I226=\"\",0,(((H226*OFFSET($P$1,MATCH($D226,$O$2:$O$40,0),,)-G226)/G226))))))","v":2.5805592404270786E-2},null,null,{"$f":"IFERROR(IF(COUNTIF($E$2:$E$501,E226)=1,\"\",IF(I226=\"\",\"\",ABS(IF(I226=\"\",0,(((H226*OFFSET($S$1,MATCH($E226,$R$2:$R$41,0),,)-G226)/G226)))))),\"\")","v":7.2867419897158753E-2},null,null,{"$f":"IFERROR(IF(COUNTIF($F$2:$F$501,F226)=1,\"\",IF(I226=\"\",\"\",ABS(IF(I226=\"\",0,(((H226*OFFSET($V$1,MATCH($F226,$U$2:$U$105,0),,)-G226)/G226)))))),\"\")","v":3.4084759382582798E-2},null,null,{"$f":"IF(OR(J226<(QUARTILE($J$2:$J$501,1))-1.5*(QUARTILE($J$2:$J$501,3)-QUARTILE($J$2:$J$501,1)),J226>(QUARTILE($J$2:$J$501,3))+1.5*(QUARTILE($J$2:$J$501,3)-QUARTILE($J$2:$J$501,1))),\"Outlier\")","v":false}]
[867422,"NETAPP",9000,9500,9570,9572,29.89,1.58,{"$f":"(IF(IFERROR(G227/H227,\"\")<0,\"\",IFERROR(G227/H227,\"\")))","v":18.917721518987342},{"$f":"IF(COUNTIF($C$2:$C$501,C227)=1,\"\",IF(I227=\"\",\"\",ABS(IF(I227=\"\",0,(((H227*OFFSET($M$1,MATCH($C227,$L$2:$L$40,0),,)-G227)/G227))))))","v":0.3079495629074866},{"$f":"IF(OR(J227<(QUARTILE($J$2:$J$501,1))-1.5*(QUARTILE($J$2:$J$501,3)-QUARTILE($J$2:$J$501,1)),J227>(QUARTILE($J$2:$J$501,3))+1.5*(QUARTILE($J$2:$J$501,3)-QUARTILE($J$2:$J$501,1))),\"\",J227)","v":0.3079495629074866},null,null,{"$f":"IF(COUNTIF($D$2:$D$501,D227)=1,\"\",IF(I227=\"\",\"\",ABS(IF(I227=\"\",0,(((H227*OFFSET($P$1,MATCH($D227,$O$2:$O$40,0),,)-G227)/G227))))))","v":0.3079495629074866},null,null,{"$f":"IFERROR(IF(COUNTIF($E$2:$E$501,E227)=1,\"\",IF(I227=\"\",\"\",ABS(IF(I227=\"\",0,(((H227*OFFSET($S$1,MATCH($E227,$R$2:$R$41,0),,)-G227)/G227)))))),\"\")","v":0.33666050547061038},null,null,{"$f":"IFERROR(IF(COUNTIF($F$2:$F$501,F227)=1,\"\",IF(I227=\"\",\"\",ABS(IF(I227=\"\",0,(((H227*OFFSET($V$1,MATCH($F227,$U$2:$U$105,0),,)-G227)/G227)))))),\"\")","v":0.40920733151202732},null,null,{"$f":"IF(OR(J227<(QUARTILE($J$2:$J$501,1))-1.5*(QUARTILE($J$2:$J$501,3)-QUARTILE($J$2:$J$501,1)),J227>(QUARTILE($J$2:$J$501,3))+1.5*(QUARTILE($J$2:$J$501,3)-QUARTILE($J$2:$J$501,1))),\"Outlier\")","v":false}]
[867705,"CITRIX SYS.",9000,9500,9530,9537,78.12,1.86,{"$f":"(IF(IFERROR(G228/H228,\"\")<0,\"\",IFERROR(G228/H228,\"\")))","v":42},{"$f":"IF(COUNTIF($C$2:$C$501,C228)=1,\"\",IF(I228=\"\",\"\",ABS(IF(I228=\"\",0,(((H228*OFFSET($M$1,MATCH($C228,$L$2:$L$40,0),,)-G228)/G228))))))","v":0.68828529890453249},{"$f":"IF(OR(J228<(QUARTILE($J$2:$J$501,1))-1.5*(QUARTILE($J$2:$J$501,3)-QUARTILE($J$2:$J$501,1)),J228>(QUARTILE($J$2:$J$501,3))+1.5*(QUARTILE($J$2:$J$501,3)-QUARTILE($J$2:$J$501,1))),\"\",J228)","v":0.68828529890453249},null,null,{"$f":"IF(COUNTIF($D$2:$D$501,D228)=1,\"\",IF(I228=\"\",\"\",ABS(IF(I228=\"\",0,(((H228*OFFSET($P$1,MATCH($D228,$O$2:$O$40,0),,)-G228)/G228))))))","v":0.68828529890453249},null,null,{"$f":"IFERROR(IF(COUNTIF($E$2:$E$501,E228)=1,\"\",IF(I228=\"\",\"\",ABS(IF(I228=\"\",0,(((H228*OFFSET($S$1,MATCH($E228,$R$2:$R$41,0),,)-G228)/G228)))))),\"\")","v":0.66377564727468619},null,null,{"$f":"IFERROR(IF(COUNTIF($F$2:$F$501,F228)=1,\"\",IF(I228=\"\",\"\",ABS(IF(I228=\"\",0,(((H228*OFFSET($V$1,MATCH($F228,$U$2:$U$105,0),,)-G228)/G228)))))),\"\")","v":0.65493573627191481},null,null,{"$f":"IF(OR(J228<(QUARTILE($J$2:$J$501,1))-1.5*(QUARTILE($J$2:$J$501,3)-QUARTILE($J$2:$J$501,1)),J228>(QUARTILE($J$2:$J$501,3))+1.5*(QUARTILE($J$2:$J$501,3)-QUARTILE($J$2:$J$501,1))),\"Outlier\")","v":false}]
[867871,"HARTFORD FINL.SVS.GP.",8000,8500,8530,8532,16.96,0.56999999999999995,{"$f":"(IF(IFERROR(G229/H229,\"\")<0,\"\",IFERROR(G229/H229,\"\")))","v":29.754385964912284},{"$f":"IF(COUNTIF($C$2:$C$501,C229)=1,\"\",IF(I229=\"\",\"\",ABS(IF(I229=\"\",0,(((H229*OFFSET($M$1,MATCH($C229,$L$2:$L$40,0),,)-G229)/G229))))))","v":0.55298048779565223},{"$f":"IF(OR(J229<(QUARTILE($J$2:$J$501,1))-1.5*(QUARTILE($J$2:$J$501,3)-QUARTILE($J$2:$J$501,1)),J229>(QUARTILE($J$2:$J$501,3))+1.5*(QUARTILE($J$2:$J$501,3)-QUARTILE($J$2:$J$501,1))),\"\",J229)","v":0.55298048779565223},null,null,{"$f":"IF(COUNTIF($D$2:$D$501,D229)=1,\"\",IF(I229=\"\",\"\",ABS(IF(I229=\"\",0,(((H229*OFFSET($P$1,MATCH($D229,$O$2:$O$40,0),,)-G229)/G229))))))","v":0.63827644842846321},null,null,{"$f":"IFERROR(IF(COUNTIF($E$2:$E$501,E229)=1,\"\",IF(I229=\"\",\"\",ABS(IF(I229=\"\",0,(((H229*OFFSET($S$1,MATCH($E229,$R$2:$R$41,0),,)-G229)/G229)))))),\"\")","v":0.62823825076852813},null,null,{"$f":"IFERROR(IF(COUNTIF($F$2:$F$501,F229)=1,\"\",IF(I229=\"\",\"\",ABS(IF(I229=\"\",0,(((H229*OFFSET($V$1,MATCH($F229,$U$2:$U$105,0),,)-G229)/G229)))))),\"\")","v":""},null,null,{"$f":"IF(OR(J229<(QUARTILE($J$2:$J$501,1))-1.5*(QUARTILE($J$2:$J$501,3)-QUARTILE($J$2:$J$501,1)),J229>(QUARTILE($J$2:$J$501,3))+1.5*(QUARTILE($J$2:$J$501,3)-QUARTILE($J$2:$J$501,1))),\"Outlier\")","v":false}]
[873886,"YAHOO",9000,9500,9530,9535,15.45,0.88,{"$f":"(IF(IFERROR(G230/H230,\"\")<0,\"\",IFERROR(G230/H230,\"\")))","v":17.55681818181818},{"$f":"IF(COUNTIF($C$2:$C$501,C230)=1,\"\",IF(I230=\"\",\"\",ABS(IF(I230=\"\",0,(((H230*OFFSET($M$1,MATCH($C230,$L$2:$L$40,0),,)-G230)/G230))))))","v":0.25430580242792999},{"$f":"IF(OR(J230<(QUARTILE($J$2:$J$501,1))-1.5*(QUARTILE($J$2:$J$501,3)-QUARTILE($J$2:$J$501,1)),J230>(QUARTILE($J$2:$J$501,3))+1.5*(QUARTILE($J$2:$J$501,3)-QUARTILE($J$2:$J$501,1))),\"\",J230)","v":0.25430580242792999},null,null,{"$f":"IF(COUNTIF($D$2:$D$501,D230)=1,\"\",IF(I230=\"\",\"\",ABS(IF(I230=\"\",0,(((H230*OFFSET($P$1,MATCH($D230,$O$2:$O$40,0),,)-G230)/G230))))))","v":0.25430580242792999},null,null,{"$f":"IFERROR(IF(COUNTIF($E$2:$E$501,E230)=1,\"\",IF(I230=\"\",\"\",ABS(IF(I230=\"\",0,(((H230*OFFSET($S$1,MATCH($E230,$R$2:$R$41,0),,)-G230)/G230)))))),\"\")","v":0.19567300474254998},null,null,{"$f":"IFERROR(IF(COUNTIF($F$2:$F$501,F230)=1,\"\",IF(I230=\"\",\"\",ABS(IF(I230=\"\",0,(((H230*OFFSET($V$1,MATCH($F230,$U$2:$U$105,0),,)-G230)/G230)))))),\"\")","v":""},null,null,{"$f":"IF(OR(J230<(QUARTILE($J$2:$J$501,1))-1.5*(QUARTILE($J$2:$J$501,3)-QUARTILE($J$2:$J$501,1)),J230>(QUARTILE($J$2:$J$501,3))+1.5*(QUARTILE($J$2:$J$501,3)-QUARTILE($J$2:$J$501,1))),\"Outlier\")","v":false}]
[873943,"DEAN FOODS NEW",3000,3500,3570,3577,16.559999999999999,0,{"$f":"(IF(IFERROR(G231/H231,\"\")<0,\"\",IFERROR(G231/H231,\"\")))","v":""},{"$f":"IF(COUNTIF($C$2:$C$501,C231)=1,\"\",IF(I231=\"\",\"\",ABS(IF(I231=\"\",0,(((H231*OFFSET($M$1,MATCH($C231,$L$2:$L$40,0),,)-G231)/G231))))))","v":""},{"$f":"IF(OR(J231<(QUARTILE($J$2:$J$501,1))-1.5*(QUARTILE($J$2:$J$501,3)-QUARTILE($J$2:$J$501,1)),J231>(QUARTILE($J$2:$J$501,3))+1.5*(QUARTILE($J$2:$J$501,3)-QUARTILE($J$2:$J$501,1))),\"\",J231)","v":""},null,null,{"$f":"IF(COUNTIF($D$2:$D$501,D231)=1,\"\",IF(I231=\"\",\"\",ABS(IF(I231=\"\",0,(((H231*OFFSET($P$1,MATCH($D231,$O$2:$O$40,0),,)-G231)/G231))))))","v":""},null,null,{"$f":"IFERROR(IF(COUNTIF($E$2:$E$501,E231)=1,\"\",IF(I231=\"\",\"\",ABS(IF(I231=\"\",0,(((H231*OFFSET($S$1,MATCH($E231,$R$2:$R$41,0),,)-G231)/G231)))))),\"\")","v":""},null,null,{"$f":"IFERROR(IF(COUNTIF($F$2:$F$501,F231)=1,\"\",IF(I231=\"\",\"\",ABS(IF(I231=\"\",0,(((H231*OFFSET($V$1,MATCH($F231,$U$2:$U$105,0),,)-G231)/G231)))))),\"\")","v":""},null,null,{"$f":"IF(OR(J231<(QUARTILE($J$2:$J$501,1))-1.5*(QUARTILE($J$2:$J$501,3)-QUARTILE($J$2:$J$501,1)),J231>(QUARTILE($J$2:$J$501,3))+1.5*(QUARTILE($J$2:$J$501,3)-QUARTILE($J$2:$J$501,1))),\"Outlier\")","v":"Outlier"}]
[877072,"NCR",9000,9500,9570,9572,21.57,0.42,{"$f":"(IF(IFERROR(G232/H232,\"\")<0,\"\",IFERROR(G232/H232,\"\")))","v":51.357142857142861},{"$f":"IF(COUNTIF($C$2:$C$501,C232)=1,\"\",IF(I232=\"\",\"\",ABS(IF(I232=\"\",0,(((H232*OFFSET($M$1,MATCH($C232,$L$2:$L$40,0),,)-G232)/G232))))))","v":0.7450789370735259},{"$f":"IF(OR(J232<(QUARTILE($J$2:$J$501,1))-1.5*(QUARTILE($J$2:$J$501,3)-QUARTILE($J$2:$J$501,1)),J232>(QUARTILE($J$2:$J$501,3))+1.5*(QUARTILE($J$2:$J$501,3)-QUARTILE($J$2:$J$501,1))),\"\",J232)","v":0.7450789370735259},null,null,{"$f":"IF(COUNTIF($D$2:$D$501,D232)=1,\"\",IF(I232=\"\",\"\",ABS(IF(I232=\"\",0,(((H232*OFFSET($P$1,MATCH($D232,$O$2:$O$40,0),,)-G232)/G232))))))","v":0.7450789370735259},null,null,{"$f":"IFERROR(IF(COUNTIF($E$2:$E$501,E232)=1,\"\",IF(I232=\"\",\"\",ABS(IF(I232=\"\",0,(((H232*OFFSET($S$1,MATCH($E232,$R$2:$R$41,0),,)-G232)/G232)))))),\"\")","v":0.7556547905135752},null,null,{"$f":"IFERROR(IF(COUNTIF($F$2:$F$501,F232)=1,\"\",IF(I232=\"\",\"\",ABS(IF(I232=\"\",0,(((H232*OFFSET($V$1,MATCH($F232,$U$2:$U$105,0),,)-G232)/G232)))))),\"\")","v":0.78237786301695655},null,null,{"$f":"IF(OR(J232<(QUARTILE($J$2:$J$501,1))-1.5*(QUARTILE($J$2:$J$501,3)-QUARTILE($J$2:$J$501,1)),J232>(QUARTILE($J$2:$J$501,3))+1.5*(QUARTILE($J$2:$J$501,3)-QUARTILE($J$2:$J$501,1))),\"Outlier\")","v":false}]
[877121,"MONSTER WORLDWIDE",2000,2700,2790,2793,8.09,0.47,{"$f":"(IF(IFERROR(G233/H233,\"\")<0,\"\",IFERROR(G233/H233,\"\")))","v":17.212765957446809},{"$f":"IF(COUNTIF($C$2:$C$501,C233)=1,\"\",IF(I233=\"\",\"\",ABS(IF(I233=\"\",0,(((H233*OFFSET($M$1,MATCH($C233,$L$2:$L$40,0),,)-G233)/G233))))))","v":0.15737941022357468},{"$f":"IF(OR(J233<(QUARTILE($J$2:$J$501,1))-1.5*(QUARTILE($J$2:$J$501,3)-QUARTILE($J$2:$J$501,1)),J233>(QUARTILE($J$2:$J$501,3))+1.5*(QUARTILE($J$2:$J$501,3)-QUARTILE($J$2:$J$501,1))),\"\",J233)","v":0.15737941022357468},null,null,{"$f":"IF(COUNTIF($D$2:$D$501,D233)=1,\"\",IF(I233=\"\",\"\",ABS(IF(I233=\"\",0,(((H233*OFFSET($P$1,MATCH($D233,$O$2:$O$40,0),,)-G233)/G233))))))","v":0.16814933802714066},null,null,{"$f":"IFERROR(IF(COUNTIF($E$2:$E$501,E233)=1,\"\",IF(I233=\"\",\"\",ABS(IF(I233=\"\",0,(((H233*OFFSET($S$1,MATCH($E233,$R$2:$R$41,0),,)-G233)/G233)))))),\"\")","v":0.13333072538325849},null,null,{"$f":"IFERROR(IF(COUNTIF($F$2:$F$501,F233)=1,\"\",IF(I233=\"\",\"\",ABS(IF(I233=\"\",0,(((H233*OFFSET($V$1,MATCH($F233,$U$2:$U$105,0),,)-G233)/G233)))))),\"\")","v":""},null,null,{"$f":"IF(OR(J233<(QUARTILE($J$2:$J$501,1))-1.5*(QUARTILE($J$2:$J$501,3)-QUARTILE($J$2:$J$501,1)),J233>(QUARTILE($J$2:$J$501,3))+1.5*(QUARTILE($J$2:$J$501,3)-QUARTILE($J$2:$J$501,1))),\"Outlier\")","v":false}]
[877181,"QUEST DIAGNOSTICS",4000,4500,4530,4533,59.25,4.25,{"$f":"(IF(IFERROR(G234/H234,\"\")<0,\"\",IFERROR(G234/H234,\"\")))","v":13.941176470588236},{"$f":"IF(COUNTIF($C$2:$C$501,C234)=1,\"\",IF(I234=\"\",\"\",ABS(IF(I234=\"\",0,(((H234*OFFSET($M$1,MATCH($C234,$L$2:$L$40,0),,)-G234)/G234))))))","v":0.21408636569366221},{"$f":"IF(OR(J234<(QUARTILE($J$2:$J$501,1))-1.5*(QUARTILE($J$2:$J$501,3)-QUARTILE($J$2:$J$501,1)),J234>(QUARTILE($J$2:$J$501,3))+1.5*(QUARTILE($J$2:$J$501,3)-QUARTILE($J$2:$J$501,1))),\"\",J234)","v":0.21408636569366221},null,null,{"$f":"IF(COUNTIF($D$2:$D$501,D234)=1,\"\",IF(I234=\"\",\"\",ABS(IF(I234=\"\",0,(((H234*OFFSET($P$1,MATCH($D234,$O$2:$O$40,0),,)-G234)/G234))))))","v":0.21408636569366221},null,null,{"$f":"IFERROR(IF(COUNTIF($E$2:$E$501,E234)=1,\"\",IF(I234=\"\",\"\",ABS(IF(I234=\"\",0,(((H234*OFFSET($S$1,MATCH($E234,$R$2:$R$41,0),,)-G234)/G234)))))),\"\")","v":9.7302484045767773E-2},null,null,{"$f":"IFERROR(IF(COUNTIF($F$2:$F$501,F234)=1,\"\",IF(I234=\"\",\"\",ABS(IF(I234=\"\",0,(((H234*OFFSET($V$1,MATCH($F234,$U$2:$U$105,0),,)-G234)/G234)))))),\"\")","v":7.1145501844429554E-2},null,null,{"$f":"IF(OR(J234<(QUARTILE($J$2:$J$501,1))-1.5*(QUARTILE($J$2:$J$501,3)-QUARTILE($J$2:$J$501,1)),J234>(QUARTILE($J$2:$J$501,3))+1.5*(QUARTILE($J$2:$J$501,3)-QUARTILE($J$2:$J$501,1))),\"Outlier\")","v":false}]
[877775,"CIENA",9000,9500,9570,9578,15.74,0,{"$f":"(IF(IFERROR(G235/H235,\"\")<0,\"\",IFERROR(G235/H235,\"\")))","v":""},{"$f":"IF(COUNTIF($C$2:$C$501,C235)=1,\"\",IF(I235=\"\",\"\",ABS(IF(I235=\"\",0,(((H235*OFFSET($M$1,MATCH($C235,$L$2:$L$40,0),,)-G235)/G235))))))","v":""},{"$f":"IF(OR(J235<(QUARTILE($J$2:$J$501,1))-1.5*(QUARTILE($J$2:$J$501,3)-QUARTILE($J$2:$J$501,1)),J235>(QUARTILE($J$2:$J$501,3))+1.5*(QUARTILE($J$2:$J$501,3)-QUARTILE($J$2:$J$501,1))),\"\",J235)","v":""},null,null,{"$f":"IF(COUNTIF($D$2:$D$501,D235)=1,\"\",IF(I235=\"\",\"\",ABS(IF(I235=\"\",0,(((H235*OFFSET($P$1,MATCH($D235,$O$2:$O$40,0),,)-G235)/G235))))))","v":""},null,null,{"$f":"IFERROR(IF(COUNTIF($E$2:$E$501,E235)=1,\"\",IF(I235=\"\",\"\",ABS(IF(I235=\"\",0,(((H235*OFFSET($S$1,MATCH($E235,$R$2:$R$41,0),,)-G235)/G235)))))),\"\")","v":""},null,null,{"$f":"IFERROR(IF(COUNTIF($F$2:$F$501,F235)=1,\"\",IF(I235=\"\",\"\",ABS(IF(I235=\"\",0,(((H235*OFFSET($V$1,MATCH($F235,$U$2:$U$105,0),,)-G235)/G235)))))),\"\")","v":""},null,null,{"$f":"IF(OR(J235<(QUARTILE($J$2:$J$501,1))-1.5*(QUARTILE($J$2:$J$501,3)-QUARTILE($J$2:$J$501,1)),J235>(QUARTILE($J$2:$J$501,3))+1.5*(QUARTILE($J$2:$J$501,3)-QUARTILE($J$2:$J$501,1))),\"Outlier\")","v":"Outlier"}]
[878574,"YUM! BRANDS",5000,5700,5750,5757,63.89,3.16,{"$f":"(IF(IFERROR(G236/H236,\"\")<0,\"\",IFERROR(G236/H236,\"\")))","v":20.218354430379748},{"$f":"IF(COUNTIF($C$2:$C$501,C236)=1,\"\",IF(I236=\"\",\"\",ABS(IF(I236=\"\",0,(((H236*OFFSET($M$1,MATCH($C236,$L$2:$L$40,0),,)-G236)/G236))))))","v":0.21999033025665224},{"$f":"IF(OR(J236<(QUARTILE($J$2:$J$501,1))-1.5*(QUARTILE($J$2:$J$501,3)-QUARTILE($J$2:$J$501,1)),J236>(QUARTILE($J$2:$J$501,3))+1.5*(QUARTILE($J$2:$J$501,3)-QUARTILE($J$2:$J$501,1))),\"\",J236)","v":0.21999033025665224},null,null,{"$f":"IF(COUNTIF($D$2:$D$501,D236)=1,\"\",IF(I236=\"\",\"\",ABS(IF(I236=\"\",0,(((H236*OFFSET($P$1,MATCH($D236,$O$2:$O$40,0),,)-G236)/G236))))))","v":8.3122342814251987E-2},null,null,{"$f":"IFERROR(IF(COUNTIF($E$2:$E$501,E236)=1,\"\",IF(I236=\"\",\"\",ABS(IF(I236=\"\",0,(((H236*OFFSET($S$1,MATCH($E236,$R$2:$R$41,0),,)-G236)/G236)))))),\"\")","v":8.3122342814251987E-2},null,null,{"$f":"IFERROR(IF(COUNTIF($F$2:$F$501,F236)=1,\"\",IF(I236=\"\",\"\",ABS(IF(I236=\"\",0,(((H236*OFFSET($V$1,MATCH($F236,$U$2:$U$105,0),,)-G236)/G236)))))),\"\")","v":5.1909462049787962E-2},null,null,{"$f":"IF(OR(J236<(QUARTILE($J$2:$J$501,1))-1.5*(QUARTILE($J$2:$J$501,3)-QUARTILE($J$2:$J$501,1)),J236>(QUARTILE($J$2:$J$501,3))+1.5*(QUARTILE($J$2:$J$501,3)-QUARTILE($J$2:$J$501,1))),\"Outlier\")","v":false}]
[883488,"E*TRADE FINANCIAL",8000,8700,8770,8777,7.61,0.6,{"$f":"(IF(IFERROR(G237/H237,\"\")<0,\"\",IFERROR(G237/H237,\"\")))","v":12.683333333333334},{"$f":"IF(COUNTIF($C$2:$C$501,C237)=1,\"\",IF(I237=\"\",\"\",ABS(IF(I237=\"\",0,(((H237*OFFSET($M$1,MATCH($C237,$L$2:$L$40,0),,)-G237)/G237))))))","v":4.8682609722074659E-2},{"$f":"IF(OR(J237<(QUARTILE($J$2:$J$501,1))-1.5*(QUARTILE($J$2:$J$501,3)-QUARTILE($J$2:$J$501,1)),J237>(QUARTILE($J$2:$J$501,3))+1.5*(QUARTILE($J$2:$J$501,3)-QUARTILE($J$2:$J$501,1))),\"\",J237)","v":4.8682609722074659E-2},null,null,{"$f":"IF(COUNTIF($D$2:$D$501,D237)=1,\"\",IF(I237=\"\",\"\",ABS(IF(I237=\"\",0,(((H237*OFFSET($P$1,MATCH($D237,$O$2:$O$40,0),,)-G237)/G237))))))","v":1.22754995371958E-2},null,null,{"$f":"IFERROR(IF(COUNTIF($E$2:$E$501,E237)=1,\"\",IF(I237=\"\",\"\",ABS(IF(I237=\"\",0,(((H237*OFFSET($S$1,MATCH($E237,$R$2:$R$41,0),,)-G237)/G237)))))),\"\")","v":1.22754995371958E-2},null,null,{"$f":"IFERROR(IF(COUNTIF($F$2:$F$501,F237)=1,\"\",IF(I237=\"\",\"\",ABS(IF(I237=\"\",0,(((H237*OFFSET($V$1,MATCH($F237,$U$2:$U$105,0),,)-G237)/G237)))))),\"\")","v":6.4254765372411385E-2},null,null,{"$f":"IF(OR(J237<(QUARTILE($J$2:$J$501,1))-1.5*(QUARTILE($J$2:$J$501,3)-QUARTILE($J$2:$J$501,1)),J237>(QUARTILE($J$2:$J$501,3))+1.5*(QUARTILE($J$2:$J$501,3)-QUARTILE($J$2:$J$501,1))),\"Outlier\")","v":false}]
[884383,"NATIONAL OILWELL VARCO",1,500,570,573,62.14,5.15,{"$f":"(IF(IFERROR(G238/H238,\"\")<0,\"\",IFERROR(G238/H238,\"\")))","v":12.066019417475728},{"$f":"IF(COUNTIF($C$2:$C$501,C238)=1,\"\",IF(I238=\"\",\"\",ABS(IF(I238=\"\",0,(((H238*OFFSET($M$1,MATCH($C238,$L$2:$L$40,0),,)-G238)/G238))))))","v":0.23150912566838214},{"$f":"IF(OR(J238<(QUARTILE($J$2:$J$501,1))-1.5*(QUARTILE($J$2:$J$501,3)-QUARTILE($J$2:$J$501,1)),J238>(QUARTILE($J$2:$J$501,3))+1.5*(QUARTILE($J$2:$J$501,3)-QUARTILE($J$2:$J$501,1))),\"\",J238)","v":0.23150912566838214},null,null,{"$f":"IF(COUNTIF($D$2:$D$501,D238)=1,\"\",IF(I238=\"\",\"\",ABS(IF(I238=\"\",0,(((H238*OFFSET($P$1,MATCH($D238,$O$2:$O$40,0),,)-G238)/G238))))))","v":0.23150912566838214},null,null,{"$f":"IFERROR(IF(COUNTIF($E$2:$E$501,E238)=1,\"\",IF(I238=\"\",\"\",ABS(IF(I238=\"\",0,(((H238*OFFSET($S$1,MATCH($E238,$R$2:$R$41,0),,)-G238)/G238)))))),\"\")","v":0.14283613365892397},null,null,{"$f":"IFERROR(IF(COUNTIF($F$2:$F$501,F238)=1,\"\",IF(I238=\"\",\"\",ABS(IF(I238=\"\",0,(((H238*OFFSET($V$1,MATCH($F238,$U$2:$U$105,0),,)-G238)/G238)))))),\"\")","v":0.25364081044002978},null,null,{"$f":"IF(OR(J238<(QUARTILE($J$2:$J$501,1))-1.5*(QUARTILE($J$2:$J$501,3)-QUARTILE($J$2:$J$501,1)),J238>(QUARTILE($J$2:$J$501,3))+1.5*(QUARTILE($J$2:$J$501,3)-QUARTILE($J$2:$J$501,1))),\"Outlier\")","v":false}]
[894076,"QWEST COMMS.INTL. DEAD - DELIST.01/04/11",6000,6500,6530,6535,6.83,0,{"$f":"(IF(IFERROR(G239/H239,\"\")<0,\"\",IFERROR(G239/H239,\"\")))","v":""},{"$f":"IF(COUNTIF($C$2:$C$501,C239)=1,\"\",IF(I239=\"\",\"\",ABS(IF(I239=\"\",0,(((H239*OFFSET($M$1,MATCH($C239,$L$2:$L$40,0),,)-G239)/G239))))))","v":""},{"$f":"IF(OR(J239<(QUARTILE($J$2:$J$501,1))-1.5*(QUARTILE($J$2:$J$501,3)-QUARTILE($J$2:$J$501,1)),J239>(QUARTILE($J$2:$J$501,3))+1.5*(QUARTILE($J$2:$J$501,3)-QUARTILE($J$2:$J$501,1))),\"\",J239)","v":""},null,null,{"$f":"IF(COUNTIF($D$2:$D$501,D239)=1,\"\",IF(I239=\"\",\"\",ABS(IF(I239=\"\",0,(((H239*OFFSET($P$1,MATCH($D239,$O$2:$O$40,0),,)-G239)/G239))))))","v":""},null,null,{"$f":"IFERROR(IF(COUNTIF($E$2:$E$501,E239)=1,\"\",IF(I239=\"\",\"\",ABS(IF(I239=\"\",0,(((H239*OFFSET($S$1,MATCH($E239,$R$2:$R$41,0),,)-G239)/G239)))))),\"\")","v":""},null,null,{"$f":"IFERROR(IF(COUNTIF($F$2:$F$501,F239)=1,\"\",IF(I239=\"\",\"\",ABS(IF(I239=\"\",0,(((H239*OFFSET($V$1,MATCH($F239,$U$2:$U$105,0),,)-G239)/G239)))))),\"\")","v":""},null,null,{"$f":"IF(OR(J239<(QUARTILE($J$2:$J$501,1))-1.5*(QUARTILE($J$2:$J$501,3)-QUARTILE($J$2:$J$501,1)),J239>(QUARTILE($J$2:$J$501,3))+1.5*(QUARTILE($J$2:$J$501,3)-QUARTILE($J$2:$J$501,1))),\"Outlier\")","v":"Outlier"}]
[894145,"RALPH LAUREN CL.A",3000,3700,3760,3763,136.6,7.13,{"$f":"(IF(IFERROR(G240/H240,\"\")<0,\"\",IFERROR(G240/H240,\"\")))","v":19.158485273492285},{"$f":"IF(COUNTIF($C$2:$C$501,C240)=1,\"\",IF(I240=\"\",\"\",ABS(IF(I240=\"\",0,(((H240*OFFSET($M$1,MATCH($C240,$L$2:$L$40,0),,)-G240)/G240))))))","v":0.16537326016596005},{"$f":"IF(OR(J240<(QUARTILE($J$2:$J$501,1))-1.5*(QUARTILE($J$2:$J$501,3)-QUARTILE($J$2:$J$501,1)),J240>(QUARTILE($J$2:$J$501,3))+1.5*(QUARTILE($J$2:$J$501,3)-QUARTILE($J$2:$J$501,1))),\"\",J240)","v":0.16537326016596005},null,null,{"$f":"IF(COUNTIF($D$2:$D$501,D240)=1,\"\",IF(I240=\"\",\"\",ABS(IF(I240=\"\",0,(((H240*OFFSET($P$1,MATCH($D240,$O$2:$O$40,0),,)-G240)/G240))))))","v":6.3942502401419486E-3},null,null,{"$f":"IFERROR(IF(COUNTIF($E$2:$E$501,E240)=1,\"\",IF(I240=\"\",\"\",ABS(IF(I240=\"\",0,(((H240*OFFSET($S$1,MATCH($E240,$R$2:$R$41,0),,)-G240)/G240)))))),\"\")","v":1.4933875181420125E-2},null,null,{"$f":"IFERROR(IF(COUNTIF($F$2:$F$501,F240)=1,\"\",IF(I240=\"\",\"\",ABS(IF(I240=\"\",0,(((H240*OFFSET($V$1,MATCH($F240,$U$2:$U$105,0),,)-G240)/G240)))))),\"\")","v":1.2426926370965229E-2},null,null,{"$f":"IF(OR(J240<(QUARTILE($J$2:$J$501,1))-1.5*(QUARTILE($J$2:$J$501,3)-QUARTILE($J$2:$J$501,1)),J240>(QUARTILE($J$2:$J$501,3))+1.5*(QUARTILE($J$2:$J$501,3)-QUARTILE($J$2:$J$501,1))),\"Outlier\")","v":false}]
[901657,"KEYSPAN DEAD - MERGER",7000,7500,7570,7573,42.2,2.5,{"$f":"(IF(IFERROR(G241/H241,\"\")<0,\"\",IFERROR(G241/H241,\"\")))","v":16.880000000000003},{"$f":"IF(COUNTIF($C$2:$C$501,C241)=1,\"\",IF(I241=\"\",\"\",ABS(IF(I241=\"\",0,(((H241*OFFSET($M$1,MATCH($C241,$L$2:$L$40,0),,)-G241)/G241))))))","v":5.3883030948684652E-3},{"$f":"IF(OR(J241<(QUARTILE($J$2:$J$501,1))-1.5*(QUARTILE($J$2:$J$501,3)-QUARTILE($J$2:$J$501,1)),J241>(QUARTILE($J$2:$J$501,3))+1.5*(QUARTILE($J$2:$J$501,3)-QUARTILE($J$2:$J$501,1))),\"\",J241)","v":5.3883030948684652E-3},null,null,{"$f":"IF(COUNTIF($D$2:$D$501,D241)=1,\"\",IF(I241=\"\",\"\",ABS(IF(I241=\"\",0,(((H241*OFFSET($P$1,MATCH($D241,$O$2:$O$40,0),,)-G241)/G241))))))","v":5.3883030948684652E-3},null,null,{"$f":"IFERROR(IF(COUNTIF($E$2:$E$501,E241)=1,\"\",IF(I241=\"\",\"\",ABS(IF(I241=\"\",0,(((H241*OFFSET($S$1,MATCH($E241,$R$2:$R$41,0),,)-G241)/G241)))))),\"\")","v":0.12539080336019515},null,null,{"$f":"IFERROR(IF(COUNTIF($F$2:$F$501,F241)=1,\"\",IF(I241=\"\",\"\",ABS(IF(I241=\"\",0,(((H241*OFFSET($V$1,MATCH($F241,$U$2:$U$105,0),,)-G241)/G241)))))),\"\")","v":0.14257917648817359},null,null,{"$f":"IF(OR(J241<(QUARTILE($J$2:$J$501,1))-1.5*(QUARTILE($J$2:$J$501,3)-QUARTILE($J$2:$J$501,1)),J241>(QUARTILE($J$2:$J$501,3))+1.5*(QUARTILE($J$2:$J$501,3)-QUARTILE($J$2:$J$501,1))),\"Outlier\")","v":false}]
[901666,"CONOCOPHILLIPS",1,500,530,537,54.53,9.15,{"$f":"(IF(IFERROR(G242/H242,\"\")<0,\"\",IFERROR(G242/H242,\"\")))","v":5.9595628415300546},{"$f":"IF(COUNTIF($C$2:$C$501,C242)=1,\"\",IF(I242=\"\",\"\",ABS(IF(I242=\"\",0,(((H242*OFFSET($M$1,MATCH($C242,$L$2:$L$40,0),,)-G242)/G242))))))","v":0.55592382501961346},{"$f":"IF(OR(J242<(QUARTILE($J$2:$J$501,1))-1.5*(QUARTILE($J$2:$J$501,3)-QUARTILE($J$2:$J$501,1)),J242>(QUARTILE($J$2:$J$501,3))+1.5*(QUARTILE($J$2:$J$501,3)-QUARTILE($J$2:$J$501,1))),\"\",J242)","v":0.55592382501961346},null,null,{"$f":"IF(COUNTIF($D$2:$D$501,D242)=1,\"\",IF(I242=\"\",\"\",ABS(IF(I242=\"\",0,(((H242*OFFSET($P$1,MATCH($D242,$O$2:$O$40,0),,)-G242)/G242))))))","v":0.55592382501961346},null,null,{"$f":"IFERROR(IF(COUNTIF($E$2:$E$501,E242)=1,\"\",IF(I242=\"\",\"\",ABS(IF(I242=\"\",0,(((H242*OFFSET($S$1,MATCH($E242,$R$2:$R$41,0),,)-G242)/G242)))))),\"\")","v":0.41005467254875755},null,null,{"$f":"IFERROR(IF(COUNTIF($F$2:$F$501,F242)=1,\"\",IF(I242=\"\",\"\",ABS(IF(I242=\"\",0,(((H242*OFFSET($V$1,MATCH($F242,$U$2:$U$105,0),,)-G242)/G242)))))),\"\")","v":0.42610716140231641},null,null,{"$f":"IF(OR(J242<(QUARTILE($J$2:$J$501,1))-1.5*(QUARTILE($J$2:$J$501,3)-QUARTILE($J$2:$J$501,1)),J242>(QUARTILE($J$2:$J$501,3))+1.5*(QUARTILE($J$2:$J$501,3)-QUARTILE($J$2:$J$501,1))),\"Outlier\")","v":false}]
[901892,"V F",3000,3700,3760,3763,134,8.06,{"$f":"(IF(IFERROR(G243/H243,\"\")<0,\"\",IFERROR(G243/H243,\"\")))","v":16.625310173697269},{"$f":"IF(COUNTIF($C$2:$C$501,C243)=1,\"\",IF(I243=\"\",\"\",ABS(IF(I243=\"\",0,(((H243*OFFSET($M$1,MATCH($C243,$L$2:$L$40,0),,)-G243)/G243))))))","v":3.8202359119215976E-2},{"$f":"IF(OR(J243<(QUARTILE($J$2:$J$501,1))-1.5*(QUARTILE($J$2:$J$501,3)-QUARTILE($J$2:$J$501,1)),J243>(QUARTILE($J$2:$J$501,3))+1.5*(QUARTILE($J$2:$J$501,3)-QUARTILE($J$2:$J$501,1))),\"\",J243)","v":3.8202359119215976E-2},null,null,{"$f":"IF(COUNTIF($D$2:$D$501,D243)=1,\"\",IF(I243=\"\",\"\",ABS(IF(I243=\"\",0,(((H243*OFFSET($P$1,MATCH($D243,$O$2:$O$40,0),,)-G243)/G243))))))","v":0.15973712496849074},null,null,{"$f":"IFERROR(IF(COUNTIF($E$2:$E$501,E243)=1,\"\",IF(I243=\"\",\"\",ABS(IF(I243=\"\",0,(((H243*OFFSET($S$1,MATCH($E243,$R$2:$R$41,0),,)-G243)/G243)))))),\"\")","v":0.1695779205367722},null,null,{"$f":"IFERROR(IF(COUNTIF($F$2:$F$501,F243)=1,\"\",IF(I243=\"\",\"\",ABS(IF(I243=\"\",0,(((H243*OFFSET($V$1,MATCH($F243,$U$2:$U$105,0),,)-G243)/G243)))))),\"\")","v":0.13804819218068787},null,null,{"$f":"IF(OR(J243<(QUARTILE($J$2:$J$501,1))-1.5*(QUARTILE($J$2:$J$501,3)-QUARTILE($J$2:$J$501,1)),J243>(QUARTILE($J$2:$J$501,3))+1.5*(QUARTILE($J$2:$J$501,3)-QUARTILE($J$2:$J$501,1))),\"Outlier\")","v":false}]
[901897,"PPG INDUSTRIES",1000,1300,1350,1357,103.5,5.55,{"$f":"(IF(IFERROR(G244/H244,\"\")<0,\"\",IFERROR(G244/H244,\"\")))","v":18.648648648648649},{"$f":"IF(COUNTIF($C$2:$C$501,C244)=1,\"\",IF(I244=\"\",\"\",ABS(IF(I244=\"\",0,(((H244*OFFSET($M$1,MATCH($C244,$L$2:$L$40,0),,)-G244)/G244))))))","v":0.16900802008165045},{"$f":"IF(OR(J244<(QUARTILE($J$2:$J$501,1))-1.5*(QUARTILE($J$2:$J$501,3)-QUARTILE($J$2:$J$501,1)),J244>(QUARTILE($J$2:$J$501,3))+1.5*(QUARTILE($J$2:$J$501,3)-QUARTILE($J$2:$J$501,1))),\"\",J244)","v":0.16900802008165045},null,null,{"$f":"IF(COUNTIF($D$2:$D$501,D244)=1,\"\",IF(I244=\"\",\"\",ABS(IF(I244=\"\",0,(((H244*OFFSET($P$1,MATCH($D244,$O$2:$O$40,0),,)-G244)/G244))))))","v":3.0866583540583664E-2},null,null,{"$f":"IFERROR(IF(COUNTIF($E$2:$E$501,E244)=1,\"\",IF(I244=\"\",\"\",ABS(IF(I244=\"\",0,(((H244*OFFSET($S$1,MATCH($E244,$R$2:$R$41,0),,)-G244)/G244)))))),\"\")","v":3.0866583540583664E-2},null,null,{"$f":"IFERROR(IF(COUNTIF($F$2:$F$501,F244)=1,\"\",IF(I244=\"\",\"\",ABS(IF(I244=\"\",0,(((H244*OFFSET($V$1,MATCH($F244,$U$2:$U$105,0),,)-G244)/G244)))))),\"\")","v":0.1699174180867363},null,null,{"$f":"IF(OR(J244<(QUARTILE($J$2:$J$501,1))-1.5*(QUARTILE($J$2:$J$501,3)-QUARTILE($J$2:$J$501,1)),J244>(QUARTILE($J$2:$J$501,3))+1.5*(QUARTILE($J$2:$J$501,3)-QUARTILE($J$2:$J$501,1))),\"Outlier\")","v":false}]
[901899,"NORFOLK SOUTHERN",2000,2700,2770,2775,70.069999999999993,5.79,{"$f":"(IF(IFERROR(G245/H245,\"\")<0,\"\",IFERROR(G245/H245,\"\")))","v":12.101899827288428},{"$f":"IF(COUNTIF($C$2:$C$501,C245)=1,\"\",IF(I245=\"\",\"\",ABS(IF(I245=\"\",0,(((H245*OFFSET($M$1,MATCH($C245,$L$2:$L$40,0),,)-G245)/G245))))))","v":0.19847554596699712},{"$f":"IF(OR(J245<(QUARTILE($J$2:$J$501,1))-1.5*(QUARTILE($J$2:$J$501,3)-QUARTILE($J$2:$J$501,1)),J245>(QUARTILE($J$2:$J$501,3))+1.5*(QUARTILE($J$2:$J$501,3)-QUARTILE($J$2:$J$501,1))),\"\",J245)","v":0.19847554596699712},null,null,{"$f":"IF(COUNTIF($D$2:$D$501,D245)=1,\"\",IF(I245=\"\",\"\",ABS(IF(I245=\"\",0,(((H245*OFFSET($P$1,MATCH($D245,$O$2:$O$40,0),,)-G245)/G245))))))","v":0.1831572695552747},null,null,{"$f":"IFERROR(IF(COUNTIF($E$2:$E$501,E245)=1,\"\",IF(I245=\"\",\"\",ABS(IF(I245=\"\",0,(((H245*OFFSET($S$1,MATCH($E245,$R$2:$R$41,0),,)-G245)/G245)))))),\"\")","v":0.21537703781604239},null,null,{"$f":"IFERROR(IF(COUNTIF($F$2:$F$501,F245)=1,\"\",IF(I245=\"\",\"\",ABS(IF(I245=\"\",0,(((H245*OFFSET($V$1,MATCH($F245,$U$2:$U$105,0),,)-G245)/G245)))))),\"\")","v":0.20096826872218063},null,null,{"$f":"IF(OR(J245<(QUARTILE($J$2:$J$501,1))-1.5*(QUARTILE($J$2:$J$501,3)-QUARTILE($J$2:$J$501,1)),J245>(QUARTILE($J$2:$J$501,3))+1.5*(QUARTILE($J$2:$J$501,3)-QUARTILE($J$2:$J$501,1))),\"Outlier\")","v":false}]
[902103,"SEMPRA EN.",7000,7500,7570,7575,68.19,5.52,{"$f":"(IF(IFERROR(G246/H246,\"\")<0,\"\",IFERROR(G246/H246,\"\")))","v":12.353260869565219},{"$f":"IF(COUNTIF($C$2:$C$501,C246)=1,\"\",IF(I246=\"\",\"\",ABS(IF(I246=\"\",0,(((H246*OFFSET($M$1,MATCH($C246,$L$2:$L$40,0),,)-G246)/G246))))))","v":0.35907802976312636},{"$f":"IF(OR(J246<(QUARTILE($J$2:$J$501,1))-1.5*(QUARTILE($J$2:$J$501,3)-QUARTILE($J$2:$J$501,1)),J246>(QUARTILE($J$2:$J$501,3))+1.5*(QUARTILE($J$2:$J$501,3)-QUARTILE($J$2:$J$501,1))),\"\",J246)","v":0.35907802976312636},null,null,{"$f":"IF(COUNTIF($D$2:$D$501,D246)=1,\"\",IF(I246=\"\",\"\",ABS(IF(I246=\"\",0,(((H246*OFFSET($P$1,MATCH($D246,$O$2:$O$40,0),,)-G246)/G246))))))","v":0.35907802976312636},null,null,{"$f":"IFERROR(IF(COUNTIF($E$2:$E$501,E246)=1,\"\",IF(I246=\"\",\"\",ABS(IF(I246=\"\",0,(((H246*OFFSET($S$1,MATCH($E246,$R$2:$R$41,0),,)-G246)/G246)))))),\"\")","v":0.53777994015508024},null,null,{"$f":"IFERROR(IF(COUNTIF($F$2:$F$501,F246)=1,\"\",IF(I246=\"\",\"\",ABS(IF(I246=\"\",0,(((H246*OFFSET($V$1,MATCH($F246,$U$2:$U$105,0),,)-G246)/G246)))))),\"\")","v":0.51498922195568353},null,null,{"$f":"IF(OR(J246<(QUARTILE($J$2:$J$501,1))-1.5*(QUARTILE($J$2:$J$501,3)-QUARTILE($J$2:$J$501,1)),J246>(QUARTILE($J$2:$J$501,3))+1.5*(QUARTILE($J$2:$J$501,3)-QUARTILE($J$2:$J$501,1))),\"Outlier\")","v":false}]
[902107,"PPL",7000,7500,7530,7535,27.76,2.88,{"$f":"(IF(IFERROR(G247/H247,\"\")<0,\"\",IFERROR(G247/H247,\"\")))","v":9.6388888888888893},{"$f":"IF(COUNTIF($C$2:$C$501,C247)=1,\"\",IF(I247=\"\",\"\",ABS(IF(I247=\"\",0,(((H247*OFFSET($M$1,MATCH($C247,$L$2:$L$40,0),,)-G247)/G247))))))","v":0.7418029855196262},{"$f":"IF(OR(J247<(QUARTILE($J$2:$J$501,1))-1.5*(QUARTILE($J$2:$J$501,3)-QUARTILE($J$2:$J$501,1)),J247>(QUARTILE($J$2:$J$501,3))+1.5*(QUARTILE($J$2:$J$501,3)-QUARTILE($J$2:$J$501,1))),\"\",J247)","v":0.7418029855196262},null,null,{"$f":"IF(COUNTIF($D$2:$D$501,D247)=1,\"\",IF(I247=\"\",\"\",ABS(IF(I247=\"\",0,(((H247*OFFSET($P$1,MATCH($D247,$O$2:$O$40,0),,)-G247)/G247))))))","v":0.7418029855196262},null,null,{"$f":"IFERROR(IF(COUNTIF($E$2:$E$501,E247)=1,\"\",IF(I247=\"\",\"\",ABS(IF(I247=\"\",0,(((H247*OFFSET($S$1,MATCH($E247,$R$2:$R$41,0),,)-G247)/G247)))))),\"\")","v":0.64615501954218413},null,null,{"$f":"IFERROR(IF(COUNTIF($F$2:$F$501,F247)=1,\"\",IF(I247=\"\",\"\",ABS(IF(I247=\"\",0,(((H247*OFFSET($V$1,MATCH($F247,$U$2:$U$105,0),,)-G247)/G247)))))),\"\")","v":0.64615501954218413},null,null,{"$f":"IF(OR(J247<(QUARTILE($J$2:$J$501,1))-1.5*(QUARTILE($J$2:$J$501,3)-QUARTILE($J$2:$J$501,1)),J247>(QUARTILE($J$2:$J$501,3))+1.5*(QUARTILE($J$2:$J$501,3)-QUARTILE($J$2:$J$501,1))),\"Outlier\")","v":false}]
[902175,"EASTMAN KODAK",3000,3700,3740,3745,0.216,0,{"$f":"(IF(IFERROR(G248/H248,\"\")<0,\"\",IFERROR(G248/H248,\"\")))","v":""},{"$f":"IF(COUNTIF($C$2:$C$501,C248)=1,\"\",IF(I248=\"\",\"\",ABS(IF(I248=\"\",0,(((H248*OFFSET($M$1,MATCH($C248,$L$2:$L$40,0),,)-G248)/G248))))))","v":""},{"$f":"IF(OR(J248<(QUARTILE($J$2:$J$501,1))-1.5*(QUARTILE($J$2:$J$501,3)-QUARTILE($J$2:$J$501,1)),J248>(QUARTILE($J$2:$J$501,3))+1.5*(QUARTILE($J$2:$J$501,3)-QUARTILE($J$2:$J$501,1))),\"\",J248)","v":""},null,null,{"$f":"IF(COUNTIF($D$2:$D$501,D248)=1,\"\",IF(I248=\"\",\"\",ABS(IF(I248=\"\",0,(((H248*OFFSET($P$1,MATCH($D248,$O$2:$O$40,0),,)-G248)/G248))))))","v":""},null,null,{"$f":"IFERROR(IF(COUNTIF($E$2:$E$501,E248)=1,\"\",IF(I248=\"\",\"\",ABS(IF(I248=\"\",0,(((H248*OFFSET($S$1,MATCH($E248,$R$2:$R$41,0),,)-G248)/G248)))))),\"\")","v":""},null,null,{"$f":"IFERROR(IF(COUNTIF($F$2:$F$501,F248)=1,\"\",IF(I248=\"\",\"\",ABS(IF(I248=\"\",0,(((H248*OFFSET($V$1,MATCH($F248,$U$2:$U$105,0),,)-G248)/G248)))))),\"\")","v":""},null,null,{"$f":"IF(OR(J248<(QUARTILE($J$2:$J$501,1))-1.5*(QUARTILE($J$2:$J$501,3)-QUARTILE($J$2:$J$501,1)),J248>(QUARTILE($J$2:$J$501,3))+1.5*(QUARTILE($J$2:$J$501,3)-QUARTILE($J$2:$J$501,1))),\"Outlier\")","v":"Outlier"}]
[902199,"E I DU PONT DE NEMOURS",1000,1300,1350,1353,49.69,3.74,{"$f":"(IF(IFERROR(G249/H249,\"\")<0,\"\",IFERROR(G249/H249,\"\")))","v":13.286096256684491},{"$f":"IF(COUNTIF($C$2:$C$501,C249)=1,\"\",IF(I249=\"\",\"\",ABS(IF(I249=\"\",0,(((H249*OFFSET($M$1,MATCH($C249,$L$2:$L$40,0),,)-G249)/G249))))))","v":0.16639810249345569},{"$f":"IF(OR(J249<(QUARTILE($J$2:$J$501,1))-1.5*(QUARTILE($J$2:$J$501,3)-QUARTILE($J$2:$J$501,1)),J249>(QUARTILE($J$2:$J$501,3))+1.5*(QUARTILE($J$2:$J$501,3)-QUARTILE($J$2:$J$501,1))),\"\",J249)","v":0.16639810249345569},null,null,{"$f":"IF(COUNTIF($D$2:$D$501,D249)=1,\"\",IF(I249=\"\",\"\",ABS(IF(I249=\"\",0,(((H249*OFFSET($P$1,MATCH($D249,$O$2:$O$40,0),,)-G249)/G249))))))","v":0.36029637510139639},null,null,{"$f":"IFERROR(IF(COUNTIF($E$2:$E$501,E249)=1,\"\",IF(I249=\"\",\"\",ABS(IF(I249=\"\",0,(((H249*OFFSET($S$1,MATCH($E249,$R$2:$R$41,0),,)-G249)/G249)))))),\"\")","v":0.36029637510139639},null,null,{"$f":"IFERROR(IF(COUNTIF($F$2:$F$501,F249)=1,\"\",IF(I249=\"\",\"\",ABS(IF(I249=\"\",0,(((H249*OFFSET($V$1,MATCH($F249,$U$2:$U$105,0),,)-G249)/G249)))))),\"\")","v":6.7237457756209262E-2},null,null,{"$f":"IF(OR(J249<(QUARTILE($J$2:$J$501,1))-1.5*(QUARTILE($J$2:$J$501,3)-QUARTILE($J$2:$J$501,1)),J249>(QUARTILE($J$2:$J$501,3))+1.5*(QUARTILE($J$2:$J$501,3)-QUARTILE($J$2:$J$501,1))),\"Outlier\")","v":false}]
[902230,"FORD MOTOR",3000,3300,3350,3353,10.09,4.71,{"$f":"(IF(IFERROR(G250/H250,\"\")<0,\"\",IFERROR(G250/H250,\"\")))","v":2.1422505307855628},{"$f":"IF(COUNTIF($C$2:$C$501,C250)=1,\"\",IF(I250=\"\",\"\",ABS(IF(I250=\"\",0,(((H250*OFFSET($M$1,MATCH($C250,$L$2:$L$40,0),,)-G250)/G250))))))","v":6.4641989226674319},{"$f":"IF(OR(J250<(QUARTILE($J$2:$J$501,1))-1.5*(QUARTILE($J$2:$J$501,3)-QUARTILE($J$2:$J$501,1)),J250>(QUARTILE($J$2:$J$501,3))+1.5*(QUARTILE($J$2:$J$501,3)-QUARTILE($J$2:$J$501,1))),\"\",J250)","v":""},null,null,{"$f":"IF(COUNTIF($D$2:$D$501,D250)=1,\"\",IF(I250=\"\",\"\",ABS(IF(I250=\"\",0,(((H250*OFFSET($P$1,MATCH($D250,$O$2:$O$40,0),,)-G250)/G250))))))","v":2.1147452104301916},null,null,{"$f":"IFERROR(IF(COUNTIF($E$2:$E$501,E250)=1,\"\",IF(I250=\"\",\"\",ABS(IF(I250=\"\",0,(((H250*OFFSET($S$1,MATCH($E250,$R$2:$R$41,0),,)-G250)/G250)))))),\"\")","v":2.1147452104301916},null,null,{"$f":"IFERROR(IF(COUNTIF($F$2:$F$501,F250)=1,\"\",IF(I250=\"\",\"\",ABS(IF(I250=\"\",0,(((H250*OFFSET($V$1,MATCH($F250,$U$2:$U$105,0),,)-G250)/G250)))))),\"\")","v":""},null,null,{"$f":"IF(OR(J250<(QUARTILE($J$2:$J$501,1))-1.5*(QUARTILE($J$2:$J$501,3)-QUARTILE($J$2:$J$501,1)),J250>(QUARTILE($J$2:$J$501,3))+1.5*(QUARTILE($J$2:$J$501,3)-QUARTILE($J$2:$J$501,1))),\"Outlier\")","v":"Outlier"}]
[902233,"ROCKWELL AUTOMATION",2000,2700,2750,2757,63.06,5.0599999999999996,{"$f":"(IF(IFERROR(G251/H251,\"\")<0,\"\",IFERROR(G251/H251,\"\")))","v":12.462450592885377},{"$f":"IF(COUNTIF($C$2:$C$501,C251)=1,\"\",IF(I251=\"\",\"\",ABS(IF(I251=\"\",0,(((H251*OFFSET($M$1,MATCH($C251,$L$2:$L$40,0),,)-G251)/G251))))))","v":0.16380248769270311},{"$f":"IF(OR(J251<(QUARTILE($J$2:$J$501,1))-1.5*(QUARTILE($J$2:$J$501,3)-QUARTILE($J$2:$J$501,1)),J251>(QUARTILE($J$2:$J$501,3))+1.5*(QUARTILE($J$2:$J$501,3)-QUARTILE($J$2:$J$501,1))),\"\",J251)","v":0.16380248769270311},null,null,{"$f":"IF(COUNTIF($D$2:$D$501,D251)=1,\"\",IF(I251=\"\",\"\",ABS(IF(I251=\"\",0,(((H251*OFFSET($P$1,MATCH($D251,$O$2:$O$40,0),,)-G251)/G251))))))","v":0.14892738385339815},null,null,{"$f":"IFERROR(IF(COUNTIF($E$2:$E$501,E251)=1,\"\",IF(I251=\"\",\"\",ABS(IF(I251=\"\",0,(((H251*OFFSET($S$1,MATCH($E251,$R$2:$R$41,0),,)-G251)/G251)))))),\"\")","v":1.9478361470041065E-2},null,null,{"$f":"IFERROR(IF(COUNTIF($F$2:$F$501,F251)=1,\"\",IF(I251=\"\",\"\",ABS(IF(I251=\"\",0,(((H251*OFFSET($V$1,MATCH($F251,$U$2:$U$105,0),,)-G251)/G251)))))),\"\")","v":5.0731224438370403E-3},null,null,{"$f":"IF(OR(J251<(QUARTILE($J$2:$J$501,1))-1.5*(QUARTILE($J$2:$J$501,3)-QUARTILE($J$2:$J$501,1)),J251>(QUARTILE($J$2:$J$501,3))+1.5*(QUARTILE($J$2:$J$501,3)-QUARTILE($J$2:$J$501,1))),\"Outlier\")","v":false}]
[902242,"JP MORGAN CHASE & CO.",8000,8300,8350,8355,35.880000000000003,4.5,{"$f":"(IF(IFERROR(G252/H252,\"\")<0,\"\",IFERROR(G252/H252,\"\")))","v":7.9733333333333336},{"$f":"IF(COUNTIF($C$2:$C$501,C252)=1,\"\",IF(I252=\"\",\"\",ABS(IF(I252=\"\",0,(((H252*OFFSET($M$1,MATCH($C252,$L$2:$L$40,0),,)-G252)/G252))))))","v":0.6681594188931832},{"$f":"IF(OR(J252<(QUARTILE($J$2:$J$501,1))-1.5*(QUARTILE($J$2:$J$501,3)-QUARTILE($J$2:$J$501,1)),J252>(QUARTILE($J$2:$J$501,3))+1.5*(QUARTILE($J$2:$J$501,3)-QUARTILE($J$2:$J$501,1))),\"\",J252)","v":0.6681594188931832},null,null,{"$f":"IF(COUNTIF($D$2:$D$501,D252)=1,\"\",IF(I252=\"\",\"\",ABS(IF(I252=\"\",0,(((H252*OFFSET($P$1,MATCH($D252,$O$2:$O$40,0),,)-G252)/G252))))))","v":0.52651976998840921},null,null,{"$f":"IFERROR(IF(COUNTIF($E$2:$E$501,E252)=1,\"\",IF(I252=\"\",\"\",ABS(IF(I252=\"\",0,(((H252*OFFSET($S$1,MATCH($E252,$R$2:$R$41,0),,)-G252)/G252)))))),\"\")","v":0.52651976998840921},null,null,{"$f":"IFERROR(IF(COUNTIF($F$2:$F$501,F252)=1,\"\",IF(I252=\"\",\"\",ABS(IF(I252=\"\",0,(((H252*OFFSET($V$1,MATCH($F252,$U$2:$U$105,0),,)-G252)/G252)))))),\"\")","v":0.52651976998840921},null,null,{"$f":"IF(OR(J252<(QUARTILE($J$2:$J$501,1))-1.5*(QUARTILE($J$2:$J$501,3)-QUARTILE($J$2:$J$501,1)),J252>(QUARTILE($J$2:$J$501,3))+1.5*(QUARTILE($J$2:$J$501,3)-QUARTILE($J$2:$J$501,1))),\"Outlier\")","v":false}]
[902262,"HJ HEINZ",3000,3500,3570,3577,53.32,2.85,{"$f":"(IF(IFERROR(G253/H253,\"\")<0,\"\",IFERROR(G253/H253,\"\")))","v":18.708771929824561},{"$f":"IF(COUNTIF($C$2:$C$501,C253)=1,\"\",IF(I253=\"\",\"\",ABS(IF(I253=\"\",0,(((H253*OFFSET($M$1,MATCH($C253,$L$2:$L$40,0),,)-G253)/G253))))))","v":0.14531086466009002},{"$f":"IF(OR(J253<(QUARTILE($J$2:$J$501,1))-1.5*(QUARTILE($J$2:$J$501,3)-QUARTILE($J$2:$J$501,1)),J253>(QUARTILE($J$2:$J$501,3))+1.5*(QUARTILE($J$2:$J$501,3)-QUARTILE($J$2:$J$501,1))),\"\",J253)","v":0.14531086466009002},null,null,{"$f":"IF(COUNTIF($D$2:$D$501,D253)=1,\"\",IF(I253=\"\",\"\",ABS(IF(I253=\"\",0,(((H253*OFFSET($P$1,MATCH($D253,$O$2:$O$40,0),,)-G253)/G253))))))","v":4.5136339777327297E-2},null,null,{"$f":"IFERROR(IF(COUNTIF($E$2:$E$501,E253)=1,\"\",IF(I253=\"\",\"\",ABS(IF(I253=\"\",0,(((H253*OFFSET($S$1,MATCH($E253,$R$2:$R$41,0),,)-G253)/G253)))))),\"\")","v":4.7303401872473075E-2},null,null,{"$f":"IFERROR(IF(COUNTIF($F$2:$F$501,F253)=1,\"\",IF(I253=\"\",\"\",ABS(IF(I253=\"\",0,(((H253*OFFSET($V$1,MATCH($F253,$U$2:$U$105,0),,)-G253)/G253)))))),\"\")","v":6.5463535562897607E-2},null,null,{"$f":"IF(OR(J253<(QUARTILE($J$2:$J$501,1))-1.5*(QUARTILE($J$2:$J$501,3)-QUARTILE($J$2:$J$501,1)),J253>(QUARTILE($J$2:$J$501,3))+1.5*(QUARTILE($J$2:$J$501,3)-QUARTILE($J$2:$J$501,1))),\"Outlier\")","v":false}]
[902288,"CONSOLIDATED EDISON",7000,7500,7530,7535,62.07,3.44,{"$f":"(IF(IFERROR(G254/H254,\"\")<0,\"\",IFERROR(G254/H254,\"\")))","v":18.043604651162791},{"$f":"IF(COUNTIF($C$2:$C$501,C254)=1,\"\",IF(I254=\"\",\"\",ABS(IF(I254=\"\",0,(((H254*OFFSET($M$1,MATCH($C254,$L$2:$L$40,0),,)-G254)/G254))))))","v":6.9529300362016211E-2},{"$f":"IF(OR(J254<(QUARTILE($J$2:$J$501,1))-1.5*(QUARTILE($J$2:$J$501,3)-QUARTILE($J$2:$J$501,1)),J254>(QUARTILE($J$2:$J$501,3))+1.5*(QUARTILE($J$2:$J$501,3)-QUARTILE($J$2:$J$501,1))),\"\",J254)","v":6.9529300362016211E-2},null,null,{"$f":"IF(COUNTIF($D$2:$D$501,D254)=1,\"\",IF(I254=\"\",\"\",ABS(IF(I254=\"\",0,(((H254*OFFSET($P$1,MATCH($D254,$O$2:$O$40,0),,)-G254)/G254))))))","v":6.9529300362016211E-2},null,null,{"$f":"IFERROR(IF(COUNTIF($E$2:$E$501,E254)=1,\"\",IF(I254=\"\",\"\",ABS(IF(I254=\"\",0,(((H254*OFFSET($S$1,MATCH($E254,$R$2:$R$41,0),,)-G254)/G254)))))),\"\")","v":0.12062441878921901},null,null,{"$f":"IFERROR(IF(COUNTIF($F$2:$F$501,F254)=1,\"\",IF(I254=\"\",\"\",ABS(IF(I254=\"\",0,(((H254*OFFSET($V$1,MATCH($F254,$U$2:$U$105,0),,)-G254)/G254)))))),\"\")","v":0.12062441878921901},null,null,{"$f":"IF(OR(J254<(QUARTILE($J$2:$J$501,1))-1.5*(QUARTILE($J$2:$J$501,3)-QUARTILE($J$2:$J$501,1)),J254>(QUARTILE($J$2:$J$501,3))+1.5*(QUARTILE($J$2:$J$501,3)-QUARTILE($J$2:$J$501,1))),\"Outlier\")","v":false}]
[902306,"ENTERGY",7000,7500,7530,7535,67.58,5.3,{"$f":"(IF(IFERROR(G255/H255,\"\")<0,\"\",IFERROR(G255/H255,\"\")))","v":12.750943396226415},{"$f":"IF(COUNTIF($C$2:$C$501,C255)=1,\"\",IF(I255=\"\",\"\",ABS(IF(I255=\"\",0,(((H255*OFFSET($M$1,MATCH($C255,$L$2:$L$40,0),,)-G255)/G255))))))","v":0.31669045356497016},{"$f":"IF(OR(J255<(QUARTILE($J$2:$J$501,1))-1.5*(QUARTILE($J$2:$J$501,3)-QUARTILE($J$2:$J$501,1)),J255>(QUARTILE($J$2:$J$501,3))+1.5*(QUARTILE($J$2:$J$501,3)-QUARTILE($J$2:$J$501,1))),\"\",J255)","v":0.31669045356497016},null,null,{"$f":"IF(COUNTIF($D$2:$D$501,D255)=1,\"\",IF(I255=\"\",\"\",ABS(IF(I255=\"\",0,(((H255*OFFSET($P$1,MATCH($D255,$O$2:$O$40,0),,)-G255)/G255))))))","v":0.31669045356497016},null,null,{"$f":"IFERROR(IF(COUNTIF($E$2:$E$501,E255)=1,\"\",IF(I255=\"\",\"\",ABS(IF(I255=\"\",0,(((H255*OFFSET($S$1,MATCH($E255,$R$2:$R$41,0),,)-G255)/G255)))))),\"\")","v":0.24438677470324521},null,null,{"$f":"IFERROR(IF(COUNTIF($F$2:$F$501,F255)=1,\"\",IF(I255=\"\",\"\",ABS(IF(I255=\"\",0,(((H255*OFFSET($V$1,MATCH($F255,$U$2:$U$105,0),,)-G255)/G255)))))),\"\")","v":0.24438677470324521},null,null,{"$f":"IF(OR(J255<(QUARTILE($J$2:$J$501,1))-1.5*(QUARTILE($J$2:$J$501,3)-QUARTILE($J$2:$J$501,1)),J255>(QUARTILE($J$2:$J$501,3))+1.5*(QUARTILE($J$2:$J$501,3)-QUARTILE($J$2:$J$501,1))),\"Outlier\")","v":false}]
[902314,"PG&E",7000,7500,7530,7535,44.92,2.17,{"$f":"(IF(IFERROR(G256/H256,\"\")<0,\"\",IFERROR(G256/H256,\"\")))","v":20.700460829493089},{"$f":"IF(COUNTIF($C$2:$C$501,C256)=1,\"\",IF(I256=\"\",\"\",ABS(IF(I256=\"\",0,(((H256*OFFSET($M$1,MATCH($C256,$L$2:$L$40,0),,)-G256)/G256))))))","v":0.18895305848272023},{"$f":"IF(OR(J256<(QUARTILE($J$2:$J$501,1))-1.5*(QUARTILE($J$2:$J$501,3)-QUARTILE($J$2:$J$501,1)),J256>(QUARTILE($J$2:$J$501,3))+1.5*(QUARTILE($J$2:$J$501,3)-QUARTILE($J$2:$J$501,1))),\"\",J256)","v":0.18895305848272023},null,null,{"$f":"IF(COUNTIF($D$2:$D$501,D256)=1,\"\",IF(I256=\"\",\"\",ABS(IF(I256=\"\",0,(((H256*OFFSET($P$1,MATCH($D256,$O$2:$O$40,0),,)-G256)/G256))))))","v":0.18895305848272023},null,null,{"$f":"IFERROR(IF(COUNTIF($E$2:$E$501,E256)=1,\"\",IF(I256=\"\",\"\",ABS(IF(I256=\"\",0,(((H256*OFFSET($S$1,MATCH($E256,$R$2:$R$41,0),,)-G256)/G256)))))),\"\")","v":0.23349023686240403},null,null,{"$f":"IFERROR(IF(COUNTIF($F$2:$F$501,F256)=1,\"\",IF(I256=\"\",\"\",ABS(IF(I256=\"\",0,(((H256*OFFSET($V$1,MATCH($F256,$U$2:$U$105,0),,)-G256)/G256)))))),\"\")","v":0.23349023686240403},null,null,{"$f":"IF(OR(J256<(QUARTILE($J$2:$J$501,1))-1.5*(QUARTILE($J$2:$J$501,3)-QUARTILE($J$2:$J$501,1)),J256>(QUARTILE($J$2:$J$501,3))+1.5*(QUARTILE($J$2:$J$501,3)-QUARTILE($J$2:$J$501,1))),\"Outlier\")","v":false}]
[902317,"EXELON",7000,7500,7530,7535,37.4,3.02,{"$f":"(IF(IFERROR(G257/H257,\"\")<0,\"\",IFERROR(G257/H257,\"\")))","v":12.3841059602649},{"$f":"IF(COUNTIF($C$2:$C$501,C257)=1,\"\",IF(I257=\"\",\"\",ABS(IF(I257=\"\",0,(((H257*OFFSET($M$1,MATCH($C257,$L$2:$L$40,0),,)-G257)/G257))))))","v":0.35569297433558933},{"$f":"IF(OR(J257<(QUARTILE($J$2:$J$501,1))-1.5*(QUARTILE($J$2:$J$501,3)-QUARTILE($J$2:$J$501,1)),J257>(QUARTILE($J$2:$J$501,3))+1.5*(QUARTILE($J$2:$J$501,3)-QUARTILE($J$2:$J$501,1))),\"\",J257)","v":0.35569297433558933},null,null,{"$f":"IF(COUNTIF($D$2:$D$501,D257)=1,\"\",IF(I257=\"\",\"\",ABS(IF(I257=\"\",0,(((H257*OFFSET($P$1,MATCH($D257,$O$2:$O$40,0),,)-G257)/G257))))))","v":0.35569297433558933},null,null,{"$f":"IFERROR(IF(COUNTIF($E$2:$E$501,E257)=1,\"\",IF(I257=\"\",\"\",ABS(IF(I257=\"\",0,(((H257*OFFSET($S$1,MATCH($E257,$R$2:$R$41,0),,)-G257)/G257)))))),\"\")","v":0.28124754246809019},null,null,{"$f":"IFERROR(IF(COUNTIF($F$2:$F$501,F257)=1,\"\",IF(I257=\"\",\"\",ABS(IF(I257=\"\",0,(((H257*OFFSET($V$1,MATCH($F257,$U$2:$U$105,0),,)-G257)/G257)))))),\"\")","v":0.28124754246809019},null,null,{"$f":"IF(OR(J257<(QUARTILE($J$2:$J$501,1))-1.5*(QUARTILE($J$2:$J$501,3)-QUARTILE($J$2:$J$501,1)),J257>(QUARTILE($J$2:$J$501,3))+1.5*(QUARTILE($J$2:$J$501,3)-QUARTILE($J$2:$J$501,1))),\"Outlier\")","v":false}]
[902321,"PUB.SER.ENTER.GP.",7000,7500,7530,7535,31.88,2.89,{"$f":"(IF(IFERROR(G258/H258,\"\")<0,\"\",IFERROR(G258/H258,\"\")))","v":11.03114186851211},{"$f":"IF(COUNTIF($C$2:$C$501,C258)=1,\"\",IF(I258=\"\",\"\",ABS(IF(I258=\"\",0,(((H258*OFFSET($M$1,MATCH($C258,$L$2:$L$40,0),,)-G258)/G258))))))","v":0.52196804681500675},{"$f":"IF(OR(J258<(QUARTILE($J$2:$J$501,1))-1.5*(QUARTILE($J$2:$J$501,3)-QUARTILE($J$2:$J$501,1)),J258>(QUARTILE($J$2:$J$501,3))+1.5*(QUARTILE($J$2:$J$501,3)-QUARTILE($J$2:$J$501,1))),\"\",J258)","v":0.52196804681500675},null,null,{"$f":"IF(COUNTIF($D$2:$D$501,D258)=1,\"\",IF(I258=\"\",\"\",ABS(IF(I258=\"\",0,(((H258*OFFSET($P$1,MATCH($D258,$O$2:$O$40,0),,)-G258)/G258))))))","v":0.52196804681500675},null,null,{"$f":"IFERROR(IF(COUNTIF($E$2:$E$501,E258)=1,\"\",IF(I258=\"\",\"\",ABS(IF(I258=\"\",0,(((H258*OFFSET($S$1,MATCH($E258,$R$2:$R$41,0),,)-G258)/G258)))))),\"\")","v":0.43839191956598422},null,null,{"$f":"IFERROR(IF(COUNTIF($F$2:$F$501,F258)=1,\"\",IF(I258=\"\",\"\",ABS(IF(I258=\"\",0,(((H258*OFFSET($V$1,MATCH($F258,$U$2:$U$105,0),,)-G258)/G258)))))),\"\")","v":0.43839191956598422},null,null,{"$f":"IF(OR(J258<(QUARTILE($J$2:$J$501,1))-1.5*(QUARTILE($J$2:$J$501,3)-QUARTILE($J$2:$J$501,1)),J258>(QUARTILE($J$2:$J$501,3))+1.5*(QUARTILE($J$2:$J$501,3)-QUARTILE($J$2:$J$501,1))),\"Outlier\")","v":false}]
[902324,"EDISON INTL.",7000,7500,7530,7535,46.02,0,{"$f":"(IF(IFERROR(G259/H259,\"\")<0,\"\",IFERROR(G259/H259,\"\")))","v":""},{"$f":"IF(COUNTIF($C$2:$C$501,C259)=1,\"\",IF(I259=\"\",\"\",ABS(IF(I259=\"\",0,(((H259*OFFSET($M$1,MATCH($C259,$L$2:$L$40,0),,)-G259)/G259))))))","v":""},{"$f":"IF(OR(J259<(QUARTILE($J$2:$J$501,1))-1.5*(QUARTILE($J$2:$J$501,3)-QUARTILE($J$2:$J$501,1)),J259>(QUARTILE($J$2:$J$501,3))+1.5*(QUARTILE($J$2:$J$501,3)-QUARTILE($J$2:$J$501,1))),\"\",J259)","v":""},null,null,{"$f":"IF(COUNTIF($D$2:$D$501,D259)=1,\"\",IF(I259=\"\",\"\",ABS(IF(I259=\"\",0,(((H259*OFFSET($P$1,MATCH($D259,$O$2:$O$40,0),,)-G259)/G259))))))","v":""},null,null,{"$f":"IFERROR(IF(COUNTIF($E$2:$E$501,E259)=1,\"\",IF(I259=\"\",\"\",ABS(IF(I259=\"\",0,(((H259*OFFSET($S$1,MATCH($E259,$R$2:$R$41,0),,)-G259)/G259)))))),\"\")","v":""},null,null,{"$f":"IFERROR(IF(COUNTIF($F$2:$F$501,F259)=1,\"\",IF(I259=\"\",\"\",ABS(IF(I259=\"\",0,(((H259*OFFSET($V$1,MATCH($F259,$U$2:$U$105,0),,)-G259)/G259)))))),\"\")","v":""},null,null,{"$f":"IF(OR(J259<(QUARTILE($J$2:$J$501,1))-1.5*(QUARTILE($J$2:$J$501,3)-QUARTILE($J$2:$J$501,1)),J259>(QUARTILE($J$2:$J$501,3))+1.5*(QUARTILE($J$2:$J$501,3)-QUARTILE($J$2:$J$501,1))),\"Outlier\")","v":"Outlier"}]
[902325,"SOUTHERN",7000,7500,7530,7535,46.66,2.48,{"$f":"(IF(IFERROR(G260/H260,\"\")<0,\"\",IFERROR(G260/H260,\"\")))","v":18.814516129032256},{"$f":"IF(COUNTIF($C$2:$C$501,C260)=1,\"\",IF(I260=\"\",\"\",ABS(IF(I260=\"\",0,(((H260*OFFSET($M$1,MATCH($C260,$L$2:$L$40,0),,)-G260)/G260))))))","v":0.10765467851432953},{"$f":"IF(OR(J260<(QUARTILE($J$2:$J$501,1))-1.5*(QUARTILE($J$2:$J$501,3)-QUARTILE($J$2:$J$501,1)),J260>(QUARTILE($J$2:$J$501,3))+1.5*(QUARTILE($J$2:$J$501,3)-QUARTILE($J$2:$J$501,1))),\"\",J260)","v":0.10765467851432953},null,null,{"$f":"IF(COUNTIF($D$2:$D$501,D260)=1,\"\",IF(I260=\"\",\"\",ABS(IF(I260=\"\",0,(((H260*OFFSET($P$1,MATCH($D260,$O$2:$O$40,0),,)-G260)/G260))))))","v":0.10765467851432953},null,null,{"$f":"IFERROR(IF(COUNTIF($E$2:$E$501,E260)=1,\"\",IF(I260=\"\",\"\",ABS(IF(I260=\"\",0,(((H260*OFFSET($S$1,MATCH($E260,$R$2:$R$41,0),,)-G260)/G260)))))),\"\")","v":0.15665621063888766},null,null,{"$f":"IFERROR(IF(COUNTIF($F$2:$F$501,F260)=1,\"\",IF(I260=\"\",\"\",ABS(IF(I260=\"\",0,(((H260*OFFSET($V$1,MATCH($F260,$U$2:$U$105,0),,)-G260)/G260)))))),\"\")","v":0.15665621063888766},null,null,{"$f":"IF(OR(J260<(QUARTILE($J$2:$J$501,1))-1.5*(QUARTILE($J$2:$J$501,3)-QUARTILE($J$2:$J$501,1)),J260>(QUARTILE($J$2:$J$501,3))+1.5*(QUARTILE($J$2:$J$501,3)-QUARTILE($J$2:$J$501,1))),\"Outlier\")","v":false}]
[902329,"TXU DEAD - MERGER",7000,7500,7530,7535,69.239999999999995,2.48,{"$f":"(IF(IFERROR(G261/H261,\"\")<0,\"\",IFERROR(G261/H261,\"\")))","v":27.919354838709676},{"$f":"IF(COUNTIF($C$2:$C$501,C261)=1,\"\",IF(I261=\"\",\"\",ABS(IF(I261=\"\",0,(((H261*OFFSET($M$1,MATCH($C261,$L$2:$L$40,0),,)-G261)/G261))))))","v":0.39865926197976048},{"$f":"IF(OR(J261<(QUARTILE($J$2:$J$501,1))-1.5*(QUARTILE($J$2:$J$501,3)-QUARTILE($J$2:$J$501,1)),J261>(QUARTILE($J$2:$J$501,3))+1.5*(QUARTILE($J$2:$J$501,3)-QUARTILE($J$2:$J$501,1))),\"\",J261)","v":0.39865926197976048},null,null,{"$f":"IF(COUNTIF($D$2:$D$501,D261)=1,\"\",IF(I261=\"\",\"\",ABS(IF(I261=\"\",0,(((H261*OFFSET($P$1,MATCH($D261,$O$2:$O$40,0),,)-G261)/G261))))))","v":0.39865926197976048},null,null,{"$f":"IFERROR(IF(COUNTIF($E$2:$E$501,E261)=1,\"\",IF(I261=\"\",\"\",ABS(IF(I261=\"\",0,(((H261*OFFSET($S$1,MATCH($E261,$R$2:$R$41,0),,)-G261)/G261)))))),\"\")","v":0.43168080283666233},null,null,{"$f":"IFERROR(IF(COUNTIF($F$2:$F$501,F261)=1,\"\",IF(I261=\"\",\"\",ABS(IF(I261=\"\",0,(((H261*OFFSET($V$1,MATCH($F261,$U$2:$U$105,0),,)-G261)/G261)))))),\"\")","v":0.43168080283666233},null,null,{"$f":"IF(OR(J261<(QUARTILE($J$2:$J$501,1))-1.5*(QUARTILE($J$2:$J$501,3)-QUARTILE($J$2:$J$501,1)),J261>(QUARTILE($J$2:$J$501,3))+1.5*(QUARTILE($J$2:$J$501,3)-QUARTILE($J$2:$J$501,1))),\"Outlier\")","v":false}]
[902336,"INTEGRYS ENERGY GROUP",7000,7500,7570,7575,56.89,2.57,{"$f":"(IF(IFERROR(G262/H262,\"\")<0,\"\",IFERROR(G262/H262,\"\")))","v":22.136186770428019},{"$f":"IF(COUNTIF($C$2:$C$501,C262)=1,\"\",IF(I262=\"\",\"\",ABS(IF(I262=\"\",0,(((H262*OFFSET($M$1,MATCH($C262,$L$2:$L$40,0),,)-G262)/G262))))))","v":0.24155656898471345},{"$f":"IF(OR(J262<(QUARTILE($J$2:$J$501,1))-1.5*(QUARTILE($J$2:$J$501,3)-QUARTILE($J$2:$J$501,1)),J262>(QUARTILE($J$2:$J$501,3))+1.5*(QUARTILE($J$2:$J$501,3)-QUARTILE($J$2:$J$501,1))),\"\",J262)","v":0.24155656898471345},null,null,{"$f":"IF(COUNTIF($D$2:$D$501,D262)=1,\"\",IF(I262=\"\",\"\",ABS(IF(I262=\"\",0,(((H262*OFFSET($P$1,MATCH($D262,$O$2:$O$40,0),,)-G262)/G262))))))","v":0.24155656898471345},null,null,{"$f":"IFERROR(IF(COUNTIF($E$2:$E$501,E262)=1,\"\",IF(I262=\"\",\"\",ABS(IF(I262=\"\",0,(((H262*OFFSET($S$1,MATCH($E262,$R$2:$R$41,0),,)-G262)/G262)))))),\"\")","v":0.1418306613631457},null,null,{"$f":"IFERROR(IF(COUNTIF($F$2:$F$501,F262)=1,\"\",IF(I262=\"\",\"\",ABS(IF(I262=\"\",0,(((H262*OFFSET($V$1,MATCH($F262,$U$2:$U$105,0),,)-G262)/G262)))))),\"\")","v":0.15454918828206418},null,null,{"$f":"IF(OR(J262<(QUARTILE($J$2:$J$501,1))-1.5*(QUARTILE($J$2:$J$501,3)-QUARTILE($J$2:$J$501,1)),J262>(QUARTILE($J$2:$J$501,3))+1.5*(QUARTILE($J$2:$J$501,3)-QUARTILE($J$2:$J$501,1))),\"Outlier\")","v":false}]
[902354,"KIMBERLY-CLARK",3000,3700,3760,3767,82.56,4.3099999999999996,{"$f":"(IF(IFERROR(G263/H263,\"\")<0,\"\",IFERROR(G263/H263,\"\")))","v":19.155452436194899},{"$f":"IF(COUNTIF($C$2:$C$501,C263)=1,\"\",IF(I263=\"\",\"\",ABS(IF(I263=\"\",0,(((H263*OFFSET($M$1,MATCH($C263,$L$2:$L$40,0),,)-G263)/G263))))))","v":0.16524111569615973},{"$f":"IF(OR(J263<(QUARTILE($J$2:$J$501,1))-1.5*(QUARTILE($J$2:$J$501,3)-QUARTILE($J$2:$J$501,1)),J263>(QUARTILE($J$2:$J$501,3))+1.5*(QUARTILE($J$2:$J$501,3)-QUARTILE($J$2:$J$501,1))),\"\",J263)","v":0.16524111569615973},null,null,{"$f":"IF(COUNTIF($D$2:$D$501,D263)=1,\"\",IF(I263=\"\",\"\",ABS(IF(I263=\"\",0,(((H263*OFFSET($P$1,MATCH($D263,$O$2:$O$40,0),,)-G263)/G263))))))","v":6.553590251983047E-3},null,null,{"$f":"IFERROR(IF(COUNTIF($E$2:$E$501,E263)=1,\"\",IF(I263=\"\",\"\",ABS(IF(I263=\"\",0,(((H263*OFFSET($S$1,MATCH($E263,$R$2:$R$41,0),,)-G263)/G263)))))),\"\")","v":1.5094567251799874E-2},null,null,{"$f":"IFERROR(IF(COUNTIF($F$2:$F$501,F263)=1,\"\",IF(I263=\"\",\"\",ABS(IF(I263=\"\",0,(((H263*OFFSET($V$1,MATCH($F263,$U$2:$U$105,0),,)-G263)/G263)))))),\"\")","v":4.1609960210349982E-2},null,null,{"$f":"IF(OR(J263<(QUARTILE($J$2:$J$501,1))-1.5*(QUARTILE($J$2:$J$501,3)-QUARTILE($J$2:$J$501,1)),J263>(QUARTILE($J$2:$J$501,3))+1.5*(QUARTILE($J$2:$J$501,3)-QUARTILE($J$2:$J$501,1))),\"Outlier\")","v":false}]
[902607,"PINNACLE WEST CAP.",7000,7500,7530,7535,51.42,3.14,{"$f":"(IF(IFERROR(G264/H264,\"\")<0,\"\",IFERROR(G264/H264,\"\")))","v":16.375796178343951},{"$f":"IF(COUNTIF($C$2:$C$501,C264)=1,\"\",IF(I264=\"\",\"\",ABS(IF(I264=\"\",0,(((H264*OFFSET($M$1,MATCH($C264,$L$2:$L$40,0),,)-G264)/G264))))))","v":2.5235369377714301E-2},{"$f":"IF(OR(J264<(QUARTILE($J$2:$J$501,1))-1.5*(QUARTILE($J$2:$J$501,3)-QUARTILE($J$2:$J$501,1)),J264>(QUARTILE($J$2:$J$501,3))+1.5*(QUARTILE($J$2:$J$501,3)-QUARTILE($J$2:$J$501,1))),\"\",J264)","v":2.5235369377714301E-2},null,null,{"$f":"IF(COUNTIF($D$2:$D$501,D264)=1,\"\",IF(I264=\"\",\"\",ABS(IF(I264=\"\",0,(((H264*OFFSET($P$1,MATCH($D264,$O$2:$O$40,0),,)-G264)/G264))))))","v":2.5235369377714301E-2},null,null,{"$f":"IFERROR(IF(COUNTIF($E$2:$E$501,E264)=1,\"\",IF(I264=\"\",\"\",ABS(IF(I264=\"\",0,(((H264*OFFSET($S$1,MATCH($E264,$R$2:$R$41,0),,)-G264)/G264)))))),\"\")","v":3.1063579782632623E-2},null,null,{"$f":"IFERROR(IF(COUNTIF($F$2:$F$501,F264)=1,\"\",IF(I264=\"\",\"\",ABS(IF(I264=\"\",0,(((H264*OFFSET($V$1,MATCH($F264,$U$2:$U$105,0),,)-G264)/G264)))))),\"\")","v":3.1063579782632623E-2},null,null,{"$f":"IF(OR(J264<(QUARTILE($J$2:$J$501,1))-1.5*(QUARTILE($J$2:$J$501,3)-QUARTILE($J$2:$J$501,1)),J264>(QUARTILE($J$2:$J$501,3))+1.5*(QUARTILE($J$2:$J$501,3)-QUARTILE($J$2:$J$501,1))),\"Outlier\")","v":false}]
[903749,"EATON",2000,2700,2720,2727,37.479999999999997,4.0199999999999996,{"$f":"(IF(IFERROR(G265/H265,\"\")<0,\"\",IFERROR(G265/H265,\"\")))","v":9.3233830845771148},{"$f":"IF(COUNTIF($C$2:$C$501,C265)=1,\"\",IF(I265=\"\",\"\",ABS(IF(I265=\"\",0,(((H265*OFFSET($M$1,MATCH($C265,$L$2:$L$40,0),,)-G265)/G265))))))","v":0.55564035835230974},{"$f":"IF(OR(J265<(QUARTILE($J$2:$J$501,1))-1.5*(QUARTILE($J$2:$J$501,3)-QUARTILE($J$2:$J$501,1)),J265>(QUARTILE($J$2:$J$501,3))+1.5*(QUARTILE($J$2:$J$501,3)-QUARTILE($J$2:$J$501,1))),\"\",J265)","v":0.55564035835230974},null,null,{"$f":"IF(COUNTIF($D$2:$D$501,D265)=1,\"\",IF(I265=\"\",\"\",ABS(IF(I265=\"\",0,(((H265*OFFSET($P$1,MATCH($D265,$O$2:$O$40,0),,)-G265)/G265))))))","v":0.53575699144786082},null,null,{"$f":"IFERROR(IF(COUNTIF($E$2:$E$501,E265)=1,\"\",IF(I265=\"\",\"\",ABS(IF(I265=\"\",0,(((H265*OFFSET($S$1,MATCH($E265,$R$2:$R$41,0),,)-G265)/G265)))))),\"\")","v":0.94211414000295357},null,null,{"$f":"IFERROR(IF(COUNTIF($F$2:$F$501,F265)=1,\"\",IF(I265=\"\",\"\",ABS(IF(I265=\"\",0,(((H265*OFFSET($V$1,MATCH($F265,$U$2:$U$105,0),,)-G265)/G265)))))),\"\")","v":0.66241828691400328},null,null,{"$f":"IF(OR(J265<(QUARTILE($J$2:$J$501,1))-1.5*(QUARTILE($J$2:$J$501,3)-QUARTILE($J$2:$J$501,1)),J265>(QUARTILE($J$2:$J$501,3))+1.5*(QUARTILE($J$2:$J$501,3)-QUARTILE($J$2:$J$501,1))),\"Outlier\")","v":false}]
[904030,"PFIZER",4000,4500,4570,4577,22.53,1.07,{"$f":"(IF(IFERROR(G266/H266,\"\")<0,\"\",IFERROR(G266/H266,\"\")))","v":21.056074766355142},{"$f":"IF(COUNTIF($C$2:$C$501,C266)=1,\"\",IF(I266=\"\",\"\",ABS(IF(I266=\"\",0,(((H266*OFFSET($M$1,MATCH($C266,$L$2:$L$40,0),,)-G266)/G266))))))","v":0.19615633671116736},{"$f":"IF(OR(J266<(QUARTILE($J$2:$J$501,1))-1.5*(QUARTILE($J$2:$J$501,3)-QUARTILE($J$2:$J$501,1)),J266>(QUARTILE($J$2:$J$501,3))+1.5*(QUARTILE($J$2:$J$501,3)-QUARTILE($J$2:$J$501,1))),\"\",J266)","v":0.19615633671116736},null,null,{"$f":"IF(COUNTIF($D$2:$D$501,D266)=1,\"\",IF(I266=\"\",\"\",ABS(IF(I266=\"\",0,(((H266*OFFSET($P$1,MATCH($D266,$O$2:$O$40,0),,)-G266)/G266))))))","v":0.19615633671116736},null,null,{"$f":"IFERROR(IF(COUNTIF($E$2:$E$501,E266)=1,\"\",IF(I266=\"\",\"\",ABS(IF(I266=\"\",0,(((H266*OFFSET($S$1,MATCH($E266,$R$2:$R$41,0),,)-G266)/G266)))))),\"\")","v":5.5413494756649972E-2},null,null,{"$f":"IFERROR(IF(COUNTIF($F$2:$F$501,F266)=1,\"\",IF(I266=\"\",\"\",ABS(IF(I266=\"\",0,(((H266*OFFSET($V$1,MATCH($F266,$U$2:$U$105,0),,)-G266)/G266)))))),\"\")","v":0.12368434267475321},null,null,{"$f":"IF(OR(J266<(QUARTILE($J$2:$J$501,1))-1.5*(QUARTILE($J$2:$J$501,3)-QUARTILE($J$2:$J$501,1)),J266>(QUARTILE($J$2:$J$501,3))+1.5*(QUARTILE($J$2:$J$501,3)-QUARTILE($J$2:$J$501,1))),\"Outlier\")","v":false}]
[904069,"INTL.PAPER",1000,1700,1730,1737,27.89,2.73,{"$f":"(IF(IFERROR(G267/H267,\"\")<0,\"\",IFERROR(G267/H267,\"\")))","v":10.216117216117217},{"$f":"IF(COUNTIF($C$2:$C$501,C267)=1,\"\",IF(I267=\"\",\"\",ABS(IF(I267=\"\",0,(((H267*OFFSET($M$1,MATCH($C267,$L$2:$L$40,0),,)-G267)/G267))))))","v":0.51690482161793438},{"$f":"IF(OR(J267<(QUARTILE($J$2:$J$501,1))-1.5*(QUARTILE($J$2:$J$501,3)-QUARTILE($J$2:$J$501,1)),J267>(QUARTILE($J$2:$J$501,3))+1.5*(QUARTILE($J$2:$J$501,3)-QUARTILE($J$2:$J$501,1))),\"\",J267)","v":0.51690482161793438},null,null,{"$f":"IF(COUNTIF($D$2:$D$501,D267)=1,\"\",IF(I267=\"\",\"\",ABS(IF(I267=\"\",0,(((H267*OFFSET($P$1,MATCH($D267,$O$2:$O$40,0),,)-G267)/G267))))))","v":0.23162435670469353},null,null,{"$f":"IFERROR(IF(COUNTIF($E$2:$E$501,E267)=1,\"\",IF(I267=\"\",\"\",ABS(IF(I267=\"\",0,(((H267*OFFSET($S$1,MATCH($E267,$R$2:$R$41,0),,)-G267)/G267)))))),\"\")","v":""},null,null,{"$f":"IFERROR(IF(COUNTIF($F$2:$F$501,F267)=1,\"\",IF(I267=\"\",\"\",ABS(IF(I267=\"\",0,(((H267*OFFSET($V$1,MATCH($F267,$U$2:$U$105,0),,)-G267)/G267)))))),\"\")","v":""},null,null,{"$f":"IF(OR(J267<(QUARTILE($J$2:$J$501,1))-1.5*(QUARTILE($J$2:$J$501,3)-QUARTILE($J$2:$J$501,1)),J267>(QUARTILE($J$2:$J$501,3))+1.5*(QUARTILE($J$2:$J$501,3)-QUARTILE($J$2:$J$501,1))),\"Outlier\")","v":false}]
[904259,"BEAM",3000,3500,3530,3535,61.2,1.39,{"$f":"(IF(IFERROR(G268/H268,\"\")<0,\"\",IFERROR(G268/H268,\"\")))","v":44.02877697841727},{"$f":"IF(COUNTIF($C$2:$C$501,C268)=1,\"\",IF(I268=\"\",\"\",ABS(IF(I268=\"\",0,(((H268*OFFSET($M$1,MATCH($C268,$L$2:$L$40,0),,)-G268)/G268))))))","v":0.63682424992609588},{"$f":"IF(OR(J268<(QUARTILE($J$2:$J$501,1))-1.5*(QUARTILE($J$2:$J$501,3)-QUARTILE($J$2:$J$501,1)),J268>(QUARTILE($J$2:$J$501,3))+1.5*(QUARTILE($J$2:$J$501,3)-QUARTILE($J$2:$J$501,1))),\"\",J268)","v":0.63682424992609588},null,null,{"$f":"IF(COUNTIF($D$2:$D$501,D268)=1,\"\",IF(I268=\"\",\"\",ABS(IF(I268=\"\",0,(((H268*OFFSET($P$1,MATCH($D268,$O$2:$O$40,0),,)-G268)/G268))))))","v":0.5942579451629898},null,null,{"$f":"IFERROR(IF(COUNTIF($E$2:$E$501,E268)=1,\"\",IF(I268=\"\",\"\",ABS(IF(I268=\"\",0,(((H268*OFFSET($S$1,MATCH($E268,$R$2:$R$41,0),,)-G268)/G268)))))),\"\")","v":0.59302363396929825},null,null,{"$f":"IFERROR(IF(COUNTIF($F$2:$F$501,F268)=1,\"\",IF(I268=\"\",\"\",ABS(IF(I268=\"\",0,(((H268*OFFSET($V$1,MATCH($F268,$U$2:$U$105,0),,)-G268)/G268)))))),\"\")","v":""},null,null,{"$f":"IF(OR(J268<(QUARTILE($J$2:$J$501,1))-1.5*(QUARTILE($J$2:$J$501,3)-QUARTILE($J$2:$J$501,1)),J268>(QUARTILE($J$2:$J$501,3))+1.5*(QUARTILE($J$2:$J$501,3)-QUARTILE($J$2:$J$501,1))),\"Outlier\")","v":false}]
[904282,"COCA COLA",3000,3500,3530,3537,76.569999999999993,3.76,{"$f":"(IF(IFERROR(G269/H269,\"\")<0,\"\",IFERROR(G269/H269,\"\")))","v":20.36436170212766},{"$f":"IF(COUNTIF($C$2:$C$501,C269)=1,\"\",IF(I269=\"\",\"\",ABS(IF(I269=\"\",0,(((H269*OFFSET($M$1,MATCH($C269,$L$2:$L$40,0),,)-G269)/G269))))))","v":0.21479571332193115},{"$f":"IF(OR(J269<(QUARTILE($J$2:$J$501,1))-1.5*(QUARTILE($J$2:$J$501,3)-QUARTILE($J$2:$J$501,1)),J269>(QUARTILE($J$2:$J$501,3))+1.5*(QUARTILE($J$2:$J$501,3)-QUARTILE($J$2:$J$501,1))),\"\",J269)","v":0.21479571332193115},null,null,{"$f":"IF(COUNTIF($D$2:$D$501,D269)=1,\"\",IF(I269=\"\",\"\",ABS(IF(I269=\"\",0,(((H269*OFFSET($P$1,MATCH($D269,$O$2:$O$40,0),,)-G269)/G269))))))","v":0.12276521579770318},null,null,{"$f":"IFERROR(IF(COUNTIF($E$2:$E$501,E269)=1,\"\",IF(I269=\"\",\"\",ABS(IF(I269=\"\",0,(((H269*OFFSET($S$1,MATCH($E269,$R$2:$R$41,0),,)-G269)/G269)))))),\"\")","v":0.12009657275040704},null,null,{"$f":"IFERROR(IF(COUNTIF($F$2:$F$501,F269)=1,\"\",IF(I269=\"\",\"\",ABS(IF(I269=\"\",0,(((H269*OFFSET($V$1,MATCH($F269,$U$2:$U$105,0),,)-G269)/G269)))))),\"\")","v":0.12509498003123518},null,null,{"$f":"IF(OR(J269<(QUARTILE($J$2:$J$501,1))-1.5*(QUARTILE($J$2:$J$501,3)-QUARTILE($J$2:$J$501,1)),J269>(QUARTILE($J$2:$J$501,3))+1.5*(QUARTILE($J$2:$J$501,3)-QUARTILE($J$2:$J$501,1))),\"Outlier\")","v":false}]
[904332,"CONSTELLATION EN. DEAD - AQCD.BY 902317",7000,7500,7530,7535,37.229999999999997,0,{"$f":"(IF(IFERROR(G270/H270,\"\")<0,\"\",IFERROR(G270/H270,\"\")))","v":""},{"$f":"IF(COUNTIF($C$2:$C$501,C270)=1,\"\",IF(I270=\"\",\"\",ABS(IF(I270=\"\",0,(((H270*OFFSET($M$1,MATCH($C270,$L$2:$L$40,0),,)-G270)/G270))))))","v":""},{"$f":"IF(OR(J270<(QUARTILE($J$2:$J$501,1))-1.5*(QUARTILE($J$2:$J$501,3)-QUARTILE($J$2:$J$501,1)),J270>(QUARTILE($J$2:$J$501,3))+1.5*(QUARTILE($J$2:$J$501,3)-QUARTILE($J$2:$J$501,1))),\"\",J270)","v":""},null,null,{"$f":"IF(COUNTIF($D$2:$D$501,D270)=1,\"\",IF(I270=\"\",\"\",ABS(IF(I270=\"\",0,(((H270*OFFSET($P$1,MATCH($D270,$O$2:$O$40,0),,)-G270)/G270))))))","v":""},null,null,{"$f":"IFERROR(IF(COUNTIF($E$2:$E$501,E270)=1,\"\",IF(I270=\"\",\"\",ABS(IF(I270=\"\",0,(((H270*OFFSET($S$1,MATCH($E270,$R$2:$R$41,0),,)-G270)/G270)))))),\"\")","v":""},null,null,{"$f":"IFERROR(IF(COUNTIF($F$2:$F$501,F270)=1,\"\",IF(I270=\"\",\"\",ABS(IF(I270=\"\",0,(((H270*OFFSET($V$1,MATCH($F270,$U$2:$U$105,0),,)-G270)/G270)))))),\"\")","v":""},null,null,{"$f":"IF(OR(J270<(QUARTILE($J$2:$J$501,1))-1.5*(QUARTILE($J$2:$J$501,3)-QUARTILE($J$2:$J$501,1)),J270>(QUARTILE($J$2:$J$501,3))+1.5*(QUARTILE($J$2:$J$501,3)-QUARTILE($J$2:$J$501,1))),\"Outlier\")","v":"Outlier"}]
[904383,"DUKE ENERGY",7000,7500,7570,7575,23.06,1.1200000000000001,{"$f":"(IF(IFERROR(G271/H271,\"\")<0,\"\",IFERROR(G271/H271,\"\")))","v":20.589285714285712},{"$f":"IF(COUNTIF($C$2:$C$501,C271)=1,\"\",IF(I271=\"\",\"\",ABS(IF(I271=\"\",0,(((H271*OFFSET($M$1,MATCH($C271,$L$2:$L$40,0),,)-G271)/G271))))))","v":0.18457368182958983},{"$f":"IF(OR(J271<(QUARTILE($J$2:$J$501,1))-1.5*(QUARTILE($J$2:$J$501,3)-QUARTILE($J$2:$J$501,1)),J271>(QUARTILE($J$2:$J$501,3))+1.5*(QUARTILE($J$2:$J$501,3)-QUARTILE($J$2:$J$501,1))),\"\",J271)","v":0.18457368182958983},null,null,{"$f":"IF(COUNTIF($D$2:$D$501,D271)=1,\"\",IF(I271=\"\",\"\",ABS(IF(I271=\"\",0,(((H271*OFFSET($P$1,MATCH($D271,$O$2:$O$40,0),,)-G271)/G271))))))","v":0.18457368182958983},null,null,{"$f":"IFERROR(IF(COUNTIF($E$2:$E$501,E271)=1,\"\",IF(I271=\"\",\"\",ABS(IF(I271=\"\",0,(((H271*OFFSET($S$1,MATCH($E271,$R$2:$R$41,0),,)-G271)/G271)))))),\"\")","v":7.7355231049153955E-2},null,null,{"$f":"IFERROR(IF(COUNTIF($F$2:$F$501,F271)=1,\"\",IF(I271=\"\",\"\",ABS(IF(I271=\"\",0,(((H271*OFFSET($V$1,MATCH($F271,$U$2:$U$105,0),,)-G271)/G271)))))),\"\")","v":9.1029318204423879E-2},null,null,{"$f":"IF(OR(J271<(QUARTILE($J$2:$J$501,1))-1.5*(QUARTILE($J$2:$J$501,3)-QUARTILE($J$2:$J$501,1)),J271>(QUARTILE($J$2:$J$501,3))+1.5*(QUARTILE($J$2:$J$501,3)-QUARTILE($J$2:$J$501,1))),\"Outlier\")","v":false}]
[904414,"QUESTAR",7000,7500,7570,7573,21.11,1.18,{"$f":"(IF(IFERROR(G272/H272,\"\")<0,\"\",IFERROR(G272/H272,\"\")))","v":17.889830508474578},{"$f":"IF(COUNTIF($C$2:$C$501,C272)=1,\"\",IF(I272=\"\",\"\",ABS(IF(I272=\"\",0,(((H272*OFFSET($M$1,MATCH($C272,$L$2:$L$40,0),,)-G272)/G272))))))","v":6.1531330003071004E-2},{"$f":"IF(OR(J272<(QUARTILE($J$2:$J$501,1))-1.5*(QUARTILE($J$2:$J$501,3)-QUARTILE($J$2:$J$501,1)),J272>(QUARTILE($J$2:$J$501,3))+1.5*(QUARTILE($J$2:$J$501,3)-QUARTILE($J$2:$J$501,1))),\"\",J272)","v":6.1531330003071004E-2},null,null,{"$f":"IF(COUNTIF($D$2:$D$501,D272)=1,\"\",IF(I272=\"\",\"\",ABS(IF(I272=\"\",0,(((H272*OFFSET($P$1,MATCH($D272,$O$2:$O$40,0),,)-G272)/G272))))))","v":6.1531330003071004E-2},null,null,{"$f":"IFERROR(IF(COUNTIF($E$2:$E$501,E272)=1,\"\",IF(I272=\"\",\"\",ABS(IF(I272=\"\",0,(((H272*OFFSET($S$1,MATCH($E272,$R$2:$R$41,0),,)-G272)/G272)))))),\"\")","v":6.1865664502591775E-2},null,null,{"$f":"IFERROR(IF(COUNTIF($F$2:$F$501,F272)=1,\"\",IF(I272=\"\",\"\",ABS(IF(I272=\"\",0,(((H272*OFFSET($V$1,MATCH($F272,$U$2:$U$105,0),,)-G272)/G272)))))),\"\")","v":7.8083802414118483E-2},null,null,{"$f":"IF(OR(J272<(QUARTILE($J$2:$J$501,1))-1.5*(QUARTILE($J$2:$J$501,3)-QUARTILE($J$2:$J$501,1)),J272>(QUARTILE($J$2:$J$501,3))+1.5*(QUARTILE($J$2:$J$501,3)-QUARTILE($J$2:$J$501,1))),\"Outlier\")","v":false}]
[904464,"NICOR DEAD - AQCD.BY 906820",7000,7500,7570,7573,54.84,2.39,{"$f":"(IF(IFERROR(G273/H273,\"\")<0,\"\",IFERROR(G273/H273,\"\")))","v":22.94560669456067},{"$f":"IF(COUNTIF($C$2:$C$501,C273)=1,\"\",IF(I273=\"\",\"\",ABS(IF(I273=\"\",0,(((H273*OFFSET($M$1,MATCH($C273,$L$2:$L$40,0),,)-G273)/G273))))))","v":0.26831111213378739},{"$f":"IF(OR(J273<(QUARTILE($J$2:$J$501,1))-1.5*(QUARTILE($J$2:$J$501,3)-QUARTILE($J$2:$J$501,1)),J273>(QUARTILE($J$2:$J$501,3))+1.5*(QUARTILE($J$2:$J$501,3)-QUARTILE($J$2:$J$501,1))),\"\",J273)","v":0.26831111213378739},null,null,{"$f":"IF(COUNTIF($D$2:$D$501,D273)=1,\"\",IF(I273=\"\",\"\",ABS(IF(I273=\"\",0,(((H273*OFFSET($P$1,MATCH($D273,$O$2:$O$40,0),,)-G273)/G273))))))","v":0.26831111213378739},null,null,{"$f":"IFERROR(IF(COUNTIF($E$2:$E$501,E273)=1,\"\",IF(I273=\"\",\"\",ABS(IF(I273=\"\",0,(((H273*OFFSET($S$1,MATCH($E273,$R$2:$R$41,0),,)-G273)/G273)))))),\"\")","v":0.17210309522025841},null,null,{"$f":"IFERROR(IF(COUNTIF($F$2:$F$501,F273)=1,\"\",IF(I273=\"\",\"\",ABS(IF(I273=\"\",0,(((H273*OFFSET($V$1,MATCH($F273,$U$2:$U$105,0),,)-G273)/G273)))))),\"\")","v":0.1594584202608007},null,null,{"$f":"IF(OR(J273<(QUARTILE($J$2:$J$501,1))-1.5*(QUARTILE($J$2:$J$501,3)-QUARTILE($J$2:$J$501,1)),J273>(QUARTILE($J$2:$J$501,3))+1.5*(QUARTILE($J$2:$J$501,3)-QUARTILE($J$2:$J$501,1))),\"Outlier\")","v":false}]
[904678,"HALLIBURTON",1,500,570,573,27.69,3.2,{"$f":"(IF(IFERROR(G274/H274,\"\")<0,\"\",IFERROR(G274/H274,\"\")))","v":8.6531249999999993},{"$f":"IF(COUNTIF($C$2:$C$501,C274)=1,\"\",IF(I274=\"\",\"\",ABS(IF(I274=\"\",0,(((H274*OFFSET($M$1,MATCH($C274,$L$2:$L$40,0),,)-G274)/G274))))))","v":7.1592726539625798E-2},{"$f":"IF(OR(J274<(QUARTILE($J$2:$J$501,1))-1.5*(QUARTILE($J$2:$J$501,3)-QUARTILE($J$2:$J$501,1)),J274>(QUARTILE($J$2:$J$501,3))+1.5*(QUARTILE($J$2:$J$501,3)-QUARTILE($J$2:$J$501,1))),\"\",J274)","v":7.1592726539625798E-2},null,null,{"$f":"IF(COUNTIF($D$2:$D$501,D274)=1,\"\",IF(I274=\"\",\"\",ABS(IF(I274=\"\",0,(((H274*OFFSET($P$1,MATCH($D274,$O$2:$O$40,0),,)-G274)/G274))))))","v":7.1592726539625798E-2},null,null,{"$f":"IFERROR(IF(COUNTIF($E$2:$E$501,E274)=1,\"\",IF(I274=\"\",\"\",ABS(IF(I274=\"\",0,(((H274*OFFSET($S$1,MATCH($E274,$R$2:$R$41,0),,)-G274)/G274)))))),\"\")","v":0.19523939099804902},null,null,{"$f":"IFERROR(IF(COUNTIF($F$2:$F$501,F274)=1,\"\",IF(I274=\"\",\"\",ABS(IF(I274=\"\",0,(((H274*OFFSET($V$1,MATCH($F274,$U$2:$U$105,0),,)-G274)/G274)))))),\"\")","v":4.0732044624577503E-2},null,null,{"$f":"IF(OR(J274<(QUARTILE($J$2:$J$501,1))-1.5*(QUARTILE($J$2:$J$501,3)-QUARTILE($J$2:$J$501,1)),J274>(QUARTILE($J$2:$J$501,3))+1.5*(QUARTILE($J$2:$J$501,3)-QUARTILE($J$2:$J$501,1))),\"Outlier\")","v":false}]
[904780,"MARSH & MCLENNAN",8000,8500,8530,8534,31.52,1.76,{"$f":"(IF(IFERROR(G275/H275,\"\")<0,\"\",IFERROR(G275/H275,\"\")))","v":17.90909090909091},{"$f":"IF(COUNTIF($C$2:$C$501,C275)=1,\"\",IF(I275=\"\",\"\",ABS(IF(I275=\"\",0,(((H275*OFFSET($M$1,MATCH($C275,$L$2:$L$40,0),,)-G275)/G275))))))","v":0.25731623299632084},{"$f":"IF(OR(J275<(QUARTILE($J$2:$J$501,1))-1.5*(QUARTILE($J$2:$J$501,3)-QUARTILE($J$2:$J$501,1)),J275>(QUARTILE($J$2:$J$501,3))+1.5*(QUARTILE($J$2:$J$501,3)-QUARTILE($J$2:$J$501,1))),\"\",J275)","v":0.25731623299632084},null,null,{"$f":"IF(COUNTIF($D$2:$D$501,D275)=1,\"\",IF(I275=\"\",\"\",ABS(IF(I275=\"\",0,(((H275*OFFSET($P$1,MATCH($D275,$O$2:$O$40,0),,)-G275)/G275))))))","v":0.39902800087998996},null,null,{"$f":"IFERROR(IF(COUNTIF($E$2:$E$501,E275)=1,\"\",IF(I275=\"\",\"\",ABS(IF(I275=\"\",0,(((H275*OFFSET($S$1,MATCH($E275,$R$2:$R$41,0),,)-G275)/G275)))))),\"\")","v":0.38235041467073305},null,null,{"$f":"IFERROR(IF(COUNTIF($F$2:$F$501,F275)=1,\"\",IF(I275=\"\",\"\",ABS(IF(I275=\"\",0,(((H275*OFFSET($V$1,MATCH($F275,$U$2:$U$105,0),,)-G275)/G275)))))),\"\")","v":""},null,null,{"$f":"IF(OR(J275<(QUARTILE($J$2:$J$501,1))-1.5*(QUARTILE($J$2:$J$501,3)-QUARTILE($J$2:$J$501,1)),J275>(QUARTILE($J$2:$J$501,3))+1.5*(QUARTILE($J$2:$J$501,3)-QUARTILE($J$2:$J$501,1))),\"Outlier\")","v":false}]
[904820,"PROGRESS ENERGY",7000,7500,7530,7535,60.18,1.83,{"$f":"(IF(IFERROR(G276/H276,\"\")<0,\"\",IFERROR(G276/H276,\"\")))","v":32.885245901639344},{"$f":"IF(COUNTIF($C$2:$C$501,C276)=1,\"\",IF(I276=\"\",\"\",ABS(IF(I276=\"\",0,(((H276*OFFSET($M$1,MATCH($C276,$L$2:$L$40,0),,)-G276)/G276))))))","v":0.4894657168149173},{"$f":"IF(OR(J276<(QUARTILE($J$2:$J$501,1))-1.5*(QUARTILE($J$2:$J$501,3)-QUARTILE($J$2:$J$501,1)),J276>(QUARTILE($J$2:$J$501,3))+1.5*(QUARTILE($J$2:$J$501,3)-QUARTILE($J$2:$J$501,1))),\"\",J276)","v":0.4894657168149173},null,null,{"$f":"IF(COUNTIF($D$2:$D$501,D276)=1,\"\",IF(I276=\"\",\"\",ABS(IF(I276=\"\",0,(((H276*OFFSET($P$1,MATCH($D276,$O$2:$O$40,0),,)-G276)/G276))))))","v":0.4894657168149173},null,null,{"$f":"IFERROR(IF(COUNTIF($E$2:$E$501,E276)=1,\"\",IF(I276=\"\",\"\",ABS(IF(I276=\"\",0,(((H276*OFFSET($S$1,MATCH($E276,$R$2:$R$41,0),,)-G276)/G276)))))),\"\")","v":0.51750078516326825},null,null,{"$f":"IFERROR(IF(COUNTIF($F$2:$F$501,F276)=1,\"\",IF(I276=\"\",\"\",ABS(IF(I276=\"\",0,(((H276*OFFSET($V$1,MATCH($F276,$U$2:$U$105,0),,)-G276)/G276)))))),\"\")","v":0.51750078516326825},null,null,{"$f":"IF(OR(J276<(QUARTILE($J$2:$J$501,1))-1.5*(QUARTILE($J$2:$J$501,3)-QUARTILE($J$2:$J$501,1)),J276>(QUARTILE($J$2:$J$501,3))+1.5*(QUARTILE($J$2:$J$501,3)-QUARTILE($J$2:$J$501,1))),\"Outlier\")","v":false}]
[904830,"DOVER",2000,2700,2750,2757,51.57,4.87,{"$f":"(IF(IFERROR(G277/H277,\"\")<0,\"\",IFERROR(G277/H277,\"\")))","v":10.589322381930184},{"$f":"IF(COUNTIF($C$2:$C$501,C277)=1,\"\",IF(I277=\"\",\"\",ABS(IF(I277=\"\",0,(((H277*OFFSET($M$1,MATCH($C277,$L$2:$L$40,0),,)-G277)/G277))))))","v":0.36966563861508367},{"$f":"IF(OR(J277<(QUARTILE($J$2:$J$501,1))-1.5*(QUARTILE($J$2:$J$501,3)-QUARTILE($J$2:$J$501,1)),J277>(QUARTILE($J$2:$J$501,3))+1.5*(QUARTILE($J$2:$J$501,3)-QUARTILE($J$2:$J$501,1))),\"\",J277)","v":0.36966563861508367},null,null,{"$f":"IF(COUNTIF($D$2:$D$501,D277)=1,\"\",IF(I277=\"\",\"\",ABS(IF(I277=\"\",0,(((H277*OFFSET($P$1,MATCH($D277,$O$2:$O$40,0),,)-G277)/G277))))))","v":0.35215930157337505},null,null,{"$f":"IFERROR(IF(COUNTIF($E$2:$E$501,E277)=1,\"\",IF(I277=\"\",\"\",ABS(IF(I277=\"\",0,(((H277*OFFSET($S$1,MATCH($E277,$R$2:$R$41,0),,)-G277)/G277)))))),\"\")","v":0.15396453471721236},null,null,{"$f":"IFERROR(IF(COUNTIF($F$2:$F$501,F277)=1,\"\",IF(I277=\"\",\"\",ABS(IF(I277=\"\",0,(((H277*OFFSET($V$1,MATCH($F277,$U$2:$U$105,0),,)-G277)/G277)))))),\"\")","v":0.17091789331446466},null,null,{"$f":"IF(OR(J277<(QUARTILE($J$2:$J$501,1))-1.5*(QUARTILE($J$2:$J$501,3)-QUARTILE($J$2:$J$501,1)),J277>(QUARTILE($J$2:$J$501,3))+1.5*(QUARTILE($J$2:$J$501,3)-QUARTILE($J$2:$J$501,1))),\"Outlier\")","v":false}]
[904837,"GOODYEAR TIRE & RUB.",3000,3300,3350,3357,11.6,0.78,{"$f":"(IF(IFERROR(G278/H278,\"\")<0,\"\",IFERROR(G278/H278,\"\")))","v":14.87179487179487},{"$f":"IF(COUNTIF($C$2:$C$501,C278)=1,\"\",IF(I278=\"\",\"\",ABS(IF(I278=\"\",0,(((H278*OFFSET($M$1,MATCH($C278,$L$2:$L$40,0),,)-G278)/G278))))))","v":7.5202034577517216E-2},{"$f":"IF(OR(J278<(QUARTILE($J$2:$J$501,1))-1.5*(QUARTILE($J$2:$J$501,3)-QUARTILE($J$2:$J$501,1)),J278>(QUARTILE($J$2:$J$501,3))+1.5*(QUARTILE($J$2:$J$501,3)-QUARTILE($J$2:$J$501,1))),\"\",J278)","v":7.5202034577517216E-2},null,null,{"$f":"IF(COUNTIF($D$2:$D$501,D278)=1,\"\",IF(I278=\"\",\"\",ABS(IF(I278=\"\",0,(((H278*OFFSET($P$1,MATCH($D278,$O$2:$O$40,0),,)-G278)/G278))))))","v":0.55132755408288137},null,null,{"$f":"IFERROR(IF(COUNTIF($E$2:$E$501,E278)=1,\"\",IF(I278=\"\",\"\",ABS(IF(I278=\"\",0,(((H278*OFFSET($S$1,MATCH($E278,$R$2:$R$41,0),,)-G278)/G278)))))),\"\")","v":0.55132755408288137},null,null,{"$f":"IFERROR(IF(COUNTIF($F$2:$F$501,F278)=1,\"\",IF(I278=\"\",\"\",ABS(IF(I278=\"\",0,(((H278*OFFSET($V$1,MATCH($F278,$U$2:$U$105,0),,)-G278)/G278)))))),\"\")","v":""},null,null,{"$f":"IF(OR(J278<(QUARTILE($J$2:$J$501,1))-1.5*(QUARTILE($J$2:$J$501,3)-QUARTILE($J$2:$J$501,1)),J278>(QUARTILE($J$2:$J$501,3))+1.5*(QUARTILE($J$2:$J$501,3)-QUARTILE($J$2:$J$501,1))),\"Outlier\")","v":false}]
[904844,"DYNEGY",7000,7500,7530,7535,0.56999999999999995,0,{"$f":"(IF(IFERROR(G279/H279,\"\")<0,\"\",IFERROR(G279/H279,\"\")))","v":""},{"$f":"IF(COUNTIF($C$2:$C$501,C279)=1,\"\",IF(I279=\"\",\"\",ABS(IF(I279=\"\",0,(((H279*OFFSET($M$1,MATCH($C279,$L$2:$L$40,0),,)-G279)/G279))))))","v":""},{"$f":"IF(OR(J279<(QUARTILE($J$2:$J$501,1))-1.5*(QUARTILE($J$2:$J$501,3)-QUARTILE($J$2:$J$501,1)),J279>(QUARTILE($J$2:$J$501,3))+1.5*(QUARTILE($J$2:$J$501,3)-QUARTILE($J$2:$J$501,1))),\"\",J279)","v":""},null,null,{"$f":"IF(COUNTIF($D$2:$D$501,D279)=1,\"\",IF(I279=\"\",\"\",ABS(IF(I279=\"\",0,(((H279*OFFSET($P$1,MATCH($D279,$O$2:$O$40,0),,)-G279)/G279))))))","v":""},null,null,{"$f":"IFERROR(IF(COUNTIF($E$2:$E$501,E279)=1,\"\",IF(I279=\"\",\"\",ABS(IF(I279=\"\",0,(((H279*OFFSET($S$1,MATCH($E279,$R$2:$R$41,0),,)-G279)/G279)))))),\"\")","v":""},null,null,{"$f":"IFERROR(IF(COUNTIF($F$2:$F$501,F279)=1,\"\",IF(I279=\"\",\"\",ABS(IF(I279=\"\",0,(((H279*OFFSET($V$1,MATCH($F279,$U$2:$U$105,0),,)-G279)/G279)))))),\"\")","v":""},null,null,{"$f":"IF(OR(J279<(QUARTILE($J$2:$J$501,1))-1.5*(QUARTILE($J$2:$J$501,3)-QUARTILE($J$2:$J$501,1)),J279>(QUARTILE($J$2:$J$501,3))+1.5*(QUARTILE($J$2:$J$501,3)-QUARTILE($J$2:$J$501,1))),\"Outlier\")","v":"Outlier"}]
[904864,"SPRINT NEXTEL",6000,6500,6570,6575,3.26,0,{"$f":"(IF(IFERROR(G280/H280,\"\")<0,\"\",IFERROR(G280/H280,\"\")))","v":""},{"$f":"IF(COUNTIF($C$2:$C$501,C280)=1,\"\",IF(I280=\"\",\"\",ABS(IF(I280=\"\",0,(((H280*OFFSET($M$1,MATCH($C280,$L$2:$L$40,0),,)-G280)/G280))))))","v":""},{"$f":"IF(OR(J280<(QUARTILE($J$2:$J$501,1))-1.5*(QUARTILE($J$2:$J$501,3)-QUARTILE($J$2:$J$501,1)),J280>(QUARTILE($J$2:$J$501,3))+1.5*(QUARTILE($J$2:$J$501,3)-QUARTILE($J$2:$J$501,1))),\"\",J280)","v":""},null,null,{"$f":"IF(COUNTIF($D$2:$D$501,D280)=1,\"\",IF(I280=\"\",\"\",ABS(IF(I280=\"\",0,(((H280*OFFSET($P$1,MATCH($D280,$O$2:$O$40,0),,)-G280)/G280))))))","v":""},null,null,{"$f":"IFERROR(IF(COUNTIF($E$2:$E$501,E280)=1,\"\",IF(I280=\"\",\"\",ABS(IF(I280=\"\",0,(((H280*OFFSET($S$1,MATCH($E280,$R$2:$R$41,0),,)-G280)/G280)))))),\"\")","v":""},null,null,{"$f":"IFERROR(IF(COUNTIF($F$2:$F$501,F280)=1,\"\",IF(I280=\"\",\"\",ABS(IF(I280=\"\",0,(((H280*OFFSET($V$1,MATCH($F280,$U$2:$U$105,0),,)-G280)/G280)))))),\"\")","v":""},null,null,{"$f":"IF(OR(J280<(QUARTILE($J$2:$J$501,1))-1.5*(QUARTILE($J$2:$J$501,3)-QUARTILE($J$2:$J$501,1)),J280>(QUARTILE($J$2:$J$501,3))+1.5*(QUARTILE($J$2:$J$501,3)-QUARTILE($J$2:$J$501,1))),\"Outlier\")","v":"Outlier"}]
[904866,"WALGREEN",5000,5300,5330,5333,29.04,2.9,{"$f":"(IF(IFERROR(G281/H281,\"\")<0,\"\",IFERROR(G281/H281,\"\")))","v":10.013793103448275},{"$f":"IF(COUNTIF($C$2:$C$501,C281)=1,\"\",IF(I281=\"\",\"\",ABS(IF(I281=\"\",0,(((H281*OFFSET($M$1,MATCH($C281,$L$2:$L$40,0),,)-G281)/G281))))))","v":0.57487894937272477},{"$f":"IF(OR(J281<(QUARTILE($J$2:$J$501,1))-1.5*(QUARTILE($J$2:$J$501,3)-QUARTILE($J$2:$J$501,1)),J281>(QUARTILE($J$2:$J$501,3))+1.5*(QUARTILE($J$2:$J$501,3)-QUARTILE($J$2:$J$501,1))),\"\",J281)","v":0.57487894937272477},null,null,{"$f":"IF(COUNTIF($D$2:$D$501,D281)=1,\"\",IF(I281=\"\",\"\",ABS(IF(I281=\"\",0,(((H281*OFFSET($P$1,MATCH($D281,$O$2:$O$40,0),,)-G281)/G281))))))","v":0.45513998758243396},null,null,{"$f":"IFERROR(IF(COUNTIF($E$2:$E$501,E281)=1,\"\",IF(I281=\"\",\"\",ABS(IF(I281=\"\",0,(((H281*OFFSET($S$1,MATCH($E281,$R$2:$R$41,0),,)-G281)/G281)))))),\"\")","v":0.53453574458035091},null,null,{"$f":"IFERROR(IF(COUNTIF($F$2:$F$501,F281)=1,\"\",IF(I281=\"\",\"\",ABS(IF(I281=\"\",0,(((H281*OFFSET($V$1,MATCH($F281,$U$2:$U$105,0),,)-G281)/G281)))))),\"\")","v":0.39836140211300042},null,null,{"$f":"IF(OR(J281<(QUARTILE($J$2:$J$501,1))-1.5*(QUARTILE($J$2:$J$501,3)-QUARTILE($J$2:$J$501,1)),J281>(QUARTILE($J$2:$J$501,3))+1.5*(QUARTILE($J$2:$J$501,3)-QUARTILE($J$2:$J$501,1))),\"Outlier\")","v":false}]
[904869,"WHIRLPOOL",3000,3700,3720,3722,57.44,4,{"$f":"(IF(IFERROR(G282/H282,\"\")<0,\"\",IFERROR(G282/H282,\"\")))","v":14.36},{"$f":"IF(COUNTIF($C$2:$C$501,C282)=1,\"\",IF(I282=\"\",\"\",ABS(IF(I282=\"\",0,(((H282*OFFSET($M$1,MATCH($C282,$L$2:$L$40,0),,)-G282)/G282))))))","v":0.1135225699145775},{"$f":"IF(OR(J282<(QUARTILE($J$2:$J$501,1))-1.5*(QUARTILE($J$2:$J$501,3)-QUARTILE($J$2:$J$501,1)),J282>(QUARTILE($J$2:$J$501,3))+1.5*(QUARTILE($J$2:$J$501,3)-QUARTILE($J$2:$J$501,1))),\"\",J282)","v":0.1135225699145775},null,null,{"$f":"IF(COUNTIF($D$2:$D$501,D282)=1,\"\",IF(I282=\"\",\"\",ABS(IF(I282=\"\",0,(((H282*OFFSET($P$1,MATCH($D282,$O$2:$O$40,0),,)-G282)/G282))))))","v":0.34268728569311074},null,null,{"$f":"IFERROR(IF(COUNTIF($E$2:$E$501,E282)=1,\"\",IF(I282=\"\",\"\",ABS(IF(I282=\"\",0,(((H282*OFFSET($S$1,MATCH($E282,$R$2:$R$41,0),,)-G282)/G282)))))),\"\")","v":0.48879157381629362},null,null,{"$f":"IFERROR(IF(COUNTIF($F$2:$F$501,F282)=1,\"\",IF(I282=\"\",\"\",ABS(IF(I282=\"\",0,(((H282*OFFSET($V$1,MATCH($F282,$U$2:$U$105,0),,)-G282)/G282)))))),\"\")","v":0.29672265660190156},null,null,{"$f":"IF(OR(J282<(QUARTILE($J$2:$J$501,1))-1.5*(QUARTILE($J$2:$J$501,3)-QUARTILE($J$2:$J$501,1)),J282>(QUARTILE($J$2:$J$501,3))+1.5*(QUARTILE($J$2:$J$501,3)-QUARTILE($J$2:$J$501,1))),\"Outlier\")","v":false}]
[904878,"MOTOROLA SOLUTIONS",9000,9500,9570,9578,46.93,2.44,{"$f":"(IF(IFERROR(G283/H283,\"\")<0,\"\",IFERROR(G283/H283,\"\")))","v":19.233606557377051},{"$f":"IF(COUNTIF($C$2:$C$501,C283)=1,\"\",IF(I283=\"\",\"\",ABS(IF(I283=\"\",0,(((H283*OFFSET($M$1,MATCH($C283,$L$2:$L$40,0),,)-G283)/G283))))))","v":0.31931552166495819},{"$f":"IF(OR(J283<(QUARTILE($J$2:$J$501,1))-1.5*(QUARTILE($J$2:$J$501,3)-QUARTILE($J$2:$J$501,1)),J283>(QUARTILE($J$2:$J$501,3))+1.5*(QUARTILE($J$2:$J$501,3)-QUARTILE($J$2:$J$501,1))),\"\",J283)","v":0.31931552166495819},null,null,{"$f":"IF(COUNTIF($D$2:$D$501,D283)=1,\"\",IF(I283=\"\",\"\",ABS(IF(I283=\"\",0,(((H283*OFFSET($P$1,MATCH($D283,$O$2:$O$40,0),,)-G283)/G283))))))","v":0.31931552166495819},null,null,{"$f":"IFERROR(IF(COUNTIF($E$2:$E$501,E283)=1,\"\",IF(I283=\"\",\"\",ABS(IF(I283=\"\",0,(((H283*OFFSET($S$1,MATCH($E283,$R$2:$R$41,0),,)-G283)/G283)))))),\"\")","v":0.34755492722503983},null,null,{"$f":"IFERROR(IF(COUNTIF($F$2:$F$501,F283)=1,\"\",IF(I283=\"\",\"\",ABS(IF(I283=\"\",0,(((H283*OFFSET($V$1,MATCH($F283,$U$2:$U$105,0),,)-G283)/G283)))))),\"\")","v":0.22891738578342127},null,null,{"$f":"IF(OR(J283<(QUARTILE($J$2:$J$501,1))-1.5*(QUARTILE($J$2:$J$501,3)-QUARTILE($J$2:$J$501,1)),J283>(QUARTILE($J$2:$J$501,3))+1.5*(QUARTILE($J$2:$J$501,3)-QUARTILE($J$2:$J$501,1))),\"Outlier\")","v":false}]
[904897,"TEKTRONIX DEAD - DELIST.22/11/07",2000,2700,2730,2737,38,1.0900000000000001,{"$f":"(IF(IFERROR(G284/H284,\"\")<0,\"\",IFERROR(G284/H284,\"\")))","v":34.862385321100916},{"$f":"IF(COUNTIF($C$2:$C$501,C284)=1,\"\",IF(I284=\"\",\"\",ABS(IF(I284=\"\",0,(((H284*OFFSET($M$1,MATCH($C284,$L$2:$L$40,0),,)-G284)/G284))))))","v":0.58396905807908761},{"$f":"IF(OR(J284<(QUARTILE($J$2:$J$501,1))-1.5*(QUARTILE($J$2:$J$501,3)-QUARTILE($J$2:$J$501,1)),J284>(QUARTILE($J$2:$J$501,3))+1.5*(QUARTILE($J$2:$J$501,3)-QUARTILE($J$2:$J$501,1))),\"\",J284)","v":0.58396905807908761},null,null,{"$f":"IF(COUNTIF($D$2:$D$501,D284)=1,\"\",IF(I284=\"\",\"\",ABS(IF(I284=\"\",0,(((H284*OFFSET($P$1,MATCH($D284,$O$2:$O$40,0),,)-G284)/G284))))))","v":0.58928654410174297},null,null,{"$f":"IFERROR(IF(COUNTIF($E$2:$E$501,E284)=1,\"\",IF(I284=\"\",\"\",ABS(IF(I284=\"\",0,(((H284*OFFSET($S$1,MATCH($E284,$R$2:$R$41,0),,)-G284)/G284)))))),\"\")","v":0.53026227861306852},null,null,{"$f":"IFERROR(IF(COUNTIF($F$2:$F$501,F284)=1,\"\",IF(I284=\"\",\"\",ABS(IF(I284=\"\",0,(((H284*OFFSET($V$1,MATCH($F284,$U$2:$U$105,0),,)-G284)/G284)))))),\"\")","v":""},null,null,{"$f":"IF(OR(J284<(QUARTILE($J$2:$J$501,1))-1.5*(QUARTILE($J$2:$J$501,3)-QUARTILE($J$2:$J$501,1)),J284>(QUARTILE($J$2:$J$501,3))+1.5*(QUARTILE($J$2:$J$501,3)-QUARTILE($J$2:$J$501,1))),\"Outlier\")","v":false}]
[905010,"XCEL ENERGY",7000,7500,7530,7535,28.06,1.69,{"$f":"(IF(IFERROR(G285/H285,\"\")<0,\"\",IFERROR(G285/H285,\"\")))","v":16.603550295857989},{"$f":"IF(COUNTIF($C$2:$C$501,C285)=1,\"\",IF(I285=\"\",\"\",ABS(IF(I285=\"\",0,(((H285*OFFSET($M$1,MATCH($C285,$L$2:$L$40,0),,)-G285)/G285))))))","v":1.1172017104492876E-2},{"$f":"IF(OR(J285<(QUARTILE($J$2:$J$501,1))-1.5*(QUARTILE($J$2:$J$501,3)-QUARTILE($J$2:$J$501,1)),J285>(QUARTILE($J$2:$J$501,3))+1.5*(QUARTILE($J$2:$J$501,3)-QUARTILE($J$2:$J$501,1))),\"\",J285)","v":1.1172017104492876E-2},null,null,{"$f":"IF(COUNTIF($D$2:$D$501,D285)=1,\"\",IF(I285=\"\",\"\",ABS(IF(I285=\"\",0,(((H285*OFFSET($P$1,MATCH($D285,$O$2:$O$40,0),,)-G285)/G285))))))","v":1.1172017104492876E-2},null,null,{"$f":"IFERROR(IF(COUNTIF($E$2:$E$501,E285)=1,\"\",IF(I285=\"\",\"\",ABS(IF(I285=\"\",0,(((H285*OFFSET($S$1,MATCH($E285,$R$2:$R$41,0),,)-G285)/G285)))))),\"\")","v":4.4354668458340185E-2},null,null,{"$f":"IFERROR(IF(COUNTIF($F$2:$F$501,F285)=1,\"\",IF(I285=\"\",\"\",ABS(IF(I285=\"\",0,(((H285*OFFSET($V$1,MATCH($F285,$U$2:$U$105,0),,)-G285)/G285)))))),\"\")","v":4.4354668458340185E-2},null,null,{"$f":"IF(OR(J285<(QUARTILE($J$2:$J$501,1))-1.5*(QUARTILE($J$2:$J$501,3)-QUARTILE($J$2:$J$501,1)),J285>(QUARTILE($J$2:$J$501,3))+1.5*(QUARTILE($J$2:$J$501,3)-QUARTILE($J$2:$J$501,1))),\"Outlier\")","v":false}]
[905016,"NEXTERA ENERGY",7000,7500,7530,7535,67.930000000000007,5.05,{"$f":"(IF(IFERROR(G286/H286,\"\")<0,\"\",IFERROR(G286/H286,\"\")))","v":13.451485148514854},{"$f":"IF(COUNTIF($C$2:$C$501,C286)=1,\"\",IF(I286=\"\",\"\",ABS(IF(I286=\"\",0,(((H286*OFFSET($M$1,MATCH($C286,$L$2:$L$40,0),,)-G286)/G286))))))","v":0.2481183496390553},{"$f":"IF(OR(J286<(QUARTILE($J$2:$J$501,1))-1.5*(QUARTILE($J$2:$J$501,3)-QUARTILE($J$2:$J$501,1)),J286>(QUARTILE($J$2:$J$501,3))+1.5*(QUARTILE($J$2:$J$501,3)-QUARTILE($J$2:$J$501,1))),\"\",J286)","v":0.2481183496390553},null,null,{"$f":"IF(COUNTIF($D$2:$D$501,D286)=1,\"\",IF(I286=\"\",\"\",ABS(IF(I286=\"\",0,(((H286*OFFSET($P$1,MATCH($D286,$O$2:$O$40,0),,)-G286)/G286))))))","v":0.2481183496390553},null,null,{"$f":"IFERROR(IF(COUNTIF($E$2:$E$501,E286)=1,\"\",IF(I286=\"\",\"\",ABS(IF(I286=\"\",0,(((H286*OFFSET($S$1,MATCH($E286,$R$2:$R$41,0),,)-G286)/G286)))))),\"\")","v":0.1795801840516979},null,null,{"$f":"IFERROR(IF(COUNTIF($F$2:$F$501,F286)=1,\"\",IF(I286=\"\",\"\",ABS(IF(I286=\"\",0,(((H286*OFFSET($V$1,MATCH($F286,$U$2:$U$105,0),,)-G286)/G286)))))),\"\")","v":0.1795801840516979},null,null,{"$f":"IF(OR(J286<(QUARTILE($J$2:$J$501,1))-1.5*(QUARTILE($J$2:$J$501,3)-QUARTILE($J$2:$J$501,1)),J286>(QUARTILE($J$2:$J$501,3))+1.5*(QUARTILE($J$2:$J$501,3)-QUARTILE($J$2:$J$501,1))),\"Outlier\")","v":false}]
[905019,"MERCK & CO.",4000,4500,4570,4577,40.68,2.2400000000000002,{"$f":"(IF(IFERROR(G287/H287,\"\")<0,\"\",IFERROR(G287/H287,\"\")))","v":18.160714285714285},{"$f":"IF(COUNTIF($C$2:$C$501,C287)=1,\"\",IF(I287=\"\",\"\",ABS(IF(I287=\"\",0,(((H287*OFFSET($M$1,MATCH($C287,$L$2:$L$40,0),,)-G287)/G287))))))","v":6.7999638759541542E-2},{"$f":"IF(OR(J287<(QUARTILE($J$2:$J$501,1))-1.5*(QUARTILE($J$2:$J$501,3)-QUARTILE($J$2:$J$501,1)),J287>(QUARTILE($J$2:$J$501,3))+1.5*(QUARTILE($J$2:$J$501,3)-QUARTILE($J$2:$J$501,1))),\"\",J287)","v":6.7999638759541542E-2},null,null,{"$f":"IF(COUNTIF($D$2:$D$501,D287)=1,\"\",IF(I287=\"\",\"\",ABS(IF(I287=\"\",0,(((H287*OFFSET($P$1,MATCH($D287,$O$2:$O$40,0),,)-G287)/G287))))))","v":6.7999638759541542E-2},null,null,{"$f":"IFERROR(IF(COUNTIF($E$2:$E$501,E287)=1,\"\",IF(I287=\"\",\"\",ABS(IF(I287=\"\",0,(((H287*OFFSET($S$1,MATCH($E287,$R$2:$R$41,0),,)-G287)/G287)))))),\"\")","v":9.5181817454148526E-2},null,null,{"$f":"IFERROR(IF(COUNTIF($F$2:$F$501,F287)=1,\"\",IF(I287=\"\",\"\",ABS(IF(I287=\"\",0,(((H287*OFFSET($V$1,MATCH($F287,$U$2:$U$105,0),,)-G287)/G287)))))),\"\")","v":1.6026556515054899E-2},null,null,{"$f":"IF(OR(J287<(QUARTILE($J$2:$J$501,1))-1.5*(QUARTILE($J$2:$J$501,3)-QUARTILE($J$2:$J$501,1)),J287>(QUARTILE($J$2:$J$501,3))+1.5*(QUARTILE($J$2:$J$501,3)-QUARTILE($J$2:$J$501,1))),\"Outlier\")","v":false}]
[905024,"CHEVRON",1,500,530,537,103.46,13.62,{"$f":"(IF(IFERROR(G288/H288,\"\")<0,\"\",IFERROR(G288/H288,\"\")))","v":7.5961820851688691},{"$f":"IF(COUNTIF($C$2:$C$501,C288)=1,\"\",IF(I288=\"\",\"\",ABS(IF(I288=\"\",0,(((H288*OFFSET($M$1,MATCH($C288,$L$2:$L$40,0),,)-G288)/G288))))))","v":0.22069556888880995},{"$f":"IF(OR(J288<(QUARTILE($J$2:$J$501,1))-1.5*(QUARTILE($J$2:$J$501,3)-QUARTILE($J$2:$J$501,1)),J288>(QUARTILE($J$2:$J$501,3))+1.5*(QUARTILE($J$2:$J$501,3)-QUARTILE($J$2:$J$501,1))),\"\",J288)","v":0.22069556888880995},null,null,{"$f":"IF(COUNTIF($D$2:$D$501,D288)=1,\"\",IF(I288=\"\",\"\",ABS(IF(I288=\"\",0,(((H288*OFFSET($P$1,MATCH($D288,$O$2:$O$40,0),,)-G288)/G288))))))","v":0.22069556888880995},null,null,{"$f":"IFERROR(IF(COUNTIF($E$2:$E$501,E288)=1,\"\",IF(I288=\"\",\"\",ABS(IF(I288=\"\",0,(((H288*OFFSET($S$1,MATCH($E288,$R$2:$R$41,0),,)-G288)/G288)))))),\"\")","v":0.10625434419935868},null,null,{"$f":"IFERROR(IF(COUNTIF($F$2:$F$501,F288)=1,\"\",IF(I288=\"\",\"\",ABS(IF(I288=\"\",0,(((H288*OFFSET($V$1,MATCH($F288,$U$2:$U$105,0),,)-G288)/G288)))))),\"\")","v":0.1188482782326841},null,null,{"$f":"IF(OR(J288<(QUARTILE($J$2:$J$501,1))-1.5*(QUARTILE($J$2:$J$501,3)-QUARTILE($J$2:$J$501,1)),J288>(QUARTILE($J$2:$J$501,3))+1.5*(QUARTILE($J$2:$J$501,3)-QUARTILE($J$2:$J$501,1))),\"Outlier\")","v":false}]
[905039,"EXXON MOBIL",1,500,530,537,83.1,8.2799999999999994,{"$f":"(IF(IFERROR(G289/H289,\"\")<0,\"\",IFERROR(G289/H289,\"\")))","v":10.036231884057971},{"$f":"IF(COUNTIF($C$2:$C$501,C289)=1,\"\",IF(I289=\"\",\"\",ABS(IF(I289=\"\",0,(((H289*OFFSET($M$1,MATCH($C289,$L$2:$L$40,0),,)-G289)/G289))))))","v":7.6084937159803842E-2},{"$f":"IF(OR(J289<(QUARTILE($J$2:$J$501,1))-1.5*(QUARTILE($J$2:$J$501,3)-QUARTILE($J$2:$J$501,1)),J289>(QUARTILE($J$2:$J$501,3))+1.5*(QUARTILE($J$2:$J$501,3)-QUARTILE($J$2:$J$501,1))),\"\",J289)","v":7.6084937159803842E-2},null,null,{"$f":"IF(COUNTIF($D$2:$D$501,D289)=1,\"\",IF(I289=\"\",\"\",ABS(IF(I289=\"\",0,(((H289*OFFSET($P$1,MATCH($D289,$O$2:$O$40,0),,)-G289)/G289))))))","v":7.6084937159803842E-2},null,null,{"$f":"IFERROR(IF(COUNTIF($E$2:$E$501,E289)=1,\"\",IF(I289=\"\",\"\",ABS(IF(I289=\"\",0,(((H289*OFFSET($S$1,MATCH($E289,$R$2:$R$41,0),,)-G289)/G289)))))),\"\")","v":0.16270274261043915},null,null,{"$f":"IFERROR(IF(COUNTIF($F$2:$F$501,F289)=1,\"\",IF(I289=\"\",\"\",ABS(IF(I289=\"\",0,(((H289*OFFSET($V$1,MATCH($F289,$U$2:$U$105,0),,)-G289)/G289)))))),\"\")","v":0.15317069739756345},null,null,{"$f":"IF(OR(J289<(QUARTILE($J$2:$J$501,1))-1.5*(QUARTILE($J$2:$J$501,3)-QUARTILE($J$2:$J$501,1)),J289>(QUARTILE($J$2:$J$501,3))+1.5*(QUARTILE($J$2:$J$501,3)-QUARTILE($J$2:$J$501,1))),\"Outlier\")","v":false}]
[905047,"R R DONNELLEY & SONS",2000,2700,2790,2791,11.92,0,{"$f":"(IF(IFERROR(G290/H290,\"\")<0,\"\",IFERROR(G290/H290,\"\")))","v":""},{"$f":"IF(COUNTIF($C$2:$C$501,C290)=1,\"\",IF(I290=\"\",\"\",ABS(IF(I290=\"\",0,(((H290*OFFSET($M$1,MATCH($C290,$L$2:$L$40,0),,)-G290)/G290))))))","v":""},{"$f":"IF(OR(J290<(QUARTILE($J$2:$J$501,1))-1.5*(QUARTILE($J$2:$J$501,3)-QUARTILE($J$2:$J$501,1)),J290>(QUARTILE($J$2:$J$501,3))+1.5*(QUARTILE($J$2:$J$501,3)-QUARTILE($J$2:$J$501,1))),\"\",J290)","v":""},null,null,{"$f":"IF(COUNTIF($D$2:$D$501,D290)=1,\"\",IF(I290=\"\",\"\",ABS(IF(I290=\"\",0,(((H290*OFFSET($P$1,MATCH($D290,$O$2:$O$40,0),,)-G290)/G290))))))","v":""},null,null,{"$f":"IFERROR(IF(COUNTIF($E$2:$E$501,E290)=1,\"\",IF(I290=\"\",\"\",ABS(IF(I290=\"\",0,(((H290*OFFSET($S$1,MATCH($E290,$R$2:$R$41,0),,)-G290)/G290)))))),\"\")","v":""},null,null,{"$f":"IFERROR(IF(COUNTIF($F$2:$F$501,F290)=1,\"\",IF(I290=\"\",\"\",ABS(IF(I290=\"\",0,(((H290*OFFSET($V$1,MATCH($F290,$U$2:$U$105,0),,)-G290)/G290)))))),\"\")","v":""},null,null,{"$f":"IF(OR(J290<(QUARTILE($J$2:$J$501,1))-1.5*(QUARTILE($J$2:$J$501,3)-QUARTILE($J$2:$J$501,1)),J290>(QUARTILE($J$2:$J$501,3))+1.5*(QUARTILE($J$2:$J$501,3)-QUARTILE($J$2:$J$501,1))),\"Outlier\")","v":"Outlier"}]
[905050,"INTL.FLAVORS & FRAG.",1000,1300,1350,1357,54.56,3.22,{"$f":"(IF(IFERROR(G291/H291,\"\")<0,\"\",IFERROR(G291/H291,\"\")))","v":16.944099378881987},{"$f":"IF(COUNTIF($C$2:$C$501,C291)=1,\"\",IF(I291=\"\",\"\",ABS(IF(I291=\"\",0,(((H291*OFFSET($M$1,MATCH($C291,$L$2:$L$40,0),,)-G291)/G291))))))","v":8.541155733207724E-2},{"$f":"IF(OR(J291<(QUARTILE($J$2:$J$501,1))-1.5*(QUARTILE($J$2:$J$501,3)-QUARTILE($J$2:$J$501,1)),J291>(QUARTILE($J$2:$J$501,3))+1.5*(QUARTILE($J$2:$J$501,3)-QUARTILE($J$2:$J$501,1))),\"\",J291)","v":8.541155733207724E-2},null,null,{"$f":"IF(COUNTIF($D$2:$D$501,D291)=1,\"\",IF(I291=\"\",\"\",ABS(IF(I291=\"\",0,(((H291*OFFSET($P$1,MATCH($D291,$O$2:$O$40,0),,)-G291)/G291))))))","v":6.66266865585773E-2},null,null,{"$f":"IFERROR(IF(COUNTIF($E$2:$E$501,E291)=1,\"\",IF(I291=\"\",\"\",ABS(IF(I291=\"\",0,(((H291*OFFSET($S$1,MATCH($E291,$R$2:$R$41,0),,)-G291)/G291)))))),\"\")","v":6.66266865585773E-2},null,null,{"$f":"IFERROR(IF(COUNTIF($F$2:$F$501,F291)=1,\"\",IF(I291=\"\",\"\",ABS(IF(I291=\"\",0,(((H291*OFFSET($V$1,MATCH($F291,$U$2:$U$105,0),,)-G291)/G291)))))),\"\")","v":0.28760923729150706},null,null,{"$f":"IF(OR(J291<(QUARTILE($J$2:$J$501,1))-1.5*(QUARTILE($J$2:$J$501,3)-QUARTILE($J$2:$J$501,1)),J291>(QUARTILE($J$2:$J$501,3))+1.5*(QUARTILE($J$2:$J$501,3)-QUARTILE($J$2:$J$501,1))),\"Outlier\")","v":false}]
[905052,"ILLINOIS TOOL WORKS",2000,2700,2750,2757,50.94,3.94,{"$f":"(IF(IFERROR(G292/H292,\"\")<0,\"\",IFERROR(G292/H292,\"\")))","v":12.928934010152284},{"$f":"IF(COUNTIF($C$2:$C$501,C292)=1,\"\",IF(I292=\"\",\"\",ABS(IF(I292=\"\",0,(((H292*OFFSET($M$1,MATCH($C292,$L$2:$L$40,0),,)-G292)/G292))))))","v":0.12181182078572395},{"$f":"IF(OR(J292<(QUARTILE($J$2:$J$501,1))-1.5*(QUARTILE($J$2:$J$501,3)-QUARTILE($J$2:$J$501,1)),J292>(QUARTILE($J$2:$J$501,3))+1.5*(QUARTILE($J$2:$J$501,3)-QUARTILE($J$2:$J$501,1))),\"\",J292)","v":0.12181182078572395},null,null,{"$f":"IF(COUNTIF($D$2:$D$501,D292)=1,\"\",IF(I292=\"\",\"\",ABS(IF(I292=\"\",0,(((H292*OFFSET($P$1,MATCH($D292,$O$2:$O$40,0),,)-G292)/G292))))))","v":0.10747341929679904},null,null,{"$f":"IFERROR(IF(COUNTIF($E$2:$E$501,E292)=1,\"\",IF(I292=\"\",\"\",ABS(IF(I292=\"\",0,(((H292*OFFSET($S$1,MATCH($E292,$R$2:$R$41,0),,)-G292)/G292)))))),\"\")","v":5.4856149328377707E-2},null,null,{"$f":"IFERROR(IF(COUNTIF($F$2:$F$501,F292)=1,\"\",IF(I292=\"\",\"\",ABS(IF(I292=\"\",0,(((H292*OFFSET($V$1,MATCH($F292,$U$2:$U$105,0),,)-G292)/G292)))))),\"\")","v":4.0970659658324408E-2},null,null,{"$f":"IF(OR(J292<(QUARTILE($J$2:$J$501,1))-1.5*(QUARTILE($J$2:$J$501,3)-QUARTILE($J$2:$J$501,1)),J292>(QUARTILE($J$2:$J$501,3))+1.5*(QUARTILE($J$2:$J$501,3)-QUARTILE($J$2:$J$501,1))),\"Outlier\")","v":false}]
[905061,"TEXAS INSTS.",9000,9500,9570,9576,26.87,1.54,{"$f":"(IF(IFERROR(G293/H293,\"\")<0,\"\",IFERROR(G293/H293,\"\")))","v":17.448051948051948},{"$f":"IF(COUNTIF($C$2:$C$501,C293)=1,\"\",IF(I293=\"\",\"\",ABS(IF(I293=\"\",0,(((H293*OFFSET($M$1,MATCH($C293,$L$2:$L$40,0),,)-G293)/G293))))))","v":0.24965735515984971},{"$f":"IF(OR(J293<(QUARTILE($J$2:$J$501,1))-1.5*(QUARTILE($J$2:$J$501,3)-QUARTILE($J$2:$J$501,1)),J293>(QUARTILE($J$2:$J$501,3))+1.5*(QUARTILE($J$2:$J$501,3)-QUARTILE($J$2:$J$501,1))),\"\",J293)","v":0.24965735515984971},null,null,{"$f":"IF(COUNTIF($D$2:$D$501,D293)=1,\"\",IF(I293=\"\",\"\",ABS(IF(I293=\"\",0,(((H293*OFFSET($P$1,MATCH($D293,$O$2:$O$40,0),,)-G293)/G293))))))","v":0.24965735515984971},null,null,{"$f":"IFERROR(IF(COUNTIF($E$2:$E$501,E293)=1,\"\",IF(I293=\"\",\"\",ABS(IF(I293=\"\",0,(((H293*OFFSET($S$1,MATCH($E293,$R$2:$R$41,0),,)-G293)/G293)))))),\"\")","v":0.28078665358089533},null,null,{"$f":"IFERROR(IF(COUNTIF($F$2:$F$501,F293)=1,\"\",IF(I293=\"\",\"\",ABS(IF(I293=\"\",0,(((H293*OFFSET($V$1,MATCH($F293,$U$2:$U$105,0),,)-G293)/G293)))))),\"\")","v":0.20386415740690822},null,null,{"$f":"IF(OR(J293<(QUARTILE($J$2:$J$501,1))-1.5*(QUARTILE($J$2:$J$501,3)-QUARTILE($J$2:$J$501,1)),J293>(QUARTILE($J$2:$J$501,3))+1.5*(QUARTILE($J$2:$J$501,3)-QUARTILE($J$2:$J$501,1))),\"Outlier\")","v":false}]
[905077,"THE HERSHEY COMPANY",3000,3500,3570,3577,69.77,2.91,{"$f":"(IF(IFERROR(G294/H294,\"\")<0,\"\",IFERROR(G294/H294,\"\")))","v":23.975945017182127},{"$f":"IF(COUNTIF($C$2:$C$501,C294)=1,\"\",IF(I294=\"\",\"\",ABS(IF(I294=\"\",0,(((H294*OFFSET($M$1,MATCH($C294,$L$2:$L$40,0),,)-G294)/G294))))))","v":0.33307387498118957},{"$f":"IF(OR(J294<(QUARTILE($J$2:$J$501,1))-1.5*(QUARTILE($J$2:$J$501,3)-QUARTILE($J$2:$J$501,1)),J294>(QUARTILE($J$2:$J$501,3))+1.5*(QUARTILE($J$2:$J$501,3)-QUARTILE($J$2:$J$501,1))),\"\",J294)","v":0.33307387498118957},null,null,{"$f":"IF(COUNTIF($D$2:$D$501,D294)=1,\"\",IF(I294=\"\",\"\",ABS(IF(I294=\"\",0,(((H294*OFFSET($P$1,MATCH($D294,$O$2:$O$40,0),,)-G294)/G294))))))","v":0.25490626415846462},null,null,{"$f":"IFERROR(IF(COUNTIF($E$2:$E$501,E294)=1,\"\",IF(I294=\"\",\"\",ABS(IF(I294=\"\",0,(((H294*OFFSET($S$1,MATCH($E294,$R$2:$R$41,0),,)-G294)/G294)))))),\"\")","v":0.25659725362589941},null,null,{"$f":"IFERROR(IF(COUNTIF($F$2:$F$501,F294)=1,\"\",IF(I294=\"\",\"\",ABS(IF(I294=\"\",0,(((H294*OFFSET($V$1,MATCH($F294,$U$2:$U$105,0),,)-G294)/G294)))))),\"\")","v":0.27076786501101036},null,null,{"$f":"IF(OR(J294<(QUARTILE($J$2:$J$501,1))-1.5*(QUARTILE($J$2:$J$501,3)-QUARTILE($J$2:$J$501,1)),J294>(QUARTILE($J$2:$J$501,3))+1.5*(QUARTILE($J$2:$J$501,3)-QUARTILE($J$2:$J$501,1))),\"Outlier\")","v":false}]
[905081,"ROHM & HAAS DEAD - DELIST.13/04/09",1000,1300,1350,1357,78.94,2.4500000000000002,{"$f":"(IF(IFERROR(G295/H295,\"\")<0,\"\",IFERROR(G295/H295,\"\")))","v":32.220408163265304},{"$f":"IF(COUNTIF($C$2:$C$501,C295)=1,\"\",IF(I295=\"\",\"\",ABS(IF(I295=\"\",0,(((H295*OFFSET($M$1,MATCH($C295,$L$2:$L$40,0),,)-G295)/G295))))))","v":0.51903534601990897},{"$f":"IF(OR(J295<(QUARTILE($J$2:$J$501,1))-1.5*(QUARTILE($J$2:$J$501,3)-QUARTILE($J$2:$J$501,1)),J295>(QUARTILE($J$2:$J$501,3))+1.5*(QUARTILE($J$2:$J$501,3)-QUARTILE($J$2:$J$501,1))),\"\",J295)","v":0.51903534601990897},null,null,{"$f":"IF(COUNTIF($D$2:$D$501,D295)=1,\"\",IF(I295=\"\",\"\",ABS(IF(I295=\"\",0,(((H295*OFFSET($P$1,MATCH($D295,$O$2:$O$40,0),,)-G295)/G295))))))","v":0.43908132741095063},null,null,{"$f":"IFERROR(IF(COUNTIF($E$2:$E$501,E295)=1,\"\",IF(I295=\"\",\"\",ABS(IF(I295=\"\",0,(((H295*OFFSET($S$1,MATCH($E295,$R$2:$R$41,0),,)-G295)/G295)))))),\"\")","v":0.43908132741095063},null,null,{"$f":"IFERROR(IF(COUNTIF($F$2:$F$501,F295)=1,\"\",IF(I295=\"\",\"\",ABS(IF(I295=\"\",0,(((H295*OFFSET($V$1,MATCH($F295,$U$2:$U$105,0),,)-G295)/G295)))))),\"\")","v":0.32287081010016916},null,null,{"$f":"IF(OR(J295<(QUARTILE($J$2:$J$501,1))-1.5*(QUARTILE($J$2:$J$501,3)-QUARTILE($J$2:$J$501,1)),J295>(QUARTILE($J$2:$J$501,3))+1.5*(QUARTILE($J$2:$J$501,3)-QUARTILE($J$2:$J$501,1))),\"Outlier\")","v":false}]
[905102,"OCCIDENTAL PTL.",1,500,530,533,80.94,8.34,{"$f":"(IF(IFERROR(G296/H296,\"\")<0,\"\",IFERROR(G296/H296,\"\")))","v":9.7050359712230208},{"$f":"IF(COUNTIF($C$2:$C$501,C296)=1,\"\",IF(I296=\"\",\"\",ABS(IF(I296=\"\",0,(((H296*OFFSET($M$1,MATCH($C296,$L$2:$L$40,0),,)-G296)/G296))))))","v":4.4555235103402605E-2},{"$f":"IF(OR(J296<(QUARTILE($J$2:$J$501,1))-1.5*(QUARTILE($J$2:$J$501,3)-QUARTILE($J$2:$J$501,1)),J296>(QUARTILE($J$2:$J$501,3))+1.5*(QUARTILE($J$2:$J$501,3)-QUARTILE($J$2:$J$501,1))),\"\",J296)","v":4.4555235103402605E-2},null,null,{"$f":"IF(COUNTIF($D$2:$D$501,D296)=1,\"\",IF(I296=\"\",\"\",ABS(IF(I296=\"\",0,(((H296*OFFSET($P$1,MATCH($D296,$O$2:$O$40,0),,)-G296)/G296))))))","v":4.4555235103402605E-2},null,null,{"$f":"IFERROR(IF(COUNTIF($E$2:$E$501,E296)=1,\"\",IF(I296=\"\",\"\",ABS(IF(I296=\"\",0,(((H296*OFFSET($S$1,MATCH($E296,$R$2:$R$41,0),,)-G296)/G296)))))),\"\")","v":0.13412897634129781},null,null,{"$f":"IFERROR(IF(COUNTIF($F$2:$F$501,F296)=1,\"\",IF(I296=\"\",\"\",ABS(IF(I296=\"\",0,(((H296*OFFSET($V$1,MATCH($F296,$U$2:$U$105,0),,)-G296)/G296)))))),\"\")","v":0.14017791014819772},null,null,{"$f":"IF(OR(J296<(QUARTILE($J$2:$J$501,1))-1.5*(QUARTILE($J$2:$J$501,3)-QUARTILE($J$2:$J$501,1)),J296>(QUARTILE($J$2:$J$501,3))+1.5*(QUARTILE($J$2:$J$501,3)-QUARTILE($J$2:$J$501,1))),\"Outlier\")","v":false}]
[905105,"UNION PACIFIC",2000,2700,2770,2775,115.32,7.22,{"$f":"(IF(IFERROR(G297/H297,\"\")<0,\"\",IFERROR(G297/H297,\"\")))","v":15.972299168975068},{"$f":"IF(COUNTIF($C$2:$C$501,C297)=1,\"\",IF(I297=\"\",\"\",ABS(IF(I297=\"\",0,(((H297*OFFSET($M$1,MATCH($C297,$L$2:$L$40,0),,)-G297)/G297))))))","v":9.1938433577555684E-2},{"$f":"IF(OR(J297<(QUARTILE($J$2:$J$501,1))-1.5*(QUARTILE($J$2:$J$501,3)-QUARTILE($J$2:$J$501,1)),J297>(QUARTILE($J$2:$J$501,3))+1.5*(QUARTILE($J$2:$J$501,3)-QUARTILE($J$2:$J$501,1))),\"\",J297)","v":9.1938433577555684E-2},null,null,{"$f":"IF(COUNTIF($D$2:$D$501,D297)=1,\"\",IF(I297=\"\",\"\",ABS(IF(I297=\"\",0,(((H297*OFFSET($P$1,MATCH($D297,$O$2:$O$40,0),,)-G297)/G297))))))","v":0.10354479310665007},null,null,{"$f":"IFERROR(IF(COUNTIF($E$2:$E$501,E297)=1,\"\",IF(I297=\"\",\"\",ABS(IF(I297=\"\",0,(((H297*OFFSET($S$1,MATCH($E297,$R$2:$R$41,0),,)-G297)/G297)))))),\"\")","v":7.9132502563805288E-2},null,null,{"$f":"IFERROR(IF(COUNTIF($F$2:$F$501,F297)=1,\"\",IF(I297=\"\",\"\",ABS(IF(I297=\"\",0,(((H297*OFFSET($V$1,MATCH($F297,$U$2:$U$105,0),,)-G297)/G297)))))),\"\")","v":9.0049746121774216E-2},null,null,{"$f":"IF(OR(J297<(QUARTILE($J$2:$J$501,1))-1.5*(QUARTILE($J$2:$J$501,3)-QUARTILE($J$2:$J$501,1)),J297>(QUARTILE($J$2:$J$501,3))+1.5*(QUARTILE($J$2:$J$501,3)-QUARTILE($J$2:$J$501,1))),\"Outlier\")","v":false}]
[905114,"DOW CHEMICAL",1000,1300,1350,1353,30.66,1.87,{"$f":"(IF(IFERROR(G298/H298,\"\")<0,\"\",IFERROR(G298/H298,\"\")))","v":16.395721925133689},{"$f":"IF(COUNTIF($C$2:$C$501,C298)=1,\"\",IF(I298=\"\",\"\",ABS(IF(I298=\"\",0,(((H298*OFFSET($M$1,MATCH($C298,$L$2:$L$40,0),,)-G298)/G298))))))","v":5.4821889874432324E-2},{"$f":"IF(OR(J298<(QUARTILE($J$2:$J$501,1))-1.5*(QUARTILE($J$2:$J$501,3)-QUARTILE($J$2:$J$501,1)),J298>(QUARTILE($J$2:$J$501,3))+1.5*(QUARTILE($J$2:$J$501,3)-QUARTILE($J$2:$J$501,1))),\"\",J298)","v":5.4821889874432324E-2},null,null,{"$f":"IF(COUNTIF($D$2:$D$501,D298)=1,\"\",IF(I298=\"\",\"\",ABS(IF(I298=\"\",0,(((H298*OFFSET($P$1,MATCH($D298,$O$2:$O$40,0),,)-G298)/G298))))))","v":0.10230148204155874},null,null,{"$f":"IFERROR(IF(COUNTIF($E$2:$E$501,E298)=1,\"\",IF(I298=\"\",\"\",ABS(IF(I298=\"\",0,(((H298*OFFSET($S$1,MATCH($E298,$R$2:$R$41,0),,)-G298)/G298)))))),\"\")","v":0.10230148204155874},null,null,{"$f":"IFERROR(IF(COUNTIF($F$2:$F$501,F298)=1,\"\",IF(I298=\"\",\"\",ABS(IF(I298=\"\",0,(((H298*OFFSET($V$1,MATCH($F298,$U$2:$U$105,0),,)-G298)/G298)))))),\"\")","v":0.1351756478162747},null,null,{"$f":"IF(OR(J298<(QUARTILE($J$2:$J$501,1))-1.5*(QUARTILE($J$2:$J$501,3)-QUARTILE($J$2:$J$501,1)),J298>(QUARTILE($J$2:$J$501,3))+1.5*(QUARTILE($J$2:$J$501,3)-QUARTILE($J$2:$J$501,1))),\"Outlier\")","v":false}]
[905115,"EMERSON ELECTRIC",2000,2700,2730,2737,44.29,3.17,{"$f":"(IF(IFERROR(G299/H299,\"\")<0,\"\",IFERROR(G299/H299,\"\")))","v":13.97160883280757},{"$f":"IF(COUNTIF($C$2:$C$501,C299)=1,\"\",IF(I299=\"\",\"\",ABS(IF(I299=\"\",0,(((H299*OFFSET($M$1,MATCH($C299,$L$2:$L$40,0),,)-G299)/G299))))))","v":3.8093119862480831E-2},{"$f":"IF(OR(J299<(QUARTILE($J$2:$J$501,1))-1.5*(QUARTILE($J$2:$J$501,3)-QUARTILE($J$2:$J$501,1)),J299>(QUARTILE($J$2:$J$501,3))+1.5*(QUARTILE($J$2:$J$501,3)-QUARTILE($J$2:$J$501,1))),\"\",J299)","v":3.8093119862480831E-2},null,null,{"$f":"IF(COUNTIF($D$2:$D$501,D299)=1,\"\",IF(I299=\"\",\"\",ABS(IF(I299=\"\",0,(((H299*OFFSET($P$1,MATCH($D299,$O$2:$O$40,0),,)-G299)/G299))))))","v":2.4824766240521556E-2},null,null,{"$f":"IFERROR(IF(COUNTIF($E$2:$E$501,E299)=1,\"\",IF(I299=\"\",\"\",ABS(IF(I299=\"\",0,(((H299*OFFSET($S$1,MATCH($E299,$R$2:$R$41,0),,)-G299)/G299)))))),\"\")","v":0.17210391722342439},null,null,{"$f":"IFERROR(IF(COUNTIF($F$2:$F$501,F299)=1,\"\",IF(I299=\"\",\"\",ABS(IF(I299=\"\",0,(((H299*OFFSET($V$1,MATCH($F299,$U$2:$U$105,0),,)-G299)/G299)))))),\"\")","v":""},null,null,{"$f":"IF(OR(J299<(QUARTILE($J$2:$J$501,1))-1.5*(QUARTILE($J$2:$J$501,3)-QUARTILE($J$2:$J$501,1)),J299>(QUARTILE($J$2:$J$501,3))+1.5*(QUARTILE($J$2:$J$501,3)-QUARTILE($J$2:$J$501,1))),\"Outlier\")","v":false}]
[905118,"PITNEY-BOWES",9000,9500,9570,9574,15.05,3.43,{"$f":"(IF(IFERROR(G300/H300,\"\")<0,\"\",IFERROR(G300/H300,\"\")))","v":4.3877551020408161},{"$f":"IF(COUNTIF($C$2:$C$501,C300)=1,\"\",IF(I300=\"\",\"\",ABS(IF(I300=\"\",0,(((H300*OFFSET($M$1,MATCH($C300,$L$2:$L$40,0),,)-G300)/G300))))))","v":1.9837621156021963},{"$f":"IF(OR(J300<(QUARTILE($J$2:$J$501,1))-1.5*(QUARTILE($J$2:$J$501,3)-QUARTILE($J$2:$J$501,1)),J300>(QUARTILE($J$2:$J$501,3))+1.5*(QUARTILE($J$2:$J$501,3)-QUARTILE($J$2:$J$501,1))),\"\",J300)","v":""},null,null,{"$f":"IF(COUNTIF($D$2:$D$501,D300)=1,\"\",IF(I300=\"\",\"\",ABS(IF(I300=\"\",0,(((H300*OFFSET($P$1,MATCH($D300,$O$2:$O$40,0),,)-G300)/G300))))))","v":1.9837621156021963},null,null,{"$f":"IFERROR(IF(COUNTIF($E$2:$E$501,E300)=1,\"\",IF(I300=\"\",\"\",ABS(IF(I300=\"\",0,(((H300*OFFSET($S$1,MATCH($E300,$R$2:$R$41,0),,)-G300)/G300)))))),\"\")","v":1.8599754403376194},null,null,{"$f":"IFERROR(IF(COUNTIF($F$2:$F$501,F300)=1,\"\",IF(I300=\"\",\"\",ABS(IF(I300=\"\",0,(((H300*OFFSET($V$1,MATCH($F300,$U$2:$U$105,0),,)-G300)/G300)))))),\"\")","v":""},null,null,{"$f":"IF(OR(J300<(QUARTILE($J$2:$J$501,1))-1.5*(QUARTILE($J$2:$J$501,3)-QUARTILE($J$2:$J$501,1)),J300>(QUARTILE($J$2:$J$501,3))+1.5*(QUARTILE($J$2:$J$501,3)-QUARTILE($J$2:$J$501,1))),\"Outlier\")","v":"Outlier"}]
[905119,"SUPERVALU",5000,5300,5330,5337,5.25,0,{"$f":"(IF(IFERROR(G301/H301,\"\")<0,\"\",IFERROR(G301/H301,\"\")))","v":""},{"$f":"IF(COUNTIF($C$2:$C$501,C301)=1,\"\",IF(I301=\"\",\"\",ABS(IF(I301=\"\",0,(((H301*OFFSET($M$1,MATCH($C301,$L$2:$L$40,0),,)-G301)/G301))))))","v":""},{"$f":"IF(OR(J301<(QUARTILE($J$2:$J$501,1))-1.5*(QUARTILE($J$2:$J$501,3)-QUARTILE($J$2:$J$501,1)),J301>(QUARTILE($J$2:$J$501,3))+1.5*(QUARTILE($J$2:$J$501,3)-QUARTILE($J$2:$J$501,1))),\"\",J301)","v":""},null,null,{"$f":"IF(COUNTIF($D$2:$D$501,D301)=1,\"\",IF(I301=\"\",\"\",ABS(IF(I301=\"\",0,(((H301*OFFSET($P$1,MATCH($D301,$O$2:$O$40,0),,)-G301)/G301))))))","v":""},null,null,{"$f":"IFERROR(IF(COUNTIF($E$2:$E$501,E301)=1,\"\",IF(I301=\"\",\"\",ABS(IF(I301=\"\",0,(((H301*OFFSET($S$1,MATCH($E301,$R$2:$R$41,0),,)-G301)/G301)))))),\"\")","v":""},null,null,{"$f":"IFERROR(IF(COUNTIF($F$2:$F$501,F301)=1,\"\",IF(I301=\"\",\"\",ABS(IF(I301=\"\",0,(((H301*OFFSET($V$1,MATCH($F301,$U$2:$U$105,0),,)-G301)/G301)))))),\"\")","v":""},null,null,{"$f":"IF(OR(J301<(QUARTILE($J$2:$J$501,1))-1.5*(QUARTILE($J$2:$J$501,3)-QUARTILE($J$2:$J$501,1)),J301>(QUARTILE($J$2:$J$501,3))+1.5*(QUARTILE($J$2:$J$501,3)-QUARTILE($J$2:$J$501,1))),\"Outlier\")","v":"Outlier"}]
[905122,"UNITED TECHNOLOGIES",2000,2700,2710,2713,72.599999999999994,4.74,{"$f":"(IF(IFERROR(G302/H302,\"\")<0,\"\",IFERROR(G302/H302,\"\")))","v":15.31645569620253},{"$f":"IF(COUNTIF($C$2:$C$501,C302)=1,\"\",IF(I302=\"\",\"\",ABS(IF(I302=\"\",0,(((H302*OFFSET($M$1,MATCH($C302,$L$2:$L$40,0),,)-G302)/G302))))))","v":5.3055661804094836E-2},{"$f":"IF(OR(J302<(QUARTILE($J$2:$J$501,1))-1.5*(QUARTILE($J$2:$J$501,3)-QUARTILE($J$2:$J$501,1)),J302>(QUARTILE($J$2:$J$501,3))+1.5*(QUARTILE($J$2:$J$501,3)-QUARTILE($J$2:$J$501,1))),\"\",J302)","v":5.3055661804094836E-2},null,null,{"$f":"IF(COUNTIF($D$2:$D$501,D302)=1,\"\",IF(I302=\"\",\"\",ABS(IF(I302=\"\",0,(((H302*OFFSET($P$1,MATCH($D302,$O$2:$O$40,0),,)-G302)/G302))))))","v":6.5159000222482513E-2},null,null,{"$f":"IFERROR(IF(COUNTIF($E$2:$E$501,E302)=1,\"\",IF(I302=\"\",\"\",ABS(IF(I302=\"\",0,(((H302*OFFSET($S$1,MATCH($E302,$R$2:$R$41,0),,)-G302)/G302)))))),\"\")","v":0.25884147679316888},null,null,{"$f":"IFERROR(IF(COUNTIF($F$2:$F$501,F302)=1,\"\",IF(I302=\"\",\"\",ABS(IF(I302=\"\",0,(((H302*OFFSET($V$1,MATCH($F302,$U$2:$U$105,0),,)-G302)/G302)))))),\"\")","v":6.8698744335238876E-3},null,null,{"$f":"IF(OR(J302<(QUARTILE($J$2:$J$501,1))-1.5*(QUARTILE($J$2:$J$501,3)-QUARTILE($J$2:$J$501,1)),J302>(QUARTILE($J$2:$J$501,3))+1.5*(QUARTILE($J$2:$J$501,3)-QUARTILE($J$2:$J$501,1))),\"Outlier\")","v":false}]
[905129,"HERCULES DEAD - DELIST.24/11/08",1000,1300,1350,1357,19.170000000000002,1.21,{"$f":"(IF(IFERROR(G303/H303,\"\")<0,\"\",IFERROR(G303/H303,\"\")))","v":15.842975206611571},{"$f":"IF(COUNTIF($C$2:$C$501,C303)=1,\"\",IF(I303=\"\",\"\",ABS(IF(I303=\"\",0,(((H303*OFFSET($M$1,MATCH($C303,$L$2:$L$40,0),,)-G303)/G303))))))","v":2.1845501792172504E-2},{"$f":"IF(OR(J303<(QUARTILE($J$2:$J$501,1))-1.5*(QUARTILE($J$2:$J$501,3)-QUARTILE($J$2:$J$501,1)),J303>(QUARTILE($J$2:$J$501,3))+1.5*(QUARTILE($J$2:$J$501,3)-QUARTILE($J$2:$J$501,1))),\"\",J303)","v":2.1845501792172504E-2},null,null,{"$f":"IF(COUNTIF($D$2:$D$501,D303)=1,\"\",IF(I303=\"\",\"\",ABS(IF(I303=\"\",0,(((H303*OFFSET($P$1,MATCH($D303,$O$2:$O$40,0),,)-G303)/G303))))))","v":0.14075975891661605},null,null,{"$f":"IFERROR(IF(COUNTIF($E$2:$E$501,E303)=1,\"\",IF(I303=\"\",\"\",ABS(IF(I303=\"\",0,(((H303*OFFSET($S$1,MATCH($E303,$R$2:$R$41,0),,)-G303)/G303)))))),\"\")","v":0.14075975891661605},null,null,{"$f":"IFERROR(IF(COUNTIF($F$2:$F$501,F303)=1,\"\",IF(I303=\"\",\"\",ABS(IF(I303=\"\",0,(((H303*OFFSET($V$1,MATCH($F303,$U$2:$U$105,0),,)-G303)/G303)))))),\"\")","v":0.37710111852784622},null,null,{"$f":"IF(OR(J303<(QUARTILE($J$2:$J$501,1))-1.5*(QUARTILE($J$2:$J$501,3)-QUARTILE($J$2:$J$501,1)),J303>(QUARTILE($J$2:$J$501,3))+1.5*(QUARTILE($J$2:$J$501,3)-QUARTILE($J$2:$J$501,1))),\"Outlier\")","v":false}]
[905150,"PARKER-HANNIFIN",2000,2700,2750,2757,73.099999999999994,7.28,{"$f":"(IF(IFERROR(G304/H304,\"\")<0,\"\",IFERROR(G304/H304,\"\")))","v":10.04120879120879},{"$f":"IF(COUNTIF($C$2:$C$501,C304)=1,\"\",IF(I304=\"\",\"\",ABS(IF(I304=\"\",0,(((H304*OFFSET($M$1,MATCH($C304,$L$2:$L$40,0),,)-G304)/G304))))))","v":0.44443077564981015},{"$f":"IF(OR(J304<(QUARTILE($J$2:$J$501,1))-1.5*(QUARTILE($J$2:$J$501,3)-QUARTILE($J$2:$J$501,1)),J304>(QUARTILE($J$2:$J$501,3))+1.5*(QUARTILE($J$2:$J$501,3)-QUARTILE($J$2:$J$501,1))),\"\",J304)","v":0.44443077564981015},null,null,{"$f":"IF(COUNTIF($D$2:$D$501,D304)=1,\"\",IF(I304=\"\",\"\",ABS(IF(I304=\"\",0,(((H304*OFFSET($P$1,MATCH($D304,$O$2:$O$40,0),,)-G304)/G304))))))","v":0.42596883042826644},null,null,{"$f":"IFERROR(IF(COUNTIF($E$2:$E$501,E304)=1,\"\",IF(I304=\"\",\"\",ABS(IF(I304=\"\",0,(((H304*OFFSET($S$1,MATCH($E304,$R$2:$R$41,0),,)-G304)/G304)))))),\"\")","v":0.21695532176695084},null,null,{"$f":"IFERROR(IF(COUNTIF($F$2:$F$501,F304)=1,\"\",IF(I304=\"\",\"\",ABS(IF(I304=\"\",0,(((H304*OFFSET($V$1,MATCH($F304,$U$2:$U$105,0),,)-G304)/G304)))))),\"\")","v":0.23483410343315303},null,null,{"$f":"IF(OR(J304<(QUARTILE($J$2:$J$501,1))-1.5*(QUARTILE($J$2:$J$501,3)-QUARTILE($J$2:$J$501,1)),J304>(QUARTILE($J$2:$J$501,3))+1.5*(QUARTILE($J$2:$J$501,3)-QUARTILE($J$2:$J$501,1))),\"Outlier\")","v":false}]
[905159,"FIRSTENERGY",7000,7500,7530,7535,48.48,2.81,{"$f":"(IF(IFERROR(G305/H305,\"\")<0,\"\",IFERROR(G305/H305,\"\")))","v":17.252669039145907},{"$f":"IF(COUNTIF($C$2:$C$501,C305)=1,\"\",IF(I305=\"\",\"\",ABS(IF(I305=\"\",0,(((H305*OFFSET($M$1,MATCH($C305,$L$2:$L$40,0),,)-G305)/G305))))))","v":2.6872572257390072E-2},{"$f":"IF(OR(J305<(QUARTILE($J$2:$J$501,1))-1.5*(QUARTILE($J$2:$J$501,3)-QUARTILE($J$2:$J$501,1)),J305>(QUARTILE($J$2:$J$501,3))+1.5*(QUARTILE($J$2:$J$501,3)-QUARTILE($J$2:$J$501,1))),\"\",J305)","v":2.6872572257390072E-2},null,null,{"$f":"IF(COUNTIF($D$2:$D$501,D305)=1,\"\",IF(I305=\"\",\"\",ABS(IF(I305=\"\",0,(((H305*OFFSET($P$1,MATCH($D305,$O$2:$O$40,0),,)-G305)/G305))))))","v":2.6872572257390072E-2},null,null,{"$f":"IFERROR(IF(COUNTIF($E$2:$E$501,E305)=1,\"\",IF(I305=\"\",\"\",ABS(IF(I305=\"\",0,(((H305*OFFSET($S$1,MATCH($E305,$R$2:$R$41,0),,)-G305)/G305)))))),\"\")","v":8.0310107888133836E-2},null,null,{"$f":"IFERROR(IF(COUNTIF($F$2:$F$501,F305)=1,\"\",IF(I305=\"\",\"\",ABS(IF(I305=\"\",0,(((H305*OFFSET($V$1,MATCH($F305,$U$2:$U$105,0),,)-G305)/G305)))))),\"\")","v":8.0310107888133836E-2},null,null,{"$f":"IF(OR(J305<(QUARTILE($J$2:$J$501,1))-1.5*(QUARTILE($J$2:$J$501,3)-QUARTILE($J$2:$J$501,1)),J305>(QUARTILE($J$2:$J$501,3))+1.5*(QUARTILE($J$2:$J$501,3)-QUARTILE($J$2:$J$501,1))),\"Outlier\")","v":false}]
[905171,"MOTORS LIQUIDATION DEAD - DELIST.01/04/11",3000,3300,3350,3353,0.04,0,{"$f":"(IF(IFERROR(G306/H306,\"\")<0,\"\",IFERROR(G306/H306,\"\")))","v":""},{"$f":"IF(COUNTIF($C$2:$C$501,C306)=1,\"\",IF(I306=\"\",\"\",ABS(IF(I306=\"\",0,(((H306*OFFSET($M$1,MATCH($C306,$L$2:$L$40,0),,)-G306)/G306))))))","v":""},{"$f":"IF(OR(J306<(QUARTILE($J$2:$J$501,1))-1.5*(QUARTILE($J$2:$J$501,3)-QUARTILE($J$2:$J$501,1)),J306>(QUARTILE($J$2:$J$501,3))+1.5*(QUARTILE($J$2:$J$501,3)-QUARTILE($J$2:$J$501,1))),\"\",J306)","v":""},null,null,{"$f":"IF(COUNTIF($D$2:$D$501,D306)=1,\"\",IF(I306=\"\",\"\",ABS(IF(I306=\"\",0,(((H306*OFFSET($P$1,MATCH($D306,$O$2:$O$40,0),,)-G306)/G306))))))","v":""},null,null,{"$f":"IFERROR(IF(COUNTIF($E$2:$E$501,E306)=1,\"\",IF(I306=\"\",\"\",ABS(IF(I306=\"\",0,(((H306*OFFSET($S$1,MATCH($E306,$R$2:$R$41,0),,)-G306)/G306)))))),\"\")","v":""},null,null,{"$f":"IFERROR(IF(COUNTIF($F$2:$F$501,F306)=1,\"\",IF(I306=\"\",\"\",ABS(IF(I306=\"\",0,(((H306*OFFSET($V$1,MATCH($F306,$U$2:$U$105,0),,)-G306)/G306)))))),\"\")","v":""},null,null,{"$f":"IF(OR(J306<(QUARTILE($J$2:$J$501,1))-1.5*(QUARTILE($J$2:$J$501,3)-QUARTILE($J$2:$J$501,1)),J306>(QUARTILE($J$2:$J$501,3))+1.5*(QUARTILE($J$2:$J$501,3)-QUARTILE($J$2:$J$501,1))),\"Outlier\")","v":"Outlier"}]
[905214,"DTE ENERGY",7000,7500,7530,7535,59.02,4.05,{"$f":"(IF(IFERROR(G307/H307,\"\")<0,\"\",IFERROR(G307/H307,\"\")))","v":14.572839506172841},{"$f":"IF(COUNTIF($C$2:$C$501,C307)=1,\"\",IF(I307=\"\",\"\",ABS(IF(I307=\"\",0,(((H307*OFFSET($M$1,MATCH($C307,$L$2:$L$40,0),,)-G307)/G307))))))","v":0.15207783882111836},{"$f":"IF(OR(J307<(QUARTILE($J$2:$J$501,1))-1.5*(QUARTILE($J$2:$J$501,3)-QUARTILE($J$2:$J$501,1)),J307>(QUARTILE($J$2:$J$501,3))+1.5*(QUARTILE($J$2:$J$501,3)-QUARTILE($J$2:$J$501,1))),\"\",J307)","v":0.15207783882111836},null,null,{"$f":"IF(COUNTIF($D$2:$D$501,D307)=1,\"\",IF(I307=\"\",\"\",ABS(IF(I307=\"\",0,(((H307*OFFSET($P$1,MATCH($D307,$O$2:$O$40,0),,)-G307)/G307))))))","v":0.15207783882111836},null,null,{"$f":"IFERROR(IF(COUNTIF($E$2:$E$501,E307)=1,\"\",IF(I307=\"\",\"\",ABS(IF(I307=\"\",0,(((H307*OFFSET($S$1,MATCH($E307,$R$2:$R$41,0),,)-G307)/G307)))))),\"\")","v":8.8813564476076218E-2},null,null,{"$f":"IFERROR(IF(COUNTIF($F$2:$F$501,F307)=1,\"\",IF(I307=\"\",\"\",ABS(IF(I307=\"\",0,(((H307*OFFSET($V$1,MATCH($F307,$U$2:$U$105,0),,)-G307)/G307)))))),\"\")","v":8.8813564476076218E-2},null,null,{"$f":"IF(OR(J307<(QUARTILE($J$2:$J$501,1))-1.5*(QUARTILE($J$2:$J$501,3)-QUARTILE($J$2:$J$501,1)),J307>(QUARTILE($J$2:$J$501,3))+1.5*(QUARTILE($J$2:$J$501,3)-QUARTILE($J$2:$J$501,1))),\"Outlier\")","v":false}]
[905253,"TEREX",2000,2700,2750,2753,16.739999999999998,0.51,{"$f":"(IF(IFERROR(G308/H308,\"\")<0,\"\",IFERROR(G308/H308,\"\")))","v":32.823529411764703},{"$f":"IF(COUNTIF($C$2:$C$501,C308)=1,\"\",IF(I308=\"\",\"\",ABS(IF(I308=\"\",0,(((H308*OFFSET($M$1,MATCH($C308,$L$2:$L$40,0),,)-G308)/G308))))))","v":0.55812701246110052},{"$f":"IF(OR(J308<(QUARTILE($J$2:$J$501,1))-1.5*(QUARTILE($J$2:$J$501,3)-QUARTILE($J$2:$J$501,1)),J308>(QUARTILE($J$2:$J$501,3))+1.5*(QUARTILE($J$2:$J$501,3)-QUARTILE($J$2:$J$501,1))),\"\",J308)","v":0.55812701246110052},null,null,{"$f":"IF(COUNTIF($D$2:$D$501,D308)=1,\"\",IF(I308=\"\",\"\",ABS(IF(I308=\"\",0,(((H308*OFFSET($P$1,MATCH($D308,$O$2:$O$40,0),,)-G308)/G308))))))","v":0.56377479775365147},null,null,{"$f":"IFERROR(IF(COUNTIF($E$2:$E$501,E308)=1,\"\",IF(I308=\"\",\"\",ABS(IF(I308=\"\",0,(((H308*OFFSET($S$1,MATCH($E308,$R$2:$R$41,0),,)-G308)/G308)))))),\"\")","v":0.6277151575584432},null,null,{"$f":"IFERROR(IF(COUNTIF($F$2:$F$501,F308)=1,\"\",IF(I308=\"\",\"\",ABS(IF(I308=\"\",0,(((H308*OFFSET($V$1,MATCH($F308,$U$2:$U$105,0),,)-G308)/G308)))))),\"\")","v":0.63302842566226836},null,null,{"$f":"IF(OR(J308<(QUARTILE($J$2:$J$501,1))-1.5*(QUARTILE($J$2:$J$501,3)-QUARTILE($J$2:$J$501,1)),J308>(QUARTILE($J$2:$J$501,3))+1.5*(QUARTILE($J$2:$J$501,3)-QUARTILE($J$2:$J$501,1))),\"Outlier\")","v":false}]
[905255,"SUNOCO",1,500,530,533,47.45,0,{"$f":"(IF(IFERROR(G309/H309,\"\")<0,\"\",IFERROR(G309/H309,\"\")))","v":""},{"$f":"IF(COUNTIF($C$2:$C$501,C309)=1,\"\",IF(I309=\"\",\"\",ABS(IF(I309=\"\",0,(((H309*OFFSET($M$1,MATCH($C309,$L$2:$L$40,0),,)-G309)/G309))))))","v":""},{"$f":"IF(OR(J309<(QUARTILE($J$2:$J$501,1))-1.5*(QUARTILE($J$2:$J$501,3)-QUARTILE($J$2:$J$501,1)),J309>(QUARTILE($J$2:$J$501,3))+1.5*(QUARTILE($J$2:$J$501,3)-QUARTILE($J$2:$J$501,1))),\"\",J309)","v":""},null,null,{"$f":"IF(COUNTIF($D$2:$D$501,D309)=1,\"\",IF(I309=\"\",\"\",ABS(IF(I309=\"\",0,(((H309*OFFSET($P$1,MATCH($D309,$O$2:$O$40,0),,)-G309)/G309))))))","v":""},null,null,{"$f":"IFERROR(IF(COUNTIF($E$2:$E$501,E309)=1,\"\",IF(I309=\"\",\"\",ABS(IF(I309=\"\",0,(((H309*OFFSET($S$1,MATCH($E309,$R$2:$R$41,0),,)-G309)/G309)))))),\"\")","v":""},null,null,{"$f":"IFERROR(IF(COUNTIF($F$2:$F$501,F309)=1,\"\",IF(I309=\"\",\"\",ABS(IF(I309=\"\",0,(((H309*OFFSET($V$1,MATCH($F309,$U$2:$U$105,0),,)-G309)/G309)))))),\"\")","v":""},null,null,{"$f":"IF(OR(J309<(QUARTILE($J$2:$J$501,1))-1.5*(QUARTILE($J$2:$J$501,3)-QUARTILE($J$2:$J$501,1)),J309>(QUARTILE($J$2:$J$501,3))+1.5*(QUARTILE($J$2:$J$501,3)-QUARTILE($J$2:$J$501,1))),\"Outlier\")","v":"Outlier"}]
[905274,"UNISYS",9000,9500,9530,9533,18.18,4.16,{"$f":"(IF(IFERROR(G310/H310,\"\")<0,\"\",IFERROR(G310/H310,\"\")))","v":4.3701923076923075},{"$f":"IF(COUNTIF($C$2:$C$501,C310)=1,\"\",IF(I310=\"\",\"\",ABS(IF(I310=\"\",0,(((H310*OFFSET($M$1,MATCH($C310,$L$2:$L$40,0),,)-G310)/G310))))))","v":1.9957531669637012},{"$f":"IF(OR(J310<(QUARTILE($J$2:$J$501,1))-1.5*(QUARTILE($J$2:$J$501,3)-QUARTILE($J$2:$J$501,1)),J310>(QUARTILE($J$2:$J$501,3))+1.5*(QUARTILE($J$2:$J$501,3)-QUARTILE($J$2:$J$501,1))),\"\",J310)","v":""},null,null,{"$f":"IF(COUNTIF($D$2:$D$501,D310)=1,\"\",IF(I310=\"\",\"\",ABS(IF(I310=\"\",0,(((H310*OFFSET($P$1,MATCH($D310,$O$2:$O$40,0),,)-G310)/G310))))))","v":1.9957531669637012},null,null,{"$f":"IFERROR(IF(COUNTIF($E$2:$E$501,E310)=1,\"\",IF(I310=\"\",\"\",ABS(IF(I310=\"\",0,(((H310*OFFSET($S$1,MATCH($E310,$R$2:$R$41,0),,)-G310)/G310)))))),\"\")","v":2.2313046704162183},null,null,{"$f":"IFERROR(IF(COUNTIF($F$2:$F$501,F310)=1,\"\",IF(I310=\"\",\"\",ABS(IF(I310=\"\",0,(((H310*OFFSET($V$1,MATCH($F310,$U$2:$U$105,0),,)-G310)/G310)))))),\"\")","v":1.6917565827588197},null,null,{"$f":"IF(OR(J310<(QUARTILE($J$2:$J$501,1))-1.5*(QUARTILE($J$2:$J$501,3)-QUARTILE($J$2:$J$501,1)),J310>(QUARTILE($J$2:$J$501,3))+1.5*(QUARTILE($J$2:$J$501,3)-QUARTILE($J$2:$J$501,1))),\"Outlier\")","v":"Outlier"}]
[905277,"HEWLETT-PACKARD",9000,9500,9570,9572,19.36,2.62,{"$f":"(IF(IFERROR(G311/H311,\"\")<0,\"\",IFERROR(G311/H311,\"\")))","v":7.3893129770992365},{"$f":"IF(COUNTIF($C$2:$C$501,C311)=1,\"\",IF(I311=\"\",\"\",ABS(IF(I311=\"\",0,(((H311*OFFSET($M$1,MATCH($C311,$L$2:$L$40,0),,)-G311)/G311))))))","v":0.77175029486287461},{"$f":"IF(OR(J311<(QUARTILE($J$2:$J$501,1))-1.5*(QUARTILE($J$2:$J$501,3)-QUARTILE($J$2:$J$501,1)),J311>(QUARTILE($J$2:$J$501,3))+1.5*(QUARTILE($J$2:$J$501,3)-QUARTILE($J$2:$J$501,1))),\"\",J311)","v":0.77175029486287461},null,null,{"$f":"IF(COUNTIF($D$2:$D$501,D311)=1,\"\",IF(I311=\"\",\"\",ABS(IF(I311=\"\",0,(((H311*OFFSET($P$1,MATCH($D311,$O$2:$O$40,0),,)-G311)/G311))))))","v":0.77175029486287461},null,null,{"$f":"IFERROR(IF(COUNTIF($E$2:$E$501,E311)=1,\"\",IF(I311=\"\",\"\",ABS(IF(I311=\"\",0,(((H311*OFFSET($S$1,MATCH($E311,$R$2:$R$41,0),,)-G311)/G311)))))),\"\")","v":0.6982460844389663},null,null,{"$f":"IFERROR(IF(COUNTIF($F$2:$F$501,F311)=1,\"\",IF(I311=\"\",\"\",ABS(IF(I311=\"\",0,(((H311*OFFSET($V$1,MATCH($F311,$U$2:$U$105,0),,)-G311)/G311)))))),\"\")","v":0.5125156036227777},null,null,{"$f":"IF(OR(J311<(QUARTILE($J$2:$J$501,1))-1.5*(QUARTILE($J$2:$J$501,3)-QUARTILE($J$2:$J$501,1)),J311>(QUARTILE($J$2:$J$501,3))+1.5*(QUARTILE($J$2:$J$501,3)-QUARTILE($J$2:$J$501,1))),\"Outlier\")","v":false}]
[905284,"XEROX",2000,2700,2790,2791,7.73,0.9,{"$f":"(IF(IFERROR(G312/H312,\"\")<0,\"\",IFERROR(G312/H312,\"\")))","v":8.5888888888888886},{"$f":"IF(COUNTIF($C$2:$C$501,C312)=1,\"\",IF(I312=\"\",\"\",ABS(IF(I312=\"\",0,(((H312*OFFSET($M$1,MATCH($C312,$L$2:$L$40,0),,)-G312)/G312))))))","v":0.68867372606373412},{"$f":"IF(OR(J312<(QUARTILE($J$2:$J$501,1))-1.5*(QUARTILE($J$2:$J$501,3)-QUARTILE($J$2:$J$501,1)),J312>(QUARTILE($J$2:$J$501,3))+1.5*(QUARTILE($J$2:$J$501,3)-QUARTILE($J$2:$J$501,1))),\"\",J312)","v":0.68867372606373412},null,null,{"$f":"IF(COUNTIF($D$2:$D$501,D312)=1,\"\",IF(I312=\"\",\"\",ABS(IF(I312=\"\",0,(((H312*OFFSET($P$1,MATCH($D312,$O$2:$O$40,0),,)-G312)/G312))))))","v":0.6670899974744402},null,null,{"$f":"IFERROR(IF(COUNTIF($E$2:$E$501,E312)=1,\"\",IF(I312=\"\",\"\",ABS(IF(I312=\"\",0,(((H312*OFFSET($S$1,MATCH($E312,$R$2:$R$41,0),,)-G312)/G312)))))),\"\")","v":0.73686906181621614},null,null,{"$f":"IFERROR(IF(COUNTIF($F$2:$F$501,F312)=1,\"\",IF(I312=\"\",\"\",ABS(IF(I312=\"\",0,(((H312*OFFSET($V$1,MATCH($F312,$U$2:$U$105,0),,)-G312)/G312)))))),\"\")","v":0.20332216545754206},null,null,{"$f":"IF(OR(J312<(QUARTILE($J$2:$J$501,1))-1.5*(QUARTILE($J$2:$J$501,3)-QUARTILE($J$2:$J$501,1)),J312>(QUARTILE($J$2:$J$501,3))+1.5*(QUARTILE($J$2:$J$501,3)-QUARTILE($J$2:$J$501,1))),\"Outlier\")","v":false}]
[905361,"SHERWIN-WILLIAMS",2000,2300,2350,2353,130.15,4.47,{"$f":"(IF(IFERROR(G313/H313,\"\")<0,\"\",IFERROR(G313/H313,\"\")))","v":29.11633109619687},{"$f":"IF(COUNTIF($C$2:$C$501,C313)=1,\"\",IF(I313=\"\",\"\",ABS(IF(I313=\"\",0,(((H313*OFFSET($M$1,MATCH($C313,$L$2:$L$40,0),,)-G313)/G313))))))","v":0.50186611922949753},{"$f":"IF(OR(J313<(QUARTILE($J$2:$J$501,1))-1.5*(QUARTILE($J$2:$J$501,3)-QUARTILE($J$2:$J$501,1)),J313>(QUARTILE($J$2:$J$501,3))+1.5*(QUARTILE($J$2:$J$501,3)-QUARTILE($J$2:$J$501,1))),\"\",J313)","v":0.50186611922949753},null,null,{"$f":"IF(COUNTIF($D$2:$D$501,D313)=1,\"\",IF(I313=\"\",\"\",ABS(IF(I313=\"\",0,(((H313*OFFSET($P$1,MATCH($D313,$O$2:$O$40,0),,)-G313)/G313))))))","v":0.31585736966653427},null,null,{"$f":"IFERROR(IF(COUNTIF($E$2:$E$501,E313)=1,\"\",IF(I313=\"\",\"\",ABS(IF(I313=\"\",0,(((H313*OFFSET($S$1,MATCH($E313,$R$2:$R$41,0),,)-G313)/G313)))))),\"\")","v":""},null,null,{"$f":"IFERROR(IF(COUNTIF($F$2:$F$501,F313)=1,\"\",IF(I313=\"\",\"\",ABS(IF(I313=\"\",0,(((H313*OFFSET($V$1,MATCH($F313,$U$2:$U$105,0),,)-G313)/G313)))))),\"\")","v":""},null,null,{"$f":"IF(OR(J313<(QUARTILE($J$2:$J$501,1))-1.5*(QUARTILE($J$2:$J$501,3)-QUARTILE($J$2:$J$501,1)),J313>(QUARTILE($J$2:$J$501,3))+1.5*(QUARTILE($J$2:$J$501,3)-QUARTILE($J$2:$J$501,1))),\"Outlier\")","v":false}]
[905414,"MCGRAW-HILL",5000,5500,5550,5557,43.59,2.78,{"$f":"(IF(IFERROR(G314/H314,\"\")<0,\"\",IFERROR(G314/H314,\"\")))","v":15.679856115107915},{"$f":"IF(COUNTIF($C$2:$C$501,C314)=1,\"\",IF(I314=\"\",\"\",ABS(IF(I314=\"\",0,(((H314*OFFSET($M$1,MATCH($C314,$L$2:$L$40,0),,)-G314)/G314))))))","v":5.7816759427525974E-3},{"$f":"IF(OR(J314<(QUARTILE($J$2:$J$501,1))-1.5*(QUARTILE($J$2:$J$501,3)-QUARTILE($J$2:$J$501,1)),J314>(QUARTILE($J$2:$J$501,3))+1.5*(QUARTILE($J$2:$J$501,3)-QUARTILE($J$2:$J$501,1))),\"\",J314)","v":5.7816759427525974E-3},null,null,{"$f":"IF(COUNTIF($D$2:$D$501,D314)=1,\"\",IF(I314=\"\",\"\",ABS(IF(I314=\"\",0,(((H314*OFFSET($P$1,MATCH($D314,$O$2:$O$40,0),,)-G314)/G314))))))","v":3.2495712147552966E-2},null,null,{"$f":"IFERROR(IF(COUNTIF($E$2:$E$501,E314)=1,\"\",IF(I314=\"\",\"\",ABS(IF(I314=\"\",0,(((H314*OFFSET($S$1,MATCH($E314,$R$2:$R$41,0),,)-G314)/G314)))))),\"\")","v":3.2495712147552966E-2},null,null,{"$f":"IFERROR(IF(COUNTIF($F$2:$F$501,F314)=1,\"\",IF(I314=\"\",\"\",ABS(IF(I314=\"\",0,(((H314*OFFSET($V$1,MATCH($F314,$U$2:$U$105,0),,)-G314)/G314)))))),\"\")","v":2.5115184153866602E-2},null,null,{"$f":"IF(OR(J314<(QUARTILE($J$2:$J$501,1))-1.5*(QUARTILE($J$2:$J$501,3)-QUARTILE($J$2:$J$501,1)),J314>(QUARTILE($J$2:$J$501,3))+1.5*(QUARTILE($J$2:$J$501,3)-QUARTILE($J$2:$J$501,1))),\"Outlier\")","v":false}]
[905446,"INGERSOLL-RAND",2000,2700,2750,2757,41.13,0,{"$f":"(IF(IFERROR(G315/H315,\"\")<0,\"\",IFERROR(G315/H315,\"\")))","v":""},{"$f":"IF(COUNTIF($C$2:$C$501,C315)=1,\"\",IF(I315=\"\",\"\",ABS(IF(I315=\"\",0,(((H315*OFFSET($M$1,MATCH($C315,$L$2:$L$40,0),,)-G315)/G315))))))","v":""},{"$f":"IF(OR(J315<(QUARTILE($J$2:$J$501,1))-1.5*(QUARTILE($J$2:$J$501,3)-QUARTILE($J$2:$J$501,1)),J315>(QUARTILE($J$2:$J$501,3))+1.5*(QUARTILE($J$2:$J$501,3)-QUARTILE($J$2:$J$501,1))),\"\",J315)","v":""},null,null,{"$f":"IF(COUNTIF($D$2:$D$501,D315)=1,\"\",IF(I315=\"\",\"\",ABS(IF(I315=\"\",0,(((H315*OFFSET($P$1,MATCH($D315,$O$2:$O$40,0),,)-G315)/G315))))))","v":""},null,null,{"$f":"IFERROR(IF(COUNTIF($E$2:$E$501,E315)=1,\"\",IF(I315=\"\",\"\",ABS(IF(I315=\"\",0,(((H315*OFFSET($S$1,MATCH($E315,$R$2:$R$41,0),,)-G315)/G315)))))),\"\")","v":""},null,null,{"$f":"IFERROR(IF(COUNTIF($F$2:$F$501,F315)=1,\"\",IF(I315=\"\",\"\",ABS(IF(I315=\"\",0,(((H315*OFFSET($V$1,MATCH($F315,$U$2:$U$105,0),,)-G315)/G315)))))),\"\")","v":""},null,null,{"$f":"IF(OR(J315<(QUARTILE($J$2:$J$501,1))-1.5*(QUARTILE($J$2:$J$501,3)-QUARTILE($J$2:$J$501,1)),J315>(QUARTILE($J$2:$J$501,3))+1.5*(QUARTILE($J$2:$J$501,3)-QUARTILE($J$2:$J$501,1))),\"Outlier\")","v":"Outlier"}]
[905454,"TECO ENERGY",7000,7500,7530,7535,18.05,1.26,{"$f":"(IF(IFERROR(G316/H316,\"\")<0,\"\",IFERROR(G316/H316,\"\")))","v":14.325396825396826},{"$f":"IF(COUNTIF($C$2:$C$501,C316)=1,\"\",IF(I316=\"\",\"\",ABS(IF(I316=\"\",0,(((H316*OFFSET($M$1,MATCH($C316,$L$2:$L$40,0),,)-G316)/G316))))))","v":0.17197768748675135},{"$f":"IF(OR(J316<(QUARTILE($J$2:$J$501,1))-1.5*(QUARTILE($J$2:$J$501,3)-QUARTILE($J$2:$J$501,1)),J316>(QUARTILE($J$2:$J$501,3))+1.5*(QUARTILE($J$2:$J$501,3)-QUARTILE($J$2:$J$501,1))),\"\",J316)","v":0.17197768748675135},null,null,{"$f":"IF(COUNTIF($D$2:$D$501,D316)=1,\"\",IF(I316=\"\",\"\",ABS(IF(I316=\"\",0,(((H316*OFFSET($P$1,MATCH($D316,$O$2:$O$40,0),,)-G316)/G316))))))","v":0.17197768748675135},null,null,{"$f":"IFERROR(IF(COUNTIF($E$2:$E$501,E316)=1,\"\",IF(I316=\"\",\"\",ABS(IF(I316=\"\",0,(((H316*OFFSET($S$1,MATCH($E316,$R$2:$R$41,0),,)-G316)/G316)))))),\"\")","v":0.10762064888309301},null,null,{"$f":"IFERROR(IF(COUNTIF($F$2:$F$501,F316)=1,\"\",IF(I316=\"\",\"\",ABS(IF(I316=\"\",0,(((H316*OFFSET($V$1,MATCH($F316,$U$2:$U$105,0),,)-G316)/G316)))))),\"\")","v":0.10762064888309301},null,null,{"$f":"IF(OR(J316<(QUARTILE($J$2:$J$501,1))-1.5*(QUARTILE($J$2:$J$501,3)-QUARTILE($J$2:$J$501,1)),J316>(QUARTILE($J$2:$J$501,3))+1.5*(QUARTILE($J$2:$J$501,3)-QUARTILE($J$2:$J$501,1))),\"Outlier\")","v":false}]
[905491,"OFFICEMAX",5000,5300,5370,5379,4.63,0.3,{"$f":"(IF(IFERROR(G317/H317,\"\")<0,\"\",IFERROR(G317/H317,\"\")))","v":15.433333333333334},{"$f":"IF(COUNTIF($C$2:$C$501,C317)=1,\"\",IF(I317=\"\",\"\",ABS(IF(I317=\"\",0,(((H317*OFFSET($M$1,MATCH($C317,$L$2:$L$40,0),,)-G317)/G317))))))","v":2.1847427343053397E-2},{"$f":"IF(OR(J317<(QUARTILE($J$2:$J$501,1))-1.5*(QUARTILE($J$2:$J$501,3)-QUARTILE($J$2:$J$501,1)),J317>(QUARTILE($J$2:$J$501,3))+1.5*(QUARTILE($J$2:$J$501,3)-QUARTILE($J$2:$J$501,1))),\"\",J317)","v":2.1847427343053397E-2},null,null,{"$f":"IF(COUNTIF($D$2:$D$501,D317)=1,\"\",IF(I317=\"\",\"\",ABS(IF(I317=\"\",0,(((H317*OFFSET($P$1,MATCH($D317,$O$2:$O$40,0),,)-G317)/G317))))))","v":5.5844226423016022E-2},null,null,{"$f":"IFERROR(IF(COUNTIF($E$2:$E$501,E317)=1,\"\",IF(I317=\"\",\"\",ABS(IF(I317=\"\",0,(((H317*OFFSET($S$1,MATCH($E317,$R$2:$R$41,0),,)-G317)/G317)))))),\"\")","v":7.1289133157148812E-2},null,null,{"$f":"IFERROR(IF(COUNTIF($F$2:$F$501,F317)=1,\"\",IF(I317=\"\",\"\",ABS(IF(I317=\"\",0,(((H317*OFFSET($V$1,MATCH($F317,$U$2:$U$105,0),,)-G317)/G317)))))),\"\")","v":0.19843072239606568},null,null,{"$f":"IF(OR(J317<(QUARTILE($J$2:$J$501,1))-1.5*(QUARTILE($J$2:$J$501,3)-QUARTILE($J$2:$J$501,1)),J317>(QUARTILE($J$2:$J$501,3))+1.5*(QUARTILE($J$2:$J$501,3)-QUARTILE($J$2:$J$501,1))),\"Outlier\")","v":false}]
[905620,"LOWE'S COMPANIES",5000,5300,5370,5375,27.24,1.52,{"$f":"(IF(IFERROR(G318/H318,\"\")<0,\"\",IFERROR(G318/H318,\"\")))","v":17.921052631578945},{"$f":"IF(COUNTIF($C$2:$C$501,C318)=1,\"\",IF(I318=\"\",\"\",ABS(IF(I318=\"\",0,(((H318*OFFSET($M$1,MATCH($C318,$L$2:$L$40,0),,)-G318)/G318))))))","v":0.12000080094597734},{"$f":"IF(OR(J318<(QUARTILE($J$2:$J$501,1))-1.5*(QUARTILE($J$2:$J$501,3)-QUARTILE($J$2:$J$501,1)),J318>(QUARTILE($J$2:$J$501,3))+1.5*(QUARTILE($J$2:$J$501,3)-QUARTILE($J$2:$J$501,1))),\"\",J318)","v":0.12000080094597734},null,null,{"$f":"IF(COUNTIF($D$2:$D$501,D318)=1,\"\",IF(I318=\"\",\"\",ABS(IF(I318=\"\",0,(((H318*OFFSET($P$1,MATCH($D318,$O$2:$O$40,0),,)-G318)/G318))))))","v":0.1869076514775595},null,null,{"$f":"IFERROR(IF(COUNTIF($E$2:$E$501,E318)=1,\"\",IF(I318=\"\",\"\",ABS(IF(I318=\"\",0,(((H318*OFFSET($S$1,MATCH($E318,$R$2:$R$41,0),,)-G318)/G318)))))),\"\")","v":0.20020856626367473},null,null,{"$f":"IFERROR(IF(COUNTIF($F$2:$F$501,F318)=1,\"\",IF(I318=\"\",\"\",ABS(IF(I318=\"\",0,(((H318*OFFSET($V$1,MATCH($F318,$U$2:$U$105,0),,)-G318)/G318)))))),\"\")","v":""},null,null,{"$f":"IF(OR(J318<(QUARTILE($J$2:$J$501,1))-1.5*(QUARTILE($J$2:$J$501,3)-QUARTILE($J$2:$J$501,1)),J318>(QUARTILE($J$2:$J$501,3))+1.5*(QUARTILE($J$2:$J$501,3)-QUARTILE($J$2:$J$501,1))),\"Outlier\")","v":false}]
[905624,"MASCO",2000,2300,2350,2353,13.48,0,{"$f":"(IF(IFERROR(G319/H319,\"\")<0,\"\",IFERROR(G319/H319,\"\")))","v":""},{"$f":"IF(COUNTIF($C$2:$C$501,C319)=1,\"\",IF(I319=\"\",\"\",ABS(IF(I319=\"\",0,(((H319*OFFSET($M$1,MATCH($C319,$L$2:$L$40,0),,)-G319)/G319))))))","v":""},{"$f":"IF(OR(J319<(QUARTILE($J$2:$J$501,1))-1.5*(QUARTILE($J$2:$J$501,3)-QUARTILE($J$2:$J$501,1)),J319>(QUARTILE($J$2:$J$501,3))+1.5*(QUARTILE($J$2:$J$501,3)-QUARTILE($J$2:$J$501,1))),\"\",J319)","v":""},null,null,{"$f":"IF(COUNTIF($D$2:$D$501,D319)=1,\"\",IF(I319=\"\",\"\",ABS(IF(I319=\"\",0,(((H319*OFFSET($P$1,MATCH($D319,$O$2:$O$40,0),,)-G319)/G319))))))","v":""},null,null,{"$f":"IFERROR(IF(COUNTIF($E$2:$E$501,E319)=1,\"\",IF(I319=\"\",\"\",ABS(IF(I319=\"\",0,(((H319*OFFSET($S$1,MATCH($E319,$R$2:$R$41,0),,)-G319)/G319)))))),\"\")","v":""},null,null,{"$f":"IFERROR(IF(COUNTIF($F$2:$F$501,F319)=1,\"\",IF(I319=\"\",\"\",ABS(IF(I319=\"\",0,(((H319*OFFSET($V$1,MATCH($F319,$U$2:$U$105,0),,)-G319)/G319)))))),\"\")","v":""},null,null,{"$f":"IF(OR(J319<(QUARTILE($J$2:$J$501,1))-1.5*(QUARTILE($J$2:$J$501,3)-QUARTILE($J$2:$J$501,1)),J319>(QUARTILE($J$2:$J$501,3))+1.5*(QUARTILE($J$2:$J$501,3)-QUARTILE($J$2:$J$501,1))),\"Outlier\")","v":"Outlier"}]
[905647,"SOUTHWEST AIRLINES",5000,5700,5750,5751,9.2100000000000009,0.35,{"$f":"(IF(IFERROR(G320/H320,\"\")<0,\"\",IFERROR(G320/H320,\"\")))","v":26.314285714285717},{"$f":"IF(COUNTIF($C$2:$C$501,C320)=1,\"\",IF(I320=\"\",\"\",ABS(IF(I320=\"\",0,(((H320*OFFSET($M$1,MATCH($C320,$L$2:$L$40,0),,)-G320)/G320))))))","v":0.40068629894700769},{"$f":"IF(OR(J320<(QUARTILE($J$2:$J$501,1))-1.5*(QUARTILE($J$2:$J$501,3)-QUARTILE($J$2:$J$501,1)),J320>(QUARTILE($J$2:$J$501,3))+1.5*(QUARTILE($J$2:$J$501,3)-QUARTILE($J$2:$J$501,1))),\"\",J320)","v":0.40068629894700769},null,null,{"$f":"IF(COUNTIF($D$2:$D$501,D320)=1,\"\",IF(I320=\"\",\"\",ABS(IF(I320=\"\",0,(((H320*OFFSET($P$1,MATCH($D320,$O$2:$O$40,0),,)-G320)/G320))))))","v":0.16779229137148352},null,null,{"$f":"IFERROR(IF(COUNTIF($E$2:$E$501,E320)=1,\"\",IF(I320=\"\",\"\",ABS(IF(I320=\"\",0,(((H320*OFFSET($S$1,MATCH($E320,$R$2:$R$41,0),,)-G320)/G320)))))),\"\")","v":0.16779229137148352},null,null,{"$f":"IFERROR(IF(COUNTIF($F$2:$F$501,F320)=1,\"\",IF(I320=\"\",\"\",ABS(IF(I320=\"\",0,(((H320*OFFSET($V$1,MATCH($F320,$U$2:$U$105,0),,)-G320)/G320)))))),\"\")","v":""},null,null,{"$f":"IF(OR(J320<(QUARTILE($J$2:$J$501,1))-1.5*(QUARTILE($J$2:$J$501,3)-QUARTILE($J$2:$J$501,1)),J320>(QUARTILE($J$2:$J$501,3))+1.5*(QUARTILE($J$2:$J$501,3)-QUARTILE($J$2:$J$501,1))),\"Outlier\")","v":false}]
[905677,"PEPSICO",3000,3500,3530,3537,69.599999999999994,4.0199999999999996,{"$f":"(IF(IFERROR(G321/H321,\"\")<0,\"\",IFERROR(G321/H321,\"\")))","v":17.313432835820898},{"$f":"IF(COUNTIF($C$2:$C$501,C321)=1,\"\",IF(I321=\"\",\"\",ABS(IF(I321=\"\",0,(((H321*OFFSET($M$1,MATCH($C321,$L$2:$L$40,0),,)-G321)/G321))))))","v":7.6429021580850659E-2},{"$f":"IF(OR(J321<(QUARTILE($J$2:$J$501,1))-1.5*(QUARTILE($J$2:$J$501,3)-QUARTILE($J$2:$J$501,1)),J321>(QUARTILE($J$2:$J$501,3))+1.5*(QUARTILE($J$2:$J$501,3)-QUARTILE($J$2:$J$501,1))),\"\",J321)","v":7.6429021580850659E-2},null,null,{"$f":"IF(COUNTIF($D$2:$D$501,D321)=1,\"\",IF(I321=\"\",\"\",ABS(IF(I321=\"\",0,(((H321*OFFSET($P$1,MATCH($D321,$O$2:$O$40,0),,)-G321)/G321))))))","v":3.1818854908011167E-2},null,null,{"$f":"IFERROR(IF(COUNTIF($E$2:$E$501,E321)=1,\"\",IF(I321=\"\",\"\",ABS(IF(I321=\"\",0,(((H321*OFFSET($S$1,MATCH($E321,$R$2:$R$41,0),,)-G321)/G321)))))),\"\")","v":3.4957759409755297E-2},null,null,{"$f":"IFERROR(IF(COUNTIF($F$2:$F$501,F321)=1,\"\",IF(I321=\"\",\"\",ABS(IF(I321=\"\",0,(((H321*OFFSET($V$1,MATCH($F321,$U$2:$U$105,0),,)-G321)/G321)))))),\"\")","v":2.9078545578126797E-2},null,null,{"$f":"IF(OR(J321<(QUARTILE($J$2:$J$501,1))-1.5*(QUARTILE($J$2:$J$501,3)-QUARTILE($J$2:$J$501,1)),J321>(QUARTILE($J$2:$J$501,3))+1.5*(QUARTILE($J$2:$J$501,3)-QUARTILE($J$2:$J$501,1))),\"Outlier\")","v":false}]
[905706,"DOW JONES & CO DEAD - DELIST.14/12/07",5000,5500,5550,5557,59.98,1.35,{"$f":"(IF(IFERROR(G322/H322,\"\")<0,\"\",IFERROR(G322/H322,\"\")))","v":44.429629629629623},{"$f":"IF(COUNTIF($C$2:$C$501,C322)=1,\"\",IF(I322=\"\",\"\",ABS(IF(I322=\"\",0,(((H322*OFFSET($M$1,MATCH($C322,$L$2:$L$40,0),,)-G322)/G322))))))","v":0.64504516257598332},{"$f":"IF(OR(J322<(QUARTILE($J$2:$J$501,1))-1.5*(QUARTILE($J$2:$J$501,3)-QUARTILE($J$2:$J$501,1)),J322>(QUARTILE($J$2:$J$501,3))+1.5*(QUARTILE($J$2:$J$501,3)-QUARTILE($J$2:$J$501,1))),\"\",J322)","v":0.64504516257598332},null,null,{"$f":"IF(COUNTIF($D$2:$D$501,D322)=1,\"\",IF(I322=\"\",\"\",ABS(IF(I322=\"\",0,(((H322*OFFSET($P$1,MATCH($D322,$O$2:$O$40,0),,)-G322)/G322))))))","v":0.65855380405513442},null,null,{"$f":"IFERROR(IF(COUNTIF($E$2:$E$501,E322)=1,\"\",IF(I322=\"\",\"\",ABS(IF(I322=\"\",0,(((H322*OFFSET($S$1,MATCH($E322,$R$2:$R$41,0),,)-G322)/G322)))))),\"\")","v":0.65855380405513442},null,null,{"$f":"IFERROR(IF(COUNTIF($F$2:$F$501,F322)=1,\"\",IF(I322=\"\",\"\",ABS(IF(I322=\"\",0,(((H322*OFFSET($V$1,MATCH($F322,$U$2:$U$105,0),,)-G322)/G322)))))),\"\")","v":0.65594910944121954},null,null,{"$f":"IF(OR(J322<(QUARTILE($J$2:$J$501,1))-1.5*(QUARTILE($J$2:$J$501,3)-QUARTILE($J$2:$J$501,1)),J322>(QUARTILE($J$2:$J$501,3))+1.5*(QUARTILE($J$2:$J$501,3)-QUARTILE($J$2:$J$501,1))),\"Outlier\")","v":false}]
[905780,"FIRST HORIZON NATIONAL",8000,8300,8350,8355,8.32,0.47,{"$f":"(IF(IFERROR(G323/H323,\"\")<0,\"\",IFERROR(G323/H323,\"\")))","v":17.702127659574469},{"$f":"IF(COUNTIF($C$2:$C$501,C323)=1,\"\",IF(I323=\"\",\"\",ABS(IF(I323=\"\",0,(((H323*OFFSET($M$1,MATCH($C323,$L$2:$L$40,0),,)-G323)/G323))))))","v":0.24863319507352871},{"$f":"IF(OR(J323<(QUARTILE($J$2:$J$501,1))-1.5*(QUARTILE($J$2:$J$501,3)-QUARTILE($J$2:$J$501,1)),J323>(QUARTILE($J$2:$J$501,3))+1.5*(QUARTILE($J$2:$J$501,3)-QUARTILE($J$2:$J$501,1))),\"\",J323)","v":0.24863319507352871},null,null,{"$f":"IF(COUNTIF($D$2:$D$501,D323)=1,\"\",IF(I323=\"\",\"\",ABS(IF(I323=\"\",0,(((H323*OFFSET($P$1,MATCH($D323,$O$2:$O$40,0),,)-G323)/G323))))))","v":0.31243005360105403},null,null,{"$f":"IFERROR(IF(COUNTIF($E$2:$E$501,E323)=1,\"\",IF(I323=\"\",\"\",ABS(IF(I323=\"\",0,(((H323*OFFSET($S$1,MATCH($E323,$R$2:$R$41,0),,)-G323)/G323)))))),\"\")","v":0.31243005360105403},null,null,{"$f":"IFERROR(IF(COUNTIF($F$2:$F$501,F323)=1,\"\",IF(I323=\"\",\"\",ABS(IF(I323=\"\",0,(((H323*OFFSET($V$1,MATCH($F323,$U$2:$U$105,0),,)-G323)/G323)))))),\"\")","v":0.31243005360105403},null,null,{"$f":"IF(OR(J323<(QUARTILE($J$2:$J$501,1))-1.5*(QUARTILE($J$2:$J$501,3)-QUARTILE($J$2:$J$501,1)),J323>(QUARTILE($J$2:$J$501,3))+1.5*(QUARTILE($J$2:$J$501,3)-QUARTILE($J$2:$J$501,1))),\"Outlier\")","v":false}]
[905792,"PUBLIC STORAGE",8000,8600,8670,8675,140.97,3.13,{"$f":"(IF(IFERROR(G324/H324,\"\")<0,\"\",IFERROR(G324/H324,\"\")))","v":45.038338658146969},{"$f":"IF(COUNTIF($C$2:$C$501,C324)=1,\"\",IF(I324=\"\",\"\",ABS(IF(I324=\"\",0,(((H324*OFFSET($M$1,MATCH($C324,$L$2:$L$40,0),,)-G324)/G324))))))","v":0.70467846958273617},{"$f":"IF(OR(J324<(QUARTILE($J$2:$J$501,1))-1.5*(QUARTILE($J$2:$J$501,3)-QUARTILE($J$2:$J$501,1)),J324>(QUARTILE($J$2:$J$501,3))+1.5*(QUARTILE($J$2:$J$501,3)-QUARTILE($J$2:$J$501,1))),\"\",J324)","v":0.70467846958273617},null,null,{"$f":"IF(COUNTIF($D$2:$D$501,D324)=1,\"\",IF(I324=\"\",\"\",ABS(IF(I324=\"\",0,(((H324*OFFSET($P$1,MATCH($D324,$O$2:$O$40,0),,)-G324)/G324))))))","v":5.8049769194071657E-3},null,null,{"$f":"IFERROR(IF(COUNTIF($E$2:$E$501,E324)=1,\"\",IF(I324=\"\",\"\",ABS(IF(I324=\"\",0,(((H324*OFFSET($S$1,MATCH($E324,$R$2:$R$41,0),,)-G324)/G324)))))),\"\")","v":0.11045321640934216},null,null,{"$f":"IFERROR(IF(COUNTIF($F$2:$F$501,F324)=1,\"\",IF(I324=\"\",\"\",ABS(IF(I324=\"\",0,(((H324*OFFSET($V$1,MATCH($F324,$U$2:$U$105,0),,)-G324)/G324)))))),\"\")","v":""},null,null,{"$f":"IF(OR(J324<(QUARTILE($J$2:$J$501,1))-1.5*(QUARTILE($J$2:$J$501,3)-QUARTILE($J$2:$J$501,1)),J324>(QUARTILE($J$2:$J$501,3))+1.5*(QUARTILE($J$2:$J$501,3)-QUARTILE($J$2:$J$501,1))),\"Outlier\")","v":false}]
[905801,"GENERAL MILLS",3000,3500,3570,3577,37.799999999999997,2.34,{"$f":"(IF(IFERROR(G325/H325,\"\")<0,\"\",IFERROR(G325/H325,\"\")))","v":16.153846153846153},{"$f":"IF(COUNTIF($C$2:$C$501,C325)=1,\"\",IF(I325=\"\",\"\",ABS(IF(I325=\"\",0,(((H325*OFFSET($M$1,MATCH($C325,$L$2:$L$40,0),,)-G325)/G325))))))","v":1.0131460230222347E-2},{"$f":"IF(OR(J325<(QUARTILE($J$2:$J$501,1))-1.5*(QUARTILE($J$2:$J$501,3)-QUARTILE($J$2:$J$501,1)),J325>(QUARTILE($J$2:$J$501,3))+1.5*(QUARTILE($J$2:$J$501,3)-QUARTILE($J$2:$J$501,1))),\"\",J325)","v":1.0131460230222347E-2},null,null,{"$f":"IF(COUNTIF($D$2:$D$501,D325)=1,\"\",IF(I325=\"\",\"\",ABS(IF(I325=\"\",0,(((H325*OFFSET($P$1,MATCH($D325,$O$2:$O$40,0),,)-G325)/G325))))))","v":0.10588687505421521},null,null,{"$f":"IFERROR(IF(COUNTIF($E$2:$E$501,E325)=1,\"\",IF(I325=\"\",\"\",ABS(IF(I325=\"\",0,(((H325*OFFSET($S$1,MATCH($E325,$R$2:$R$41,0),,)-G325)/G325)))))),\"\")","v":0.10337706592828154},null,null,{"$f":"IFERROR(IF(COUNTIF($F$2:$F$501,F325)=1,\"\",IF(I325=\"\",\"\",ABS(IF(I325=\"\",0,(((H325*OFFSET($V$1,MATCH($F325,$U$2:$U$105,0),,)-G325)/G325)))))),\"\")","v":8.2344687868374067E-2},null,null,{"$f":"IF(OR(J325<(QUARTILE($J$2:$J$501,1))-1.5*(QUARTILE($J$2:$J$501,3)-QUARTILE($J$2:$J$501,1)),J325>(QUARTILE($J$2:$J$501,3))+1.5*(QUARTILE($J$2:$J$501,3)-QUARTILE($J$2:$J$501,1))),\"Outlier\")","v":false}]
[905802,"HESS",1,500,530,537,41.12,3.87,{"$f":"(IF(IFERROR(G326/H326,\"\")<0,\"\",IFERROR(G326/H326,\"\")))","v":10.625322997416021},{"$f":"IF(COUNTIF($C$2:$C$501,C326)=1,\"\",IF(I326=\"\",\"\",ABS(IF(I326=\"\",0,(((H326*OFFSET($M$1,MATCH($C326,$L$2:$L$40,0),,)-G326)/G326))))))","v":0.127308806132932},{"$f":"IF(OR(J326<(QUARTILE($J$2:$J$501,1))-1.5*(QUARTILE($J$2:$J$501,3)-QUARTILE($J$2:$J$501,1)),J326>(QUARTILE($J$2:$J$501,3))+1.5*(QUARTILE($J$2:$J$501,3)-QUARTILE($J$2:$J$501,1))),\"\",J326)","v":0.127308806132932},null,null,{"$f":"IF(COUNTIF($D$2:$D$501,D326)=1,\"\",IF(I326=\"\",\"\",ABS(IF(I326=\"\",0,(((H326*OFFSET($P$1,MATCH($D326,$O$2:$O$40,0),,)-G326)/G326))))))","v":0.127308806132932},null,null,{"$f":"IFERROR(IF(COUNTIF($E$2:$E$501,E326)=1,\"\",IF(I326=\"\",\"\",ABS(IF(I326=\"\",0,(((H326*OFFSET($S$1,MATCH($E326,$R$2:$R$41,0),,)-G326)/G326)))))),\"\")","v":0.20912433127058719},null,null,{"$f":"IFERROR(IF(COUNTIF($F$2:$F$501,F326)=1,\"\",IF(I326=\"\",\"\",ABS(IF(I326=\"\",0,(((H326*OFFSET($V$1,MATCH($F326,$U$2:$U$105,0),,)-G326)/G326)))))),\"\")","v":0.20012076346290639},null,null,{"$f":"IF(OR(J326<(QUARTILE($J$2:$J$501,1))-1.5*(QUARTILE($J$2:$J$501,3)-QUARTILE($J$2:$J$501,1)),J326>(QUARTILE($J$2:$J$501,3))+1.5*(QUARTILE($J$2:$J$501,3)-QUARTILE($J$2:$J$501,1))),\"Outlier\")","v":false}]
[905806,"MEADWESTVACO",2000,2700,2720,2723,27.96,1.37,{"$f":"(IF(IFERROR(G327/H327,\"\")<0,\"\",IFERROR(G327/H327,\"\")))","v":20.408759124087592},{"$f":"IF(COUNTIF($C$2:$C$501,C327)=1,\"\",IF(I327=\"\",\"\",ABS(IF(I327=\"\",0,(((H327*OFFSET($M$1,MATCH($C327,$L$2:$L$40,0),,)-G327)/G327))))))","v":0.28933303026595325},{"$f":"IF(OR(J327<(QUARTILE($J$2:$J$501,1))-1.5*(QUARTILE($J$2:$J$501,3)-QUARTILE($J$2:$J$501,1)),J327>(QUARTILE($J$2:$J$501,3))+1.5*(QUARTILE($J$2:$J$501,3)-QUARTILE($J$2:$J$501,1))),\"\",J327)","v":0.28933303026595325},null,null,{"$f":"IF(COUNTIF($D$2:$D$501,D327)=1,\"\",IF(I327=\"\",\"\",ABS(IF(I327=\"\",0,(((H327*OFFSET($P$1,MATCH($D327,$O$2:$O$40,0),,)-G327)/G327))))))","v":0.29841639714456886},null,null,{"$f":"IFERROR(IF(COUNTIF($E$2:$E$501,E327)=1,\"\",IF(I327=\"\",\"\",ABS(IF(I327=\"\",0,(((H327*OFFSET($S$1,MATCH($E327,$R$2:$R$41,0),,)-G327)/G327)))))),\"\")","v":0.112779272314966},null,null,{"$f":"IFERROR(IF(COUNTIF($F$2:$F$501,F327)=1,\"\",IF(I327=\"\",\"\",ABS(IF(I327=\"\",0,(((H327*OFFSET($V$1,MATCH($F327,$U$2:$U$105,0),,)-G327)/G327)))))),\"\")","v":6.6686940308486681E-2},null,null,{"$f":"IF(OR(J327<(QUARTILE($J$2:$J$501,1))-1.5*(QUARTILE($J$2:$J$501,3)-QUARTILE($J$2:$J$501,1)),J327>(QUARTILE($J$2:$J$501,3))+1.5*(QUARTILE($J$2:$J$501,3)-QUARTILE($J$2:$J$501,1))),\"Outlier\")","v":false}]
[905809,"NORTHROP GRUMMAN",2000,2700,2710,2717,61.73,7.6,{"$f":"(IF(IFERROR(G328/H328,\"\")<0,\"\",IFERROR(G328/H328,\"\")))","v":8.1223684210526308},{"$f":"IF(COUNTIF($C$2:$C$501,C328)=1,\"\",IF(I328=\"\",\"\",ABS(IF(I328=\"\",0,(((H328*OFFSET($M$1,MATCH($C328,$L$2:$L$40,0),,)-G328)/G328))))))","v":0.7856652457618708},{"$f":"IF(OR(J328<(QUARTILE($J$2:$J$501,1))-1.5*(QUARTILE($J$2:$J$501,3)-QUARTILE($J$2:$J$501,1)),J328>(QUARTILE($J$2:$J$501,3))+1.5*(QUARTILE($J$2:$J$501,3)-QUARTILE($J$2:$J$501,1))),\"\",J328)","v":0.7856652457618708},null,null,{"$f":"IF(COUNTIF($D$2:$D$501,D328)=1,\"\",IF(I328=\"\",\"\",ABS(IF(I328=\"\",0,(((H328*OFFSET($P$1,MATCH($D328,$O$2:$O$40,0),,)-G328)/G328))))))","v":0.76284182320190841},null,null,{"$f":"IFERROR(IF(COUNTIF($E$2:$E$501,E328)=1,\"\",IF(I328=\"\",\"\",ABS(IF(I328=\"\",0,(((H328*OFFSET($S$1,MATCH($E328,$R$2:$R$41,0),,)-G328)/G328)))))),\"\")","v":0.39761225988431009},null,null,{"$f":"IFERROR(IF(COUNTIF($F$2:$F$501,F328)=1,\"\",IF(I328=\"\",\"\",ABS(IF(I328=\"\",0,(((H328*OFFSET($V$1,MATCH($F328,$U$2:$U$105,0),,)-G328)/G328)))))),\"\")","v":0.10579478326533155},null,null,{"$f":"IF(OR(J328<(QUARTILE($J$2:$J$501,1))-1.5*(QUARTILE($J$2:$J$501,3)-QUARTILE($J$2:$J$501,1)),J328>(QUARTILE($J$2:$J$501,3))+1.5*(QUARTILE($J$2:$J$501,3)-QUARTILE($J$2:$J$501,1))),\"Outlier\")","v":false}]
[905816,"VULCAN MATERIALS",2000,2300,2350,2353,37.71,0,{"$f":"(IF(IFERROR(G329/H329,\"\")<0,\"\",IFERROR(G329/H329,\"\")))","v":""},{"$f":"IF(COUNTIF($C$2:$C$501,C329)=1,\"\",IF(I329=\"\",\"\",ABS(IF(I329=\"\",0,(((H329*OFFSET($M$1,MATCH($C329,$L$2:$L$40,0),,)-G329)/G329))))))","v":""},{"$f":"IF(OR(J329<(QUARTILE($J$2:$J$501,1))-1.5*(QUARTILE($J$2:$J$501,3)-QUARTILE($J$2:$J$501,1)),J329>(QUARTILE($J$2:$J$501,3))+1.5*(QUARTILE($J$2:$J$501,3)-QUARTILE($J$2:$J$501,1))),\"\",J329)","v":""},null,null,{"$f":"IF(COUNTIF($D$2:$D$501,D329)=1,\"\",IF(I329=\"\",\"\",ABS(IF(I329=\"\",0,(((H329*OFFSET($P$1,MATCH($D329,$O$2:$O$40,0),,)-G329)/G329))))))","v":""},null,null,{"$f":"IFERROR(IF(COUNTIF($E$2:$E$501,E329)=1,\"\",IF(I329=\"\",\"\",ABS(IF(I329=\"\",0,(((H329*OFFSET($S$1,MATCH($E329,$R$2:$R$41,0),,)-G329)/G329)))))),\"\")","v":""},null,null,{"$f":"IFERROR(IF(COUNTIF($F$2:$F$501,F329)=1,\"\",IF(I329=\"\",\"\",ABS(IF(I329=\"\",0,(((H329*OFFSET($V$1,MATCH($F329,$U$2:$U$105,0),,)-G329)/G329)))))),\"\")","v":""},null,null,{"$f":"IF(OR(J329<(QUARTILE($J$2:$J$501,1))-1.5*(QUARTILE($J$2:$J$501,3)-QUARTILE($J$2:$J$501,1)),J329>(QUARTILE($J$2:$J$501,3))+1.5*(QUARTILE($J$2:$J$501,3)-QUARTILE($J$2:$J$501,1))),\"Outlier\")","v":"Outlier"}]
[905818,"WEYERHAEUSER",8000,8600,8670,8675,21.66,0.49,{"$f":"(IF(IFERROR(G330/H330,\"\")<0,\"\",IFERROR(G330/H330,\"\")))","v":44.204081632653065},{"$f":"IF(COUNTIF($C$2:$C$501,C330)=1,\"\",IF(I330=\"\",\"\",ABS(IF(I330=\"\",0,(((H330*OFFSET($M$1,MATCH($C330,$L$2:$L$40,0),,)-G330)/G330))))))","v":0.69910491048071366},{"$f":"IF(OR(J330<(QUARTILE($J$2:$J$501,1))-1.5*(QUARTILE($J$2:$J$501,3)-QUARTILE($J$2:$J$501,1)),J330>(QUARTILE($J$2:$J$501,3))+1.5*(QUARTILE($J$2:$J$501,3)-QUARTILE($J$2:$J$501,1))),\"\",J330)","v":0.69910491048071366},null,null,{"$f":"IF(COUNTIF($D$2:$D$501,D330)=1,\"\",IF(I330=\"\",\"\",ABS(IF(I330=\"\",0,(((H330*OFFSET($P$1,MATCH($D330,$O$2:$O$40,0),,)-G330)/G330))))))","v":1.2958317149423285E-2},null,null,{"$f":"IFERROR(IF(COUNTIF($E$2:$E$501,E330)=1,\"\",IF(I330=\"\",\"\",ABS(IF(I330=\"\",0,(((H330*OFFSET($S$1,MATCH($E330,$R$2:$R$41,0),,)-G330)/G330)))))),\"\")","v":0.13141063398381961},null,null,{"$f":"IFERROR(IF(COUNTIF($F$2:$F$501,F330)=1,\"\",IF(I330=\"\",\"\",ABS(IF(I330=\"\",0,(((H330*OFFSET($V$1,MATCH($F330,$U$2:$U$105,0),,)-G330)/G330)))))),\"\")","v":""},null,null,{"$f":"IF(OR(J330<(QUARTILE($J$2:$J$501,1))-1.5*(QUARTILE($J$2:$J$501,3)-QUARTILE($J$2:$J$501,1)),J330>(QUARTILE($J$2:$J$501,3))+1.5*(QUARTILE($J$2:$J$501,3)-QUARTILE($J$2:$J$501,1))),\"Outlier\")","v":false}]
[905861,"NORTHERN TRUST",8000,8700,8770,8771,44.01,2.52,{"$f":"(IF(IFERROR(G331/H331,\"\")<0,\"\",IFERROR(G331/H331,\"\")))","v":17.464285714285712},{"$f":"IF(COUNTIF($C$2:$C$501,C331)=1,\"\",IF(I331=\"\",\"\",ABS(IF(I331=\"\",0,(((H331*OFFSET($M$1,MATCH($C331,$L$2:$L$40,0),,)-G331)/G331))))))","v":0.23840050961288442},{"$f":"IF(OR(J331<(QUARTILE($J$2:$J$501,1))-1.5*(QUARTILE($J$2:$J$501,3)-QUARTILE($J$2:$J$501,1)),J331>(QUARTILE($J$2:$J$501,3))+1.5*(QUARTILE($J$2:$J$501,3)-QUARTILE($J$2:$J$501,1))),\"\",J331)","v":0.23840050961288442},null,null,{"$f":"IF(COUNTIF($D$2:$D$501,D331)=1,\"\",IF(I331=\"\",\"\",ABS(IF(I331=\"\",0,(((H331*OFFSET($P$1,MATCH($D331,$O$2:$O$40,0),,)-G331)/G331))))))","v":0.28267097287452503},null,null,{"$f":"IFERROR(IF(COUNTIF($E$2:$E$501,E331)=1,\"\",IF(I331=\"\",\"\",ABS(IF(I331=\"\",0,(((H331*OFFSET($S$1,MATCH($E331,$R$2:$R$41,0),,)-G331)/G331)))))),\"\")","v":0.28267097287452503},null,null,{"$f":"IFERROR(IF(COUNTIF($F$2:$F$501,F331)=1,\"\",IF(I331=\"\",\"\",ABS(IF(I331=\"\",0,(((H331*OFFSET($V$1,MATCH($F331,$U$2:$U$105,0),,)-G331)/G331)))))),\"\")","v":0.21414281502261154},null,null,{"$f":"IF(OR(J331<(QUARTILE($J$2:$J$501,1))-1.5*(QUARTILE($J$2:$J$501,3)-QUARTILE($J$2:$J$501,1)),J331>(QUARTILE($J$2:$J$501,3))+1.5*(QUARTILE($J$2:$J$501,3)-QUARTILE($J$2:$J$501,1))),\"Outlier\")","v":false}]
[905898,"WW GRAINGER",2000,2700,2790,2797,182.45,9.4600000000000009,{"$f":"(IF(IFERROR(G332/H332,\"\")<0,\"\",IFERROR(G332/H332,\"\")))","v":19.286469344608875},{"$f":"IF(COUNTIF($C$2:$C$501,C332)=1,\"\",IF(I332=\"\",\"\",ABS(IF(I332=\"\",0,(((H332*OFFSET($M$1,MATCH($C332,$L$2:$L$40,0),,)-G332)/G332))))))","v":0.24797894608939172},{"$f":"IF(OR(J332<(QUARTILE($J$2:$J$501,1))-1.5*(QUARTILE($J$2:$J$501,3)-QUARTILE($J$2:$J$501,1)),J332>(QUARTILE($J$2:$J$501,3))+1.5*(QUARTILE($J$2:$J$501,3)-QUARTILE($J$2:$J$501,1))),\"\",J332)","v":0.24797894608939172},null,null,{"$f":"IF(COUNTIF($D$2:$D$501,D332)=1,\"\",IF(I332=\"\",\"\",ABS(IF(I332=\"\",0,(((H332*OFFSET($P$1,MATCH($D332,$O$2:$O$40,0),,)-G332)/G332))))))","v":0.25759087885681659},null,null,{"$f":"IFERROR(IF(COUNTIF($E$2:$E$501,E332)=1,\"\",IF(I332=\"\",\"\",ABS(IF(I332=\"\",0,(((H332*OFFSET($S$1,MATCH($E332,$R$2:$R$41,0),,)-G332)/G332)))))),\"\")","v":0.22651600352875806},null,null,{"$f":"IFERROR(IF(COUNTIF($F$2:$F$501,F332)=1,\"\",IF(I332=\"\",\"\",ABS(IF(I332=\"\",0,(((H332*OFFSET($V$1,MATCH($F332,$U$2:$U$105,0),,)-G332)/G332)))))),\"\")","v":""},null,null,{"$f":"IF(OR(J332<(QUARTILE($J$2:$J$501,1))-1.5*(QUARTILE($J$2:$J$501,3)-QUARTILE($J$2:$J$501,1)),J332>(QUARTILE($J$2:$J$501,3))+1.5*(QUARTILE($J$2:$J$501,3)-QUARTILE($J$2:$J$501,1))),\"Outlier\")","v":false}]
[905922,"KELLOGG",3000,3500,3570,3577,48.89,3.38,{"$f":"(IF(IFERROR(G333/H333,\"\")<0,\"\",IFERROR(G333/H333,\"\")))","v":14.464497041420119},{"$f":"IF(COUNTIF($C$2:$C$501,C333)=1,\"\",IF(I333=\"\",\"\",ABS(IF(I333=\"\",0,(((H333*OFFSET($M$1,MATCH($C333,$L$2:$L$40,0),,)-G333)/G333))))))","v":0.10547805832337614},{"$f":"IF(OR(J333<(QUARTILE($J$2:$J$501,1))-1.5*(QUARTILE($J$2:$J$501,3)-QUARTILE($J$2:$J$501,1)),J333>(QUARTILE($J$2:$J$501,3))+1.5*(QUARTILE($J$2:$J$501,3)-QUARTILE($J$2:$J$501,1))),\"\",J333)","v":0.10547805832337614},null,null,{"$f":"IF(COUNTIF($D$2:$D$501,D333)=1,\"\",IF(I333=\"\",\"\",ABS(IF(I333=\"\",0,(((H333*OFFSET($P$1,MATCH($D333,$O$2:$O$40,0),,)-G333)/G333))))))","v":0.23504649985600626},null,null,{"$f":"IFERROR(IF(COUNTIF($E$2:$E$501,E333)=1,\"\",IF(I333=\"\",\"\",ABS(IF(I333=\"\",0,(((H333*OFFSET($S$1,MATCH($E333,$R$2:$R$41,0),,)-G333)/G333)))))),\"\")","v":0.23224356309437857},null,null,{"$f":"IFERROR(IF(COUNTIF($F$2:$F$501,F333)=1,\"\",IF(I333=\"\",\"\",ABS(IF(I333=\"\",0,(((H333*OFFSET($V$1,MATCH($F333,$U$2:$U$105,0),,)-G333)/G333)))))),\"\")","v":0.20875475470675439},null,null,{"$f":"IF(OR(J333<(QUARTILE($J$2:$J$501,1))-1.5*(QUARTILE($J$2:$J$501,3)-QUARTILE($J$2:$J$501,1)),J333>(QUARTILE($J$2:$J$501,3))+1.5*(QUARTILE($J$2:$J$501,3)-QUARTILE($J$2:$J$501,1))),\"Outlier\")","v":false}]
[905966,"CUMMINS",2000,2700,2750,2753,92.26,10.19,{"$f":"(IF(IFERROR(G334/H334,\"\")<0,\"\",IFERROR(G334/H334,\"\")))","v":9.0539744847890091},{"$f":"IF(COUNTIF($C$2:$C$501,C334)=1,\"\",IF(I334=\"\",\"\",ABS(IF(I334=\"\",0,(((H334*OFFSET($M$1,MATCH($C334,$L$2:$L$40,0),,)-G334)/G334))))))","v":0.60192974114454867},{"$f":"IF(OR(J334<(QUARTILE($J$2:$J$501,1))-1.5*(QUARTILE($J$2:$J$501,3)-QUARTILE($J$2:$J$501,1)),J334>(QUARTILE($J$2:$J$501,3))+1.5*(QUARTILE($J$2:$J$501,3)-QUARTILE($J$2:$J$501,1))),\"\",J334)","v":0.60192974114454867},null,null,{"$f":"IF(COUNTIF($D$2:$D$501,D334)=1,\"\",IF(I334=\"\",\"\",ABS(IF(I334=\"\",0,(((H334*OFFSET($P$1,MATCH($D334,$O$2:$O$40,0),,)-G334)/G334))))))","v":0.58145472799172537},null,null,{"$f":"IFERROR(IF(COUNTIF($E$2:$E$501,E334)=1,\"\",IF(I334=\"\",\"\",ABS(IF(I334=\"\",0,(((H334*OFFSET($S$1,MATCH($E334,$R$2:$R$41,0),,)-G334)/G334)))))),\"\")","v":0.34965064193235251},null,null,{"$f":"IFERROR(IF(COUNTIF($F$2:$F$501,F334)=1,\"\",IF(I334=\"\",\"\",ABS(IF(I334=\"\",0,(((H334*OFFSET($V$1,MATCH($F334,$U$2:$U$105,0),,)-G334)/G334)))))),\"\")","v":0.33038835969691066},null,null,{"$f":"IF(OR(J334<(QUARTILE($J$2:$J$501,1))-1.5*(QUARTILE($J$2:$J$501,3)-QUARTILE($J$2:$J$501,1)),J334>(QUARTILE($J$2:$J$501,3))+1.5*(QUARTILE($J$2:$J$501,3)-QUARTILE($J$2:$J$501,1))),\"Outlier\")","v":false}]
[905997,"MOLSON COORS BREWING 'B'",3000,3500,3530,3533,39.76,3.62,{"$f":"(IF(IFERROR(G335/H335,\"\")<0,\"\",IFERROR(G335/H335,\"\")))","v":10.983425414364641},{"$f":"IF(COUNTIF($C$2:$C$501,C335)=1,\"\",IF(I335=\"\",\"\",ABS(IF(I335=\"\",0,(((H335*OFFSET($M$1,MATCH($C335,$L$2:$L$40,0),,)-G335)/G335))))))","v":0.45584674186075119},{"$f":"IF(OR(J335<(QUARTILE($J$2:$J$501,1))-1.5*(QUARTILE($J$2:$J$501,3)-QUARTILE($J$2:$J$501,1)),J335>(QUARTILE($J$2:$J$501,3))+1.5*(QUARTILE($J$2:$J$501,3)-QUARTILE($J$2:$J$501,1))),\"\",J335)","v":0.45584674186075119},null,null,{"$f":"IF(COUNTIF($D$2:$D$501,D335)=1,\"\",IF(I335=\"\",\"\",ABS(IF(I335=\"\",0,(((H335*OFFSET($P$1,MATCH($D335,$O$2:$O$40,0),,)-G335)/G335))))))","v":0.62648042566207729},null,null,{"$f":"IFERROR(IF(COUNTIF($E$2:$E$501,E335)=1,\"\",IF(I335=\"\",\"\",ABS(IF(I335=\"\",0,(((H335*OFFSET($S$1,MATCH($E335,$R$2:$R$41,0),,)-G335)/G335)))))),\"\")","v":0.63142835494813854},null,null,{"$f":"IFERROR(IF(COUNTIF($F$2:$F$501,F335)=1,\"\",IF(I335=\"\",\"\",ABS(IF(I335=\"\",0,(((H335*OFFSET($V$1,MATCH($F335,$U$2:$U$105,0),,)-G335)/G335)))))),\"\")","v":""},null,null,{"$f":"IF(OR(J335<(QUARTILE($J$2:$J$501,1))-1.5*(QUARTILE($J$2:$J$501,3)-QUARTILE($J$2:$J$501,1)),J335>(QUARTILE($J$2:$J$501,3))+1.5*(QUARTILE($J$2:$J$501,3)-QUARTILE($J$2:$J$501,1))),\"Outlier\")","v":false}]
[906148,"COLGATE-PALM.",3000,3700,3760,3767,101.99,5.01,{"$f":"(IF(IFERROR(G336/H336,\"\")<0,\"\",IFERROR(G336/H336,\"\")))","v":20.357285429141715},{"$f":"IF(COUNTIF($C$2:$C$501,C336)=1,\"\",IF(I336=\"\",\"\",ABS(IF(I336=\"\",0,(((H336*OFFSET($M$1,MATCH($C336,$L$2:$L$40,0),,)-G336)/G336))))))","v":0.21452277320417296},{"$f":"IF(OR(J336<(QUARTILE($J$2:$J$501,1))-1.5*(QUARTILE($J$2:$J$501,3)-QUARTILE($J$2:$J$501,1)),J336>(QUARTILE($J$2:$J$501,3))+1.5*(QUARTILE($J$2:$J$501,3)-QUARTILE($J$2:$J$501,1))),\"\",J336)","v":0.21452277320417296},null,null,{"$f":"IF(COUNTIF($D$2:$D$501,D336)=1,\"\",IF(I336=\"\",\"\",ABS(IF(I336=\"\",0,(((H336*OFFSET($P$1,MATCH($D336,$O$2:$O$40,0),,)-G336)/G336))))))","v":5.2870310746241003E-2},null,null,{"$f":"IFERROR(IF(COUNTIF($E$2:$E$501,E336)=1,\"\",IF(I336=\"\",\"\",ABS(IF(I336=\"\",0,(((H336*OFFSET($S$1,MATCH($E336,$R$2:$R$41,0),,)-G336)/G336)))))),\"\")","v":4.4833567377480205E-2},null,null,{"$f":"IFERROR(IF(COUNTIF($F$2:$F$501,F336)=1,\"\",IF(I336=\"\",\"\",ABS(IF(I336=\"\",0,(((H336*OFFSET($V$1,MATCH($F336,$U$2:$U$105,0),,)-G336)/G336)))))),\"\")","v":1.9883563585842996E-2},null,null,{"$f":"IF(OR(J336<(QUARTILE($J$2:$J$501,1))-1.5*(QUARTILE($J$2:$J$501,3)-QUARTILE($J$2:$J$501,1)),J336>(QUARTILE($J$2:$J$501,3))+1.5*(QUARTILE($J$2:$J$501,3)-QUARTILE($J$2:$J$501,1))),\"Outlier\")","v":false}]
[906150,"GENERAL ELECTRIC",2000,2700,2720,2727,20.2,1.19,{"$f":"(IF(IFERROR(G337/H337,\"\")<0,\"\",IFERROR(G337/H337,\"\")))","v":16.974789915966387},{"$f":"IF(COUNTIF($C$2:$C$501,C337)=1,\"\",IF(I337=\"\",\"\",ABS(IF(I337=\"\",0,(((H337*OFFSET($M$1,MATCH($C337,$L$2:$L$40,0),,)-G337)/G337))))))","v":0.14556639142230637},{"$f":"IF(OR(J337<(QUARTILE($J$2:$J$501,1))-1.5*(QUARTILE($J$2:$J$501,3)-QUARTILE($J$2:$J$501,1)),J337>(QUARTILE($J$2:$J$501,3))+1.5*(QUARTILE($J$2:$J$501,3)-QUARTILE($J$2:$J$501,1))),\"\",J337)","v":0.14556639142230637},null,null,{"$f":"IF(COUNTIF($D$2:$D$501,D337)=1,\"\",IF(I337=\"\",\"\",ABS(IF(I337=\"\",0,(((H337*OFFSET($P$1,MATCH($D337,$O$2:$O$40,0),,)-G337)/G337))))))","v":0.15648730694344692},null,null,{"$f":"IFERROR(IF(COUNTIF($E$2:$E$501,E337)=1,\"\",IF(I337=\"\",\"\",ABS(IF(I337=\"\",0,(((H337*OFFSET($S$1,MATCH($E337,$R$2:$R$41,0),,)-G337)/G337)))))),\"\")","v":6.6703871497706319E-2},null,null,{"$f":"IFERROR(IF(COUNTIF($F$2:$F$501,F337)=1,\"\",IF(I337=\"\",\"\",ABS(IF(I337=\"\",0,(((H337*OFFSET($V$1,MATCH($F337,$U$2:$U$105,0),,)-G337)/G337)))))),\"\")","v":8.6918741708427685E-2},null,null,{"$f":"IF(OR(J337<(QUARTILE($J$2:$J$501,1))-1.5*(QUARTILE($J$2:$J$501,3)-QUARTILE($J$2:$J$501,1)),J337>(QUARTILE($J$2:$J$501,3))+1.5*(QUARTILE($J$2:$J$501,3)-QUARTILE($J$2:$J$501,1))),\"Outlier\")","v":false}]
[906151,"WYETH DEAD - DELIST.15/10/09",4000,4500,4570,4577,50.39,3.38,{"$f":"(IF(IFERROR(G338/H338,\"\")<0,\"\",IFERROR(G338/H338,\"\")))","v":14.90828402366864},{"$f":"IF(COUNTIF($C$2:$C$501,C338)=1,\"\",IF(I338=\"\",\"\",ABS(IF(I338=\"\",0,(((H338*OFFSET($M$1,MATCH($C338,$L$2:$L$40,0),,)-G338)/G338))))))","v":0.13532799937261716},{"$f":"IF(OR(J338<(QUARTILE($J$2:$J$501,1))-1.5*(QUARTILE($J$2:$J$501,3)-QUARTILE($J$2:$J$501,1)),J338>(QUARTILE($J$2:$J$501,3))+1.5*(QUARTILE($J$2:$J$501,3)-QUARTILE($J$2:$J$501,1))),\"\",J338)","v":0.13532799937261716},null,null,{"$f":"IF(COUNTIF($D$2:$D$501,D338)=1,\"\",IF(I338=\"\",\"\",ABS(IF(I338=\"\",0,(((H338*OFFSET($P$1,MATCH($D338,$O$2:$O$40,0),,)-G338)/G338))))))","v":0.13532799937261716},null,null,{"$f":"IFERROR(IF(COUNTIF($E$2:$E$501,E338)=1,\"\",IF(I338=\"\",\"\",ABS(IF(I338=\"\",0,(((H338*OFFSET($S$1,MATCH($E338,$R$2:$R$41,0),,)-G338)/G338)))))),\"\")","v":0.33410954916860519},null,null,{"$f":"IFERROR(IF(COUNTIF($F$2:$F$501,F338)=1,\"\",IF(I338=\"\",\"\",ABS(IF(I338=\"\",0,(((H338*OFFSET($V$1,MATCH($F338,$U$2:$U$105,0),,)-G338)/G338)))))),\"\")","v":0.2376855693300258},null,null,{"$f":"IF(OR(J338<(QUARTILE($J$2:$J$501,1))-1.5*(QUARTILE($J$2:$J$501,3)-QUARTILE($J$2:$J$501,1)),J338>(QUARTILE($J$2:$J$501,3))+1.5*(QUARTILE($J$2:$J$501,3)-QUARTILE($J$2:$J$501,1))),\"Outlier\")","v":false}]
[906174,"ITT",2000,2700,2720,2727,17.2,0,{"$f":"(IF(IFERROR(G339/H339,\"\")<0,\"\",IFERROR(G339/H339,\"\")))","v":""},{"$f":"IF(COUNTIF($C$2:$C$501,C339)=1,\"\",IF(I339=\"\",\"\",ABS(IF(I339=\"\",0,(((H339*OFFSET($M$1,MATCH($C339,$L$2:$L$40,0),,)-G339)/G339))))))","v":""},{"$f":"IF(OR(J339<(QUARTILE($J$2:$J$501,1))-1.5*(QUARTILE($J$2:$J$501,3)-QUARTILE($J$2:$J$501,1)),J339>(QUARTILE($J$2:$J$501,3))+1.5*(QUARTILE($J$2:$J$501,3)-QUARTILE($J$2:$J$501,1))),\"\",J339)","v":""},null,null,{"$f":"IF(COUNTIF($D$2:$D$501,D339)=1,\"\",IF(I339=\"\",\"\",ABS(IF(I339=\"\",0,(((H339*OFFSET($P$1,MATCH($D339,$O$2:$O$40,0),,)-G339)/G339))))))","v":""},null,null,{"$f":"IFERROR(IF(COUNTIF($E$2:$E$501,E339)=1,\"\",IF(I339=\"\",\"\",ABS(IF(I339=\"\",0,(((H339*OFFSET($S$1,MATCH($E339,$R$2:$R$41,0),,)-G339)/G339)))))),\"\")","v":""},null,null,{"$f":"IFERROR(IF(COUNTIF($F$2:$F$501,F339)=1,\"\",IF(I339=\"\",\"\",ABS(IF(I339=\"\",0,(((H339*OFFSET($V$1,MATCH($F339,$U$2:$U$105,0),,)-G339)/G339)))))),\"\")","v":""},null,null,{"$f":"IF(OR(J339<(QUARTILE($J$2:$J$501,1))-1.5*(QUARTILE($J$2:$J$501,3)-QUARTILE($J$2:$J$501,1)),J339>(QUARTILE($J$2:$J$501,3))+1.5*(QUARTILE($J$2:$J$501,3)-QUARTILE($J$2:$J$501,1))),\"Outlier\")","v":"Outlier"}]
[906176,"NISOURCE",7000,7500,7570,7573,24.52,0.96,{"$f":"(IF(IFERROR(G340/H340,\"\")<0,\"\",IFERROR(G340/H340,\"\")))","v":25.541666666666668},{"$f":"IF(COUNTIF($C$2:$C$501,C340)=1,\"\",IF(I340=\"\",\"\",ABS(IF(I340=\"\",0,(((H340*OFFSET($M$1,MATCH($C340,$L$2:$L$40,0),,)-G340)/G340))))))","v":0.34268011313179947},{"$f":"IF(OR(J340<(QUARTILE($J$2:$J$501,1))-1.5*(QUARTILE($J$2:$J$501,3)-QUARTILE($J$2:$J$501,1)),J340>(QUARTILE($J$2:$J$501,3))+1.5*(QUARTILE($J$2:$J$501,3)-QUARTILE($J$2:$J$501,1))),\"\",J340)","v":0.34268011313179947},null,null,{"$f":"IF(COUNTIF($D$2:$D$501,D340)=1,\"\",IF(I340=\"\",\"\",ABS(IF(I340=\"\",0,(((H340*OFFSET($P$1,MATCH($D340,$O$2:$O$40,0),,)-G340)/G340))))))","v":0.34268011313179947},null,null,{"$f":"IFERROR(IF(COUNTIF($E$2:$E$501,E340)=1,\"\",IF(I340=\"\",\"\",ABS(IF(I340=\"\",0,(((H340*OFFSET($S$1,MATCH($E340,$R$2:$R$41,0),,)-G340)/G340)))))),\"\")","v":0.25625069778583648},null,null,{"$f":"IFERROR(IF(COUNTIF($F$2:$F$501,F340)=1,\"\",IF(I340=\"\",\"\",ABS(IF(I340=\"\",0,(((H340*OFFSET($V$1,MATCH($F340,$U$2:$U$105,0),,)-G340)/G340)))))),\"\")","v":0.24489123005075217},null,null,{"$f":"IF(OR(J340<(QUARTILE($J$2:$J$501,1))-1.5*(QUARTILE($J$2:$J$501,3)-QUARTILE($J$2:$J$501,1)),J340>(QUARTILE($J$2:$J$501,3))+1.5*(QUARTILE($J$2:$J$501,3)-QUARTILE($J$2:$J$501,1))),\"Outlier\")","v":false}]
[906179,"GOODRICH",2000,2700,2710,2713,126.85,6.26,{"$f":"(IF(IFERROR(G341/H341,\"\")<0,\"\",IFERROR(G341/H341,\"\")))","v":20.263578274760384},{"$f":"IF(COUNTIF($C$2:$C$501,C341)=1,\"\",IF(I341=\"\",\"\",ABS(IF(I341=\"\",0,(((H341*OFFSET($M$1,MATCH($C341,$L$2:$L$40,0),,)-G341)/G341))))))","v":0.28424137109027381},{"$f":"IF(OR(J341<(QUARTILE($J$2:$J$501,1))-1.5*(QUARTILE($J$2:$J$501,3)-QUARTILE($J$2:$J$501,1)),J341>(QUARTILE($J$2:$J$501,3))+1.5*(QUARTILE($J$2:$J$501,3)-QUARTILE($J$2:$J$501,1))),\"\",J341)","v":0.28424137109027381},null,null,{"$f":"IF(COUNTIF($D$2:$D$501,D341)=1,\"\",IF(I341=\"\",\"\",ABS(IF(I341=\"\",0,(((H341*OFFSET($P$1,MATCH($D341,$O$2:$O$40,0),,)-G341)/G341))))))","v":0.29338981684589255},null,null,{"$f":"IFERROR(IF(COUNTIF($E$2:$E$501,E341)=1,\"\",IF(I341=\"\",\"\",ABS(IF(I341=\"\",0,(((H341*OFFSET($S$1,MATCH($E341,$R$2:$R$41,0),,)-G341)/G341)))))),\"\")","v":0.43978691568507983},null,null,{"$f":"IFERROR(IF(COUNTIF($F$2:$F$501,F341)=1,\"\",IF(I341=\"\",\"\",ABS(IF(I341=\"\",0,(((H341*OFFSET($V$1,MATCH($F341,$U$2:$U$105,0),,)-G341)/G341)))))),\"\")","v":0.23894597417620045},null,null,{"$f":"IF(OR(J341<(QUARTILE($J$2:$J$501,1))-1.5*(QUARTILE($J$2:$J$501,3)-QUARTILE($J$2:$J$501,1)),J341>(QUARTILE($J$2:$J$501,3))+1.5*(QUARTILE($J$2:$J$501,3)-QUARTILE($J$2:$J$501,1))),\"Outlier\")","v":false}]
[906180,"HILLSHIRE BRANDS",3000,3500,3570,3577,25.0593,0,{"$f":"(IF(IFERROR(G342/H342,\"\")<0,\"\",IFERROR(G342/H342,\"\")))","v":""},{"$f":"IF(COUNTIF($C$2:$C$501,C342)=1,\"\",IF(I342=\"\",\"\",ABS(IF(I342=\"\",0,(((H342*OFFSET($M$1,MATCH($C342,$L$2:$L$40,0),,)-G342)/G342))))))","v":""},{"$f":"IF(OR(J342<(QUARTILE($J$2:$J$501,1))-1.5*(QUARTILE($J$2:$J$501,3)-QUARTILE($J$2:$J$501,1)),J342>(QUARTILE($J$2:$J$501,3))+1.5*(QUARTILE($J$2:$J$501,3)-QUARTILE($J$2:$J$501,1))),\"\",J342)","v":""},null,null,{"$f":"IF(COUNTIF($D$2:$D$501,D342)=1,\"\",IF(I342=\"\",\"\",ABS(IF(I342=\"\",0,(((H342*OFFSET($P$1,MATCH($D342,$O$2:$O$40,0),,)-G342)/G342))))))","v":""},null,null,{"$f":"IFERROR(IF(COUNTIF($E$2:$E$501,E342)=1,\"\",IF(I342=\"\",\"\",ABS(IF(I342=\"\",0,(((H342*OFFSET($S$1,MATCH($E342,$R$2:$R$41,0),,)-G342)/G342)))))),\"\")","v":""},null,null,{"$f":"IFERROR(IF(COUNTIF($F$2:$F$501,F342)=1,\"\",IF(I342=\"\",\"\",ABS(IF(I342=\"\",0,(((H342*OFFSET($V$1,MATCH($F342,$U$2:$U$105,0),,)-G342)/G342)))))),\"\")","v":""},null,null,{"$f":"IF(OR(J342<(QUARTILE($J$2:$J$501,1))-1.5*(QUARTILE($J$2:$J$501,3)-QUARTILE($J$2:$J$501,1)),J342>(QUARTILE($J$2:$J$501,3))+1.5*(QUARTILE($J$2:$J$501,3)-QUARTILE($J$2:$J$501,1))),\"Outlier\")","v":"Outlier"}]
[906187,"INTERNATIONAL BUS.MCHS.",9000,9500,9530,9533,191.4,13.36,{"$f":"(IF(IFERROR(G343/H343,\"\")<0,\"\",IFERROR(G343/H343,\"\")))","v":14.326347305389223},{"$f":"IF(COUNTIF($C$2:$C$501,C343)=1,\"\",IF(I343=\"\",\"\",ABS(IF(I343=\"\",0,(((H343*OFFSET($M$1,MATCH($C343,$L$2:$L$40,0),,)-G343)/G343))))))","v":8.6158029891908475E-2},{"$f":"IF(OR(J343<(QUARTILE($J$2:$J$501,1))-1.5*(QUARTILE($J$2:$J$501,3)-QUARTILE($J$2:$J$501,1)),J343>(QUARTILE($J$2:$J$501,3))+1.5*(QUARTILE($J$2:$J$501,3)-QUARTILE($J$2:$J$501,1))),\"\",J343)","v":8.6158029891908475E-2},null,null,{"$f":"IF(COUNTIF($D$2:$D$501,D343)=1,\"\",IF(I343=\"\",\"\",ABS(IF(I343=\"\",0,(((H343*OFFSET($P$1,MATCH($D343,$O$2:$O$40,0),,)-G343)/G343))))))","v":8.6158029891908475E-2},null,null,{"$f":"IFERROR(IF(COUNTIF($E$2:$E$501,E343)=1,\"\",IF(I343=\"\",\"\",ABS(IF(I343=\"\",0,(((H343*OFFSET($S$1,MATCH($E343,$R$2:$R$41,0),,)-G343)/G343)))))),\"\")","v":1.4304029251681678E-2},null,null,{"$f":"IFERROR(IF(COUNTIF($F$2:$F$501,F343)=1,\"\",IF(I343=\"\",\"\",ABS(IF(I343=\"\",0,(((H343*OFFSET($V$1,MATCH($F343,$U$2:$U$105,0),,)-G343)/G343)))))),\"\")","v":0.17889091605872312},null,null,{"$f":"IF(OR(J343<(QUARTILE($J$2:$J$501,1))-1.5*(QUARTILE($J$2:$J$501,3)-QUARTILE($J$2:$J$501,1)),J343>(QUARTILE($J$2:$J$501,3))+1.5*(QUARTILE($J$2:$J$501,3)-QUARTILE($J$2:$J$501,1))),\"Outlier\")","v":false}]
[906189,"DEERE",2000,2700,2750,2753,78.239999999999995,7.22,{"$f":"(IF(IFERROR(G344/H344,\"\")<0,\"\",IFERROR(G344/H344,\"\")))","v":10.836565096952908},{"$f":"IF(COUNTIF($C$2:$C$501,C344)=1,\"\",IF(I344=\"\",\"\",ABS(IF(I344=\"\",0,(((H344*OFFSET($M$1,MATCH($C344,$L$2:$L$40,0),,)-G344)/G344))))))","v":0.33841589774841868},{"$f":"IF(OR(J344<(QUARTILE($J$2:$J$501,1))-1.5*(QUARTILE($J$2:$J$501,3)-QUARTILE($J$2:$J$501,1)),J344>(QUARTILE($J$2:$J$501,3))+1.5*(QUARTILE($J$2:$J$501,3)-QUARTILE($J$2:$J$501,1))),\"\",J344)","v":0.33841589774841868},null,null,{"$f":"IF(COUNTIF($D$2:$D$501,D344)=1,\"\",IF(I344=\"\",\"\",ABS(IF(I344=\"\",0,(((H344*OFFSET($P$1,MATCH($D344,$O$2:$O$40,0),,)-G344)/G344))))))","v":0.32130897825844984},null,null,{"$f":"IFERROR(IF(COUNTIF($E$2:$E$501,E344)=1,\"\",IF(I344=\"\",\"\",ABS(IF(I344=\"\",0,(((H344*OFFSET($S$1,MATCH($E344,$R$2:$R$41,0),,)-G344)/G344)))))),\"\")","v":0.12763614356643688},null,null,{"$f":"IFERROR(IF(COUNTIF($F$2:$F$501,F344)=1,\"\",IF(I344=\"\",\"\",ABS(IF(I344=\"\",0,(((H344*OFFSET($V$1,MATCH($F344,$U$2:$U$105,0),,)-G344)/G344)))))),\"\")","v":0.11154246348255724},null,null,{"$f":"IF(OR(J344<(QUARTILE($J$2:$J$501,1))-1.5*(QUARTILE($J$2:$J$501,3)-QUARTILE($J$2:$J$501,1)),J344>(QUARTILE($J$2:$J$501,3))+1.5*(QUARTILE($J$2:$J$501,3)-QUARTILE($J$2:$J$501,1))),\"Outlier\")","v":false}]
[906191,"HONEYWELL INTL.",2000,2700,2720,2727,52.92,2.5299999999999998,{"$f":"(IF(IFERROR(G345/H345,\"\")<0,\"\",IFERROR(G345/H345,\"\")))","v":20.916996047430832},{"$f":"IF(COUNTIF($C$2:$C$501,C345)=1,\"\",IF(I345=\"\",\"\",ABS(IF(I345=\"\",0,(((H345*OFFSET($M$1,MATCH($C345,$L$2:$L$40,0),,)-G345)/G345))))))","v":0.30660067201528857},{"$f":"IF(OR(J345<(QUARTILE($J$2:$J$501,1))-1.5*(QUARTILE($J$2:$J$501,3)-QUARTILE($J$2:$J$501,1)),J345>(QUARTILE($J$2:$J$501,3))+1.5*(QUARTILE($J$2:$J$501,3)-QUARTILE($J$2:$J$501,1))),\"\",J345)","v":0.30660067201528857},null,null,{"$f":"IF(COUNTIF($D$2:$D$501,D345)=1,\"\",IF(I345=\"\",\"\",ABS(IF(I345=\"\",0,(((H345*OFFSET($P$1,MATCH($D345,$O$2:$O$40,0),,)-G345)/G345))))))","v":0.31546333308961366},null,null,{"$f":"IFERROR(IF(COUNTIF($E$2:$E$501,E345)=1,\"\",IF(I345=\"\",\"\",ABS(IF(I345=\"\",0,(((H345*OFFSET($S$1,MATCH($E345,$R$2:$R$41,0),,)-G345)/G345)))))),\"\")","v":0.13433678143063935},null,null,{"$f":"IFERROR(IF(COUNTIF($F$2:$F$501,F345)=1,\"\",IF(I345=\"\",\"\",ABS(IF(I345=\"\",0,(((H345*OFFSET($V$1,MATCH($F345,$U$2:$U$105,0),,)-G345)/G345)))))),\"\")","v":0.25900628844793327},null,null,{"$f":"IF(OR(J345<(QUARTILE($J$2:$J$501,1))-1.5*(QUARTILE($J$2:$J$501,3)-QUARTILE($J$2:$J$501,1)),J345>(QUARTILE($J$2:$J$501,3))+1.5*(QUARTILE($J$2:$J$501,3)-QUARTILE($J$2:$J$501,1))),\"Outlier\")","v":false}]
[906194,"EQUIFAX",8000,8700,8770,8775,45.35,2,{"$f":"(IF(IFERROR(G346/H346,\"\")<0,\"\",IFERROR(G346/H346,\"\")))","v":22.675000000000001},{"$f":"IF(COUNTIF($C$2:$C$501,C346)=1,\"\",IF(I346=\"\",\"\",ABS(IF(I346=\"\",0,(((H346*OFFSET($M$1,MATCH($C346,$L$2:$L$40,0),,)-G346)/G346))))))","v":0.41341604851267999},{"$f":"IF(OR(J346<(QUARTILE($J$2:$J$501,1))-1.5*(QUARTILE($J$2:$J$501,3)-QUARTILE($J$2:$J$501,1)),J346>(QUARTILE($J$2:$J$501,3))+1.5*(QUARTILE($J$2:$J$501,3)-QUARTILE($J$2:$J$501,1))),\"\",J346)","v":0.41341604851267999},null,null,{"$f":"IF(COUNTIF($D$2:$D$501,D346)=1,\"\",IF(I346=\"\",\"\",ABS(IF(I346=\"\",0,(((H346*OFFSET($P$1,MATCH($D346,$O$2:$O$40,0),,)-G346)/G346))))))","v":0.44751316071136049},null,null,{"$f":"IFERROR(IF(COUNTIF($E$2:$E$501,E346)=1,\"\",IF(I346=\"\",\"\",ABS(IF(I346=\"\",0,(((H346*OFFSET($S$1,MATCH($E346,$R$2:$R$41,0),,)-G346)/G346)))))),\"\")","v":0.44751316071136049},null,null,{"$f":"IFERROR(IF(COUNTIF($F$2:$F$501,F346)=1,\"\",IF(I346=\"\",\"\",ABS(IF(I346=\"\",0,(((H346*OFFSET($V$1,MATCH($F346,$U$2:$U$105,0),,)-G346)/G346)))))),\"\")","v":""},null,null,{"$f":"IF(OR(J346<(QUARTILE($J$2:$J$501,1))-1.5*(QUARTILE($J$2:$J$501,3)-QUARTILE($J$2:$J$501,1)),J346>(QUARTILE($J$2:$J$501,3))+1.5*(QUARTILE($J$2:$J$501,3)-QUARTILE($J$2:$J$501,1))),\"Outlier\")","v":false}]
[906195,"WELLS FARGO & CO",8000,8300,8350,8355,32.479999999999997,2.9,{"$f":"(IF(IFERROR(G347/H347,\"\")<0,\"\",IFERROR(G347/H347,\"\")))","v":11.2},{"$f":"IF(COUNTIF($C$2:$C$501,C347)=1,\"\",IF(I347=\"\",\"\",ABS(IF(I347=\"\",0,(((H347*OFFSET($M$1,MATCH($C347,$L$2:$L$40,0),,)-G347)/G347))))))","v":0.18757063392633777},{"$f":"IF(OR(J347<(QUARTILE($J$2:$J$501,1))-1.5*(QUARTILE($J$2:$J$501,3)-QUARTILE($J$2:$J$501,1)),J347>(QUARTILE($J$2:$J$501,3))+1.5*(QUARTILE($J$2:$J$501,3)-QUARTILE($J$2:$J$501,1))),\"\",J347)","v":0.18757063392633777},null,null,{"$f":"IF(COUNTIF($D$2:$D$501,D347)=1,\"\",IF(I347=\"\",\"\",ABS(IF(I347=\"\",0,(((H347*OFFSET($P$1,MATCH($D347,$O$2:$O$40,0),,)-G347)/G347))))))","v":8.6736693396510564E-2},null,null,{"$f":"IFERROR(IF(COUNTIF($E$2:$E$501,E347)=1,\"\",IF(I347=\"\",\"\",ABS(IF(I347=\"\",0,(((H347*OFFSET($S$1,MATCH($E347,$R$2:$R$41,0),,)-G347)/G347)))))),\"\")","v":8.6736693396510564E-2},null,null,{"$f":"IFERROR(IF(COUNTIF($F$2:$F$501,F347)=1,\"\",IF(I347=\"\",\"\",ABS(IF(I347=\"\",0,(((H347*OFFSET($V$1,MATCH($F347,$U$2:$U$105,0),,)-G347)/G347)))))),\"\")","v":8.6736693396510564E-2},null,null,{"$f":"IF(OR(J347<(QUARTILE($J$2:$J$501,1))-1.5*(QUARTILE($J$2:$J$501,3)-QUARTILE($J$2:$J$501,1)),J347>(QUARTILE($J$2:$J$501,3))+1.5*(QUARTILE($J$2:$J$501,3)-QUARTILE($J$2:$J$501,1))),\"Outlier\")","v":false}]
[906220,"VARIAN MED.SYS.",4000,4500,4530,4535,59,3.43,{"$f":"(IF(IFERROR(G348/H348,\"\")<0,\"\",IFERROR(G348/H348,\"\")))","v":17.201166180758015},{"$f":"IF(COUNTIF($C$2:$C$501,C348)=1,\"\",IF(I348=\"\",\"\",ABS(IF(I348=\"\",0,(((H348*OFFSET($M$1,MATCH($C348,$L$2:$L$40,0),,)-G348)/G348))))))","v":1.6009025387801624E-2},{"$f":"IF(OR(J348<(QUARTILE($J$2:$J$501,1))-1.5*(QUARTILE($J$2:$J$501,3)-QUARTILE($J$2:$J$501,1)),J348>(QUARTILE($J$2:$J$501,3))+1.5*(QUARTILE($J$2:$J$501,3)-QUARTILE($J$2:$J$501,1))),\"\",J348)","v":1.6009025387801624E-2},null,null,{"$f":"IF(COUNTIF($D$2:$D$501,D348)=1,\"\",IF(I348=\"\",\"\",ABS(IF(I348=\"\",0,(((H348*OFFSET($P$1,MATCH($D348,$O$2:$O$40,0),,)-G348)/G348))))))","v":1.6009025387801624E-2},null,null,{"$f":"IFERROR(IF(COUNTIF($E$2:$E$501,E348)=1,\"\",IF(I348=\"\",\"\",ABS(IF(I348=\"\",0,(((H348*OFFSET($S$1,MATCH($E348,$R$2:$R$41,0),,)-G348)/G348)))))),\"\")","v":0.11065985811999492},null,null,{"$f":"IFERROR(IF(COUNTIF($F$2:$F$501,F348)=1,\"\",IF(I348=\"\",\"\",ABS(IF(I348=\"\",0,(((H348*OFFSET($V$1,MATCH($F348,$U$2:$U$105,0),,)-G348)/G348)))))),\"\")","v":8.067339707503899E-3},null,null,{"$f":"IF(OR(J348<(QUARTILE($J$2:$J$501,1))-1.5*(QUARTILE($J$2:$J$501,3)-QUARTILE($J$2:$J$501,1)),J348>(QUARTILE($J$2:$J$501,3))+1.5*(QUARTILE($J$2:$J$501,3)-QUARTILE($J$2:$J$501,1))),\"Outlier\")","v":false}]
[906284,"RYDER SYSTEM",2000,2700,2770,2777,34.979999999999997,3.43,{"$f":"(IF(IFERROR(G349/H349,\"\")<0,\"\",IFERROR(G349/H349,\"\")))","v":10.198250728862972},{"$f":"IF(COUNTIF($C$2:$C$501,C349)=1,\"\",IF(I349=\"\",\"\",ABS(IF(I349=\"\",0,(((H349*OFFSET($M$1,MATCH($C349,$L$2:$L$40,0),,)-G349)/G349))))))","v":0.42218811719335653},{"$f":"IF(OR(J349<(QUARTILE($J$2:$J$501,1))-1.5*(QUARTILE($J$2:$J$501,3)-QUARTILE($J$2:$J$501,1)),J349>(QUARTILE($J$2:$J$501,3))+1.5*(QUARTILE($J$2:$J$501,3)-QUARTILE($J$2:$J$501,1))),\"\",J349)","v":0.42218811719335653},null,null,{"$f":"IF(COUNTIF($D$2:$D$501,D349)=1,\"\",IF(I349=\"\",\"\",ABS(IF(I349=\"\",0,(((H349*OFFSET($P$1,MATCH($D349,$O$2:$O$40,0),,)-G349)/G349))))))","v":0.40401046579116845},null,null,{"$f":"IFERROR(IF(COUNTIF($E$2:$E$501,E349)=1,\"\",IF(I349=\"\",\"\",ABS(IF(I349=\"\",0,(((H349*OFFSET($S$1,MATCH($E349,$R$2:$R$41,0),,)-G349)/G349)))))),\"\")","v":0.44224451379772622},null,null,{"$f":"IFERROR(IF(COUNTIF($F$2:$F$501,F349)=1,\"\",IF(I349=\"\",\"\",ABS(IF(I349=\"\",0,(((H349*OFFSET($V$1,MATCH($F349,$U$2:$U$105,0),,)-G349)/G349)))))),\"\")","v":""},null,null,{"$f":"IF(OR(J349<(QUARTILE($J$2:$J$501,1))-1.5*(QUARTILE($J$2:$J$501,3)-QUARTILE($J$2:$J$501,1)),J349>(QUARTILE($J$2:$J$501,3))+1.5*(QUARTILE($J$2:$J$501,3)-QUARTILE($J$2:$J$501,1))),\"Outlier\")","v":false}]
[906394,"THERMO FISHER SCIENTIFIC",4000,4500,4530,4535,50.55,2.76,{"$f":"(IF(IFERROR(G350/H350,\"\")<0,\"\",IFERROR(G350/H350,\"\")))","v":18.315217391304348},{"$f":"IF(COUNTIF($C$2:$C$501,C350)=1,\"\",IF(I350=\"\",\"\",ABS(IF(I350=\"\",0,(((H350*OFFSET($M$1,MATCH($C350,$L$2:$L$40,0),,)-G350)/G350))))))","v":7.5861786783571014E-2},{"$f":"IF(OR(J350<(QUARTILE($J$2:$J$501,1))-1.5*(QUARTILE($J$2:$J$501,3)-QUARTILE($J$2:$J$501,1)),J350>(QUARTILE($J$2:$J$501,3))+1.5*(QUARTILE($J$2:$J$501,3)-QUARTILE($J$2:$J$501,1))),\"\",J350)","v":7.5861786783571014E-2},null,null,{"$f":"IF(COUNTIF($D$2:$D$501,D350)=1,\"\",IF(I350=\"\",\"\",ABS(IF(I350=\"\",0,(((H350*OFFSET($P$1,MATCH($D350,$O$2:$O$40,0),,)-G350)/G350))))))","v":7.5861786783571014E-2},null,null,{"$f":"IFERROR(IF(COUNTIF($E$2:$E$501,E350)=1,\"\",IF(I350=\"\",\"\",ABS(IF(I350=\"\",0,(((H350*OFFSET($S$1,MATCH($E350,$R$2:$R$41,0),,)-G350)/G350)))))),\"\")","v":0.16475533733168365},null,null,{"$f":"IFERROR(IF(COUNTIF($F$2:$F$501,F350)=1,\"\",IF(I350=\"\",\"\",ABS(IF(I350=\"\",0,(((H350*OFFSET($V$1,MATCH($F350,$U$2:$U$105,0),,)-G350)/G350)))))),\"\")","v":6.8403166324771128E-2},null,null,{"$f":"IF(OR(J350<(QUARTILE($J$2:$J$501,1))-1.5*(QUARTILE($J$2:$J$501,3)-QUARTILE($J$2:$J$501,1)),J350>(QUARTILE($J$2:$J$501,3))+1.5*(QUARTILE($J$2:$J$501,3)-QUARTILE($J$2:$J$501,1))),\"Outlier\")","v":false}]
[906400,"SNAP-ON",3000,3700,3720,3722,59.45,4.97,{"$f":"(IF(IFERROR(G351/H351,\"\")<0,\"\",IFERROR(G351/H351,\"\")))","v":11.961770623742456},{"$f":"IF(COUNTIF($C$2:$C$501,C351)=1,\"\",IF(I351=\"\",\"\",ABS(IF(I351=\"\",0,(((H351*OFFSET($M$1,MATCH($C351,$L$2:$L$40,0),,)-G351)/G351))))))","v":0.33677401171988997},{"$f":"IF(OR(J351<(QUARTILE($J$2:$J$501,1))-1.5*(QUARTILE($J$2:$J$501,3)-QUARTILE($J$2:$J$501,1)),J351>(QUARTILE($J$2:$J$501,3))+1.5*(QUARTILE($J$2:$J$501,3)-QUARTILE($J$2:$J$501,1))),\"\",J351)","v":0.33677401171988997},null,null,{"$f":"IF(COUNTIF($D$2:$D$501,D351)=1,\"\",IF(I351=\"\",\"\",ABS(IF(I351=\"\",0,(((H351*OFFSET($P$1,MATCH($D351,$O$2:$O$40,0),,)-G351)/G351))))))","v":0.61188422926978558},null,null,{"$f":"IFERROR(IF(COUNTIF($E$2:$E$501,E351)=1,\"\",IF(I351=\"\",\"\",ABS(IF(I351=\"\",0,(((H351*OFFSET($S$1,MATCH($E351,$R$2:$R$41,0),,)-G351)/G351)))))),\"\")","v":0.78728113692194801},null,null,{"$f":"IFERROR(IF(COUNTIF($F$2:$F$501,F351)=1,\"\",IF(I351=\"\",\"\",ABS(IF(I351=\"\",0,(((H351*OFFSET($V$1,MATCH($F351,$U$2:$U$105,0),,)-G351)/G351)))))),\"\")","v":0.55670409795714759},null,null,{"$f":"IF(OR(J351<(QUARTILE($J$2:$J$501,1))-1.5*(QUARTILE($J$2:$J$501,3)-QUARTILE($J$2:$J$501,1)),J351>(QUARTILE($J$2:$J$501,3))+1.5*(QUARTILE($J$2:$J$501,3)-QUARTILE($J$2:$J$501,1))),\"Outlier\")","v":false}]
[906404,"MURPHY OIL",1,500,530,537,48.26,4.59,{"$f":"(IF(IFERROR(G352/H352,\"\")<0,\"\",IFERROR(G352/H352,\"\")))","v":10.514161220043572},{"$f":"IF(COUNTIF($C$2:$C$501,C352)=1,\"\",IF(I352=\"\",\"\",ABS(IF(I352=\"\",0,(((H352*OFFSET($M$1,MATCH($C352,$L$2:$L$40,0),,)-G352)/G352))))))","v":0.11808221143105398},{"$f":"IF(OR(J352<(QUARTILE($J$2:$J$501,1))-1.5*(QUARTILE($J$2:$J$501,3)-QUARTILE($J$2:$J$501,1)),J352>(QUARTILE($J$2:$J$501,3))+1.5*(QUARTILE($J$2:$J$501,3)-QUARTILE($J$2:$J$501,1))),\"\",J352)","v":0.11808221143105398},null,null,{"$f":"IF(COUNTIF($D$2:$D$501,D352)=1,\"\",IF(I352=\"\",\"\",ABS(IF(I352=\"\",0,(((H352*OFFSET($P$1,MATCH($D352,$O$2:$O$40,0),,)-G352)/G352))))))","v":0.11808221143105398},null,null,{"$f":"IFERROR(IF(COUNTIF($E$2:$E$501,E352)=1,\"\",IF(I352=\"\",\"\",ABS(IF(I352=\"\",0,(((H352*OFFSET($S$1,MATCH($E352,$R$2:$R$41,0),,)-G352)/G352)))))),\"\")","v":0.20076273749466247},null,null,{"$f":"IFERROR(IF(COUNTIF($F$2:$F$501,F352)=1,\"\",IF(I352=\"\",\"\",ABS(IF(I352=\"\",0,(((H352*OFFSET($V$1,MATCH($F352,$U$2:$U$105,0),,)-G352)/G352)))))),\"\")","v":0.19166397877453056},null,null,{"$f":"IF(OR(J352<(QUARTILE($J$2:$J$501,1))-1.5*(QUARTILE($J$2:$J$501,3)-QUARTILE($J$2:$J$501,1)),J352>(QUARTILE($J$2:$J$501,3))+1.5*(QUARTILE($J$2:$J$501,3)-QUARTILE($J$2:$J$501,1))),\"Outlier\")","v":false}]
[906487,"LEGGETT&PLATT",3000,3700,3720,3726,20.37,1.04,{"$f":"(IF(IFERROR(G353/H353,\"\")<0,\"\",IFERROR(G353/H353,\"\")))","v":19.586538461538463},{"$f":"IF(COUNTIF($C$2:$C$501,C353)=1,\"\",IF(I353=\"\",\"\",ABS(IF(I353=\"\",0,(((H353*OFFSET($M$1,MATCH($C353,$L$2:$L$40,0),,)-G353)/G353))))))","v":0.18361357544760609},{"$f":"IF(OR(J353<(QUARTILE($J$2:$J$501,1))-1.5*(QUARTILE($J$2:$J$501,3)-QUARTILE($J$2:$J$501,1)),J353>(QUARTILE($J$2:$J$501,3))+1.5*(QUARTILE($J$2:$J$501,3)-QUARTILE($J$2:$J$501,1))),\"\",J353)","v":0.18361357544760609},null,null,{"$f":"IF(COUNTIF($D$2:$D$501,D353)=1,\"\",IF(I353=\"\",\"\",ABS(IF(I353=\"\",0,(((H353*OFFSET($P$1,MATCH($D353,$O$2:$O$40,0),,)-G353)/G353))))))","v":1.5599950934943992E-2},null,null,{"$f":"IFERROR(IF(COUNTIF($E$2:$E$501,E353)=1,\"\",IF(I353=\"\",\"\",ABS(IF(I353=\"\",0,(((H353*OFFSET($S$1,MATCH($E353,$R$2:$R$41,0),,)-G353)/G353)))))),\"\")","v":9.1517372606875452E-2},null,null,{"$f":"IFERROR(IF(COUNTIF($F$2:$F$501,F353)=1,\"\",IF(I353=\"\",\"\",ABS(IF(I353=\"\",0,(((H353*OFFSET($V$1,MATCH($F353,$U$2:$U$105,0),,)-G353)/G353)))))),\"\")","v":""},null,null,{"$f":"IF(OR(J353<(QUARTILE($J$2:$J$501,1))-1.5*(QUARTILE($J$2:$J$501,3)-QUARTILE($J$2:$J$501,1)),J353>(QUARTILE($J$2:$J$501,3))+1.5*(QUARTILE($J$2:$J$501,3)-QUARTILE($J$2:$J$501,1))),\"Outlier\")","v":false}]
[906496,"MEDTRONIC",4000,4500,4530,4535,37.840000000000003,3.22,{"$f":"(IF(IFERROR(G354/H354,\"\")<0,\"\",IFERROR(G354/H354,\"\")))","v":11.751552795031056},{"$f":"IF(COUNTIF($C$2:$C$501,C354)=1,\"\",IF(I354=\"\",\"\",ABS(IF(I354=\"\",0,(((H354*OFFSET($M$1,MATCH($C354,$L$2:$L$40,0),,)-G354)/G354))))))","v":0.44030261956762434},{"$f":"IF(OR(J354<(QUARTILE($J$2:$J$501,1))-1.5*(QUARTILE($J$2:$J$501,3)-QUARTILE($J$2:$J$501,1)),J354>(QUARTILE($J$2:$J$501,3))+1.5*(QUARTILE($J$2:$J$501,3)-QUARTILE($J$2:$J$501,1))),\"\",J354)","v":0.44030261956762434},null,null,{"$f":"IF(COUNTIF($D$2:$D$501,D354)=1,\"\",IF(I354=\"\",\"\",ABS(IF(I354=\"\",0,(((H354*OFFSET($P$1,MATCH($D354,$O$2:$O$40,0),,)-G354)/G354))))))","v":0.44030261956762434},null,null,{"$f":"IFERROR(IF(COUNTIF($E$2:$E$501,E354)=1,\"\",IF(I354=\"\",\"\",ABS(IF(I354=\"\",0,(((H354*OFFSET($S$1,MATCH($E354,$R$2:$R$41,0),,)-G354)/G354)))))),\"\")","v":0.30175882613276833},null,null,{"$f":"IFERROR(IF(COUNTIF($F$2:$F$501,F354)=1,\"\",IF(I354=\"\",\"\",ABS(IF(I354=\"\",0,(((H354*OFFSET($V$1,MATCH($F354,$U$2:$U$105,0),,)-G354)/G354)))))),\"\")","v":0.45192714762147512},null,null,{"$f":"IF(OR(J354<(QUARTILE($J$2:$J$501,1))-1.5*(QUARTILE($J$2:$J$501,3)-QUARTILE($J$2:$J$501,1)),J354>(QUARTILE($J$2:$J$501,3))+1.5*(QUARTILE($J$2:$J$501,3)-QUARTILE($J$2:$J$501,1))),\"Outlier\")","v":false}]
[906511,"GENUINE PARTS",3000,3300,3350,3355,59.65,3.71,{"$f":"(IF(IFERROR(G355/H355,\"\")<0,\"\",IFERROR(G355/H355,\"\")))","v":16.078167115902964},{"$f":"IF(COUNTIF($C$2:$C$501,C355)=1,\"\",IF(I355=\"\",\"\",ABS(IF(I355=\"\",0,(((H355*OFFSET($M$1,MATCH($C355,$L$2:$L$40,0),,)-G355)/G355))))))","v":5.4722040948689543E-3},{"$f":"IF(OR(J355<(QUARTILE($J$2:$J$501,1))-1.5*(QUARTILE($J$2:$J$501,3)-QUARTILE($J$2:$J$501,1)),J355>(QUARTILE($J$2:$J$501,3))+1.5*(QUARTILE($J$2:$J$501,3)-QUARTILE($J$2:$J$501,1))),\"\",J355)","v":5.4722040948689543E-3},null,null,{"$f":"IF(COUNTIF($D$2:$D$501,D355)=1,\"\",IF(I355=\"\",\"\",ABS(IF(I355=\"\",0,(((H355*OFFSET($P$1,MATCH($D355,$O$2:$O$40,0),,)-G355)/G355))))))","v":0.58499221135063251},null,null,{"$f":"IFERROR(IF(COUNTIF($E$2:$E$501,E355)=1,\"\",IF(I355=\"\",\"\",ABS(IF(I355=\"\",0,(((H355*OFFSET($S$1,MATCH($E355,$R$2:$R$41,0),,)-G355)/G355)))))),\"\")","v":0.58499221135063251},null,null,{"$f":"IFERROR(IF(COUNTIF($F$2:$F$501,F355)=1,\"\",IF(I355=\"\",\"\",ABS(IF(I355=\"\",0,(((H355*OFFSET($V$1,MATCH($F355,$U$2:$U$105,0),,)-G355)/G355)))))),\"\")","v":""},null,null,{"$f":"IF(OR(J355<(QUARTILE($J$2:$J$501,1))-1.5*(QUARTILE($J$2:$J$501,3)-QUARTILE($J$2:$J$501,1)),J355>(QUARTILE($J$2:$J$501,3))+1.5*(QUARTILE($J$2:$J$501,3)-QUARTILE($J$2:$J$501,1))),\"Outlier\")","v":false}]
[906560,"NORDSTROM",5000,5300,5370,5371,48.25,3.19,{"$f":"(IF(IFERROR(G356/H356,\"\")<0,\"\",IFERROR(G356/H356,\"\")))","v":15.12539184952978},{"$f":"IF(COUNTIF($C$2:$C$501,C356)=1,\"\",IF(I356=\"\",\"\",ABS(IF(I356=\"\",0,(((H356*OFFSET($M$1,MATCH($C356,$L$2:$L$40,0),,)-G356)/G356))))))","v":4.2651464430307241E-2},{"$f":"IF(OR(J356<(QUARTILE($J$2:$J$501,1))-1.5*(QUARTILE($J$2:$J$501,3)-QUARTILE($J$2:$J$501,1)),J356>(QUARTILE($J$2:$J$501,3))+1.5*(QUARTILE($J$2:$J$501,3)-QUARTILE($J$2:$J$501,1))),\"\",J356)","v":4.2651464430307241E-2},null,null,{"$f":"IF(COUNTIF($D$2:$D$501,D356)=1,\"\",IF(I356=\"\",\"\",ABS(IF(I356=\"\",0,(((H356*OFFSET($P$1,MATCH($D356,$O$2:$O$40,0),,)-G356)/G356))))))","v":3.6621932366149905E-2},null,null,{"$f":"IFERROR(IF(COUNTIF($E$2:$E$501,E356)=1,\"\",IF(I356=\"\",\"\",ABS(IF(I356=\"\",0,(((H356*OFFSET($S$1,MATCH($E356,$R$2:$R$41,0),,)-G356)/G356)))))),\"\")","v":5.2381285664327447E-2},null,null,{"$f":"IFERROR(IF(COUNTIF($F$2:$F$501,F356)=1,\"\",IF(I356=\"\",\"\",ABS(IF(I356=\"\",0,(((H356*OFFSET($V$1,MATCH($F356,$U$2:$U$105,0),,)-G356)/G356)))))),\"\")","v":0.1053985385052045},null,null,{"$f":"IF(OR(J356<(QUARTILE($J$2:$J$501,1))-1.5*(QUARTILE($J$2:$J$501,3)-QUARTILE($J$2:$J$501,1)),J356>(QUARTILE($J$2:$J$501,3))+1.5*(QUARTILE($J$2:$J$501,3)-QUARTILE($J$2:$J$501,1))),\"Outlier\")","v":false}]
[906643,"TYSON FOODS 'A'",3000,3500,3570,3577,18.37,1.63,{"$f":"(IF(IFERROR(G357/H357,\"\")<0,\"\",IFERROR(G357/H357,\"\")))","v":11.26993865030675},{"$f":"IF(COUNTIF($C$2:$C$501,C357)=1,\"\",IF(I357=\"\",\"\",ABS(IF(I357=\"\",0,(((H357*OFFSET($M$1,MATCH($C357,$L$2:$L$40,0),,)-G357)/G357))))))","v":0.41883506202920673},{"$f":"IF(OR(J357<(QUARTILE($J$2:$J$501,1))-1.5*(QUARTILE($J$2:$J$501,3)-QUARTILE($J$2:$J$501,1)),J357>(QUARTILE($J$2:$J$501,3))+1.5*(QUARTILE($J$2:$J$501,3)-QUARTILE($J$2:$J$501,1))),\"\",J357)","v":0.41883506202920673},null,null,{"$f":"IF(COUNTIF($D$2:$D$501,D357)=1,\"\",IF(I357=\"\",\"\",ABS(IF(I357=\"\",0,(((H357*OFFSET($P$1,MATCH($D357,$O$2:$O$40,0),,)-G357)/G357))))))","v":0.58513076224219174},null,null,{"$f":"IFERROR(IF(COUNTIF($E$2:$E$501,E357)=1,\"\",IF(I357=\"\",\"\",ABS(IF(I357=\"\",0,(((H357*OFFSET($S$1,MATCH($E357,$R$2:$R$41,0),,)-G357)/G357)))))),\"\")","v":0.58153330960701277},null,null,{"$f":"IFERROR(IF(COUNTIF($F$2:$F$501,F357)=1,\"\",IF(I357=\"\",\"\",ABS(IF(I357=\"\",0,(((H357*OFFSET($V$1,MATCH($F357,$U$2:$U$105,0),,)-G357)/G357)))))),\"\")","v":0.55138640198209621},null,null,{"$f":"IF(OR(J357<(QUARTILE($J$2:$J$501,1))-1.5*(QUARTILE($J$2:$J$501,3)-QUARTILE($J$2:$J$501,1)),J357>(QUARTILE($J$2:$J$501,3))+1.5*(QUARTILE($J$2:$J$501,3)-QUARTILE($J$2:$J$501,1))),\"Outlier\")","v":false}]
[906930,"ELECTRONIC DATA SYSTEMS DEAD - DELIST.05/09/08",9000,9500,9530,9533,24.96,1.22,{"$f":"(IF(IFERROR(G358/H358,\"\")<0,\"\",IFERROR(G358/H358,\"\")))","v":20.459016393442624},{"$f":"IF(COUNTIF($C$2:$C$501,C358)=1,\"\",IF(I358=\"\",\"\",ABS(IF(I358=\"\",0,(((H358*OFFSET($M$1,MATCH($C358,$L$2:$L$40,0),,)-G358)/G358))))))","v":0.36008568573190081},{"$f":"IF(OR(J358<(QUARTILE($J$2:$J$501,1))-1.5*(QUARTILE($J$2:$J$501,3)-QUARTILE($J$2:$J$501,1)),J358>(QUARTILE($J$2:$J$501,3))+1.5*(QUARTILE($J$2:$J$501,3)-QUARTILE($J$2:$J$501,1))),\"\",J358)","v":0.36008568573190081},null,null,{"$f":"IF(COUNTIF($D$2:$D$501,D358)=1,\"\",IF(I358=\"\",\"\",ABS(IF(I358=\"\",0,(((H358*OFFSET($P$1,MATCH($D358,$O$2:$O$40,0),,)-G358)/G358))))))","v":0.36008568573190081},null,null,{"$f":"IFERROR(IF(COUNTIF($E$2:$E$501,E358)=1,\"\",IF(I358=\"\",\"\",ABS(IF(I358=\"\",0,(((H358*OFFSET($S$1,MATCH($E358,$R$2:$R$41,0),,)-G358)/G358)))))),\"\")","v":0.30977019897255276},null,null,{"$f":"IFERROR(IF(COUNTIF($F$2:$F$501,F358)=1,\"\",IF(I358=\"\",\"\",ABS(IF(I358=\"\",0,(((H358*OFFSET($V$1,MATCH($F358,$U$2:$U$105,0),,)-G358)/G358)))))),\"\")","v":0.4250215315374069},null,null,{"$f":"IF(OR(J358<(QUARTILE($J$2:$J$501,1))-1.5*(QUARTILE($J$2:$J$501,3)-QUARTILE($J$2:$J$501,1)),J358>(QUARTILE($J$2:$J$501,3))+1.5*(QUARTILE($J$2:$J$501,3)-QUARTILE($J$2:$J$501,1))),\"Outlier\")","v":false}]
[906931,"MYLAN",4000,4500,4570,4577,20.82,1.29,{"$f":"(IF(IFERROR(G359/H359,\"\")<0,\"\",IFERROR(G359/H359,\"\")))","v":16.13953488372093},{"$f":"IF(COUNTIF($C$2:$C$501,C359)=1,\"\",IF(I359=\"\",\"\",ABS(IF(I359=\"\",0,(((H359*OFFSET($M$1,MATCH($C359,$L$2:$L$40,0),,)-G359)/G359))))))","v":4.8716236038660127E-2},{"$f":"IF(OR(J359<(QUARTILE($J$2:$J$501,1))-1.5*(QUARTILE($J$2:$J$501,3)-QUARTILE($J$2:$J$501,1)),J359>(QUARTILE($J$2:$J$501,3))+1.5*(QUARTILE($J$2:$J$501,3)-QUARTILE($J$2:$J$501,1))),\"\",J359)","v":4.8716236038660127E-2},null,null,{"$f":"IF(COUNTIF($D$2:$D$501,D359)=1,\"\",IF(I359=\"\",\"\",ABS(IF(I359=\"\",0,(((H359*OFFSET($P$1,MATCH($D359,$O$2:$O$40,0),,)-G359)/G359))))))","v":4.8716236038660127E-2},null,null,{"$f":"IFERROR(IF(COUNTIF($E$2:$E$501,E359)=1,\"\",IF(I359=\"\",\"\",ABS(IF(I359=\"\",0,(((H359*OFFSET($S$1,MATCH($E359,$R$2:$R$41,0),,)-G359)/G359)))))),\"\")","v":0.23233316331533985},null,null,{"$f":"IFERROR(IF(COUNTIF($F$2:$F$501,F359)=1,\"\",IF(I359=\"\",\"\",ABS(IF(I359=\"\",0,(((H359*OFFSET($V$1,MATCH($F359,$U$2:$U$105,0),,)-G359)/G359)))))),\"\")","v":0.14326516423836613},null,null,{"$f":"IF(OR(J359<(QUARTILE($J$2:$J$501,1))-1.5*(QUARTILE($J$2:$J$501,3)-QUARTILE($J$2:$J$501,1)),J359>(QUARTILE($J$2:$J$501,3))+1.5*(QUARTILE($J$2:$J$501,3)-QUARTILE($J$2:$J$501,1))),\"Outlier\")","v":false}]
[906933,"NEWELL RUBBERMAID",3000,3700,3720,3722,17.47,0.44,{"$f":"(IF(IFERROR(G360/H360,\"\")<0,\"\",IFERROR(G360/H360,\"\")))","v":39.704545454545453},{"$f":"IF(COUNTIF($C$2:$C$501,C360)=1,\"\",IF(I360=\"\",\"\",ABS(IF(I360=\"\",0,(((H360*OFFSET($M$1,MATCH($C360,$L$2:$L$40,0),,)-G360)/G360))))))","v":0.59727069228687657},{"$f":"IF(OR(J360<(QUARTILE($J$2:$J$501,1))-1.5*(QUARTILE($J$2:$J$501,3)-QUARTILE($J$2:$J$501,1)),J360>(QUARTILE($J$2:$J$501,3))+1.5*(QUARTILE($J$2:$J$501,3)-QUARTILE($J$2:$J$501,1))),\"\",J360)","v":0.59727069228687657},null,null,{"$f":"IF(COUNTIF($D$2:$D$501,D360)=1,\"\",IF(I360=\"\",\"\",ABS(IF(I360=\"\",0,(((H360*OFFSET($P$1,MATCH($D360,$O$2:$O$40,0),,)-G360)/G360))))))","v":0.51438836027914425},null,null,{"$f":"IFERROR(IF(COUNTIF($E$2:$E$501,E360)=1,\"\",IF(I360=\"\",\"\",ABS(IF(I360=\"\",0,(((H360*OFFSET($S$1,MATCH($E360,$R$2:$R$41,0),,)-G360)/G360)))))),\"\")","v":0.46154661247848483},null,null,{"$f":"IFERROR(IF(COUNTIF($F$2:$F$501,F360)=1,\"\",IF(I360=\"\",\"\",ABS(IF(I360=\"\",0,(((H360*OFFSET($V$1,MATCH($F360,$U$2:$U$105,0),,)-G360)/G360)))))),\"\")","v":0.53101245372218342},null,null,{"$f":"IF(OR(J360<(QUARTILE($J$2:$J$501,1))-1.5*(QUARTILE($J$2:$J$501,3)-QUARTILE($J$2:$J$501,1)),J360>(QUARTILE($J$2:$J$501,3))+1.5*(QUARTILE($J$2:$J$501,3)-QUARTILE($J$2:$J$501,1))),\"Outlier\")","v":false}]
[907620,"ROWAN COMPANIES CL.A",1,500,570,573,30.91,1.25,{"$f":"(IF(IFERROR(G361/H361,\"\")<0,\"\",IFERROR(G361/H361,\"\")))","v":24.728000000000002},{"$f":"IF(COUNTIF($C$2:$C$501,C361)=1,\"\",IF(I361=\"\",\"\",ABS(IF(I361=\"\",0,(((H361*OFFSET($M$1,MATCH($C361,$L$2:$L$40,0),,)-G361)/G361))))))","v":0.62501513216442095},{"$f":"IF(OR(J361<(QUARTILE($J$2:$J$501,1))-1.5*(QUARTILE($J$2:$J$501,3)-QUARTILE($J$2:$J$501,1)),J361>(QUARTILE($J$2:$J$501,3))+1.5*(QUARTILE($J$2:$J$501,3)-QUARTILE($J$2:$J$501,1))),\"\",J361)","v":0.62501513216442095},null,null,{"$f":"IF(COUNTIF($D$2:$D$501,D361)=1,\"\",IF(I361=\"\",\"\",ABS(IF(I361=\"\",0,(((H361*OFFSET($P$1,MATCH($D361,$O$2:$O$40,0),,)-G361)/G361))))))","v":0.62501513216442095},null,null,{"$f":"IFERROR(IF(COUNTIF($E$2:$E$501,E361)=1,\"\",IF(I361=\"\",\"\",ABS(IF(I361=\"\",0,(((H361*OFFSET($S$1,MATCH($E361,$R$2:$R$41,0),,)-G361)/G361)))))),\"\")","v":0.58174717505540308},null,null,{"$f":"IFERROR(IF(COUNTIF($F$2:$F$501,F361)=1,\"\",IF(I361=\"\",\"\",ABS(IF(I361=\"\",0,(((H361*OFFSET($V$1,MATCH($F361,$U$2:$U$105,0),,)-G361)/G361)))))),\"\")","v":0.63581428042534582},null,null,{"$f":"IF(OR(J361<(QUARTILE($J$2:$J$501,1))-1.5*(QUARTILE($J$2:$J$501,3)-QUARTILE($J$2:$J$501,1)),J361>(QUARTILE($J$2:$J$501,3))+1.5*(QUARTILE($J$2:$J$501,3)-QUARTILE($J$2:$J$501,1))),\"Outlier\")","v":false}]
[907652,"GENERAL DYNAMICS",2000,2700,2710,2717,63.16,6.76,{"$f":"(IF(IFERROR(G362/H362,\"\")<0,\"\",IFERROR(G362/H362,\"\")))","v":9.3431952662721898},{"$f":"IF(COUNTIF($C$2:$C$501,C362)=1,\"\",IF(I362=\"\",\"\",ABS(IF(I362=\"\",0,(((H362*OFFSET($M$1,MATCH($C362,$L$2:$L$40,0),,)-G362)/G362))))))","v":0.55234163360627719},{"$f":"IF(OR(J362<(QUARTILE($J$2:$J$501,1))-1.5*(QUARTILE($J$2:$J$501,3)-QUARTILE($J$2:$J$501,1)),J362>(QUARTILE($J$2:$J$501,3))+1.5*(QUARTILE($J$2:$J$501,3)-QUARTILE($J$2:$J$501,1))),\"\",J362)","v":0.55234163360627719},null,null,{"$f":"IF(COUNTIF($D$2:$D$501,D362)=1,\"\",IF(I362=\"\",\"\",ABS(IF(I362=\"\",0,(((H362*OFFSET($P$1,MATCH($D362,$O$2:$O$40,0),,)-G362)/G362))))))","v":0.53250042924543284},null,null,{"$f":"IFERROR(IF(COUNTIF($E$2:$E$501,E362)=1,\"\",IF(I362=\"\",\"\",ABS(IF(I362=\"\",0,(((H362*OFFSET($S$1,MATCH($E362,$R$2:$R$41,0),,)-G362)/G362)))))),\"\")","v":0.21499351785351151},null,null,{"$f":"IFERROR(IF(COUNTIF($F$2:$F$501,F362)=1,\"\",IF(I362=\"\",\"\",ABS(IF(I362=\"\",0,(((H362*OFFSET($V$1,MATCH($F362,$U$2:$U$105,0),,)-G362)/G362)))))),\"\")","v":3.8693683286078286E-2},null,null,{"$f":"IF(OR(J362<(QUARTILE($J$2:$J$501,1))-1.5*(QUARTILE($J$2:$J$501,3)-QUARTILE($J$2:$J$501,1)),J362>(QUARTILE($J$2:$J$501,3))+1.5*(QUARTILE($J$2:$J$501,3)-QUARTILE($J$2:$J$501,1))),\"Outlier\")","v":false}]
[907677,"JOHNSON CONTROLS",3000,3300,3350,3355,26.69,2.42,{"$f":"(IF(IFERROR(G363/H363,\"\")<0,\"\",IFERROR(G363/H363,\"\")))","v":11.028925619834711},{"$f":"IF(COUNTIF($C$2:$C$501,C363)=1,\"\",IF(I363=\"\",\"\",ABS(IF(I363=\"\",0,(((H363*OFFSET($M$1,MATCH($C363,$L$2:$L$40,0),,)-G363)/G363))))))","v":0.4498405969132806},{"$f":"IF(OR(J363<(QUARTILE($J$2:$J$501,1))-1.5*(QUARTILE($J$2:$J$501,3)-QUARTILE($J$2:$J$501,1)),J363>(QUARTILE($J$2:$J$501,3))+1.5*(QUARTILE($J$2:$J$501,3)-QUARTILE($J$2:$J$501,1))),\"\",J363)","v":0.4498405969132806},null,null,{"$f":"IF(COUNTIF($D$2:$D$501,D363)=1,\"\",IF(I363=\"\",\"\",ABS(IF(I363=\"\",0,(((H363*OFFSET($P$1,MATCH($D363,$O$2:$O$40,0),,)-G363)/G363))))))","v":0.3949941444608393},null,null,{"$f":"IFERROR(IF(COUNTIF($E$2:$E$501,E363)=1,\"\",IF(I363=\"\",\"\",ABS(IF(I363=\"\",0,(((H363*OFFSET($S$1,MATCH($E363,$R$2:$R$41,0),,)-G363)/G363)))))),\"\")","v":0.3949941444608393},null,null,{"$f":"IFERROR(IF(COUNTIF($F$2:$F$501,F363)=1,\"\",IF(I363=\"\",\"\",ABS(IF(I363=\"\",0,(((H363*OFFSET($V$1,MATCH($F363,$U$2:$U$105,0),,)-G363)/G363)))))),\"\")","v":""},null,null,{"$f":"IF(OR(J363<(QUARTILE($J$2:$J$501,1))-1.5*(QUARTILE($J$2:$J$501,3)-QUARTILE($J$2:$J$501,1)),J363>(QUARTILE($J$2:$J$501,3))+1.5*(QUARTILE($J$2:$J$501,3)-QUARTILE($J$2:$J$501,1))),\"Outlier\")","v":false}]
[912030,"HASBRO",3000,3700,3740,3747,33.03,2.67,{"$f":"(IF(IFERROR(G364/H364,\"\")<0,\"\",IFERROR(G364/H364,\"\")))","v":12.370786516853933},{"$f":"IF(COUNTIF($C$2:$C$501,C364)=1,\"\",IF(I364=\"\",\"\",ABS(IF(I364=\"\",0,(((H364*OFFSET($M$1,MATCH($C364,$L$2:$L$40,0),,)-G364)/G364))))))","v":0.29257619005778979},{"$f":"IF(OR(J364<(QUARTILE($J$2:$J$501,1))-1.5*(QUARTILE($J$2:$J$501,3)-QUARTILE($J$2:$J$501,1)),J364>(QUARTILE($J$2:$J$501,3))+1.5*(QUARTILE($J$2:$J$501,3)-QUARTILE($J$2:$J$501,1))),\"\",J364)","v":0.29257619005778979},null,null,{"$f":"IF(COUNTIF($D$2:$D$501,D364)=1,\"\",IF(I364=\"\",\"\",ABS(IF(I364=\"\",0,(((H364*OFFSET($P$1,MATCH($D364,$O$2:$O$40,0),,)-G364)/G364))))))","v":0.55859042561963945},null,null,{"$f":"IFERROR(IF(COUNTIF($E$2:$E$501,E364)=1,\"\",IF(I364=\"\",\"\",ABS(IF(I364=\"\",0,(((H364*OFFSET($S$1,MATCH($E364,$R$2:$R$41,0),,)-G364)/G364)))))),\"\")","v":0.26201010440707889},null,null,{"$f":"IFERROR(IF(COUNTIF($F$2:$F$501,F364)=1,\"\",IF(I364=\"\",\"\",ABS(IF(I364=\"\",0,(((H364*OFFSET($V$1,MATCH($F364,$U$2:$U$105,0),,)-G364)/G364)))))),\"\")","v":""},null,null,{"$f":"IF(OR(J364<(QUARTILE($J$2:$J$501,1))-1.5*(QUARTILE($J$2:$J$501,3)-QUARTILE($J$2:$J$501,1)),J364>(QUARTILE($J$2:$J$501,3))+1.5*(QUARTILE($J$2:$J$501,3)-QUARTILE($J$2:$J$501,1))),\"Outlier\")","v":false}]
[912043,"SMITH INTL. DEAD - DELIST.30/08/10",1,500,570,573,38.840000000000003,0.42,{"$f":"(IF(IFERROR(G365/H365,\"\")<0,\"\",IFERROR(G365/H365,\"\")))","v":92.476190476190482},{"$f":"IF(COUNTIF($C$2:$C$501,C365)=1,\"\",IF(I365=\"\",\"\",ABS(IF(I365=\"\",0,(((H365*OFFSET($M$1,MATCH($C365,$L$2:$L$40,0),,)-G365)/G365))))))","v":0.89972958699866001},{"$f":"IF(OR(J365<(QUARTILE($J$2:$J$501,1))-1.5*(QUARTILE($J$2:$J$501,3)-QUARTILE($J$2:$J$501,1)),J365>(QUARTILE($J$2:$J$501,3))+1.5*(QUARTILE($J$2:$J$501,3)-QUARTILE($J$2:$J$501,1))),\"\",J365)","v":0.89972958699866001},null,null,{"$f":"IF(COUNTIF($D$2:$D$501,D365)=1,\"\",IF(I365=\"\",\"\",ABS(IF(I365=\"\",0,(((H365*OFFSET($P$1,MATCH($D365,$O$2:$O$40,0),,)-G365)/G365))))))","v":0.89972958699866001},null,null,{"$f":"IFERROR(IF(COUNTIF($E$2:$E$501,E365)=1,\"\",IF(I365=\"\",\"\",ABS(IF(I365=\"\",0,(((H365*OFFSET($S$1,MATCH($E365,$R$2:$R$41,0),,)-G365)/G365)))))),\"\")","v":0.88815979765199293},null,null,{"$f":"IFERROR(IF(COUNTIF($F$2:$F$501,F365)=1,\"\",IF(I365=\"\",\"\",ABS(IF(I365=\"\",0,(((H365*OFFSET($V$1,MATCH($F365,$U$2:$U$105,0),,)-G365)/G365)))))),\"\")","v":0.90261726367328388},null,null,{"$f":"IF(OR(J365<(QUARTILE($J$2:$J$501,1))-1.5*(QUARTILE($J$2:$J$501,3)-QUARTILE($J$2:$J$501,1)),J365>(QUARTILE($J$2:$J$501,3))+1.5*(QUARTILE($J$2:$J$501,3)-QUARTILE($J$2:$J$501,1))),\"Outlier\")","v":false}]
[912090,"SCHLUMBERGER",1,500,570,573,62.72,3.79,{"$f":"(IF(IFERROR(G366/H366,\"\")<0,\"\",IFERROR(G366/H366,\"\")))","v":16.548812664907651},{"$f":"IF(COUNTIF($C$2:$C$501,C366)=1,\"\",IF(I366=\"\",\"\",ABS(IF(I366=\"\",0,(((H366*OFFSET($M$1,MATCH($C366,$L$2:$L$40,0),,)-G366)/G366))))))","v":0.43968029612776177},{"$f":"IF(OR(J366<(QUARTILE($J$2:$J$501,1))-1.5*(QUARTILE($J$2:$J$501,3)-QUARTILE($J$2:$J$501,1)),J366>(QUARTILE($J$2:$J$501,3))+1.5*(QUARTILE($J$2:$J$501,3)-QUARTILE($J$2:$J$501,1))),\"\",J366)","v":0.43968029612776177},null,null,{"$f":"IF(COUNTIF($D$2:$D$501,D366)=1,\"\",IF(I366=\"\",\"\",ABS(IF(I366=\"\",0,(((H366*OFFSET($P$1,MATCH($D366,$O$2:$O$40,0),,)-G366)/G366))))))","v":0.43968029612776177},null,null,{"$f":"IFERROR(IF(COUNTIF($E$2:$E$501,E366)=1,\"\",IF(I366=\"\",\"\",ABS(IF(I366=\"\",0,(((H366*OFFSET($S$1,MATCH($E366,$R$2:$R$41,0),,)-G366)/G366)))))),\"\")","v":0.37502731678377438},null,null,{"$f":"IFERROR(IF(COUNTIF($F$2:$F$501,F366)=1,\"\",IF(I366=\"\",\"\",ABS(IF(I366=\"\",0,(((H366*OFFSET($V$1,MATCH($F366,$U$2:$U$105,0),,)-G366)/G366)))))),\"\")","v":0.45581688209337751},null,null,{"$f":"IF(OR(J366<(QUARTILE($J$2:$J$501,1))-1.5*(QUARTILE($J$2:$J$501,3)-QUARTILE($J$2:$J$501,1)),J366>(QUARTILE($J$2:$J$501,3))+1.5*(QUARTILE($J$2:$J$501,3)-QUARTILE($J$2:$J$501,1))),\"Outlier\")","v":false}]
[912134,"KROGER",5000,5300,5330,5337,22.92,1.01,{"$f":"(IF(IFERROR(G367/H367,\"\")<0,\"\",IFERROR(G367/H367,\"\")))","v":22.693069306930695},{"$f":"IF(COUNTIF($C$2:$C$501,C367)=1,\"\",IF(I367=\"\",\"\",ABS(IF(I367=\"\",0,(((H367*OFFSET($M$1,MATCH($C367,$L$2:$L$40,0),,)-G367)/G367))))))","v":0.30505161074980797},{"$f":"IF(OR(J367<(QUARTILE($J$2:$J$501,1))-1.5*(QUARTILE($J$2:$J$501,3)-QUARTILE($J$2:$J$501,1)),J367>(QUARTILE($J$2:$J$501,3))+1.5*(QUARTILE($J$2:$J$501,3)-QUARTILE($J$2:$J$501,1))),\"\",J367)","v":0.30505161074980797},null,null,{"$f":"IF(COUNTIF($D$2:$D$501,D367)=1,\"\",IF(I367=\"\",\"\",ABS(IF(I367=\"\",0,(((H367*OFFSET($P$1,MATCH($D367,$O$2:$O$40,0),,)-G367)/G367))))))","v":0.3578889406663685},null,null,{"$f":"IFERROR(IF(COUNTIF($E$2:$E$501,E367)=1,\"\",IF(I367=\"\",\"\",ABS(IF(I367=\"\",0,(((H367*OFFSET($S$1,MATCH($E367,$R$2:$R$41,0),,)-G367)/G367)))))),\"\")","v":0.32285389656918345},null,null,{"$f":"IFERROR(IF(COUNTIF($F$2:$F$501,F367)=1,\"\",IF(I367=\"\",\"\",ABS(IF(I367=\"\",0,(((H367*OFFSET($V$1,MATCH($F367,$U$2:$U$105,0),,)-G367)/G367)))))),\"\")","v":0.22900296695575101},null,null,{"$f":"IF(OR(J367<(QUARTILE($J$2:$J$501,1))-1.5*(QUARTILE($J$2:$J$501,3)-QUARTILE($J$2:$J$501,1)),J367>(QUARTILE($J$2:$J$501,3))+1.5*(QUARTILE($J$2:$J$501,3)-QUARTILE($J$2:$J$501,1))),\"Outlier\")","v":false}]
[912146,"VORNADO REALTY TST.",8000,8600,8670,8671,81.459999999999994,2.0699999999999998,{"$f":"(IF(IFERROR(G368/H368,\"\")<0,\"\",IFERROR(G368/H368,\"\")))","v":39.352657004830917},{"$f":"IF(COUNTIF($C$2:$C$501,C368)=1,\"\",IF(I368=\"\",\"\",ABS(IF(I368=\"\",0,(((H368*OFFSET($M$1,MATCH($C368,$L$2:$L$40,0),,)-G368)/G368))))))","v":0.66201034155477279},{"$f":"IF(OR(J368<(QUARTILE($J$2:$J$501,1))-1.5*(QUARTILE($J$2:$J$501,3)-QUARTILE($J$2:$J$501,1)),J368>(QUARTILE($J$2:$J$501,3))+1.5*(QUARTILE($J$2:$J$501,3)-QUARTILE($J$2:$J$501,1))),\"\",J368)","v":0.66201034155477279},null,null,{"$f":"IF(COUNTIF($D$2:$D$501,D368)=1,\"\",IF(I368=\"\",\"\",ABS(IF(I368=\"\",0,(((H368*OFFSET($P$1,MATCH($D368,$O$2:$O$40,0),,)-G368)/G368))))))","v":0.1378365668232055},null,null,{"$f":"IFERROR(IF(COUNTIF($E$2:$E$501,E368)=1,\"\",IF(I368=\"\",\"\",ABS(IF(I368=\"\",0,(((H368*OFFSET($S$1,MATCH($E368,$R$2:$R$41,0),,)-G368)/G368)))))),\"\")","v":0.2708917727850737},null,null,{"$f":"IFERROR(IF(COUNTIF($F$2:$F$501,F368)=1,\"\",IF(I368=\"\",\"\",ABS(IF(I368=\"\",0,(((H368*OFFSET($V$1,MATCH($F368,$U$2:$U$105,0),,)-G368)/G368)))))),\"\")","v":""},null,null,{"$f":"IF(OR(J368<(QUARTILE($J$2:$J$501,1))-1.5*(QUARTILE($J$2:$J$501,3)-QUARTILE($J$2:$J$501,1)),J368>(QUARTILE($J$2:$J$501,3))+1.5*(QUARTILE($J$2:$J$501,3)-QUARTILE($J$2:$J$501,1))),\"Outlier\")","v":false}]
[912157,"PERKINELMER",2000,2700,2730,2737,25.07,0,{"$f":"(IF(IFERROR(G369/H369,\"\")<0,\"\",IFERROR(G369/H369,\"\")))","v":""},{"$f":"IF(COUNTIF($C$2:$C$501,C369)=1,\"\",IF(I369=\"\",\"\",ABS(IF(I369=\"\",0,(((H369*OFFSET($M$1,MATCH($C369,$L$2:$L$40,0),,)-G369)/G369))))))","v":""},{"$f":"IF(OR(J369<(QUARTILE($J$2:$J$501,1))-1.5*(QUARTILE($J$2:$J$501,3)-QUARTILE($J$2:$J$501,1)),J369>(QUARTILE($J$2:$J$501,3))+1.5*(QUARTILE($J$2:$J$501,3)-QUARTILE($J$2:$J$501,1))),\"\",J369)","v":""},null,null,{"$f":"IF(COUNTIF($D$2:$D$501,D369)=1,\"\",IF(I369=\"\",\"\",ABS(IF(I369=\"\",0,(((H369*OFFSET($P$1,MATCH($D369,$O$2:$O$40,0),,)-G369)/G369))))))","v":""},null,null,{"$f":"IFERROR(IF(COUNTIF($E$2:$E$501,E369)=1,\"\",IF(I369=\"\",\"\",ABS(IF(I369=\"\",0,(((H369*OFFSET($S$1,MATCH($E369,$R$2:$R$41,0),,)-G369)/G369)))))),\"\")","v":""},null,null,{"$f":"IFERROR(IF(COUNTIF($F$2:$F$501,F369)=1,\"\",IF(I369=\"\",\"\",ABS(IF(I369=\"\",0,(((H369*OFFSET($V$1,MATCH($F369,$U$2:$U$105,0),,)-G369)/G369)))))),\"\")","v":""},null,null,{"$f":"IF(OR(J369<(QUARTILE($J$2:$J$501,1))-1.5*(QUARTILE($J$2:$J$501,3)-QUARTILE($J$2:$J$501,1)),J369>(QUARTILE($J$2:$J$501,3))+1.5*(QUARTILE($J$2:$J$501,3)-QUARTILE($J$2:$J$501,1))),\"Outlier\")","v":"Outlier"}]
[912160,"NEWMONT MINING",1000,1700,1770,1777,47.12,0.66,{"$f":"(IF(IFERROR(G370/H370,\"\")<0,\"\",IFERROR(G370/H370,\"\")))","v":71.393939393939391},{"$f":"IF(COUNTIF($C$2:$C$501,C370)=1,\"\",IF(I370=\"\",\"\",ABS(IF(I370=\"\",0,(((H370*OFFSET($M$1,MATCH($C370,$L$2:$L$40,0),,)-G370)/G370))))))","v":0.78293847356099644},{"$f":"IF(OR(J370<(QUARTILE($J$2:$J$501,1))-1.5*(QUARTILE($J$2:$J$501,3)-QUARTILE($J$2:$J$501,1)),J370>(QUARTILE($J$2:$J$501,3))+1.5*(QUARTILE($J$2:$J$501,3)-QUARTILE($J$2:$J$501,1))),\"\",J370)","v":0.78293847356099644},null,null,{"$f":"IF(COUNTIF($D$2:$D$501,D370)=1,\"\",IF(I370=\"\",\"\",ABS(IF(I370=\"\",0,(((H370*OFFSET($P$1,MATCH($D370,$O$2:$O$40,0),,)-G370)/G370))))))","v":0.82376068751588982},null,null,{"$f":"IFERROR(IF(COUNTIF($E$2:$E$501,E370)=1,\"\",IF(I370=\"\",\"\",ABS(IF(I370=\"\",0,(((H370*OFFSET($S$1,MATCH($E370,$R$2:$R$41,0),,)-G370)/G370)))))),\"\")","v":""},null,null,{"$f":"IFERROR(IF(COUNTIF($F$2:$F$501,F370)=1,\"\",IF(I370=\"\",\"\",ABS(IF(I370=\"\",0,(((H370*OFFSET($V$1,MATCH($F370,$U$2:$U$105,0),,)-G370)/G370)))))),\"\")","v":""},null,null,{"$f":"IF(OR(J370<(QUARTILE($J$2:$J$501,1))-1.5*(QUARTILE($J$2:$J$501,3)-QUARTILE($J$2:$J$501,1)),J370>(QUARTILE($J$2:$J$501,3))+1.5*(QUARTILE($J$2:$J$501,3)-QUARTILE($J$2:$J$501,1))),\"Outlier\")","v":false}]
[912212,"JOHNSON & JOHNSON",4000,4500,4570,4577,66.94,3.64,{"$f":"(IF(IFERROR(G371/H371,\"\")<0,\"\",IFERROR(G371/H371,\"\")))","v":18.390109890109891},{"$f":"IF(COUNTIF($C$2:$C$501,C371)=1,\"\",IF(I371=\"\",\"\",ABS(IF(I371=\"\",0,(((H371*OFFSET($M$1,MATCH($C371,$L$2:$L$40,0),,)-G371)/G371))))))","v":7.9625278162526014E-2},{"$f":"IF(OR(J371<(QUARTILE($J$2:$J$501,1))-1.5*(QUARTILE($J$2:$J$501,3)-QUARTILE($J$2:$J$501,1)),J371>(QUARTILE($J$2:$J$501,3))+1.5*(QUARTILE($J$2:$J$501,3)-QUARTILE($J$2:$J$501,1))),\"\",J371)","v":7.9625278162526014E-2},null,null,{"$f":"IF(COUNTIF($D$2:$D$501,D371)=1,\"\",IF(I371=\"\",\"\",ABS(IF(I371=\"\",0,(((H371*OFFSET($P$1,MATCH($D371,$O$2:$O$40,0),,)-G371)/G371))))))","v":7.9625278162526014E-2},null,null,{"$f":"IFERROR(IF(COUNTIF($E$2:$E$501,E371)=1,\"\",IF(I371=\"\",\"\",ABS(IF(I371=\"\",0,(((H371*OFFSET($S$1,MATCH($E371,$R$2:$R$41,0),,)-G371)/G371)))))),\"\")","v":8.1520675871026071E-2},null,null,{"$f":"IFERROR(IF(COUNTIF($F$2:$F$501,F371)=1,\"\",IF(I371=\"\",\"\",ABS(IF(I371=\"\",0,(((H371*OFFSET($V$1,MATCH($F371,$U$2:$U$105,0),,)-G371)/G371)))))),\"\")","v":3.3527863523707341E-3},null,null,{"$f":"IF(OR(J371<(QUARTILE($J$2:$J$501,1))-1.5*(QUARTILE($J$2:$J$501,3)-QUARTILE($J$2:$J$501,1)),J371>(QUARTILE($J$2:$J$501,3))+1.5*(QUARTILE($J$2:$J$501,3)-QUARTILE($J$2:$J$501,1))),\"Outlier\")","v":false}]
[912219,"LENNAR 'A'",3000,3700,3720,3728,29.36,0.42,{"$f":"(IF(IFERROR(G372/H372,\"\")<0,\"\",IFERROR(G372/H372,\"\")))","v":69.904761904761912},{"$f":"IF(COUNTIF($C$2:$C$501,C372)=1,\"\",IF(I372=\"\",\"\",ABS(IF(I372=\"\",0,(((H372*OFFSET($M$1,MATCH($C372,$L$2:$L$40,0),,)-G372)/G372))))))","v":0.77125758434370573},{"$f":"IF(OR(J372<(QUARTILE($J$2:$J$501,1))-1.5*(QUARTILE($J$2:$J$501,3)-QUARTILE($J$2:$J$501,1)),J372>(QUARTILE($J$2:$J$501,3))+1.5*(QUARTILE($J$2:$J$501,3)-QUARTILE($J$2:$J$501,1))),\"\",J372)","v":0.77125758434370573},null,null,{"$f":"IF(COUNTIF($D$2:$D$501,D372)=1,\"\",IF(I372=\"\",\"\",ABS(IF(I372=\"\",0,(((H372*OFFSET($P$1,MATCH($D372,$O$2:$O$40,0),,)-G372)/G372))))))","v":0.7241820314212436},null,null,{"$f":"IFERROR(IF(COUNTIF($E$2:$E$501,E372)=1,\"\",IF(I372=\"\",\"\",ABS(IF(I372=\"\",0,(((H372*OFFSET($S$1,MATCH($E372,$R$2:$R$41,0),,)-G372)/G372)))))),\"\")","v":0.69416894618525782},null,null,{"$f":"IFERROR(IF(COUNTIF($F$2:$F$501,F372)=1,\"\",IF(I372=\"\",\"\",ABS(IF(I372=\"\",0,(((H372*OFFSET($V$1,MATCH($F372,$U$2:$U$105,0),,)-G372)/G372)))))),\"\")","v":""},null,null,{"$f":"IF(OR(J372<(QUARTILE($J$2:$J$501,1))-1.5*(QUARTILE($J$2:$J$501,3)-QUARTILE($J$2:$J$501,1)),J372>(QUARTILE($J$2:$J$501,3))+1.5*(QUARTILE($J$2:$J$501,3)-QUARTILE($J$2:$J$501,1))),\"Outlier\")","v":false}]
[912228,"PROCTER & GAMBLE",3000,3700,3720,3724,60.29,3.26,{"$f":"(IF(IFERROR(G373/H373,\"\")<0,\"\",IFERROR(G373/H373,\"\")))","v":18.493865030674847},{"$f":"IF(COUNTIF($C$2:$C$501,C373)=1,\"\",IF(I373=\"\",\"\",ABS(IF(I373=\"\",0,(((H373*OFFSET($M$1,MATCH($C373,$L$2:$L$40,0),,)-G373)/G373))))))","v":0.13537899852458021},{"$f":"IF(OR(J373<(QUARTILE($J$2:$J$501,1))-1.5*(QUARTILE($J$2:$J$501,3)-QUARTILE($J$2:$J$501,1)),J373>(QUARTILE($J$2:$J$501,3))+1.5*(QUARTILE($J$2:$J$501,3)-QUARTILE($J$2:$J$501,1))),\"\",J373)","v":0.13537899852458021},null,null,{"$f":"IF(COUNTIF($D$2:$D$501,D373)=1,\"\",IF(I373=\"\",\"\",ABS(IF(I373=\"\",0,(((H373*OFFSET($P$1,MATCH($D373,$O$2:$O$40,0),,)-G373)/G373))))))","v":4.2561378628678093E-2},null,null,{"$f":"IFERROR(IF(COUNTIF($E$2:$E$501,E373)=1,\"\",IF(I373=\"\",\"\",ABS(IF(I373=\"\",0,(((H373*OFFSET($S$1,MATCH($E373,$R$2:$R$41,0),,)-G373)/G373)))))),\"\")","v":0.15600751733299775},null,null,{"$f":"IFERROR(IF(COUNTIF($F$2:$F$501,F373)=1,\"\",IF(I373=\"\",\"\",ABS(IF(I373=\"\",0,(((H373*OFFSET($V$1,MATCH($F373,$U$2:$U$105,0),,)-G373)/G373)))))),\"\")","v":""},null,null,{"$f":"IF(OR(J373<(QUARTILE($J$2:$J$501,1))-1.5*(QUARTILE($J$2:$J$501,3)-QUARTILE($J$2:$J$501,1)),J373>(QUARTILE($J$2:$J$501,3))+1.5*(QUARTILE($J$2:$J$501,3)-QUARTILE($J$2:$J$501,1))),\"Outlier\")","v":false}]
[912273,"CORNING",9000,9500,9570,9578,12.59,1.59,{"$f":"(IF(IFERROR(G374/H374,\"\")<0,\"\",IFERROR(G374/H374,\"\")))","v":7.9182389937106912},{"$f":"IF(COUNTIF($C$2:$C$501,C374)=1,\"\",IF(I374=\"\",\"\",ABS(IF(I374=\"\",0,(((H374*OFFSET($M$1,MATCH($C374,$L$2:$L$40,0),,)-G374)/G374))))))","v":0.65340013813783349},{"$f":"IF(OR(J374<(QUARTILE($J$2:$J$501,1))-1.5*(QUARTILE($J$2:$J$501,3)-QUARTILE($J$2:$J$501,1)),J374>(QUARTILE($J$2:$J$501,3))+1.5*(QUARTILE($J$2:$J$501,3)-QUARTILE($J$2:$J$501,1))),\"\",J374)","v":0.65340013813783349},null,null,{"$f":"IF(COUNTIF($D$2:$D$501,D374)=1,\"\",IF(I374=\"\",\"\",ABS(IF(I374=\"\",0,(((H374*OFFSET($P$1,MATCH($D374,$O$2:$O$40,0),,)-G374)/G374))))))","v":0.65340013813783349},null,null,{"$f":"IFERROR(IF(COUNTIF($E$2:$E$501,E374)=1,\"\",IF(I374=\"\",\"\",ABS(IF(I374=\"\",0,(((H374*OFFSET($S$1,MATCH($E374,$R$2:$R$41,0),,)-G374)/G374)))))),\"\")","v":0.58480589434344588},null,null,{"$f":"IFERROR(IF(COUNTIF($F$2:$F$501,F374)=1,\"\",IF(I374=\"\",\"\",ABS(IF(I374=\"\",0,(((H374*OFFSET($V$1,MATCH($F374,$U$2:$U$105,0),,)-G374)/G374)))))),\"\")","v":0.87297953962429931},null,null,{"$f":"IF(OR(J374<(QUARTILE($J$2:$J$501,1))-1.5*(QUARTILE($J$2:$J$501,3)-QUARTILE($J$2:$J$501,1)),J374>(QUARTILE($J$2:$J$501,3))+1.5*(QUARTILE($J$2:$J$501,3)-QUARTILE($J$2:$J$501,1))),\"Outlier\")","v":false}]
[912374,"NATIONAL SEMICON. DEAD - DELIST.26/09/11",9000,9500,9570,9576,24.99,1.2,{"$f":"(IF(IFERROR(G375/H375,\"\")<0,\"\",IFERROR(G375/H375,\"\")))","v":20.824999999999999},{"$f":"IF(COUNTIF($C$2:$C$501,C375)=1,\"\",IF(I375=\"\",\"\",ABS(IF(I375=\"\",0,(((H375*OFFSET($M$1,MATCH($C375,$L$2:$L$40,0),,)-G375)/G375))))))","v":0.37133169526964532},{"$f":"IF(OR(J375<(QUARTILE($J$2:$J$501,1))-1.5*(QUARTILE($J$2:$J$501,3)-QUARTILE($J$2:$J$501,1)),J375>(QUARTILE($J$2:$J$501,3))+1.5*(QUARTILE($J$2:$J$501,3)-QUARTILE($J$2:$J$501,1))),\"\",J375)","v":0.37133169526964532},null,null,{"$f":"IF(COUNTIF($D$2:$D$501,D375)=1,\"\",IF(I375=\"\",\"\",ABS(IF(I375=\"\",0,(((H375*OFFSET($P$1,MATCH($D375,$O$2:$O$40,0),,)-G375)/G375))))))","v":0.37133169526964532},null,null,{"$f":"IFERROR(IF(COUNTIF($E$2:$E$501,E375)=1,\"\",IF(I375=\"\",\"\",ABS(IF(I375=\"\",0,(((H375*OFFSET($S$1,MATCH($E375,$R$2:$R$41,0),,)-G375)/G375)))))),\"\")","v":0.39741311740442647},null,null,{"$f":"IFERROR(IF(COUNTIF($F$2:$F$501,F375)=1,\"\",IF(I375=\"\",\"\",ABS(IF(I375=\"\",0,(((H375*OFFSET($V$1,MATCH($F375,$U$2:$U$105,0),,)-G375)/G375)))))),\"\")","v":0.33296424781414768},null,null,{"$f":"IF(OR(J375<(QUARTILE($J$2:$J$501,1))-1.5*(QUARTILE($J$2:$J$501,3)-QUARTILE($J$2:$J$501,1)),J375>(QUARTILE($J$2:$J$501,3))+1.5*(QUARTILE($J$2:$J$501,3)-QUARTILE($J$2:$J$501,1))),\"Outlier\")","v":false}]
[912377,"NEW YORK TIMES 'A'",5000,5500,5550,5557,7.66,0,{"$f":"(IF(IFERROR(G376/H376,\"\")<0,\"\",IFERROR(G376/H376,\"\")))","v":""},{"$f":"IF(COUNTIF($C$2:$C$501,C376)=1,\"\",IF(I376=\"\",\"\",ABS(IF(I376=\"\",0,(((H376*OFFSET($M$1,MATCH($C376,$L$2:$L$40,0),,)-G376)/G376))))))","v":""},{"$f":"IF(OR(J376<(QUARTILE($J$2:$J$501,1))-1.5*(QUARTILE($J$2:$J$501,3)-QUARTILE($J$2:$J$501,1)),J376>(QUARTILE($J$2:$J$501,3))+1.5*(QUARTILE($J$2:$J$501,3)-QUARTILE($J$2:$J$501,1))),\"\",J376)","v":""},null,null,{"$f":"IF(COUNTIF($D$2:$D$501,D376)=1,\"\",IF(I376=\"\",\"\",ABS(IF(I376=\"\",0,(((H376*OFFSET($P$1,MATCH($D376,$O$2:$O$40,0),,)-G376)/G376))))))","v":""},null,null,{"$f":"IFERROR(IF(COUNTIF($E$2:$E$501,E376)=1,\"\",IF(I376=\"\",\"\",ABS(IF(I376=\"\",0,(((H376*OFFSET($S$1,MATCH($E376,$R$2:$R$41,0),,)-G376)/G376)))))),\"\")","v":""},null,null,{"$f":"IFERROR(IF(COUNTIF($F$2:$F$501,F376)=1,\"\",IF(I376=\"\",\"\",ABS(IF(I376=\"\",0,(((H376*OFFSET($V$1,MATCH($F376,$U$2:$U$105,0),,)-G376)/G376)))))),\"\")","v":""},null,null,{"$f":"IF(OR(J376<(QUARTILE($J$2:$J$501,1))-1.5*(QUARTILE($J$2:$J$501,3)-QUARTILE($J$2:$J$501,1)),J376>(QUARTILE($J$2:$J$501,3))+1.5*(QUARTILE($J$2:$J$501,3)-QUARTILE($J$2:$J$501,1))),\"Outlier\")","v":"Outlier"}]
[912402,"LINCOLN NAT.",8000,8500,8570,8575,20.93,0.71,{"$f":"(IF(IFERROR(G377/H377,\"\")<0,\"\",IFERROR(G377/H377,\"\")))","v":29.47887323943662},{"$f":"IF(COUNTIF($C$2:$C$501,C377)=1,\"\",IF(I377=\"\",\"\",ABS(IF(I377=\"\",0,(((H377*OFFSET($M$1,MATCH($C377,$L$2:$L$40,0),,)-G377)/G377))))))","v":0.54880259527079611},{"$f":"IF(OR(J377<(QUARTILE($J$2:$J$501,1))-1.5*(QUARTILE($J$2:$J$501,3)-QUARTILE($J$2:$J$501,1)),J377>(QUARTILE($J$2:$J$501,3))+1.5*(QUARTILE($J$2:$J$501,3)-QUARTILE($J$2:$J$501,1))),\"\",J377)","v":0.54880259527079611},null,null,{"$f":"IF(COUNTIF($D$2:$D$501,D377)=1,\"\",IF(I377=\"\",\"\",ABS(IF(I377=\"\",0,(((H377*OFFSET($P$1,MATCH($D377,$O$2:$O$40,0),,)-G377)/G377))))))","v":0.634895741141833},null,null,{"$f":"IFERROR(IF(COUNTIF($E$2:$E$501,E377)=1,\"\",IF(I377=\"\",\"\",ABS(IF(I377=\"\",0,(((H377*OFFSET($S$1,MATCH($E377,$R$2:$R$41,0),,)-G377)/G377)))))),\"\")","v":0.64758353086420117},null,null,{"$f":"IFERROR(IF(COUNTIF($F$2:$F$501,F377)=1,\"\",IF(I377=\"\",\"\",ABS(IF(I377=\"\",0,(((H377*OFFSET($V$1,MATCH($F377,$U$2:$U$105,0),,)-G377)/G377)))))),\"\")","v":0.64758353086420117},null,null,{"$f":"IF(OR(J377<(QUARTILE($J$2:$J$501,1))-1.5*(QUARTILE($J$2:$J$501,3)-QUARTILE($J$2:$J$501,1)),J377>(QUARTILE($J$2:$J$501,3))+1.5*(QUARTILE($J$2:$J$501,3)-QUARTILE($J$2:$J$501,1))),\"Outlier\")","v":false}]
[912455,"CIRCUIT CITY STORES DEAD - DELIST.28/09/11",5000,5300,5370,5379,0,0,{"$f":"(IF(IFERROR(G378/H378,\"\")<0,\"\",IFERROR(G378/H378,\"\")))","v":""},{"$f":"IF(COUNTIF($C$2:$C$501,C378)=1,\"\",IF(I378=\"\",\"\",ABS(IF(I378=\"\",0,(((H378*OFFSET($M$1,MATCH($C378,$L$2:$L$40,0),,)-G378)/G378))))))","v":""},{"$f":"IF(OR(J378<(QUARTILE($J$2:$J$501,1))-1.5*(QUARTILE($J$2:$J$501,3)-QUARTILE($J$2:$J$501,1)),J378>(QUARTILE($J$2:$J$501,3))+1.5*(QUARTILE($J$2:$J$501,3)-QUARTILE($J$2:$J$501,1))),\"\",J378)","v":""},null,null,{"$f":"IF(COUNTIF($D$2:$D$501,D378)=1,\"\",IF(I378=\"\",\"\",ABS(IF(I378=\"\",0,(((H378*OFFSET($P$1,MATCH($D378,$O$2:$O$40,0),,)-G378)/G378))))))","v":""},null,null,{"$f":"IFERROR(IF(COUNTIF($E$2:$E$501,E378)=1,\"\",IF(I378=\"\",\"\",ABS(IF(I378=\"\",0,(((H378*OFFSET($S$1,MATCH($E378,$R$2:$R$41,0),,)-G378)/G378)))))),\"\")","v":""},null,null,{"$f":"IFERROR(IF(COUNTIF($F$2:$F$501,F378)=1,\"\",IF(I378=\"\",\"\",ABS(IF(I378=\"\",0,(((H378*OFFSET($V$1,MATCH($F378,$U$2:$U$105,0),,)-G378)/G378)))))),\"\")","v":""},null,null,{"$f":"IF(OR(J378<(QUARTILE($J$2:$J$501,1))-1.5*(QUARTILE($J$2:$J$501,3)-QUARTILE($J$2:$J$501,1)),J378>(QUARTILE($J$2:$J$501,3))+1.5*(QUARTILE($J$2:$J$501,3)-QUARTILE($J$2:$J$501,1))),\"Outlier\")","v":"Outlier"}]
[912518,"PULTEGROUP",3000,3700,3720,3728,9.98,0,{"$f":"(IF(IFERROR(G379/H379,\"\")<0,\"\",IFERROR(G379/H379,\"\")))","v":""},{"$f":"IF(COUNTIF($C$2:$C$501,C379)=1,\"\",IF(I379=\"\",\"\",ABS(IF(I379=\"\",0,(((H379*OFFSET($M$1,MATCH($C379,$L$2:$L$40,0),,)-G379)/G379))))))","v":""},{"$f":"IF(OR(J379<(QUARTILE($J$2:$J$501,1))-1.5*(QUARTILE($J$2:$J$501,3)-QUARTILE($J$2:$J$501,1)),J379>(QUARTILE($J$2:$J$501,3))+1.5*(QUARTILE($J$2:$J$501,3)-QUARTILE($J$2:$J$501,1))),\"\",J379)","v":""},null,null,{"$f":"IF(COUNTIF($D$2:$D$501,D379)=1,\"\",IF(I379=\"\",\"\",ABS(IF(I379=\"\",0,(((H379*OFFSET($P$1,MATCH($D379,$O$2:$O$40,0),,)-G379)/G379))))))","v":""},null,null,{"$f":"IFERROR(IF(COUNTIF($E$2:$E$501,E379)=1,\"\",IF(I379=\"\",\"\",ABS(IF(I379=\"\",0,(((H379*OFFSET($S$1,MATCH($E379,$R$2:$R$41,0),,)-G379)/G379)))))),\"\")","v":""},null,null,{"$f":"IFERROR(IF(COUNTIF($F$2:$F$501,F379)=1,\"\",IF(I379=\"\",\"\",ABS(IF(I379=\"\",0,(((H379*OFFSET($V$1,MATCH($F379,$U$2:$U$105,0),,)-G379)/G379)))))),\"\")","v":""},null,null,{"$f":"IF(OR(J379<(QUARTILE($J$2:$J$501,1))-1.5*(QUARTILE($J$2:$J$501,3)-QUARTILE($J$2:$J$501,1)),J379>(QUARTILE($J$2:$J$501,3))+1.5*(QUARTILE($J$2:$J$501,3)-QUARTILE($J$2:$J$501,1))),\"Outlier\")","v":"Outlier"}]
[912568,"COOPER INDUSTRIES",2000,2700,2730,2733,66.400000000000006,3.95,{"$f":"(IF(IFERROR(G380/H380,\"\")<0,\"\",IFERROR(G380/H380,\"\")))","v":16.810126582278482},{"$f":"IF(COUNTIF($C$2:$C$501,C380)=1,\"\",IF(I380=\"\",\"\",ABS(IF(I380=\"\",0,(((H380*OFFSET($M$1,MATCH($C380,$L$2:$L$40,0),,)-G380)/G380))))))","v":0.13719680028836972},{"$f":"IF(OR(J380<(QUARTILE($J$2:$J$501,1))-1.5*(QUARTILE($J$2:$J$501,3)-QUARTILE($J$2:$J$501,1)),J380>(QUARTILE($J$2:$J$501,3))+1.5*(QUARTILE($J$2:$J$501,3)-QUARTILE($J$2:$J$501,1))),\"\",J380)","v":0.13719680028836972},null,null,{"$f":"IF(COUNTIF($D$2:$D$501,D380)=1,\"\",IF(I380=\"\",\"\",ABS(IF(I380=\"\",0,(((H380*OFFSET($P$1,MATCH($D380,$O$2:$O$40,0),,)-G380)/G380))))))","v":0.14822469146777403},null,null,{"$f":"IFERROR(IF(COUNTIF($E$2:$E$501,E380)=1,\"\",IF(I380=\"\",\"\",ABS(IF(I380=\"\",0,(((H380*OFFSET($S$1,MATCH($E380,$R$2:$R$41,0),,)-G380)/G380)))))),\"\")","v":2.5814745493279462E-2},null,null,{"$f":"IFERROR(IF(COUNTIF($F$2:$F$501,F380)=1,\"\",IF(I380=\"\",\"\",ABS(IF(I380=\"\",0,(((H380*OFFSET($V$1,MATCH($F380,$U$2:$U$105,0),,)-G380)/G380)))))),\"\")","v":2.7360971027605759E-2},null,null,{"$f":"IF(OR(J380<(QUARTILE($J$2:$J$501,1))-1.5*(QUARTILE($J$2:$J$501,3)-QUARTILE($J$2:$J$501,1)),J380>(QUARTILE($J$2:$J$501,3))+1.5*(QUARTILE($J$2:$J$501,3)-QUARTILE($J$2:$J$501,1))),\"Outlier\")","v":false}]
[912588,"HOST HOTELS & RESORTS",8000,8600,8670,8677,15.22,0,{"$f":"(IF(IFERROR(G381/H381,\"\")<0,\"\",IFERROR(G381/H381,\"\")))","v":""},{"$f":"IF(COUNTIF($C$2:$C$501,C381)=1,\"\",IF(I381=\"\",\"\",ABS(IF(I381=\"\",0,(((H381*OFFSET($M$1,MATCH($C381,$L$2:$L$40,0),,)-G381)/G381))))))","v":""},{"$f":"IF(OR(J381<(QUARTILE($J$2:$J$501,1))-1.5*(QUARTILE($J$2:$J$501,3)-QUARTILE($J$2:$J$501,1)),J381>(QUARTILE($J$2:$J$501,3))+1.5*(QUARTILE($J$2:$J$501,3)-QUARTILE($J$2:$J$501,1))),\"\",J381)","v":""},null,null,{"$f":"IF(COUNTIF($D$2:$D$501,D381)=1,\"\",IF(I381=\"\",\"\",ABS(IF(I381=\"\",0,(((H381*OFFSET($P$1,MATCH($D381,$O$2:$O$40,0),,)-G381)/G381))))))","v":""},null,null,{"$f":"IFERROR(IF(COUNTIF($E$2:$E$501,E381)=1,\"\",IF(I381=\"\",\"\",ABS(IF(I381=\"\",0,(((H381*OFFSET($S$1,MATCH($E381,$R$2:$R$41,0),,)-G381)/G381)))))),\"\")","v":""},null,null,{"$f":"IFERROR(IF(COUNTIF($F$2:$F$501,F381)=1,\"\",IF(I381=\"\",\"\",ABS(IF(I381=\"\",0,(((H381*OFFSET($V$1,MATCH($F381,$U$2:$U$105,0),,)-G381)/G381)))))),\"\")","v":""},null,null,{"$f":"IF(OR(J381<(QUARTILE($J$2:$J$501,1))-1.5*(QUARTILE($J$2:$J$501,3)-QUARTILE($J$2:$J$501,1)),J381>(QUARTILE($J$2:$J$501,3))+1.5*(QUARTILE($J$2:$J$501,3)-QUARTILE($J$2:$J$501,1))),\"Outlier\")","v":"Outlier"}]
[912633,"RAYTHEON 'B'",2000,2700,2710,2717,54.88,5.54,{"$f":"(IF(IFERROR(G382/H382,\"\")<0,\"\",IFERROR(G382/H382,\"\")))","v":9.9061371841155239},{"$f":"IF(COUNTIF($C$2:$C$501,C382)=1,\"\",IF(I382=\"\",\"\",ABS(IF(I382=\"\",0,(((H382*OFFSET($M$1,MATCH($C382,$L$2:$L$40,0),,)-G382)/G382))))))","v":0.4641257972890056},{"$f":"IF(OR(J382<(QUARTILE($J$2:$J$501,1))-1.5*(QUARTILE($J$2:$J$501,3)-QUARTILE($J$2:$J$501,1)),J382>(QUARTILE($J$2:$J$501,3))+1.5*(QUARTILE($J$2:$J$501,3)-QUARTILE($J$2:$J$501,1))),\"\",J382)","v":0.4641257972890056},null,null,{"$f":"IF(COUNTIF($D$2:$D$501,D382)=1,\"\",IF(I382=\"\",\"\",ABS(IF(I382=\"\",0,(((H382*OFFSET($P$1,MATCH($D382,$O$2:$O$40,0),,)-G382)/G382))))))","v":0.44541212078565207},null,null,{"$f":"IFERROR(IF(COUNTIF($E$2:$E$501,E382)=1,\"\",IF(I382=\"\",\"\",ABS(IF(I382=\"\",0,(((H382*OFFSET($S$1,MATCH($E382,$R$2:$R$41,0),,)-G382)/G382)))))),\"\")","v":0.14594836247201512},null,null,{"$f":"IFERROR(IF(COUNTIF($F$2:$F$501,F382)=1,\"\",IF(I382=\"\",\"\",ABS(IF(I382=\"\",0,(((H382*OFFSET($V$1,MATCH($F382,$U$2:$U$105,0),,)-G382)/G382)))))),\"\")","v":9.3322406017033011E-2},null,null,{"$f":"IF(OR(J382<(QUARTILE($J$2:$J$501,1))-1.5*(QUARTILE($J$2:$J$501,3)-QUARTILE($J$2:$J$501,1)),J382>(QUARTILE($J$2:$J$501,3))+1.5*(QUARTILE($J$2:$J$501,3)-QUARTILE($J$2:$J$501,1))),\"Outlier\")","v":false}]
[912744,"TERADYNE",9000,9500,9570,9576,13.44,1.38,{"$f":"(IF(IFERROR(G383/H383,\"\")<0,\"\",IFERROR(G383/H383,\"\")))","v":9.7391304347826093},{"$f":"IF(COUNTIF($C$2:$C$501,C383)=1,\"\",IF(I383=\"\",\"\",ABS(IF(I383=\"\",0,(((H383*OFFSET($M$1,MATCH($C383,$L$2:$L$40,0),,)-G383)/G383))))))","v":0.34426964847420383},{"$f":"IF(OR(J383<(QUARTILE($J$2:$J$501,1))-1.5*(QUARTILE($J$2:$J$501,3)-QUARTILE($J$2:$J$501,1)),J383>(QUARTILE($J$2:$J$501,3))+1.5*(QUARTILE($J$2:$J$501,3)-QUARTILE($J$2:$J$501,1))),\"\",J383)","v":0.34426964847420383},null,null,{"$f":"IF(COUNTIF($D$2:$D$501,D383)=1,\"\",IF(I383=\"\",\"\",ABS(IF(I383=\"\",0,(((H383*OFFSET($P$1,MATCH($D383,$O$2:$O$40,0),,)-G383)/G383))))))","v":0.34426964847420383},null,null,{"$f":"IFERROR(IF(COUNTIF($E$2:$E$501,E383)=1,\"\",IF(I383=\"\",\"\",ABS(IF(I383=\"\",0,(((H383*OFFSET($S$1,MATCH($E383,$R$2:$R$41,0),,)-G383)/G383)))))),\"\")","v":0.28850023255006613},null,null,{"$f":"IFERROR(IF(COUNTIF($F$2:$F$501,F383)=1,\"\",IF(I383=\"\",\"\",ABS(IF(I383=\"\",0,(((H383*OFFSET($V$1,MATCH($F383,$U$2:$U$105,0),,)-G383)/G383)))))),\"\")","v":0.42631004197865441},null,null,{"$f":"IF(OR(J383<(QUARTILE($J$2:$J$501,1))-1.5*(QUARTILE($J$2:$J$501,3)-QUARTILE($J$2:$J$501,1)),J383>(QUARTILE($J$2:$J$501,3))+1.5*(QUARTILE($J$2:$J$501,3)-QUARTILE($J$2:$J$501,1))),\"Outlier\")","v":false}]
[912781,"PENNEY JC",5000,5300,5370,5373,22.46,0,{"$f":"(IF(IFERROR(G384/H384,\"\")<0,\"\",IFERROR(G384/H384,\"\")))","v":""},{"$f":"IF(COUNTIF($C$2:$C$501,C384)=1,\"\",IF(I384=\"\",\"\",ABS(IF(I384=\"\",0,(((H384*OFFSET($M$1,MATCH($C384,$L$2:$L$40,0),,)-G384)/G384))))))","v":""},{"$f":"IF(OR(J384<(QUARTILE($J$2:$J$501,1))-1.5*(QUARTILE($J$2:$J$501,3)-QUARTILE($J$2:$J$501,1)),J384>(QUARTILE($J$2:$J$501,3))+1.5*(QUARTILE($J$2:$J$501,3)-QUARTILE($J$2:$J$501,1))),\"\",J384)","v":""},null,null,{"$f":"IF(COUNTIF($D$2:$D$501,D384)=1,\"\",IF(I384=\"\",\"\",ABS(IF(I384=\"\",0,(((H384*OFFSET($P$1,MATCH($D384,$O$2:$O$40,0),,)-G384)/G384))))))","v":""},null,null,{"$f":"IFERROR(IF(COUNTIF($E$2:$E$501,E384)=1,\"\",IF(I384=\"\",\"\",ABS(IF(I384=\"\",0,(((H384*OFFSET($S$1,MATCH($E384,$R$2:$R$41,0),,)-G384)/G384)))))),\"\")","v":""},null,null,{"$f":"IFERROR(IF(COUNTIF($F$2:$F$501,F384)=1,\"\",IF(I384=\"\",\"\",ABS(IF(I384=\"\",0,(((H384*OFFSET($V$1,MATCH($F384,$U$2:$U$105,0),,)-G384)/G384)))))),\"\")","v":""},null,null,{"$f":"IF(OR(J384<(QUARTILE($J$2:$J$501,1))-1.5*(QUARTILE($J$2:$J$501,3)-QUARTILE($J$2:$J$501,1)),J384>(QUARTILE($J$2:$J$501,3))+1.5*(QUARTILE($J$2:$J$501,3)-QUARTILE($J$2:$J$501,1))),\"Outlier\")","v":"Outlier"}]
[912811,"MATTEL",3000,3700,3740,3747,31.81,2.16,{"$f":"(IF(IFERROR(G385/H385,\"\")<0,\"\",IFERROR(G385/H385,\"\")))","v":14.726851851851849},{"$f":"IF(COUNTIF($C$2:$C$501,C385)=1,\"\",IF(I385=\"\",\"\",ABS(IF(I385=\"\",0,(((H385*OFFSET($M$1,MATCH($C385,$L$2:$L$40,0),,)-G385)/G385))))))","v":8.5784271128022574E-2},{"$f":"IF(OR(J385<(QUARTILE($J$2:$J$501,1))-1.5*(QUARTILE($J$2:$J$501,3)-QUARTILE($J$2:$J$501,1)),J385>(QUARTILE($J$2:$J$501,3))+1.5*(QUARTILE($J$2:$J$501,3)-QUARTILE($J$2:$J$501,1))),\"\",J385)","v":8.5784271128022574E-2},null,null,{"$f":"IF(COUNTIF($D$2:$D$501,D385)=1,\"\",IF(I385=\"\",\"\",ABS(IF(I385=\"\",0,(((H385*OFFSET($P$1,MATCH($D385,$O$2:$O$40,0),,)-G385)/G385))))))","v":0.30924040090269211},null,null,{"$f":"IFERROR(IF(COUNTIF($E$2:$E$501,E385)=1,\"\",IF(I385=\"\",\"\",ABS(IF(I385=\"\",0,(((H385*OFFSET($S$1,MATCH($E385,$R$2:$R$41,0),,)-G385)/G385)))))),\"\")","v":6.0108279813336614E-2},null,null,{"$f":"IFERROR(IF(COUNTIF($F$2:$F$501,F385)=1,\"\",IF(I385=\"\",\"\",ABS(IF(I385=\"\",0,(((H385*OFFSET($V$1,MATCH($F385,$U$2:$U$105,0),,)-G385)/G385)))))),\"\")","v":""},null,null,{"$f":"IF(OR(J385<(QUARTILE($J$2:$J$501,1))-1.5*(QUARTILE($J$2:$J$501,3)-QUARTILE($J$2:$J$501,1)),J385>(QUARTILE($J$2:$J$501,3))+1.5*(QUARTILE($J$2:$J$501,3)-QUARTILE($J$2:$J$501,1))),\"Outlier\")","v":false}]
[912856,"MILLIPORE DEAD - DELIST.15/07/10",4000,4500,4530,4535,106.95,3.2,{"$f":"(IF(IFERROR(G386/H386,\"\")<0,\"\",IFERROR(G386/H386,\"\")))","v":33.421875},{"$f":"IF(COUNTIF($C$2:$C$501,C386)=1,\"\",IF(I386=\"\",\"\",ABS(IF(I386=\"\",0,(((H386*OFFSET($M$1,MATCH($C386,$L$2:$L$40,0),,)-G386)/G386))))))","v":0.49357143264193082},{"$f":"IF(OR(J386<(QUARTILE($J$2:$J$501,1))-1.5*(QUARTILE($J$2:$J$501,3)-QUARTILE($J$2:$J$501,1)),J386>(QUARTILE($J$2:$J$501,3))+1.5*(QUARTILE($J$2:$J$501,3)-QUARTILE($J$2:$J$501,1))),\"\",J386)","v":0.49357143264193082},null,null,{"$f":"IF(COUNTIF($D$2:$D$501,D386)=1,\"\",IF(I386=\"\",\"\",ABS(IF(I386=\"\",0,(((H386*OFFSET($P$1,MATCH($D386,$O$2:$O$40,0),,)-G386)/G386))))))","v":0.49357143264193082},null,null,{"$f":"IFERROR(IF(COUNTIF($E$2:$E$501,E386)=1,\"\",IF(I386=\"\",\"\",ABS(IF(I386=\"\",0,(((H386*OFFSET($S$1,MATCH($E386,$R$2:$R$41,0),,)-G386)/G386)))))),\"\")","v":0.54228517784544161},null,null,{"$f":"IFERROR(IF(COUNTIF($F$2:$F$501,F386)=1,\"\",IF(I386=\"\",\"\",ABS(IF(I386=\"\",0,(((H386*OFFSET($V$1,MATCH($F386,$U$2:$U$105,0),,)-G386)/G386)))))),\"\")","v":0.48948410195979081},null,null,{"$f":"IF(OR(J386<(QUARTILE($J$2:$J$501,1))-1.5*(QUARTILE($J$2:$J$501,3)-QUARTILE($J$2:$J$501,1)),J386>(QUARTILE($J$2:$J$501,3))+1.5*(QUARTILE($J$2:$J$501,3)-QUARTILE($J$2:$J$501,1))),\"Outlier\")","v":false}]
[912941,"DANAHER",2000,2700,2720,2727,49.93,2.92,{"$f":"(IF(IFERROR(G387/H387,\"\")<0,\"\",IFERROR(G387/H387,\"\")))","v":17.099315068493151},{"$f":"IF(COUNTIF($C$2:$C$501,C387)=1,\"\",IF(I387=\"\",\"\",ABS(IF(I387=\"\",0,(((H387*OFFSET($M$1,MATCH($C387,$L$2:$L$40,0),,)-G387)/G387))))))","v":0.15178877372276339},{"$f":"IF(OR(J387<(QUARTILE($J$2:$J$501,1))-1.5*(QUARTILE($J$2:$J$501,3)-QUARTILE($J$2:$J$501,1)),J387>(QUARTILE($J$2:$J$501,3))+1.5*(QUARTILE($J$2:$J$501,3)-QUARTILE($J$2:$J$501,1))),\"\",J387)","v":0.15178877372276339},null,null,{"$f":"IF(COUNTIF($D$2:$D$501,D387)=1,\"\",IF(I387=\"\",\"\",ABS(IF(I387=\"\",0,(((H387*OFFSET($P$1,MATCH($D387,$O$2:$O$40,0),,)-G387)/G387))))))","v":0.16263015806586828},null,null,{"$f":"IFERROR(IF(COUNTIF($E$2:$E$501,E387)=1,\"\",IF(I387=\"\",\"\",ABS(IF(I387=\"\",0,(((H387*OFFSET($S$1,MATCH($E387,$R$2:$R$41,0),,)-G387)/G387)))))),\"\")","v":5.8935638573342296E-2},null,null,{"$f":"IFERROR(IF(COUNTIF($F$2:$F$501,F387)=1,\"\",IF(I387=\"\",\"\",ABS(IF(I387=\"\",0,(((H387*OFFSET($V$1,MATCH($F387,$U$2:$U$105,0),,)-G387)/G387)))))),\"\")","v":9.3568223427586736E-2},null,null,{"$f":"IF(OR(J387<(QUARTILE($J$2:$J$501,1))-1.5*(QUARTILE($J$2:$J$501,3)-QUARTILE($J$2:$J$501,1)),J387>(QUARTILE($J$2:$J$501,3))+1.5*(QUARTILE($J$2:$J$501,3)-QUARTILE($J$2:$J$501,1))),\"Outlier\")","v":false}]
[912969,"TENET HLTHCR.",4000,4500,4530,4533,5.25,0.08,{"$f":"(IF(IFERROR(G388/H388,\"\")<0,\"\",IFERROR(G388/H388,\"\")))","v":65.625},{"$f":"IF(COUNTIF($C$2:$C$501,C388)=1,\"\",IF(I388=\"\",\"\",ABS(IF(I388=\"\",0,(((H388*OFFSET($M$1,MATCH($C388,$L$2:$L$40,0),,)-G388)/G388))))))","v":0.74208316533835472},{"$f":"IF(OR(J388<(QUARTILE($J$2:$J$501,1))-1.5*(QUARTILE($J$2:$J$501,3)-QUARTILE($J$2:$J$501,1)),J388>(QUARTILE($J$2:$J$501,3))+1.5*(QUARTILE($J$2:$J$501,3)-QUARTILE($J$2:$J$501,1))),\"\",J388)","v":0.74208316533835472},null,null,{"$f":"IF(COUNTIF($D$2:$D$501,D388)=1,\"\",IF(I388=\"\",\"\",ABS(IF(I388=\"\",0,(((H388*OFFSET($P$1,MATCH($D388,$O$2:$O$40,0),,)-G388)/G388))))))","v":0.74208316533835472},null,null,{"$f":"IFERROR(IF(COUNTIF($E$2:$E$501,E388)=1,\"\",IF(I388=\"\",\"\",ABS(IF(I388=\"\",0,(((H388*OFFSET($S$1,MATCH($E388,$R$2:$R$41,0),,)-G388)/G388)))))),\"\")","v":0.76689237985985703},null,null,{"$f":"IFERROR(IF(COUNTIF($F$2:$F$501,F388)=1,\"\",IF(I388=\"\",\"\",ABS(IF(I388=\"\",0,(((H388*OFFSET($V$1,MATCH($F388,$U$2:$U$105,0),,)-G388)/G388)))))),\"\")","v":0.80267696039182501},null,null,{"$f":"IF(OR(J388<(QUARTILE($J$2:$J$501,1))-1.5*(QUARTILE($J$2:$J$501,3)-QUARTILE($J$2:$J$501,1)),J388>(QUARTILE($J$2:$J$501,3))+1.5*(QUARTILE($J$2:$J$501,3)-QUARTILE($J$2:$J$501,1))),\"Outlier\")","v":false}]
[916028,"SAFECO DEAD - DELIST.03/10/08",8000,8500,8530,8536,68.209999999999994,6.74,{"$f":"(IF(IFERROR(G389/H389,\"\")<0,\"\",IFERROR(G389/H389,\"\")))","v":10.120178041543026},{"$f":"IF(COUNTIF($C$2:$C$501,C389)=1,\"\",IF(I389=\"\",\"\",ABS(IF(I389=\"\",0,(((H389*OFFSET($M$1,MATCH($C389,$L$2:$L$40,0),,)-G389)/G389))))))","v":0.31428429869273394},{"$f":"IF(OR(J389<(QUARTILE($J$2:$J$501,1))-1.5*(QUARTILE($J$2:$J$501,3)-QUARTILE($J$2:$J$501,1)),J389>(QUARTILE($J$2:$J$501,3))+1.5*(QUARTILE($J$2:$J$501,3)-QUARTILE($J$2:$J$501,1))),\"\",J389)","v":0.31428429869273394},null,null,{"$f":"IF(COUNTIF($D$2:$D$501,D389)=1,\"\",IF(I389=\"\",\"\",ABS(IF(I389=\"\",0,(((H389*OFFSET($P$1,MATCH($D389,$O$2:$O$40,0),,)-G389)/G389))))))","v":6.3505219164834689E-2},null,null,{"$f":"IFERROR(IF(COUNTIF($E$2:$E$501,E389)=1,\"\",IF(I389=\"\",\"\",ABS(IF(I389=\"\",0,(((H389*OFFSET($S$1,MATCH($E389,$R$2:$R$41,0),,)-G389)/G389)))))),\"\")","v":9.3018574200656082E-2},null,null,{"$f":"IFERROR(IF(COUNTIF($F$2:$F$501,F389)=1,\"\",IF(I389=\"\",\"\",ABS(IF(I389=\"\",0,(((H389*OFFSET($V$1,MATCH($F389,$U$2:$U$105,0),,)-G389)/G389)))))),\"\")","v":0.41886905314930184},null,null,{"$f":"IF(OR(J389<(QUARTILE($J$2:$J$501,1))-1.5*(QUARTILE($J$2:$J$501,3)-QUARTILE($J$2:$J$501,1)),J389>(QUARTILE($J$2:$J$501,3))+1.5*(QUARTILE($J$2:$J$501,3)-QUARTILE($J$2:$J$501,1))),\"Outlier\")","v":false}]
[916036,"COUNTRYWIDE FINL. DEAD - DELIST.11/07/08",8000,8700,8770,8779,4.25,0,{"$f":"(IF(IFERROR(G390/H390,\"\")<0,\"\",IFERROR(G390/H390,\"\")))","v":""},{"$f":"IF(COUNTIF($C$2:$C$501,C390)=1,\"\",IF(I390=\"\",\"\",ABS(IF(I390=\"\",0,(((H390*OFFSET($M$1,MATCH($C390,$L$2:$L$40,0),,)-G390)/G390))))))","v":""},{"$f":"IF(OR(J390<(QUARTILE($J$2:$J$501,1))-1.5*(QUARTILE($J$2:$J$501,3)-QUARTILE($J$2:$J$501,1)),J390>(QUARTILE($J$2:$J$501,3))+1.5*(QUARTILE($J$2:$J$501,3)-QUARTILE($J$2:$J$501,1))),\"\",J390)","v":""},null,null,{"$f":"IF(COUNTIF($D$2:$D$501,D390)=1,\"\",IF(I390=\"\",\"\",ABS(IF(I390=\"\",0,(((H390*OFFSET($P$1,MATCH($D390,$O$2:$O$40,0),,)-G390)/G390))))))","v":""},null,null,{"$f":"IFERROR(IF(COUNTIF($E$2:$E$501,E390)=1,\"\",IF(I390=\"\",\"\",ABS(IF(I390=\"\",0,(((H390*OFFSET($S$1,MATCH($E390,$R$2:$R$41,0),,)-G390)/G390)))))),\"\")","v":""},null,null,{"$f":"IFERROR(IF(COUNTIF($F$2:$F$501,F390)=1,\"\",IF(I390=\"\",\"\",ABS(IF(I390=\"\",0,(((H390*OFFSET($V$1,MATCH($F390,$U$2:$U$105,0),,)-G390)/G390)))))),\"\")","v":""},null,null,{"$f":"IF(OR(J390<(QUARTILE($J$2:$J$501,1))-1.5*(QUARTILE($J$2:$J$501,3)-QUARTILE($J$2:$J$501,1)),J390>(QUARTILE($J$2:$J$501,3))+1.5*(QUARTILE($J$2:$J$501,3)-QUARTILE($J$2:$J$501,1))),\"Outlier\")","v":"Outlier"}]
[916079,"SYSCO",5000,5300,5330,5337,29.32,1.95,{"$f":"(IF(IFERROR(G391/H391,\"\")<0,\"\",IFERROR(G391/H391,\"\")))","v":15.035897435897436},{"$f":"IF(COUNTIF($C$2:$C$501,C391)=1,\"\",IF(I391=\"\",\"\",ABS(IF(I391=\"\",0,(((H391*OFFSET($M$1,MATCH($C391,$L$2:$L$40,0),,)-G391)/G391))))))","v":4.8857378099904224E-2},{"$f":"IF(OR(J391<(QUARTILE($J$2:$J$501,1))-1.5*(QUARTILE($J$2:$J$501,3)-QUARTILE($J$2:$J$501,1)),J391>(QUARTILE($J$2:$J$501,3))+1.5*(QUARTILE($J$2:$J$501,3)-QUARTILE($J$2:$J$501,1))),\"\",J391)","v":4.8857378099904224E-2},null,null,{"$f":"IF(COUNTIF($D$2:$D$501,D391)=1,\"\",IF(I391=\"\",\"\",ABS(IF(I391=\"\",0,(((H391*OFFSET($P$1,MATCH($D391,$O$2:$O$40,0),,)-G391)/G391))))))","v":3.0887857919531653E-2},null,null,{"$f":"IFERROR(IF(COUNTIF($E$2:$E$501,E391)=1,\"\",IF(I391=\"\",\"\",ABS(IF(I391=\"\",0,(((H391*OFFSET($S$1,MATCH($E391,$R$2:$R$41,0),,)-G391)/G391)))))),\"\")","v":2.1989111164511722E-2},null,null," ",null,null,{"$f":"IF(OR(J391<(QUARTILE($J$2:$J$501,1))-1.5*(QUARTILE($J$2:$J$501,3)-QUARTILE($J$2:$J$501,1)),J391>(QUARTILE($J$2:$J$501,3))+1.5*(QUARTILE($J$2:$J$501,3)-QUARTILE($J$2:$J$501,1))),\"Outlier\")","v":false}]
[916091,"COMPUTER SCIS.",9000,9500,9530,9533,23.76,0,{"$f":"(IF(IFERROR(G392/H392,\"\")<0,\"\",IFERROR(G392/H392,\"\")))","v":""},{"$f":"IF(COUNTIF($C$2:$C$501,C392)=1,\"\",IF(I392=\"\",\"\",ABS(IF(I392=\"\",0,(((H392*OFFSET($M$1,MATCH($C392,$L$2:$L$40,0),,)-G392)/G392))))))","v":""},{"$f":"IF(OR(J392<(QUARTILE($J$2:$J$501,1))-1.5*(QUARTILE($J$2:$J$501,3)-QUARTILE($J$2:$J$501,1)),J392>(QUARTILE($J$2:$J$501,3))+1.5*(QUARTILE($J$2:$J$501,3)-QUARTILE($J$2:$J$501,1))),\"\",J392)","v":""},null,null,{"$f":"IF(COUNTIF($D$2:$D$501,D392)=1,\"\",IF(I392=\"\",\"\",ABS(IF(I392=\"\",0,(((H392*OFFSET($P$1,MATCH($D392,$O$2:$O$40,0),,)-G392)/G392))))))","v":""},null,null,{"$f":"IFERROR(IF(COUNTIF($E$2:$E$501,E392)=1,\"\",IF(I392=\"\",\"\",ABS(IF(I392=\"\",0,(((H392*OFFSET($S$1,MATCH($E392,$R$2:$R$41,0),,)-G392)/G392)))))),\"\")","v":""},null,null,{"$f":"IFERROR(IF(COUNTIF($F$2:$F$501,F392)=1,\"\",IF(I392=\"\",\"\",ABS(IF(I392=\"\",0,(((H392*OFFSET($V$1,MATCH($F392,$U$2:$U$105,0),,)-G392)/G392)))))),\"\")","v":""},null,null,{"$f":"IF(OR(J392<(QUARTILE($J$2:$J$501,1))-1.5*(QUARTILE($J$2:$J$501,3)-QUARTILE($J$2:$J$501,1)),J392>(QUARTILE($J$2:$J$501,3))+1.5*(QUARTILE($J$2:$J$501,3)-QUARTILE($J$2:$J$501,1))),\"Outlier\")","v":"Outlier"}]
[916125,"CLOROX",3000,3700,3720,3724,71.88,4,{"$f":"(IF(IFERROR(G393/H393,\"\")<0,\"\",IFERROR(G393/H393,\"\")))","v":17.97},{"$f":"IF(COUNTIF($C$2:$C$501,C393)=1,\"\",IF(I393=\"\",\"\",ABS(IF(I393=\"\",0,(((H393*OFFSET($M$1,MATCH($C393,$L$2:$L$40,0),,)-G393)/G393))))))","v":0.11017339432535708},{"$f":"IF(OR(J393<(QUARTILE($J$2:$J$501,1))-1.5*(QUARTILE($J$2:$J$501,3)-QUARTILE($J$2:$J$501,1)),J393>(QUARTILE($J$2:$J$501,3))+1.5*(QUARTILE($J$2:$J$501,3)-QUARTILE($J$2:$J$501,1))),\"\",J393)","v":0.11017339432535708},null,null,{"$f":"IF(COUNTIF($D$2:$D$501,D393)=1,\"\",IF(I393=\"\",\"\",ABS(IF(I393=\"\",0,(((H393*OFFSET($P$1,MATCH($D393,$O$2:$O$40,0),,)-G393)/G393))))))","v":7.2954336257822536E-2},null,null,{"$f":"IFERROR(IF(COUNTIF($E$2:$E$501,E393)=1,\"\",IF(I393=\"\",\"\",ABS(IF(I393=\"\",0,(((H393*OFFSET($S$1,MATCH($E393,$R$2:$R$41,0),,)-G393)/G393)))))),\"\")","v":0.18970767946588629},null,null,{"$f":"IFERROR(IF(COUNTIF($F$2:$F$501,F393)=1,\"\",IF(I393=\"\",\"\",ABS(IF(I393=\"\",0,(((H393*OFFSET($V$1,MATCH($F393,$U$2:$U$105,0),,)-G393)/G393)))))),\"\")","v":""},null,null,{"$f":"IF(OR(J393<(QUARTILE($J$2:$J$501,1))-1.5*(QUARTILE($J$2:$J$501,3)-QUARTILE($J$2:$J$501,1)),J393>(QUARTILE($J$2:$J$501,3))+1.5*(QUARTILE($J$2:$J$501,3)-QUARTILE($J$2:$J$501,1))),\"Outlier\")","v":false}]
[916130,"KEYCORP",8000,8300,8350,8355,7.54,0.87,{"$f":"(IF(IFERROR(G394/H394,\"\")<0,\"\",IFERROR(G394/H394,\"\")))","v":8.6666666666666661},{"$f":"IF(COUNTIF($C$2:$C$501,C394)=1,\"\",IF(I394=\"\",\"\",ABS(IF(I394=\"\",0,(((H394*OFFSET($M$1,MATCH($C394,$L$2:$L$40,0),,)-G394)/G394))))))","v":0.53470666538172862},{"$f":"IF(OR(J394<(QUARTILE($J$2:$J$501,1))-1.5*(QUARTILE($J$2:$J$501,3)-QUARTILE($J$2:$J$501,1)),J394>(QUARTILE($J$2:$J$501,3))+1.5*(QUARTILE($J$2:$J$501,3)-QUARTILE($J$2:$J$501,1))),\"\",J394)","v":0.53470666538172862},null,null,{"$f":"IF(COUNTIF($D$2:$D$501,D394)=1,\"\",IF(I394=\"\",\"\",ABS(IF(I394=\"\",0,(((H394*OFFSET($P$1,MATCH($D394,$O$2:$O$40,0),,)-G394)/G394))))))","v":0.40439818838933661},null,null,{"$f":"IFERROR(IF(COUNTIF($E$2:$E$501,E394)=1,\"\",IF(I394=\"\",\"\",ABS(IF(I394=\"\",0,(((H394*OFFSET($S$1,MATCH($E394,$R$2:$R$41,0),,)-G394)/G394)))))),\"\")","v":0.40439818838933661},null,null,{"$f":"IFERROR(IF(COUNTIF($F$2:$F$501,F394)=1,\"\",IF(I394=\"\",\"\",ABS(IF(I394=\"\",0,(((H394*OFFSET($V$1,MATCH($F394,$U$2:$U$105,0),,)-G394)/G394)))))),\"\")","v":0.40439818838933661},null,null,{"$f":"IF(OR(J394<(QUARTILE($J$2:$J$501,1))-1.5*(QUARTILE($J$2:$J$501,3)-QUARTILE($J$2:$J$501,1)),J394>(QUARTILE($J$2:$J$501,3))+1.5*(QUARTILE($J$2:$J$501,3)-QUARTILE($J$2:$J$501,1))),\"Outlier\")","v":false}]
[916209,"HILTON HOTELS DEAD - MERGER",5000,5700,5750,5757,47.48,1.29,{"$f":"(IF(IFERROR(G395/H395,\"\")<0,\"\",IFERROR(G395/H395,\"\")))","v":36.806201550387591},{"$f":"IF(COUNTIF($C$2:$C$501,C395)=1,\"\",IF(I395=\"\",\"\",ABS(IF(I395=\"\",0,(((H395*OFFSET($M$1,MATCH($C395,$L$2:$L$40,0),,)-G395)/G395))))))","v":0.57152568595255149},{"$f":"IF(OR(J395<(QUARTILE($J$2:$J$501,1))-1.5*(QUARTILE($J$2:$J$501,3)-QUARTILE($J$2:$J$501,1)),J395>(QUARTILE($J$2:$J$501,3))+1.5*(QUARTILE($J$2:$J$501,3)-QUARTILE($J$2:$J$501,1))),\"\",J395)","v":0.57152568595255149},null,null,{"$f":"IF(COUNTIF($D$2:$D$501,D395)=1,\"\",IF(I395=\"\",\"\",ABS(IF(I395=\"\",0,(((H395*OFFSET($P$1,MATCH($D395,$O$2:$O$40,0),,)-G395)/G395))))))","v":0.40502006466214086},null,null,{"$f":"IFERROR(IF(COUNTIF($E$2:$E$501,E395)=1,\"\",IF(I395=\"\",\"\",ABS(IF(I395=\"\",0,(((H395*OFFSET($S$1,MATCH($E395,$R$2:$R$41,0),,)-G395)/G395)))))),\"\")","v":0.40502006466214086},null,null,{"$f":"IFERROR(IF(COUNTIF($F$2:$F$501,F395)=1,\"\",IF(I395=\"\",\"\",ABS(IF(I395=\"\",0,(((H395*OFFSET($V$1,MATCH($F395,$U$2:$U$105,0),,)-G395)/G395)))))),\"\")","v":0.42216590040466317},null,null,{"$f":"IF(OR(J395<(QUARTILE($J$2:$J$501,1))-1.5*(QUARTILE($J$2:$J$501,3)-QUARTILE($J$2:$J$501,1)),J395>(QUARTILE($J$2:$J$501,3))+1.5*(QUARTILE($J$2:$J$501,3)-QUARTILE($J$2:$J$501,1))),\"Outlier\")","v":false}]
[916312,"RADIOSHACK",5000,5300,5370,5379,3.85,0.28000000000000003,{"$f":"(IF(IFERROR(G396/H396,\"\")<0,\"\",IFERROR(G396/H396,\"\")))","v":13.749999999999998},{"$f":"IF(COUNTIF($C$2:$C$501,C396)=1,\"\",IF(I396=\"\",\"\",ABS(IF(I396=\"\",0,(((H396*OFFSET($M$1,MATCH($C396,$L$2:$L$40,0),,)-G396)/G396))))))","v":0.14694632450868797},{"$f":"IF(OR(J396<(QUARTILE($J$2:$J$501,1))-1.5*(QUARTILE($J$2:$J$501,3)-QUARTILE($J$2:$J$501,1)),J396>(QUARTILE($J$2:$J$501,3))+1.5*(QUARTILE($J$2:$J$501,3)-QUARTILE($J$2:$J$501,1))),\"\",J396)","v":0.14694632450868797},null,null,{"$f":"IF(COUNTIF($D$2:$D$501,D396)=1,\"\",IF(I396=\"\",\"\",ABS(IF(I396=\"\",0,(((H396*OFFSET($P$1,MATCH($D396,$O$2:$O$40,0),,)-G396)/G396))))))","v":5.9743328887620926E-2},null,null,{"$f":"IFERROR(IF(COUNTIF($E$2:$E$501,E396)=1,\"\",IF(I396=\"\",\"\",ABS(IF(I396=\"\",0,(((H396*OFFSET($S$1,MATCH($E396,$R$2:$R$41,0),,)-G396)/G396)))))),\"\")","v":4.2407591147248937E-2},null,null,{"$f":"IFERROR(IF(COUNTIF($F$2:$F$501,F396)=1,\"\",IF(I396=\"\",\"\",ABS(IF(I396=\"\",0,(((H396*OFFSET($V$1,MATCH($F396,$U$2:$U$105,0),,)-G396)/G396)))))),\"\")","v":0.10029921083485661},null,null,{"$f":"IF(OR(J396<(QUARTILE($J$2:$J$501,1))-1.5*(QUARTILE($J$2:$J$501,3)-QUARTILE($J$2:$J$501,1)),J396>(QUARTILE($J$2:$J$501,3))+1.5*(QUARTILE($J$2:$J$501,3)-QUARTILE($J$2:$J$501,1))),\"Outlier\")","v":false}]
[916532,"NABORS INDS.",1,500,570,573,13.84,1.01,{"$f":"(IF(IFERROR(G397/H397,\"\")<0,\"\",IFERROR(G397/H397,\"\")))","v":13.702970297029703},{"$f":"IF(COUNTIF($C$2:$C$501,C397)=1,\"\",IF(I397=\"\",\"\",ABS(IF(I397=\"\",0,(((H397*OFFSET($M$1,MATCH($C397,$L$2:$L$40,0),,)-G397)/G397))))))","v":0.32331271170833942},{"$f":"IF(OR(J397<(QUARTILE($J$2:$J$501,1))-1.5*(QUARTILE($J$2:$J$501,3)-QUARTILE($J$2:$J$501,1)),J397>(QUARTILE($J$2:$J$501,3))+1.5*(QUARTILE($J$2:$J$501,3)-QUARTILE($J$2:$J$501,1))),\"\",J397)","v":0.32331271170833942},null,null,{"$f":"IF(COUNTIF($D$2:$D$501,D397)=1,\"\",IF(I397=\"\",\"\",ABS(IF(I397=\"\",0,(((H397*OFFSET($P$1,MATCH($D397,$O$2:$O$40,0),,)-G397)/G397))))))","v":0.32331271170833942},null,null,{"$f":"IFERROR(IF(COUNTIF($E$2:$E$501,E397)=1,\"\",IF(I397=\"\",\"\",ABS(IF(I397=\"\",0,(((H397*OFFSET($S$1,MATCH($E397,$R$2:$R$41,0),,)-G397)/G397)))))),\"\")","v":0.24523255680763786},null,null,{"$f":"IFERROR(IF(COUNTIF($F$2:$F$501,F397)=1,\"\",IF(I397=\"\",\"\",ABS(IF(I397=\"\",0,(((H397*OFFSET($V$1,MATCH($F397,$U$2:$U$105,0),,)-G397)/G397)))))),\"\")","v":0.34280055503045753},null,null,{"$f":"IF(OR(J397<(QUARTILE($J$2:$J$501,1))-1.5*(QUARTILE($J$2:$J$501,3)-QUARTILE($J$2:$J$501,1)),J397>(QUARTILE($J$2:$J$501,3))+1.5*(QUARTILE($J$2:$J$501,3)-QUARTILE($J$2:$J$501,1))),\"Outlier\")","v":false}]
[916548,"WAL MART STORES",5000,5300,5370,5373,68.3,4.6399999999999997,{"$f":"(IF(IFERROR(G398/H398,\"\")<0,\"\",IFERROR(G398/H398,\"\")))","v":14.719827586206897},{"$f":"IF(COUNTIF($C$2:$C$501,C398)=1,\"\",IF(I398=\"\",\"\",ABS(IF(I398=\"\",0,(((H398*OFFSET($M$1,MATCH($C398,$L$2:$L$40,0),,)-G398)/G398))))))","v":7.1378850712361497E-2},{"$f":"IF(OR(J398<(QUARTILE($J$2:$J$501,1))-1.5*(QUARTILE($J$2:$J$501,3)-QUARTILE($J$2:$J$501,1)),J398>(QUARTILE($J$2:$J$501,3))+1.5*(QUARTILE($J$2:$J$501,3)-QUARTILE($J$2:$J$501,1))),\"\",J398)","v":7.1378850712361497E-2},null,null,{"$f":"IF(COUNTIF($D$2:$D$501,D398)=1,\"\",IF(I398=\"\",\"\",ABS(IF(I398=\"\",0,(((H398*OFFSET($P$1,MATCH($D398,$O$2:$O$40,0),,)-G398)/G398))))))","v":1.0078705958562126E-2},null,null,{"$f":"IFERROR(IF(COUNTIF($E$2:$E$501,E398)=1,\"\",IF(I398=\"\",\"\",ABS(IF(I398=\"\",0,(((H398*OFFSET($S$1,MATCH($E398,$R$2:$R$41,0),,)-G398)/G398)))))),\"\")","v":2.6272264784854123E-2},null,null,{"$f":"IFERROR(IF(COUNTIF($F$2:$F$501,F398)=1,\"\",IF(I398=\"\",\"\",ABS(IF(I398=\"\",0,(((H398*OFFSET($V$1,MATCH($F398,$U$2:$U$105,0),,)-G398)/G398)))))),\"\")","v":0.2943465854182637},null,null,{"$f":"IF(OR(J398<(QUARTILE($J$2:$J$501,1))-1.5*(QUARTILE($J$2:$J$501,3)-QUARTILE($J$2:$J$501,1)),J398>(QUARTILE($J$2:$J$501,3))+1.5*(QUARTILE($J$2:$J$501,3)-QUARTILE($J$2:$J$501,1))),\"Outlier\")","v":false}]
[916631,"NATIONAL CITY DEAD - DELIST.12/01/09",8000,8300,8350,8355,1.81,0,{"$f":"(IF(IFERROR(G399/H399,\"\")<0,\"\",IFERROR(G399/H399,\"\")))","v":""},{"$f":"IF(COUNTIF($C$2:$C$501,C399)=1,\"\",IF(I399=\"\",\"\",ABS(IF(I399=\"\",0,(((H399*OFFSET($M$1,MATCH($C399,$L$2:$L$40,0),,)-G399)/G399))))))","v":""},{"$f":"IF(OR(J399<(QUARTILE($J$2:$J$501,1))-1.5*(QUARTILE($J$2:$J$501,3)-QUARTILE($J$2:$J$501,1)),J399>(QUARTILE($J$2:$J$501,3))+1.5*(QUARTILE($J$2:$J$501,3)-QUARTILE($J$2:$J$501,1))),\"\",J399)","v":""},null,null,{"$f":"IF(COUNTIF($D$2:$D$501,D399)=1,\"\",IF(I399=\"\",\"\",ABS(IF(I399=\"\",0,(((H399*OFFSET($P$1,MATCH($D399,$O$2:$O$40,0),,)-G399)/G399))))))","v":""},null,null,{"$f":"IFERROR(IF(COUNTIF($E$2:$E$501,E399)=1,\"\",IF(I399=\"\",\"\",ABS(IF(I399=\"\",0,(((H399*OFFSET($S$1,MATCH($E399,$R$2:$R$41,0),,)-G399)/G399)))))),\"\")","v":""},null,null,{"$f":"IFERROR(IF(COUNTIF($F$2:$F$501,F399)=1,\"\",IF(I399=\"\",\"\",ABS(IF(I399=\"\",0,(((H399*OFFSET($V$1,MATCH($F399,$U$2:$U$105,0),,)-G399)/G399)))))),\"\")","v":""},null,null,{"$f":"IF(OR(J399<(QUARTILE($J$2:$J$501,1))-1.5*(QUARTILE($J$2:$J$501,3)-QUARTILE($J$2:$J$501,1)),J399>(QUARTILE($J$2:$J$501,3))+1.5*(QUARTILE($J$2:$J$501,3)-QUARTILE($J$2:$J$501,1))),\"Outlier\")","v":"Outlier"}]
[916790,"CHUBB",8000,8500,8530,8536,71.510000000000005,5.89,{"$f":"(IF(IFERROR(G400/H400,\"\")<0,\"\",IFERROR(G400/H400,\"\")))","v":12.140916808149408},{"$f":"IF(COUNTIF($C$2:$C$501,C400)=1,\"\",IF(I400=\"\",\"\",ABS(IF(I400=\"\",0,(((H400*OFFSET($M$1,MATCH($C400,$L$2:$L$40,0),,)-G400)/G400))))))","v":9.5534324973467158E-2},{"$f":"IF(OR(J400<(QUARTILE($J$2:$J$501,1))-1.5*(QUARTILE($J$2:$J$501,3)-QUARTILE($J$2:$J$501,1)),J400>(QUARTILE($J$2:$J$501,3))+1.5*(QUARTILE($J$2:$J$501,3)-QUARTILE($J$2:$J$501,1))),\"\",J400)","v":9.5534324973467158E-2},null,null,{"$f":"IF(COUNTIF($D$2:$D$501,D400)=1,\"\",IF(I400=\"\",\"\",ABS(IF(I400=\"\",0,(((H400*OFFSET($P$1,MATCH($D400,$O$2:$O$40,0),,)-G400)/G400))))))","v":0.11350499009811577},null,null,{"$f":"IFERROR(IF(COUNTIF($E$2:$E$501,E400)=1,\"\",IF(I400=\"\",\"\",ABS(IF(I400=\"\",0,(((H400*OFFSET($S$1,MATCH($E400,$R$2:$R$41,0),,)-G400)/G400)))))),\"\")","v":8.8903848991103304E-2},null,null,{"$f":"IFERROR(IF(COUNTIF($F$2:$F$501,F400)=1,\"\",IF(I400=\"\",\"\",ABS(IF(I400=\"\",0,(((H400*OFFSET($V$1,MATCH($F400,$U$2:$U$105,0),,)-G400)/G400)))))),\"\")","v":0.18271195350487107},null,null,{"$f":"IF(OR(J400<(QUARTILE($J$2:$J$501,1))-1.5*(QUARTILE($J$2:$J$501,3)-QUARTILE($J$2:$J$501,1)),J400>(QUARTILE($J$2:$J$501,3))+1.5*(QUARTILE($J$2:$J$501,3)-QUARTILE($J$2:$J$501,1))),\"Outlier\")","v":false}]
[916860,"HUMANA",4000,4500,4530,4533,79.56,8.08,{"$f":"(IF(IFERROR(G401/H401,\"\")<0,\"\",IFERROR(G401/H401,\"\")))","v":9.846534653465346},{"$f":"IF(COUNTIF($C$2:$C$501,C401)=1,\"\",IF(I401=\"\",\"\",ABS(IF(I401=\"\",0,(((H401*OFFSET($M$1,MATCH($C401,$L$2:$L$40,0),,)-G401)/G401))))))","v":0.71895929586899676},{"$f":"IF(OR(J401<(QUARTILE($J$2:$J$501,1))-1.5*(QUARTILE($J$2:$J$501,3)-QUARTILE($J$2:$J$501,1)),J401>(QUARTILE($J$2:$J$501,3))+1.5*(QUARTILE($J$2:$J$501,3)-QUARTILE($J$2:$J$501,1))),\"\",J401)","v":0.71895929586899676},null,null,{"$f":"IF(COUNTIF($D$2:$D$501,D401)=1,\"\",IF(I401=\"\",\"\",ABS(IF(I401=\"\",0,(((H401*OFFSET($P$1,MATCH($D401,$O$2:$O$40,0),,)-G401)/G401))))))","v":0.71895929586899676},null,null,{"$f":"IFERROR(IF(COUNTIF($E$2:$E$501,E401)=1,\"\",IF(I401=\"\",\"\",ABS(IF(I401=\"\",0,(((H401*OFFSET($S$1,MATCH($E401,$R$2:$R$41,0),,)-G401)/G401)))))),\"\")","v":0.553611306929497},null,null,{"$f":"IFERROR(IF(COUNTIF($F$2:$F$501,F401)=1,\"\",IF(I401=\"\",\"\",ABS(IF(I401=\"\",0,(((H401*OFFSET($V$1,MATCH($F401,$U$2:$U$105,0),,)-G401)/G401)))))),\"\")","v":0.31511490387424301},null,null,{"$f":"IF(OR(J401<(QUARTILE($J$2:$J$501,1))-1.5*(QUARTILE($J$2:$J$501,3)-QUARTILE($J$2:$J$501,1)),J401>(QUARTILE($J$2:$J$501,3))+1.5*(QUARTILE($J$2:$J$501,3)-QUARTILE($J$2:$J$501,1))),\"Outlier\")","v":false}]
[916901,"FANNIE MAE",8000,8700,8770,8779,0.253,0,{"$f":"(IF(IFERROR(G402/H402,\"\")<0,\"\",IFERROR(G402/H402,\"\")))","v":""},{"$f":"IF(COUNTIF($C$2:$C$501,C402)=1,\"\",IF(I402=\"\",\"\",ABS(IF(I402=\"\",0,(((H402*OFFSET($M$1,MATCH($C402,$L$2:$L$40,0),,)-G402)/G402))))))","v":""},{"$f":"IF(OR(J402<(QUARTILE($J$2:$J$501,1))-1.5*(QUARTILE($J$2:$J$501,3)-QUARTILE($J$2:$J$501,1)),J402>(QUARTILE($J$2:$J$501,3))+1.5*(QUARTILE($J$2:$J$501,3)-QUARTILE($J$2:$J$501,1))),\"\",J402)","v":""},null,null,{"$f":"IF(COUNTIF($D$2:$D$501,D402)=1,\"\",IF(I402=\"\",\"\",ABS(IF(I402=\"\",0,(((H402*OFFSET($P$1,MATCH($D402,$O$2:$O$40,0),,)-G402)/G402))))))","v":""},null,null,{"$f":"IFERROR(IF(COUNTIF($E$2:$E$501,E402)=1,\"\",IF(I402=\"\",\"\",ABS(IF(I402=\"\",0,(((H402*OFFSET($S$1,MATCH($E402,$R$2:$R$41,0),,)-G402)/G402)))))),\"\")","v":""},null,null,{"$f":"IFERROR(IF(COUNTIF($F$2:$F$501,F402)=1,\"\",IF(I402=\"\",\"\",ABS(IF(I402=\"\",0,(((H402*OFFSET($V$1,MATCH($F402,$U$2:$U$105,0),,)-G402)/G402)))))),\"\")","v":""},null,null,{"$f":"IF(OR(J402<(QUARTILE($J$2:$J$501,1))-1.5*(QUARTILE($J$2:$J$501,3)-QUARTILE($J$2:$J$501,1)),J402>(QUARTILE($J$2:$J$501,3))+1.5*(QUARTILE($J$2:$J$501,3)-QUARTILE($J$2:$J$501,1))),\"Outlier\")","v":"Outlier"}]
[921153,"UST DEAD - DELIST.20/01/09",3000,3700,3780,3785,69.459999999999994,3.51,{"$f":"(IF(IFERROR(G403/H403,\"\")<0,\"\",IFERROR(G403/H403,\"\")))","v":19.789173789173788},{"$f":"IF(COUNTIF($C$2:$C$501,C403)=1,\"\",IF(I403=\"\",\"\",ABS(IF(I403=\"\",0,(((H403*OFFSET($M$1,MATCH($C403,$L$2:$L$40,0),,)-G403)/G403))))))","v":0.1919731326670544},{"$f":"IF(OR(J403<(QUARTILE($J$2:$J$501,1))-1.5*(QUARTILE($J$2:$J$501,3)-QUARTILE($J$2:$J$501,1)),J403>(QUARTILE($J$2:$J$501,3))+1.5*(QUARTILE($J$2:$J$501,3)-QUARTILE($J$2:$J$501,1))),\"\",J403)","v":0.1919731326670544},null,null,{"$f":"IF(COUNTIF($D$2:$D$501,D403)=1,\"\",IF(I403=\"\",\"\",ABS(IF(I403=\"\",0,(((H403*OFFSET($P$1,MATCH($D403,$O$2:$O$40,0),,)-G403)/G403))))))","v":2.567991832477292E-2},null,null,{"$f":"IFERROR(IF(COUNTIF($E$2:$E$501,E403)=1,\"\",IF(I403=\"\",\"\",ABS(IF(I403=\"\",0,(((H403*OFFSET($S$1,MATCH($E403,$R$2:$R$41,0),,)-G403)/G403)))))),\"\")","v":""},null,null,{"$f":"IFERROR(IF(COUNTIF($F$2:$F$501,F403)=1,\"\",IF(I403=\"\",\"\",ABS(IF(I403=\"\",0,(((H403*OFFSET($V$1,MATCH($F403,$U$2:$U$105,0),,)-G403)/G403)))))),\"\")","v":""},null,null,{"$f":"IF(OR(J403<(QUARTILE($J$2:$J$501,1))-1.5*(QUARTILE($J$2:$J$501,3)-QUARTILE($J$2:$J$501,1)),J403>(QUARTILE($J$2:$J$501,3))+1.5*(QUARTILE($J$2:$J$501,3)-QUARTILE($J$2:$J$501,1))),\"Outlier\")","v":false}]
[921154,"WILLIAM WRIGLEY JR. DEAD - DELIST.17/10/08",3000,3500,3570,3577,79.97,2.46,{"$f":"(IF(IFERROR(G404/H404,\"\")<0,\"\",IFERROR(G404/H404,\"\")))","v":32.508130081300813},{"$f":"IF(COUNTIF($C$2:$C$501,C404)=1,\"\",IF(I404=\"\",\"\",ABS(IF(I404=\"\",0,(((H404*OFFSET($M$1,MATCH($C404,$L$2:$L$40,0),,)-G404)/G404))))))","v":0.50811738282137808},{"$f":"IF(OR(J404<(QUARTILE($J$2:$J$501,1))-1.5*(QUARTILE($J$2:$J$501,3)-QUARTILE($J$2:$J$501,1)),J404>(QUARTILE($J$2:$J$501,3))+1.5*(QUARTILE($J$2:$J$501,3)-QUARTILE($J$2:$J$501,1))),\"\",J404)","v":0.50811738282137808},null,null,{"$f":"IF(COUNTIF($D$2:$D$501,D404)=1,\"\",IF(I404=\"\",\"\",ABS(IF(I404=\"\",0,(((H404*OFFSET($P$1,MATCH($D404,$O$2:$O$40,0),,)-G404)/G404))))))","v":0.45046588657957543},null,null,{"$f":"IFERROR(IF(COUNTIF($E$2:$E$501,E404)=1,\"\",IF(I404=\"\",\"\",ABS(IF(I404=\"\",0,(((H404*OFFSET($S$1,MATCH($E404,$R$2:$R$41,0),,)-G404)/G404)))))),\"\")","v":0.45171305368498738},null,null,{"$f":"IFERROR(IF(COUNTIF($F$2:$F$501,F404)=1,\"\",IF(I404=\"\",\"\",ABS(IF(I404=\"\",0,(((H404*OFFSET($V$1,MATCH($F404,$U$2:$U$105,0),,)-G404)/G404)))))),\"\")","v":0.46216440227315819},null,null,{"$f":"IF(OR(J404<(QUARTILE($J$2:$J$501,1))-1.5*(QUARTILE($J$2:$J$501,3)-QUARTILE($J$2:$J$501,1)),J404>(QUARTILE($J$2:$J$501,3))+1.5*(QUARTILE($J$2:$J$501,3)-QUARTILE($J$2:$J$501,1))),\"Outlier\")","v":false}]
[921268,"ECOLAB",1000,1300,1350,1357,66.64,1.69,{"$f":"(IF(IFERROR(G405/H405,\"\")<0,\"\",IFERROR(G405/H405,\"\")))","v":39.431952662721898},{"$f":"IF(COUNTIF($C$2:$C$501,C405)=1,\"\",IF(I405=\"\",\"\",ABS(IF(I405=\"\",0,(((H405*OFFSET($M$1,MATCH($C405,$L$2:$L$40,0),,)-G405)/G405))))))","v":0.60699695508630991},{"$f":"IF(OR(J405<(QUARTILE($J$2:$J$501,1))-1.5*(QUARTILE($J$2:$J$501,3)-QUARTILE($J$2:$J$501,1)),J405>(QUARTILE($J$2:$J$501,3))+1.5*(QUARTILE($J$2:$J$501,3)-QUARTILE($J$2:$J$501,1))),\"\",J405)","v":0.60699695508630991},null,null,{"$f":"IF(COUNTIF($D$2:$D$501,D405)=1,\"\",IF(I405=\"\",\"\",ABS(IF(I405=\"\",0,(((H405*OFFSET($P$1,MATCH($D405,$O$2:$O$40,0),,)-G405)/G405))))))","v":0.54166539172426054},null,null,{"$f":"IFERROR(IF(COUNTIF($E$2:$E$501,E405)=1,\"\",IF(I405=\"\",\"\",ABS(IF(I405=\"\",0,(((H405*OFFSET($S$1,MATCH($E405,$R$2:$R$41,0),,)-G405)/G405)))))),\"\")","v":0.54166539172426054},null,null,{"$f":"IFERROR(IF(COUNTIF($F$2:$F$501,F405)=1,\"\",IF(I405=\"\",\"\",ABS(IF(I405=\"\",0,(((H405*OFFSET($V$1,MATCH($F405,$U$2:$U$105,0),,)-G405)/G405)))))),\"\")","v":0.44670812869839421},null,null,{"$f":"IF(OR(J405<(QUARTILE($J$2:$J$501,1))-1.5*(QUARTILE($J$2:$J$501,3)-QUARTILE($J$2:$J$501,1)),J405>(QUARTILE($J$2:$J$501,3))+1.5*(QUARTILE($J$2:$J$501,3)-QUARTILE($J$2:$J$501,1))),\"Outlier\")","v":false}]
[921276,"FOREST LABS.",4000,4500,4570,4577,34.119999999999997,3.57,{"$f":"(IF(IFERROR(G406/H406,\"\")<0,\"\",IFERROR(G406/H406,\"\")))","v":9.5574229691876749},{"$f":"IF(COUNTIF($C$2:$C$501,C406)=1,\"\",IF(I406=\"\",\"\",ABS(IF(I406=\"\",0,(((H406*OFFSET($M$1,MATCH($C406,$L$2:$L$40,0),,)-G406)/G406))))))","v":0.7709577497237271},{"$f":"IF(OR(J406<(QUARTILE($J$2:$J$501,1))-1.5*(QUARTILE($J$2:$J$501,3)-QUARTILE($J$2:$J$501,1)),J406>(QUARTILE($J$2:$J$501,3))+1.5*(QUARTILE($J$2:$J$501,3)-QUARTILE($J$2:$J$501,1))),\"\",J406)","v":0.7709577497237271},null,null,{"$f":"IF(COUNTIF($D$2:$D$501,D406)=1,\"\",IF(I406=\"\",\"\",ABS(IF(I406=\"\",0,(((H406*OFFSET($P$1,MATCH($D406,$O$2:$O$40,0),,)-G406)/G406))))))","v":0.7709577497237271},null,null,{"$f":"IFERROR(IF(COUNTIF($E$2:$E$501,E406)=1,\"\",IF(I406=\"\",\"\",ABS(IF(I406=\"\",0,(((H406*OFFSET($S$1,MATCH($E406,$R$2:$R$41,0),,)-G406)/G406)))))),\"\")","v":1.0810300163355189},null,null,{"$f":"IFERROR(IF(COUNTIF($F$2:$F$501,F406)=1,\"\",IF(I406=\"\",\"\",ABS(IF(I406=\"\",0,(((H406*OFFSET($V$1,MATCH($F406,$U$2:$U$105,0),,)-G406)/G406)))))),\"\")","v":0.93062168108024423},null,null,{"$f":"IF(OR(J406<(QUARTILE($J$2:$J$501,1))-1.5*(QUARTILE($J$2:$J$501,3)-QUARTILE($J$2:$J$501,1)),J406>(QUARTILE($J$2:$J$501,3))+1.5*(QUARTILE($J$2:$J$501,3)-QUARTILE($J$2:$J$501,1))),\"Outlier\")","v":false}]
[921290,"ELI LILLY",4000,4500,4570,4577,42.1,3.86,{"$f":"(IF(IFERROR(G407/H407,\"\")<0,\"\",IFERROR(G407/H407,\"\")))","v":10.906735751295338},{"$f":"IF(COUNTIF($C$2:$C$501,C407)=1,\"\",IF(I407=\"\",\"\",ABS(IF(I407=\"\",0,(((H407*OFFSET($M$1,MATCH($C407,$L$2:$L$40,0),,)-G407)/G407))))))","v":0.55186599002916847},{"$f":"IF(OR(J407<(QUARTILE($J$2:$J$501,1))-1.5*(QUARTILE($J$2:$J$501,3)-QUARTILE($J$2:$J$501,1)),J407>(QUARTILE($J$2:$J$501,3))+1.5*(QUARTILE($J$2:$J$501,3)-QUARTILE($J$2:$J$501,1))),\"\",J407)","v":0.55186599002916847},null,null,{"$f":"IF(COUNTIF($D$2:$D$501,D407)=1,\"\",IF(I407=\"\",\"\",ABS(IF(I407=\"\",0,(((H407*OFFSET($P$1,MATCH($D407,$O$2:$O$40,0),,)-G407)/G407))))))","v":0.55186599002916847},null,null,{"$f":"IFERROR(IF(COUNTIF($E$2:$E$501,E407)=1,\"\",IF(I407=\"\",\"\",ABS(IF(I407=\"\",0,(((H407*OFFSET($S$1,MATCH($E407,$R$2:$R$41,0),,)-G407)/G407)))))),\"\")","v":0.82357806508074061},null,null,{"$f":"IFERROR(IF(COUNTIF($F$2:$F$501,F407)=1,\"\",IF(I407=\"\",\"\",ABS(IF(I407=\"\",0,(((H407*OFFSET($V$1,MATCH($F407,$U$2:$U$105,0),,)-G407)/G407)))))),\"\")","v":0.69177730352334099},null,null,{"$f":"IF(OR(J407<(QUARTILE($J$2:$J$501,1))-1.5*(QUARTILE($J$2:$J$501,3)-QUARTILE($J$2:$J$501,1)),J407>(QUARTILE($J$2:$J$501,3))+1.5*(QUARTILE($J$2:$J$501,3)-QUARTILE($J$2:$J$501,1))),\"Outlier\")","v":false}]
[921293,"MEREDITH",5000,5500,5550,5557,31.9,2.31,{"$f":"(IF(IFERROR(G408/H408,\"\")<0,\"\",IFERROR(G408/H408,\"\")))","v":13.809523809523808},{"$f":"IF(COUNTIF($C$2:$C$501,C408)=1,\"\",IF(I408=\"\",\"\",ABS(IF(I408=\"\",0,(((H408*OFFSET($M$1,MATCH($C408,$L$2:$L$40,0),,)-G408)/G408))))))","v":0.14200259035132282},{"$f":"IF(OR(J408<(QUARTILE($J$2:$J$501,1))-1.5*(QUARTILE($J$2:$J$501,3)-QUARTILE($J$2:$J$501,1)),J408>(QUARTILE($J$2:$J$501,3))+1.5*(QUARTILE($J$2:$J$501,3)-QUARTILE($J$2:$J$501,1))),\"\",J408)","v":0.14200259035132282},null,null,{"$f":"IF(COUNTIF($D$2:$D$501,D408)=1,\"\",IF(I408=\"\",\"\",ABS(IF(I408=\"\",0,(((H408*OFFSET($P$1,MATCH($D408,$O$2:$O$40,0),,)-G408)/G408))))))","v":9.8540994861388842E-2},null,null,{"$f":"IFERROR(IF(COUNTIF($E$2:$E$501,E408)=1,\"\",IF(I408=\"\",\"\",ABS(IF(I408=\"\",0,(((H408*OFFSET($S$1,MATCH($E408,$R$2:$R$41,0),,)-G408)/G408)))))),\"\")","v":9.8540994861388842E-2},null,null,{"$f":"IFERROR(IF(COUNTIF($F$2:$F$501,F408)=1,\"\",IF(I408=\"\",\"\",ABS(IF(I408=\"\",0,(((H408*OFFSET($V$1,MATCH($F408,$U$2:$U$105,0),,)-G408)/G408)))))),\"\")","v":0.1069211257471997},null,null,{"$f":"IF(OR(J408<(QUARTILE($J$2:$J$501,1))-1.5*(QUARTILE($J$2:$J$501,3)-QUARTILE($J$2:$J$501,1)),J408>(QUARTILE($J$2:$J$501,3))+1.5*(QUARTILE($J$2:$J$501,3)-QUARTILE($J$2:$J$501,1))),\"Outlier\")","v":false}]
[921314,"SCHERING-PLOUGH DEAD - 04/11/09",4000,4500,4570,4577,28.15,1.42,{"$f":"(IF(IFERROR(G409/H409,\"\")<0,\"\",IFERROR(G409/H409,\"\")))","v":19.823943661971832},{"$f":"IF(COUNTIF($C$2:$C$501,C409)=1,\"\",IF(I409=\"\",\"\",ABS(IF(I409=\"\",0,(((H409*OFFSET($M$1,MATCH($C409,$L$2:$L$40,0),,)-G409)/G409))))))","v":0.14619449271644541},{"$f":"IF(OR(J409<(QUARTILE($J$2:$J$501,1))-1.5*(QUARTILE($J$2:$J$501,3)-QUARTILE($J$2:$J$501,1)),J409>(QUARTILE($J$2:$J$501,3))+1.5*(QUARTILE($J$2:$J$501,3)-QUARTILE($J$2:$J$501,1))),\"\",J409)","v":0.14619449271644541},null,null,{"$f":"IF(COUNTIF($D$2:$D$501,D409)=1,\"\",IF(I409=\"\",\"\",ABS(IF(I409=\"\",0,(((H409*OFFSET($P$1,MATCH($D409,$O$2:$O$40,0),,)-G409)/G409))))))","v":0.14619449271644541},null,null,{"$f":"IFERROR(IF(COUNTIF($E$2:$E$501,E409)=1,\"\",IF(I409=\"\",\"\",ABS(IF(I409=\"\",0,(((H409*OFFSET($S$1,MATCH($E409,$R$2:$R$41,0),,)-G409)/G409)))))),\"\")","v":3.2960351803057631E-3},null,null,{"$f":"IFERROR(IF(COUNTIF($F$2:$F$501,F409)=1,\"\",IF(I409=\"\",\"\",ABS(IF(I409=\"\",0,(((H409*OFFSET($V$1,MATCH($F409,$U$2:$U$105,0),,)-G409)/G409)))))),\"\")","v":6.9218097357491015E-2},null,null,{"$f":"IF(OR(J409<(QUARTILE($J$2:$J$501,1))-1.5*(QUARTILE($J$2:$J$501,3)-QUARTILE($J$2:$J$501,1)),J409>(QUARTILE($J$2:$J$501,3))+1.5*(QUARTILE($J$2:$J$501,3)-QUARTILE($J$2:$J$501,1))),\"Outlier\")","v":false}]
[921482,"NUCOR",1000,1700,1750,1757,37.090000000000003,2.4,{"$f":"(IF(IFERROR(G410/H410,\"\")<0,\"\",IFERROR(G410/H410,\"\")))","v":15.454166666666669},{"$f":"IF(COUNTIF($C$2:$C$501,C410)=1,\"\",IF(I410=\"\",\"\",ABS(IF(I410=\"\",0,(((H410*OFFSET($M$1,MATCH($C410,$L$2:$L$40,0),,)-G410)/G410))))))","v":2.7637075228165156E-3},{"$f":"IF(OR(J410<(QUARTILE($J$2:$J$501,1))-1.5*(QUARTILE($J$2:$J$501,3)-QUARTILE($J$2:$J$501,1)),J410>(QUARTILE($J$2:$J$501,3))+1.5*(QUARTILE($J$2:$J$501,3)-QUARTILE($J$2:$J$501,1))),\"\",J410)","v":2.7637075228165156E-3},null,null,{"$f":"IF(COUNTIF($D$2:$D$501,D410)=1,\"\",IF(I410=\"\",\"\",ABS(IF(I410=\"\",0,(((H410*OFFSET($P$1,MATCH($D410,$O$2:$O$40,0),,)-G410)/G410))))))","v":0.18582353447375946},null,null,{"$f":"IFERROR(IF(COUNTIF($E$2:$E$501,E410)=1,\"\",IF(I410=\"\",\"\",ABS(IF(I410=\"\",0,(((H410*OFFSET($S$1,MATCH($E410,$R$2:$R$41,0),,)-G410)/G410)))))),\"\")","v":0.11864292994262968},null,null,{"$f":"IFERROR(IF(COUNTIF($F$2:$F$501,F410)=1,\"\",IF(I410=\"\",\"\",ABS(IF(I410=\"\",0,(((H410*OFFSET($V$1,MATCH($F410,$U$2:$U$105,0),,)-G410)/G410)))))),\"\")","v":""},null,null,{"$f":"IF(OR(J410<(QUARTILE($J$2:$J$501,1))-1.5*(QUARTILE($J$2:$J$501,3)-QUARTILE($J$2:$J$501,1)),J410>(QUARTILE($J$2:$J$501,3))+1.5*(QUARTILE($J$2:$J$501,3)-QUARTILE($J$2:$J$501,1))),\"Outlier\")","v":false}]
[921484,"PALL",2000,2700,2750,2757,53.06,2.74,{"$f":"(IF(IFERROR(G411/H411,\"\")<0,\"\",IFERROR(G411/H411,\"\")))","v":19.364963503649633},{"$f":"IF(COUNTIF($C$2:$C$501,C411)=1,\"\",IF(I411=\"\",\"\",ABS(IF(I411=\"\",0,(((H411*OFFSET($M$1,MATCH($C411,$L$2:$L$40,0),,)-G411)/G411))))))","v":0.25102719661651163},{"$f":"IF(OR(J411<(QUARTILE($J$2:$J$501,1))-1.5*(QUARTILE($J$2:$J$501,3)-QUARTILE($J$2:$J$501,1)),J411>(QUARTILE($J$2:$J$501,3))+1.5*(QUARTILE($J$2:$J$501,3)-QUARTILE($J$2:$J$501,1))),\"\",J411)","v":0.25102719661651163},null,null,{"$f":"IF(COUNTIF($D$2:$D$501,D411)=1,\"\",IF(I411=\"\",\"\",ABS(IF(I411=\"\",0,(((H411*OFFSET($P$1,MATCH($D411,$O$2:$O$40,0),,)-G411)/G411))))))","v":0.26060016826845628},null,null,{"$f":"IFERROR(IF(COUNTIF($E$2:$E$501,E411)=1,\"\",IF(I411=\"\",\"\",ABS(IF(I411=\"\",0,(((H411*OFFSET($S$1,MATCH($E411,$R$2:$R$41,0),,)-G411)/G411)))))),\"\")","v":0.36897880168317215},null,null,{"$f":"IFERROR(IF(COUNTIF($F$2:$F$501,F411)=1,\"\",IF(I411=\"\",\"\",ABS(IF(I411=\"\",0,(((H411*OFFSET($V$1,MATCH($F411,$U$2:$U$105,0),,)-G411)/G411)))))),\"\")","v":0.35970821464545649},null,null,{"$f":"IF(OR(J411<(QUARTILE($J$2:$J$501,1))-1.5*(QUARTILE($J$2:$J$501,3)-QUARTILE($J$2:$J$501,1)),J411>(QUARTILE($J$2:$J$501,3))+1.5*(QUARTILE($J$2:$J$501,3)-QUARTILE($J$2:$J$501,1))),\"Outlier\")","v":false}]
[921503,"STANLEY BLACK & DECKER",3000,3700,3720,3722,62.02,3.77,{"$f":"(IF(IFERROR(G412/H412,\"\")<0,\"\",IFERROR(G412/H412,\"\")))","v":16.450928381962864},{"$f":"IF(COUNTIF($C$2:$C$501,C412)=1,\"\",IF(I412=\"\",\"\",ABS(IF(I412=\"\",0,(((H412*OFFSET($M$1,MATCH($C412,$L$2:$L$40,0),,)-G412)/G412))))))","v":2.8007190068051219E-2},{"$f":"IF(OR(J412<(QUARTILE($J$2:$J$501,1))-1.5*(QUARTILE($J$2:$J$501,3)-QUARTILE($J$2:$J$501,1)),J412>(QUARTILE($J$2:$J$501,3))+1.5*(QUARTILE($J$2:$J$501,3)-QUARTILE($J$2:$J$501,1))),\"\",J412)","v":2.8007190068051219E-2},null,null,{"$f":"IF(COUNTIF($D$2:$D$501,D412)=1,\"\",IF(I412=\"\",\"\",ABS(IF(I412=\"\",0,(((H412*OFFSET($P$1,MATCH($D412,$O$2:$O$40,0),,)-G412)/G412))))))","v":0.17203047602426749},null,null,{"$f":"IFERROR(IF(COUNTIF($E$2:$E$501,E412)=1,\"\",IF(I412=\"\",\"\",ABS(IF(I412=\"\",0,(((H412*OFFSET($S$1,MATCH($E412,$R$2:$R$41,0),,)-G412)/G412)))))),\"\")","v":0.29956477249286417},null,null,{"$f":"IFERROR(IF(COUNTIF($F$2:$F$501,F412)=1,\"\",IF(I412=\"\",\"\",ABS(IF(I412=\"\",0,(((H412*OFFSET($V$1,MATCH($F412,$U$2:$U$105,0),,)-G412)/G412)))))),\"\")","v":0.13190799427585395},null,null,{"$f":"IF(OR(J412<(QUARTILE($J$2:$J$501,1))-1.5*(QUARTILE($J$2:$J$501,3)-QUARTILE($J$2:$J$501,1)),J412>(QUARTILE($J$2:$J$501,3))+1.5*(QUARTILE($J$2:$J$501,3)-QUARTILE($J$2:$J$501,1))),\"Outlier\")","v":false}]
[921649,"TEXTRON",2000,2700,2710,2713,23.82,1.0900000000000001,{"$f":"(IF(IFERROR(G413/H413,\"\")<0,\"\",IFERROR(G413/H413,\"\")))","v":21.853211009174309},{"$f":"IF(COUNTIF($C$2:$C$501,C413)=1,\"\",IF(I413=\"\",\"\",ABS(IF(I413=\"\",0,(((H413*OFFSET($M$1,MATCH($C413,$L$2:$L$40,0),,)-G413)/G413))))))","v":0.33630664177184411},{"$f":"IF(OR(J413<(QUARTILE($J$2:$J$501,1))-1.5*(QUARTILE($J$2:$J$501,3)-QUARTILE($J$2:$J$501,1)),J413>(QUARTILE($J$2:$J$501,3))+1.5*(QUARTILE($J$2:$J$501,3)-QUARTILE($J$2:$J$501,1))),\"\",J413)","v":0.33630664177184411},null,null,{"$f":"IF(COUNTIF($D$2:$D$501,D413)=1,\"\",IF(I413=\"\",\"\",ABS(IF(I413=\"\",0,(((H413*OFFSET($P$1,MATCH($D413,$O$2:$O$40,0),,)-G413)/G413))))))","v":0.3447896169549215},null,null,{"$f":"IFERROR(IF(COUNTIF($E$2:$E$501,E413)=1,\"\",IF(I413=\"\",\"\",ABS(IF(I413=\"\",0,(((H413*OFFSET($S$1,MATCH($E413,$R$2:$R$41,0),,)-G413)/G413)))))),\"\")","v":0.48053758874178193},null,null,{"$f":"IFERROR(IF(COUNTIF($F$2:$F$501,F413)=1,\"\",IF(I413=\"\",\"\",ABS(IF(I413=\"\",0,(((H413*OFFSET($V$1,MATCH($F413,$U$2:$U$105,0),,)-G413)/G413)))))),\"\")","v":0.29430609455389334},null,null,{"$f":"IF(OR(J413<(QUARTILE($J$2:$J$501,1))-1.5*(QUARTILE($J$2:$J$501,3)-QUARTILE($J$2:$J$501,1)),J413>(QUARTILE($J$2:$J$501,3))+1.5*(QUARTILE($J$2:$J$501,3)-QUARTILE($J$2:$J$501,1))),\"Outlier\")","v":false}]
[921757,"PACCAR",2000,2700,2750,2753,37.65,3.24,{"$f":"(IF(IFERROR(G414/H414,\"\")<0,\"\",IFERROR(G414/H414,\"\")))","v":11.620370370370368},{"$f":"IF(COUNTIF($C$2:$C$501,C414)=1,\"\",IF(I414=\"\",\"\",ABS(IF(I414=\"\",0,(((H414*OFFSET($M$1,MATCH($C414,$L$2:$L$40,0),,)-G414)/G414))))))","v":0.24813844485794417},{"$f":"IF(OR(J414<(QUARTILE($J$2:$J$501,1))-1.5*(QUARTILE($J$2:$J$501,3)-QUARTILE($J$2:$J$501,1)),J414>(QUARTILE($J$2:$J$501,3))+1.5*(QUARTILE($J$2:$J$501,3)-QUARTILE($J$2:$J$501,1))),\"\",J414)","v":0.24813844485794417},null,null,{"$f":"IF(COUNTIF($D$2:$D$501,D414)=1,\"\",IF(I414=\"\",\"\",ABS(IF(I414=\"\",0,(((H414*OFFSET($P$1,MATCH($D414,$O$2:$O$40,0),,)-G414)/G414))))))","v":0.23218540371098889},null,null,{"$f":"IFERROR(IF(COUNTIF($E$2:$E$501,E414)=1,\"\",IF(I414=\"\",\"\",ABS(IF(I414=\"\",0,(((H414*OFFSET($S$1,MATCH($E414,$R$2:$R$41,0),,)-G414)/G414)))))),\"\")","v":5.1575989917880573E-2},null,null,{"$f":"IFERROR(IF(COUNTIF($F$2:$F$501,F414)=1,\"\",IF(I414=\"\",\"\",ABS(IF(I414=\"\",0,(((H414*OFFSET($V$1,MATCH($F414,$U$2:$U$105,0),,)-G414)/G414)))))),\"\")","v":3.6567844194472086E-2},null,null,{"$f":"IF(OR(J414<(QUARTILE($J$2:$J$501,1))-1.5*(QUARTILE($J$2:$J$501,3)-QUARTILE($J$2:$J$501,1)),J414>(QUARTILE($J$2:$J$501,3))+1.5*(QUARTILE($J$2:$J$501,3)-QUARTILE($J$2:$J$501,1))),\"Outlier\")","v":false}]
[921855,"TJX COS.",5000,5300,5370,5371,41.6,2.15,{"$f":"(IF(IFERROR(G415/H415,\"\")<0,\"\",IFERROR(G415/H415,\"\")))","v":19.348837209302328},{"$f":"IF(COUNTIF($C$2:$C$501,C415)=1,\"\",IF(I415=\"\",\"\",ABS(IF(I415=\"\",0,(((H415*OFFSET($M$1,MATCH($C415,$L$2:$L$40,0),,)-G415)/G415))))))","v":0.18493748273345958},{"$f":"IF(OR(J415<(QUARTILE($J$2:$J$501,1))-1.5*(QUARTILE($J$2:$J$501,3)-QUARTILE($J$2:$J$501,1)),J415>(QUARTILE($J$2:$J$501,3))+1.5*(QUARTILE($J$2:$J$501,3)-QUARTILE($J$2:$J$501,1))),\"\",J415)","v":0.18493748273345958},null,null,{"$f":"IF(COUNTIF($D$2:$D$501,D415)=1,\"\",IF(I415=\"\",\"\",ABS(IF(I415=\"\",0,(((H415*OFFSET($P$1,MATCH($D415,$O$2:$O$40,0),,)-G415)/G415))))))","v":0.24690715960960841},null,null,{"$f":"IFERROR(IF(COUNTIF($E$2:$E$501,E415)=1,\"\",IF(I415=\"\",\"\",ABS(IF(I415=\"\",0,(((H415*OFFSET($S$1,MATCH($E415,$R$2:$R$41,0),,)-G415)/G415)))))),\"\")","v":0.25922657660359283},null,null,{"$f":"IFERROR(IF(COUNTIF($F$2:$F$501,F415)=1,\"\",IF(I415=\"\",\"\",ABS(IF(I415=\"\",0,(((H415*OFFSET($V$1,MATCH($F415,$U$2:$U$105,0),,)-G415)/G415)))))),\"\")","v":0.30067127507975389},null,null,{"$f":"IF(OR(J415<(QUARTILE($J$2:$J$501,1))-1.5*(QUARTILE($J$2:$J$501,3)-QUARTILE($J$2:$J$501,1)),J415>(QUARTILE($J$2:$J$501,3))+1.5*(QUARTILE($J$2:$J$501,3)-QUARTILE($J$2:$J$501,1))),\"Outlier\")","v":false}]
[921910,"MCDONALDS",5000,5700,5750,5757,88.18,5.35,{"$f":"(IF(IFERROR(G416/H416,\"\")<0,\"\",IFERROR(G416/H416,\"\")))","v":16.482242990654207},{"$f":"IF(COUNTIF($C$2:$C$501,C416)=1,\"\",IF(I416=\"\",\"\",ABS(IF(I416=\"\",0,(((H416*OFFSET($M$1,MATCH($C416,$L$2:$L$40,0),,)-G416)/G416))))))","v":4.3181685227145147E-2},{"$f":"IF(OR(J416<(QUARTILE($J$2:$J$501,1))-1.5*(QUARTILE($J$2:$J$501,3)-QUARTILE($J$2:$J$501,1)),J416>(QUARTILE($J$2:$J$501,3))+1.5*(QUARTILE($J$2:$J$501,3)-QUARTILE($J$2:$J$501,1))),\"\",J416)","v":4.3181685227145147E-2},null,null,{"$f":"IF(COUNTIF($D$2:$D$501,D416)=1,\"\",IF(I416=\"\",\"\",ABS(IF(I416=\"\",0,(((H416*OFFSET($P$1,MATCH($D416,$O$2:$O$40,0),,)-G416)/G416))))))","v":0.32863903480242385},null,null,{"$f":"IFERROR(IF(COUNTIF($E$2:$E$501,E416)=1,\"\",IF(I416=\"\",\"\",ABS(IF(I416=\"\",0,(((H416*OFFSET($S$1,MATCH($E416,$R$2:$R$41,0),,)-G416)/G416)))))),\"\")","v":0.32863903480242385},null,null,{"$f":"IFERROR(IF(COUNTIF($F$2:$F$501,F416)=1,\"\",IF(I416=\"\",\"\",ABS(IF(I416=\"\",0,(((H416*OFFSET($V$1,MATCH($F416,$U$2:$U$105,0),,)-G416)/G416)))))),\"\")","v":0.29035097616580807},null,null,{"$f":"IF(OR(J416<(QUARTILE($J$2:$J$501,1))-1.5*(QUARTILE($J$2:$J$501,3)-QUARTILE($J$2:$J$501,1)),J416>(QUARTILE($J$2:$J$501,3))+1.5*(QUARTILE($J$2:$J$501,3)-QUARTILE($J$2:$J$501,1))),\"Outlier\")","v":false}]
[921964,"WALT DISNEY",5000,5500,5550,5553,47.82,2.79,{"$f":"(IF(IFERROR(G417/H417,\"\")<0,\"\",IFERROR(G417/H417,\"\")))","v":17.13978494623656},{"$f":"IF(COUNTIF($C$2:$C$501,C417)=1,\"\",IF(I417=\"\",\"\",ABS(IF(I417=\"\",0,(((H417*OFFSET($M$1,MATCH($C417,$L$2:$L$40,0),,)-G417)/G417))))))","v":7.988857436293316E-2},{"$f":"IF(OR(J417<(QUARTILE($J$2:$J$501,1))-1.5*(QUARTILE($J$2:$J$501,3)-QUARTILE($J$2:$J$501,1)),J417>(QUARTILE($J$2:$J$501,3))+1.5*(QUARTILE($J$2:$J$501,3)-QUARTILE($J$2:$J$501,1))),\"\",J417)","v":7.988857436293316E-2},null,null,{"$f":"IF(COUNTIF($D$2:$D$501,D417)=1,\"\",IF(I417=\"\",\"\",ABS(IF(I417=\"\",0,(((H417*OFFSET($P$1,MATCH($D417,$O$2:$O$40,0),,)-G417)/G417))))))","v":0.11490557951210931},null,null,{"$f":"IFERROR(IF(COUNTIF($E$2:$E$501,E417)=1,\"\",IF(I417=\"\",\"\",ABS(IF(I417=\"\",0,(((H417*OFFSET($S$1,MATCH($E417,$R$2:$R$41,0),,)-G417)/G417)))))),\"\")","v":0.11490557951210931},null,null,{"$f":"IFERROR(IF(COUNTIF($F$2:$F$501,F417)=1,\"\",IF(I417=\"\",\"\",ABS(IF(I417=\"\",0,(((H417*OFFSET($V$1,MATCH($F417,$U$2:$U$105,0),,)-G417)/G417)))))),\"\")","v":5.7811740548870373E-2},null,null,{"$f":"IF(OR(J417<(QUARTILE($J$2:$J$501,1))-1.5*(QUARTILE($J$2:$J$501,3)-QUARTILE($J$2:$J$501,1)),J417>(QUARTILE($J$2:$J$501,3))+1.5*(QUARTILE($J$2:$J$501,3)-QUARTILE($J$2:$J$501,1))),\"Outlier\")","v":false}]
[922060,"MERRILL LYNCH & CO. DEAD - DELIST.15/01/09",8000,8700,8770,8777,11.64,0,{"$f":"(IF(IFERROR(G418/H418,\"\")<0,\"\",IFERROR(G418/H418,\"\")))","v":""},{"$f":"IF(COUNTIF($C$2:$C$501,C418)=1,\"\",IF(I418=\"\",\"\",ABS(IF(I418=\"\",0,(((H418*OFFSET($M$1,MATCH($C418,$L$2:$L$40,0),,)-G418)/G418))))))","v":""},{"$f":"IF(OR(J418<(QUARTILE($J$2:$J$501,1))-1.5*(QUARTILE($J$2:$J$501,3)-QUARTILE($J$2:$J$501,1)),J418>(QUARTILE($J$2:$J$501,3))+1.5*(QUARTILE($J$2:$J$501,3)-QUARTILE($J$2:$J$501,1))),\"\",J418)","v":""},null,null,{"$f":"IF(COUNTIF($D$2:$D$501,D418)=1,\"\",IF(I418=\"\",\"\",ABS(IF(I418=\"\",0,(((H418*OFFSET($P$1,MATCH($D418,$O$2:$O$40,0),,)-G418)/G418))))))","v":""},null,null,{"$f":"IFERROR(IF(COUNTIF($E$2:$E$501,E418)=1,\"\",IF(I418=\"\",\"\",ABS(IF(I418=\"\",0,(((H418*OFFSET($S$1,MATCH($E418,$R$2:$R$41,0),,)-G418)/G418)))))),\"\")","v":""},null,null,{"$f":"IFERROR(IF(COUNTIF($F$2:$F$501,F418)=1,\"\",IF(I418=\"\",\"\",ABS(IF(I418=\"\",0,(((H418*OFFSET($V$1,MATCH($F418,$U$2:$U$105,0),,)-G418)/G418)))))),\"\")","v":""},null,null,{"$f":"IF(OR(J418<(QUARTILE($J$2:$J$501,1))-1.5*(QUARTILE($J$2:$J$501,3)-QUARTILE($J$2:$J$501,1)),J418>(QUARTILE($J$2:$J$501,3))+1.5*(QUARTILE($J$2:$J$501,3)-QUARTILE($J$2:$J$501,1))),\"Outlier\")","v":"Outlier"}]
[922301,"FRONTIER COMMUNICATIONS",6000,6500,6530,6535,3.79,0.12,{"$f":"(IF(IFERROR(G419/H419,\"\")<0,\"\",IFERROR(G419/H419,\"\")))","v":31.583333333333336},{"$f":"IF(COUNTIF($C$2:$C$501,C419)=1,\"\",IF(I419=\"\",\"\",ABS(IF(I419=\"\",0,(((H419*OFFSET($M$1,MATCH($C419,$L$2:$L$40,0),,)-G419)/G419))))))","v":0.25973601786962375},{"$f":"IF(OR(J419<(QUARTILE($J$2:$J$501,1))-1.5*(QUARTILE($J$2:$J$501,3)-QUARTILE($J$2:$J$501,1)),J419>(QUARTILE($J$2:$J$501,3))+1.5*(QUARTILE($J$2:$J$501,3)-QUARTILE($J$2:$J$501,1))),\"\",J419)","v":0.25973601786962375},null,null,{"$f":"IF(COUNTIF($D$2:$D$501,D419)=1,\"\",IF(I419=\"\",\"\",ABS(IF(I419=\"\",0,(((H419*OFFSET($P$1,MATCH($D419,$O$2:$O$40,0),,)-G419)/G419))))))","v":0.25973601786962375},null,null,{"$f":"IFERROR(IF(COUNTIF($E$2:$E$501,E419)=1,\"\",IF(I419=\"\",\"\",ABS(IF(I419=\"\",0,(((H419*OFFSET($S$1,MATCH($E419,$R$2:$R$41,0),,)-G419)/G419)))))),\"\")","v":0.27617352551424967},null,null,{"$f":"IFERROR(IF(COUNTIF($F$2:$F$501,F419)=1,\"\",IF(I419=\"\",\"\",ABS(IF(I419=\"\",0,(((H419*OFFSET($V$1,MATCH($F419,$U$2:$U$105,0),,)-G419)/G419)))))),\"\")","v":0.27617352551424967},null,null,{"$f":"IF(OR(J419<(QUARTILE($J$2:$J$501,1))-1.5*(QUARTILE($J$2:$J$501,3)-QUARTILE($J$2:$J$501,1)),J419>(QUARTILE($J$2:$J$501,3))+1.5*(QUARTILE($J$2:$J$501,3)-QUARTILE($J$2:$J$501,1))),\"Outlier\")","v":false}]
[922407,"WILLIAMS COS.",1,500,570,577,28.04,0.79,{"$f":"(IF(IFERROR(G420/H420,\"\")<0,\"\",IFERROR(G420/H420,\"\")))","v":35.493670886075947},{"$f":"IF(COUNTIF($C$2:$C$501,C420)=1,\"\",IF(I420=\"\",\"\",ABS(IF(I420=\"\",0,(((H420*OFFSET($M$1,MATCH($C420,$L$2:$L$40,0),,)-G420)/G420))))))","v":0.73875269645676966},{"$f":"IF(OR(J420<(QUARTILE($J$2:$J$501,1))-1.5*(QUARTILE($J$2:$J$501,3)-QUARTILE($J$2:$J$501,1)),J420>(QUARTILE($J$2:$J$501,3))+1.5*(QUARTILE($J$2:$J$501,3)-QUARTILE($J$2:$J$501,1))),\"\",J420)","v":0.73875269645676966},null,null,{"$f":"IF(COUNTIF($D$2:$D$501,D420)=1,\"\",IF(I420=\"\",\"\",ABS(IF(I420=\"\",0,(((H420*OFFSET($P$1,MATCH($D420,$O$2:$O$40,0),,)-G420)/G420))))))","v":0.73875269645676966},null,null,{"$f":"IFERROR(IF(COUNTIF($E$2:$E$501,E420)=1,\"\",IF(I420=\"\",\"\",ABS(IF(I420=\"\",0,(((H420*OFFSET($S$1,MATCH($E420,$R$2:$R$41,0),,)-G420)/G420)))))),\"\")","v":0.70860844773068132},null,null,{"$f":"IFERROR(IF(COUNTIF($F$2:$F$501,F420)=1,\"\",IF(I420=\"\",\"\",ABS(IF(I420=\"\",0,(((H420*OFFSET($V$1,MATCH($F420,$U$2:$U$105,0),,)-G420)/G420)))))),\"\")","v":""},null,null,{"$f":"IF(OR(J420<(QUARTILE($J$2:$J$501,1))-1.5*(QUARTILE($J$2:$J$501,3)-QUARTILE($J$2:$J$501,1)),J420>(QUARTILE($J$2:$J$501,3))+1.5*(QUARTILE($J$2:$J$501,3)-QUARTILE($J$2:$J$501,1))),\"Outlier\")","v":false}]
[922418,"LOEWS",8000,8500,8530,8536,40.14,2.62,{"$f":"(IF(IFERROR(G421/H421,\"\")<0,\"\",IFERROR(G421/H421,\"\")))","v":15.320610687022901},{"$f":"IF(COUNTIF($C$2:$C$501,C421)=1,\"\",IF(I421=\"\",\"\",ABS(IF(I421=\"\",0,(((H421*OFFSET($M$1,MATCH($C421,$L$2:$L$40,0),,)-G421)/G421))))))","v":0.13183675431154823},{"$f":"IF(OR(J421<(QUARTILE($J$2:$J$501,1))-1.5*(QUARTILE($J$2:$J$501,3)-QUARTILE($J$2:$J$501,1)),J421>(QUARTILE($J$2:$J$501,3))+1.5*(QUARTILE($J$2:$J$501,3)-QUARTILE($J$2:$J$501,1))),\"\",J421)","v":0.13183675431154823},null,null,{"$f":"IF(COUNTIF($D$2:$D$501,D421)=1,\"\",IF(I421=\"\",\"\",ABS(IF(I421=\"\",0,(((H421*OFFSET($P$1,MATCH($D421,$O$2:$O$40,0),,)-G421)/G421))))))","v":0.29749130854327577},null,null,{"$f":"IFERROR(IF(COUNTIF($E$2:$E$501,E421)=1,\"\",IF(I421=\"\",\"\",ABS(IF(I421=\"\",0,(((H421*OFFSET($S$1,MATCH($E421,$R$2:$R$41,0),,)-G421)/G421)))))),\"\")","v":0.27799597551332184},null,null,{"$f":"IFERROR(IF(COUNTIF($F$2:$F$501,F421)=1,\"\",IF(I421=\"\",\"\",ABS(IF(I421=\"\",0,(((H421*OFFSET($V$1,MATCH($F421,$U$2:$U$105,0),,)-G421)/G421)))))),\"\")","v":6.2752279994343421E-2},null,null,{"$f":"IF(OR(J421<(QUARTILE($J$2:$J$501,1))-1.5*(QUARTILE($J$2:$J$501,3)-QUARTILE($J$2:$J$501,1)),J421>(QUARTILE($J$2:$J$501,3))+1.5*(QUARTILE($J$2:$J$501,3)-QUARTILE($J$2:$J$501,1))),\"Outlier\")","v":false}]
[922494,"DOLLAR GENERAL DEAD - DELIST.12/07/07",5000,5300,5370,5373,21.98,0.4,{"$f":"(IF(IFERROR(G422/H422,\"\")<0,\"\",IFERROR(G422/H422,\"\")))","v":54.949999999999996},{"$f":"IF(COUNTIF($C$2:$C$501,C422)=1,\"\",IF(I422=\"\",\"\",ABS(IF(I422=\"\",0,(((H422*OFFSET($M$1,MATCH($C422,$L$2:$L$40,0),,)-G422)/G422))))))","v":0.71300251206561494},{"$f":"IF(OR(J422<(QUARTILE($J$2:$J$501,1))-1.5*(QUARTILE($J$2:$J$501,3)-QUARTILE($J$2:$J$501,1)),J422>(QUARTILE($J$2:$J$501,3))+1.5*(QUARTILE($J$2:$J$501,3)-QUARTILE($J$2:$J$501,1))),\"\",J422)","v":0.71300251206561494},null,null,{"$f":"IF(COUNTIF($D$2:$D$501,D422)=1,\"\",IF(I422=\"\",\"\",ABS(IF(I422=\"\",0,(((H422*OFFSET($P$1,MATCH($D422,$O$2:$O$40,0),,)-G422)/G422))))))","v":0.73482309786706479},null,null,{"$f":"IFERROR(IF(COUNTIF($E$2:$E$501,E422)=1,\"\",IF(I422=\"\",\"\",ABS(IF(I422=\"\",0,(((H422*OFFSET($S$1,MATCH($E422,$R$2:$R$41,0),,)-G422)/G422)))))),\"\")","v":0.73916097582757645},null,null,{"$f":"IFERROR(IF(COUNTIF($F$2:$F$501,F422)=1,\"\",IF(I422=\"\",\"\",ABS(IF(I422=\"\",0,(((H422*OFFSET($V$1,MATCH($F422,$U$2:$U$105,0),,)-G422)/G422)))))),\"\")","v":0.65327463923289431},null,null,{"$f":"IF(OR(J422<(QUARTILE($J$2:$J$501,1))-1.5*(QUARTILE($J$2:$J$501,3)-QUARTILE($J$2:$J$501,1)),J422>(QUARTILE($J$2:$J$501,3))+1.5*(QUARTILE($J$2:$J$501,3)-QUARTILE($J$2:$J$501,1))),\"Outlier\")","v":false}]
[922725,"SUNTRUST BANKS",8000,8300,8350,8355,23.3,1.31,{"$f":"(IF(IFERROR(G423/H423,\"\")<0,\"\",IFERROR(G423/H423,\"\")))","v":17.786259541984734},{"$f":"IF(COUNTIF($C$2:$C$501,C423)=1,\"\",IF(I423=\"\",\"\",ABS(IF(I423=\"\",0,(((H423*OFFSET($M$1,MATCH($C423,$L$2:$L$40,0),,)-G423)/G423))))))","v":0.25218728150355252},{"$f":"IF(OR(J423<(QUARTILE($J$2:$J$501,1))-1.5*(QUARTILE($J$2:$J$501,3)-QUARTILE($J$2:$J$501,1)),J423>(QUARTILE($J$2:$J$501,3))+1.5*(QUARTILE($J$2:$J$501,3)-QUARTILE($J$2:$J$501,1))),\"\",J423)","v":0.25218728150355252},null,null,{"$f":"IF(COUNTIF($D$2:$D$501,D423)=1,\"\",IF(I423=\"\",\"\",ABS(IF(I423=\"\",0,(((H423*OFFSET($P$1,MATCH($D423,$O$2:$O$40,0),,)-G423)/G423))))))","v":0.31568237057881537},null,null,{"$f":"IFERROR(IF(COUNTIF($E$2:$E$501,E423)=1,\"\",IF(I423=\"\",\"\",ABS(IF(I423=\"\",0,(((H423*OFFSET($S$1,MATCH($E423,$R$2:$R$41,0),,)-G423)/G423)))))),\"\")","v":0.31568237057881537},null,null,{"$f":"IFERROR(IF(COUNTIF($F$2:$F$501,F423)=1,\"\",IF(I423=\"\",\"\",ABS(IF(I423=\"\",0,(((H423*OFFSET($V$1,MATCH($F423,$U$2:$U$105,0),,)-G423)/G423)))))),\"\")","v":0.31568237057881537},null,null,{"$f":"IF(OR(J423<(QUARTILE($J$2:$J$501,1))-1.5*(QUARTILE($J$2:$J$501,3)-QUARTILE($J$2:$J$501,1)),J423>(QUARTILE($J$2:$J$501,3))+1.5*(QUARTILE($J$2:$J$501,3)-QUARTILE($J$2:$J$501,1))),\"Outlier\")","v":false}]
[922726,"INTEL",9000,9500,9570,9576,25.83,2.36,{"$f":"(IF(IFERROR(G424/H424,\"\")<0,\"\",IFERROR(G424/H424,\"\")))","v":10.944915254237287},{"$f":"IF(COUNTIF($C$2:$C$501,C424)=1,\"\",IF(I424=\"\",\"\",ABS(IF(I424=\"\",0,(((H424*OFFSET($M$1,MATCH($C424,$L$2:$L$40,0),,)-G424)/G424))))))","v":0.19617348713057467},{"$f":"IF(OR(J424<(QUARTILE($J$2:$J$501,1))-1.5*(QUARTILE($J$2:$J$501,3)-QUARTILE($J$2:$J$501,1)),J424>(QUARTILE($J$2:$J$501,3))+1.5*(QUARTILE($J$2:$J$501,3)-QUARTILE($J$2:$J$501,1))),\"\",J424)","v":0.19617348713057467},null,null,{"$f":"IF(COUNTIF($D$2:$D$501,D424)=1,\"\",IF(I424=\"\",\"\",ABS(IF(I424=\"\",0,(((H424*OFFSET($P$1,MATCH($D424,$O$2:$O$40,0),,)-G424)/G424))))))","v":0.19617348713057467},null,null,{"$f":"IFERROR(IF(COUNTIF($E$2:$E$501,E424)=1,\"\",IF(I424=\"\",\"\",ABS(IF(I424=\"\",0,(((H424*OFFSET($S$1,MATCH($E424,$R$2:$R$41,0),,)-G424)/G424)))))),\"\")","v":0.14654810371369156},null,null,{"$f":"IFERROR(IF(COUNTIF($F$2:$F$501,F424)=1,\"\",IF(I424=\"\",\"\",ABS(IF(I424=\"\",0,(((H424*OFFSET($V$1,MATCH($F424,$U$2:$U$105,0),,)-G424)/G424)))))),\"\")","v":0.26917561411839269},null,null,{"$f":"IF(OR(J424<(QUARTILE($J$2:$J$501,1))-1.5*(QUARTILE($J$2:$J$501,3)-QUARTILE($J$2:$J$501,1)),J424>(QUARTILE($J$2:$J$501,3))+1.5*(QUARTILE($J$2:$J$501,3)-QUARTILE($J$2:$J$501,1))),\"Outlier\")","v":false}]
[922964,"COMERICA",8000,8300,8350,8355,30.06,2.1800000000000002,{"$f":"(IF(IFERROR(G425/H425,\"\")<0,\"\",IFERROR(G425/H425,\"\")))","v":13.788990825688073},{"$f":"IF(COUNTIF($C$2:$C$501,C425)=1,\"\",IF(I425=\"\",\"\",ABS(IF(I425=\"\",0,(((H425*OFFSET($M$1,MATCH($C425,$L$2:$L$40,0),,)-G425)/G425))))))","v":3.5405036661827601E-2},{"$f":"IF(OR(J425<(QUARTILE($J$2:$J$501,1))-1.5*(QUARTILE($J$2:$J$501,3)-QUARTILE($J$2:$J$501,1)),J425>(QUARTILE($J$2:$J$501,3))+1.5*(QUARTILE($J$2:$J$501,3)-QUARTILE($J$2:$J$501,1))),\"\",J425)","v":3.5405036661827601E-2},null,null,{"$f":"IF(COUNTIF($D$2:$D$501,D425)=1,\"\",IF(I425=\"\",\"\",ABS(IF(I425=\"\",0,(((H425*OFFSET($P$1,MATCH($D425,$O$2:$O$40,0),,)-G425)/G425))))))","v":0.11730661656789085},null,null,{"$f":"IFERROR(IF(COUNTIF($E$2:$E$501,E425)=1,\"\",IF(I425=\"\",\"\",ABS(IF(I425=\"\",0,(((H425*OFFSET($S$1,MATCH($E425,$R$2:$R$41,0),,)-G425)/G425)))))),\"\")","v":0.11730661656789085},null,null,{"$f":"IFERROR(IF(COUNTIF($F$2:$F$501,F425)=1,\"\",IF(I425=\"\",\"\",ABS(IF(I425=\"\",0,(((H425*OFFSET($V$1,MATCH($F425,$U$2:$U$105,0),,)-G425)/G425)))))),\"\")","v":0.11730661656789085},null,null,{"$f":"IF(OR(J425<(QUARTILE($J$2:$J$501,1))-1.5*(QUARTILE($J$2:$J$501,3)-QUARTILE($J$2:$J$501,1)),J425>(QUARTILE($J$2:$J$501,3))+1.5*(QUARTILE($J$2:$J$501,3)-QUARTILE($J$2:$J$501,1))),\"Outlier\")","v":false}]
[923036,"SEALED AIR",2000,2700,2720,2723,14.95,0.46,{"$f":"(IF(IFERROR(G426/H426,\"\")<0,\"\",IFERROR(G426/H426,\"\")))","v":32.5},{"$f":"IF(COUNTIF($C$2:$C$501,C426)=1,\"\",IF(I426=\"\",\"\",ABS(IF(I426=\"\",0,(((H426*OFFSET($M$1,MATCH($C426,$L$2:$L$40,0),,)-G426)/G426))))))","v":0.5537282768385412},{"$f":"IF(OR(J426<(QUARTILE($J$2:$J$501,1))-1.5*(QUARTILE($J$2:$J$501,3)-QUARTILE($J$2:$J$501,1)),J426>(QUARTILE($J$2:$J$501,3))+1.5*(QUARTILE($J$2:$J$501,3)-QUARTILE($J$2:$J$501,1))),\"\",J426)","v":0.5537282768385412},null,null,{"$f":"IF(COUNTIF($D$2:$D$501,D426)=1,\"\",IF(I426=\"\",\"\",ABS(IF(I426=\"\",0,(((H426*OFFSET($P$1,MATCH($D426,$O$2:$O$40,0),,)-G426)/G426))))))","v":0.55943228442812221},null,null,{"$f":"IFERROR(IF(COUNTIF($E$2:$E$501,E426)=1,\"\",IF(I426=\"\",\"\",ABS(IF(I426=\"\",0,(((H426*OFFSET($S$1,MATCH($E426,$R$2:$R$41,0),,)-G426)/G426)))))),\"\")","v":0.44285925780856711},null,null,{"$f":"IFERROR(IF(COUNTIF($F$2:$F$501,F426)=1,\"\",IF(I426=\"\",\"\",ABS(IF(I426=\"\",0,(((H426*OFFSET($V$1,MATCH($F426,$U$2:$U$105,0),,)-G426)/G426)))))),\"\")","v":0.33016132844412599},null,null,{"$f":"IF(OR(J426<(QUARTILE($J$2:$J$501,1))-1.5*(QUARTILE($J$2:$J$501,3)-QUARTILE($J$2:$J$501,1)),J426>(QUARTILE($J$2:$J$501,3))+1.5*(QUARTILE($J$2:$J$501,3)-QUARTILE($J$2:$J$501,1))),\"Outlier\")","v":false}]
[923425,"TARGET",5000,5300,5370,5373,57.46,4.33,{"$f":"(IF(IFERROR(G427/H427,\"\")<0,\"\",IFERROR(G427/H427,\"\")))","v":13.270207852193995},{"$f":"IF(COUNTIF($C$2:$C$501,C427)=1,\"\",IF(I427=\"\",\"\",ABS(IF(I427=\"\",0,(((H427*OFFSET($M$1,MATCH($C427,$L$2:$L$40,0),,)-G427)/G427))))))","v":0.18841484154953023},{"$f":"IF(OR(J427<(QUARTILE($J$2:$J$501,1))-1.5*(QUARTILE($J$2:$J$501,3)-QUARTILE($J$2:$J$501,1)),J427>(QUARTILE($J$2:$J$501,3))+1.5*(QUARTILE($J$2:$J$501,3)-QUARTILE($J$2:$J$501,1))),\"\",J427)","v":0.18841484154953023},null,null,{"$f":"IF(COUNTIF($D$2:$D$501,D427)=1,\"\",IF(I427=\"\",\"\",ABS(IF(I427=\"\",0,(((H427*OFFSET($P$1,MATCH($D427,$O$2:$O$40,0),,)-G427)/G427))))))","v":9.8058970477666638E-2},null,null,{"$f":"IFERROR(IF(COUNTIF($E$2:$E$501,E427)=1,\"\",IF(I427=\"\",\"\",ABS(IF(I427=\"\",0,(((H427*OFFSET($S$1,MATCH($E427,$R$2:$R$41,0),,)-G427)/G427)))))),\"\")","v":8.0096448971968784E-2},null,null,{"$f":"IFERROR(IF(COUNTIF($F$2:$F$501,F427)=1,\"\",IF(I427=\"\",\"\",ABS(IF(I427=\"\",0,(((H427*OFFSET($V$1,MATCH($F427,$U$2:$U$105,0),,)-G427)/G427)))))),\"\")","v":0.435739272991301},null,null,{"$f":"IF(OR(J427<(QUARTILE($J$2:$J$501,1))-1.5*(QUARTILE($J$2:$J$501,3)-QUARTILE($J$2:$J$501,1)),J427>(QUARTILE($J$2:$J$501,3))+1.5*(QUARTILE($J$2:$J$501,3)-QUARTILE($J$2:$J$501,1))),\"Outlier\")","v":false}]
[923449,"GANNETT",5000,5500,5550,5557,14.66,1.8,{"$f":"(IF(IFERROR(G428/H428,\"\")<0,\"\",IFERROR(G428/H428,\"\")))","v":8.1444444444444439},{"$f":"IF(COUNTIF($C$2:$C$501,C428)=1,\"\",IF(I428=\"\",\"\",ABS(IF(I428=\"\",0,(((H428*OFFSET($M$1,MATCH($C428,$L$2:$L$40,0),,)-G428)/G428))))))","v":0.93635208264597725},{"$f":"IF(OR(J428<(QUARTILE($J$2:$J$501,1))-1.5*(QUARTILE($J$2:$J$501,3)-QUARTILE($J$2:$J$501,1)),J428>(QUARTILE($J$2:$J$501,3))+1.5*(QUARTILE($J$2:$J$501,3)-QUARTILE($J$2:$J$501,1))),\"\",J428)","v":0.93635208264597725},null,null,{"$f":"IF(COUNTIF($D$2:$D$501,D428)=1,\"\",IF(I428=\"\",\"\",ABS(IF(I428=\"\",0,(((H428*OFFSET($P$1,MATCH($D428,$O$2:$O$40,0),,)-G428)/G428))))))","v":0.86265964827403663},null,null,{"$f":"IFERROR(IF(COUNTIF($E$2:$E$501,E428)=1,\"\",IF(I428=\"\",\"\",ABS(IF(I428=\"\",0,(((H428*OFFSET($S$1,MATCH($E428,$R$2:$R$41,0),,)-G428)/G428)))))),\"\")","v":0.86265964827403663},null,null,{"$f":"IFERROR(IF(COUNTIF($F$2:$F$501,F428)=1,\"\",IF(I428=\"\",\"\",ABS(IF(I428=\"\",0,(((H428*OFFSET($V$1,MATCH($F428,$U$2:$U$105,0),,)-G428)/G428)))))),\"\")","v":0.8768687963361208},null,null,{"$f":"IF(OR(J428<(QUARTILE($J$2:$J$501,1))-1.5*(QUARTILE($J$2:$J$501,3)-QUARTILE($J$2:$J$501,1)),J428>(QUARTILE($J$2:$J$501,3))+1.5*(QUARTILE($J$2:$J$501,3)-QUARTILE($J$2:$J$501,1))),\"Outlier\")","v":false}]
[923465,"INTERPUBLIC GP.",5000,5500,5550,5555,10.45,0.99,{"$f":"(IF(IFERROR(G429/H429,\"\")<0,\"\",IFERROR(G429/H429,\"\")))","v":10.555555555555555},{"$f":"IF(COUNTIF($C$2:$C$501,C429)=1,\"\",IF(I429=\"\",\"\",ABS(IF(I429=\"\",0,(((H429*OFFSET($M$1,MATCH($C429,$L$2:$L$40,0),,)-G429)/G429))))))","v":0.49404850166263303},{"$f":"IF(OR(J429<(QUARTILE($J$2:$J$501,1))-1.5*(QUARTILE($J$2:$J$501,3)-QUARTILE($J$2:$J$501,1)),J429>(QUARTILE($J$2:$J$501,3))+1.5*(QUARTILE($J$2:$J$501,3)-QUARTILE($J$2:$J$501,1))),\"\",J429)","v":0.49404850166263303},null,null,{"$f":"IF(COUNTIF($D$2:$D$501,D429)=1,\"\",IF(I429=\"\",\"\",ABS(IF(I429=\"\",0,(((H429*OFFSET($P$1,MATCH($D429,$O$2:$O$40,0),,)-G429)/G429))))))","v":0.43718897072091467},null,null,{"$f":"IFERROR(IF(COUNTIF($E$2:$E$501,E429)=1,\"\",IF(I429=\"\",\"\",ABS(IF(I429=\"\",0,(((H429*OFFSET($S$1,MATCH($E429,$R$2:$R$41,0),,)-G429)/G429)))))),\"\")","v":0.43718897072091467},null,null,{"$f":"IFERROR(IF(COUNTIF($F$2:$F$501,F429)=1,\"\",IF(I429=\"\",\"\",ABS(IF(I429=\"\",0,(((H429*OFFSET($V$1,MATCH($F429,$U$2:$U$105,0),,)-G429)/G429)))))),\"\")","v":""},null,null,{"$f":"IF(OR(J429<(QUARTILE($J$2:$J$501,1))-1.5*(QUARTILE($J$2:$J$501,3)-QUARTILE($J$2:$J$501,1)),J429>(QUARTILE($J$2:$J$501,3))+1.5*(QUARTILE($J$2:$J$501,3)-QUARTILE($J$2:$J$501,1))),\"Outlier\")","v":false}]
[923468,"KINDER MORGAN KANS DEAD - DELIST.14/06/07",1,500,570,577,107.48,0,{"$f":"(IF(IFERROR(G430/H430,\"\")<0,\"\",IFERROR(G430/H430,\"\")))","v":""},{"$f":"IF(COUNTIF($C$2:$C$501,C430)=1,\"\",IF(I430=\"\",\"\",ABS(IF(I430=\"\",0,(((H430*OFFSET($M$1,MATCH($C430,$L$2:$L$40,0),,)-G430)/G430))))))","v":""},{"$f":"IF(OR(J430<(QUARTILE($J$2:$J$501,1))-1.5*(QUARTILE($J$2:$J$501,3)-QUARTILE($J$2:$J$501,1)),J430>(QUARTILE($J$2:$J$501,3))+1.5*(QUARTILE($J$2:$J$501,3)-QUARTILE($J$2:$J$501,1))),\"\",J430)","v":""},null,null,{"$f":"IF(COUNTIF($D$2:$D$501,D430)=1,\"\",IF(I430=\"\",\"\",ABS(IF(I430=\"\",0,(((H430*OFFSET($P$1,MATCH($D430,$O$2:$O$40,0),,)-G430)/G430))))))","v":""},null,null,{"$f":"IFERROR(IF(COUNTIF($E$2:$E$501,E430)=1,\"\",IF(I430=\"\",\"\",ABS(IF(I430=\"\",0,(((H430*OFFSET($S$1,MATCH($E430,$R$2:$R$41,0),,)-G430)/G430)))))),\"\")","v":""},null,null,{"$f":"IFERROR(IF(COUNTIF($F$2:$F$501,F430)=1,\"\",IF(I430=\"\",\"\",ABS(IF(I430=\"\",0,(((H430*OFFSET($V$1,MATCH($F430,$U$2:$U$105,0),,)-G430)/G430)))))),\"\")","v":""},null,null,{"$f":"IF(OR(J430<(QUARTILE($J$2:$J$501,1))-1.5*(QUARTILE($J$2:$J$501,3)-QUARTILE($J$2:$J$501,1)),J430>(QUARTILE($J$2:$J$501,3))+1.5*(QUARTILE($J$2:$J$501,3)-QUARTILE($J$2:$J$501,1))),\"Outlier\")","v":"Outlier"}]
[923649,"ROBERT HALF INTL.",2000,2700,2790,2793,27.34,1.2,{"$f":"(IF(IFERROR(G431/H431,\"\")<0,\"\",IFERROR(G431/H431,\"\")))","v":22.783333333333335},{"$f":"IF(COUNTIF($C$2:$C$501,C431)=1,\"\",IF(I431=\"\",\"\",ABS(IF(I431=\"\",0,(((H431*OFFSET($M$1,MATCH($C431,$L$2:$L$40,0),,)-G431)/G431))))))","v":0.36340171165702678},{"$f":"IF(OR(J431<(QUARTILE($J$2:$J$501,1))-1.5*(QUARTILE($J$2:$J$501,3)-QUARTILE($J$2:$J$501,1)),J431>(QUARTILE($J$2:$J$501,3))+1.5*(QUARTILE($J$2:$J$501,3)-QUARTILE($J$2:$J$501,1))),\"\",J431)","v":0.36340171165702678},null,null,{"$f":"IF(COUNTIF($D$2:$D$501,D431)=1,\"\",IF(I431=\"\",\"\",ABS(IF(I431=\"\",0,(((H431*OFFSET($P$1,MATCH($D431,$O$2:$O$40,0),,)-G431)/G431))))))","v":0.37153837208108148},null,null,{"$f":"IFERROR(IF(COUNTIF($E$2:$E$501,E431)=1,\"\",IF(I431=\"\",\"\",ABS(IF(I431=\"\",0,(((H431*OFFSET($S$1,MATCH($E431,$R$2:$R$41,0),,)-G431)/G431)))))),\"\")","v":0.34523297498954642},null,null,{"$f":"IFERROR(IF(COUNTIF($F$2:$F$501,F431)=1,\"\",IF(I431=\"\",\"\",ABS(IF(I431=\"\",0,(((H431*OFFSET($V$1,MATCH($F431,$U$2:$U$105,0),,)-G431)/G431)))))),\"\")","v":""},null,null,{"$f":"IF(OR(J431<(QUARTILE($J$2:$J$501,1))-1.5*(QUARTILE($J$2:$J$501,3)-QUARTILE($J$2:$J$501,1)),J431>(QUARTILE($J$2:$J$501,3))+1.5*(QUARTILE($J$2:$J$501,3)-QUARTILE($J$2:$J$501,1))),\"Outlier\")","v":false}]
[923731,"DILLARDS 'A'",5000,5300,5370,5371,63.53,9.07,{"$f":"(IF(IFERROR(G432/H432,\"\")<0,\"\",IFERROR(G432/H432,\"\")))","v":7.0044101433296584},{"$f":"IF(COUNTIF($C$2:$C$501,C432)=1,\"\",IF(I432=\"\",\"\",ABS(IF(I432=\"\",0,(((H432*OFFSET($M$1,MATCH($C432,$L$2:$L$40,0),,)-G432)/G432))))))","v":1.2515117817612109},{"$f":"IF(OR(J432<(QUARTILE($J$2:$J$501,1))-1.5*(QUARTILE($J$2:$J$501,3)-QUARTILE($J$2:$J$501,1)),J432>(QUARTILE($J$2:$J$501,3))+1.5*(QUARTILE($J$2:$J$501,3)-QUARTILE($J$2:$J$501,1))),\"\",J432)","v":""},null,null,{"$f":"IF(COUNTIF($D$2:$D$501,D432)=1,\"\",IF(I432=\"\",\"\",ABS(IF(I432=\"\",0,(((H432*OFFSET($P$1,MATCH($D432,$O$2:$O$40,0),,)-G432)/G432))))))","v":1.0803280324869733},null,null,{"$f":"IFERROR(IF(COUNTIF($E$2:$E$501,E432)=1,\"\",IF(I432=\"\",\"\",ABS(IF(I432=\"\",0,(((H432*OFFSET($S$1,MATCH($E432,$R$2:$R$41,0),,)-G432)/G432)))))),\"\")","v":1.0462971306619122},null,null,{"$f":"IFERROR(IF(COUNTIF($F$2:$F$501,F432)=1,\"\",IF(I432=\"\",\"\",ABS(IF(I432=\"\",0,(((H432*OFFSET($V$1,MATCH($F432,$U$2:$U$105,0),,)-G432)/G432)))))),\"\")","v":0.93181115574116535},null,null,{"$f":"IF(OR(J432<(QUARTILE($J$2:$J$501,1))-1.5*(QUARTILE($J$2:$J$501,3)-QUARTILE($J$2:$J$501,1)),J432>(QUARTILE($J$2:$J$501,3))+1.5*(QUARTILE($J$2:$J$501,3)-QUARTILE($J$2:$J$501,1))),\"Outlier\")","v":"Outlier"}]
[923755,"FAMILY DOLLAR STORES",5000,5300,5370,5379,67.2,3.4,{"$f":"(IF(IFERROR(G433/H433,\"\")<0,\"\",IFERROR(G433/H433,\"\")))","v":19.764705882352942},{"$f":"IF(COUNTIF($C$2:$C$501,C433)=1,\"\",IF(I433=\"\",\"\",ABS(IF(I433=\"\",0,(((H433*OFFSET($M$1,MATCH($C433,$L$2:$L$40,0),,)-G433)/G433))))))","v":0.20208719239908998},{"$f":"IF(OR(J433<(QUARTILE($J$2:$J$501,1))-1.5*(QUARTILE($J$2:$J$501,3)-QUARTILE($J$2:$J$501,1)),J433>(QUARTILE($J$2:$J$501,3))+1.5*(QUARTILE($J$2:$J$501,3)-QUARTILE($J$2:$J$501,1))),\"\",J433)","v":0.20208719239908998},null,null,{"$f":"IF(COUNTIF($D$2:$D$501,D433)=1,\"\",IF(I433=\"\",\"\",ABS(IF(I433=\"\",0,(((H433*OFFSET($P$1,MATCH($D433,$O$2:$O$40,0),,)-G433)/G433))))))","v":0.26275296688249594},null,null,{"$f":"IFERROR(IF(COUNTIF($E$2:$E$501,E433)=1,\"\",IF(I433=\"\",\"\",ABS(IF(I433=\"\",0,(((H433*OFFSET($S$1,MATCH($E433,$R$2:$R$41,0),,)-G433)/G433)))))),\"\")","v":0.27481317133729355},null,null,{"$f":"IFERROR(IF(COUNTIF($F$2:$F$501,F433)=1,\"\",IF(I433=\"\",\"\",ABS(IF(I433=\"\",0,(((H433*OFFSET($V$1,MATCH($F433,$U$2:$U$105,0),,)-G433)/G433)))))),\"\")","v":0.37409208491859453},null,null,{"$f":"IF(OR(J433<(QUARTILE($J$2:$J$501,1))-1.5*(QUARTILE($J$2:$J$501,3)-QUARTILE($J$2:$J$501,1)),J433>(QUARTILE($J$2:$J$501,3))+1.5*(QUARTILE($J$2:$J$501,3)-QUARTILE($J$2:$J$501,1))),\"Outlier\")","v":false}]
[929635,"MOLEX",2000,2700,2730,2733,23.23,1.62,{"$f":"(IF(IFERROR(G434/H434,\"\")<0,\"\",IFERROR(G434/H434,\"\")))","v":14.339506172839506},{"$f":"IF(COUNTIF($C$2:$C$501,C434)=1,\"\",IF(I434=\"\",\"\",ABS(IF(I434=\"\",0,(((H434*OFFSET($M$1,MATCH($C434,$L$2:$L$40,0),,)-G434)/G434))))))","v":1.1459587793835466E-2},{"$f":"IF(OR(J434<(QUARTILE($J$2:$J$501,1))-1.5*(QUARTILE($J$2:$J$501,3)-QUARTILE($J$2:$J$501,1)),J434>(QUARTILE($J$2:$J$501,3))+1.5*(QUARTILE($J$2:$J$501,3)-QUARTILE($J$2:$J$501,1))),\"\",J434)","v":1.1459587793835466E-2},null,null,{"$f":"IF(COUNTIF($D$2:$D$501,D434)=1,\"\",IF(I434=\"\",\"\",ABS(IF(I434=\"\",0,(((H434*OFFSET($P$1,MATCH($D434,$O$2:$O$40,0),,)-G434)/G434))))))","v":1.4683501997690563E-3},null,null,{"$f":"IFERROR(IF(COUNTIF($E$2:$E$501,E434)=1,\"\",IF(I434=\"\",\"\",ABS(IF(I434=\"\",0,(((H434*OFFSET($S$1,MATCH($E434,$R$2:$R$41,0),,)-G434)/G434)))))),\"\")","v":0.1420321763845194},null,null,{"$f":"IFERROR(IF(COUNTIF($F$2:$F$501,F434)=1,\"\",IF(I434=\"\",\"\",ABS(IF(I434=\"\",0,(((H434*OFFSET($V$1,MATCH($F434,$U$2:$U$105,0),,)-G434)/G434)))))),\"\")","v":0.14021954444005205},null,null,{"$f":"IF(OR(J434<(QUARTILE($J$2:$J$501,1))-1.5*(QUARTILE($J$2:$J$501,3)-QUARTILE($J$2:$J$501,1)),J434>(QUARTILE($J$2:$J$501,3))+1.5*(QUARTILE($J$2:$J$501,3)-QUARTILE($J$2:$J$501,1))),\"Outlier\")","v":false}]
[929776,"WEATHERFORD INTL.",1,500,570,573,12.18,1.94,{"$f":"(IF(IFERROR(G435/H435,\"\")<0,\"\",IFERROR(G435/H435,\"\")))","v":6.2783505154639174},{"$f":"IF(COUNTIF($C$2:$C$501,C435)=1,\"\",IF(I435=\"\",\"\",ABS(IF(I435=\"\",0,(((H435*OFFSET($M$1,MATCH($C435,$L$2:$L$40,0),,)-G435)/G435))))))","v":0.47692069581002533},{"$f":"IF(OR(J435<(QUARTILE($J$2:$J$501,1))-1.5*(QUARTILE($J$2:$J$501,3)-QUARTILE($J$2:$J$501,1)),J435>(QUARTILE($J$2:$J$501,3))+1.5*(QUARTILE($J$2:$J$501,3)-QUARTILE($J$2:$J$501,1))),\"\",J435)","v":0.47692069581002533},null,null,{"$f":"IF(COUNTIF($D$2:$D$501,D435)=1,\"\",IF(I435=\"\",\"\",ABS(IF(I435=\"\",0,(((H435*OFFSET($P$1,MATCH($D435,$O$2:$O$40,0),,)-G435)/G435))))))","v":0.47692069581002533},null,null,{"$f":"IFERROR(IF(COUNTIF($E$2:$E$501,E435)=1,\"\",IF(I435=\"\",\"\",ABS(IF(I435=\"\",0,(((H435*OFFSET($S$1,MATCH($E435,$R$2:$R$41,0),,)-G435)/G435)))))),\"\")","v":0.64733648268852106},null,null,{"$f":"IFERROR(IF(COUNTIF($F$2:$F$501,F435)=1,\"\",IF(I435=\"\",\"\",ABS(IF(I435=\"\",0,(((H435*OFFSET($V$1,MATCH($F435,$U$2:$U$105,0),,)-G435)/G435)))))),\"\")","v":0.4343870179692586},null,null,{"$f":"IF(OR(J435<(QUARTILE($J$2:$J$501,1))-1.5*(QUARTILE($J$2:$J$501,3)-QUARTILE($J$2:$J$501,1)),J435>(QUARTILE($J$2:$J$501,3))+1.5*(QUARTILE($J$2:$J$501,3)-QUARTILE($J$2:$J$501,1))),\"Outlier\")","v":false}]
[929814,"CONAGRA FOODS",3000,3500,3570,3577,25.53,1.1200000000000001,{"$f":"(IF(IFERROR(G436/H436,\"\")<0,\"\",IFERROR(G436/H436,\"\")))","v":22.794642857142858},{"$f":"IF(COUNTIF($C$2:$C$501,C436)=1,\"\",IF(I436=\"\",\"\",ABS(IF(I436=\"\",0,(((H436*OFFSET($M$1,MATCH($C436,$L$2:$L$40,0),,)-G436)/G436))))))","v":0.29851131232079392},{"$f":"IF(OR(J436<(QUARTILE($J$2:$J$501,1))-1.5*(QUARTILE($J$2:$J$501,3)-QUARTILE($J$2:$J$501,1)),J436>(QUARTILE($J$2:$J$501,3))+1.5*(QUARTILE($J$2:$J$501,3)-QUARTILE($J$2:$J$501,1))),\"\",J436)","v":0.29851131232079392},null,null,{"$f":"IF(COUNTIF($D$2:$D$501,D436)=1,\"\",IF(I436=\"\",\"\",ABS(IF(I436=\"\",0,(((H436*OFFSET($P$1,MATCH($D436,$O$2:$O$40,0),,)-G436)/G436))))))","v":0.21629276865000016},null,null,{"$f":"IFERROR(IF(COUNTIF($E$2:$E$501,E436)=1,\"\",IF(I436=\"\",\"\",ABS(IF(I436=\"\",0,(((H436*OFFSET($S$1,MATCH($E436,$R$2:$R$41,0),,)-G436)/G436)))))),\"\")","v":0.21807139140579154},null,null,{"$f":"IFERROR(IF(COUNTIF($F$2:$F$501,F436)=1,\"\",IF(I436=\"\",\"\",ABS(IF(I436=\"\",0,(((H436*OFFSET($V$1,MATCH($F436,$U$2:$U$105,0),,)-G436)/G436)))))),\"\")","v":0.23297637594792978},null,null,{"$f":"IF(OR(J436<(QUARTILE($J$2:$J$501,1))-1.5*(QUARTILE($J$2:$J$501,3)-QUARTILE($J$2:$J$501,1)),J436>(QUARTILE($J$2:$J$501,3))+1.5*(QUARTILE($J$2:$J$501,3)-QUARTILE($J$2:$J$501,1))),\"Outlier\")","v":false}]
[932913,"OMNICOM GP.",5000,5500,5550,5555,46.96,3.36,{"$f":"(IF(IFERROR(G437/H437,\"\")<0,\"\",IFERROR(G437/H437,\"\")))","v":13.976190476190476},{"$f":"IF(COUNTIF($C$2:$C$501,C437)=1,\"\",IF(I437=\"\",\"\",ABS(IF(I437=\"\",0,(((H437*OFFSET($M$1,MATCH($C437,$L$2:$L$40,0),,)-G437)/G437))))))","v":0.12838416082413495},{"$f":"IF(OR(J437<(QUARTILE($J$2:$J$501,1))-1.5*(QUARTILE($J$2:$J$501,3)-QUARTILE($J$2:$J$501,1)),J437>(QUARTILE($J$2:$J$501,3))+1.5*(QUARTILE($J$2:$J$501,3)-QUARTILE($J$2:$J$501,1))),\"\",J437)","v":0.12838416082413495},null,null,{"$f":"IF(COUNTIF($D$2:$D$501,D437)=1,\"\",IF(I437=\"\",\"\",ABS(IF(I437=\"\",0,(((H437*OFFSET($P$1,MATCH($D437,$O$2:$O$40,0),,)-G437)/G437))))))","v":8.5440846711423227E-2},null,null,{"$f":"IFERROR(IF(COUNTIF($E$2:$E$501,E437)=1,\"\",IF(I437=\"\",\"\",ABS(IF(I437=\"\",0,(((H437*OFFSET($S$1,MATCH($E437,$R$2:$R$41,0),,)-G437)/G437)))))),\"\")","v":8.5440846711423227E-2},null,null,{"$f":"IFERROR(IF(COUNTIF($F$2:$F$501,F437)=1,\"\",IF(I437=\"\",\"\",ABS(IF(I437=\"\",0,(((H437*OFFSET($V$1,MATCH($F437,$U$2:$U$105,0),,)-G437)/G437)))))),\"\")","v":""},null,null,{"$f":"IF(OR(J437<(QUARTILE($J$2:$J$501,1))-1.5*(QUARTILE($J$2:$J$501,3)-QUARTILE($J$2:$J$501,1)),J437>(QUARTILE($J$2:$J$501,3))+1.5*(QUARTILE($J$2:$J$501,3)-QUARTILE($J$2:$J$501,1))),\"Outlier\")","v":false}]
[933189,"MELLON FINL. DEAD - MERGER.02/07/07",8000,8700,8770,8771,44,2.46,{"$f":"(IF(IFERROR(G438/H438,\"\")<0,\"\",IFERROR(G438/H438,\"\")))","v":17.886178861788618},{"$f":"IF(COUNTIF($C$2:$C$501,C438)=1,\"\",IF(I438=\"\",\"\",ABS(IF(I438=\"\",0,(((H438*OFFSET($M$1,MATCH($C438,$L$2:$L$40,0),,)-G438)/G438))))))","v":0.25636486122867147},{"$f":"IF(OR(J438<(QUARTILE($J$2:$J$501,1))-1.5*(QUARTILE($J$2:$J$501,3)-QUARTILE($J$2:$J$501,1)),J438>(QUARTILE($J$2:$J$501,3))+1.5*(QUARTILE($J$2:$J$501,3)-QUARTILE($J$2:$J$501,1))),\"\",J438)","v":0.25636486122867147},null,null,{"$f":"IF(COUNTIF($D$2:$D$501,D438)=1,\"\",IF(I438=\"\",\"\",ABS(IF(I438=\"\",0,(((H438*OFFSET($P$1,MATCH($D438,$O$2:$O$40,0),,)-G438)/G438))))))","v":0.29959108775136462},null,null,{"$f":"IFERROR(IF(COUNTIF($E$2:$E$501,E438)=1,\"\",IF(I438=\"\",\"\",ABS(IF(I438=\"\",0,(((H438*OFFSET($S$1,MATCH($E438,$R$2:$R$41,0),,)-G438)/G438)))))),\"\")","v":0.29959108775136462},null,null,{"$f":"IFERROR(IF(COUNTIF($F$2:$F$501,F438)=1,\"\",IF(I438=\"\",\"\",ABS(IF(I438=\"\",0,(((H438*OFFSET($V$1,MATCH($F438,$U$2:$U$105,0),,)-G438)/G438)))))),\"\")","v":0.23267934894748407},null,null,{"$f":"IF(OR(J438<(QUARTILE($J$2:$J$501,1))-1.5*(QUARTILE($J$2:$J$501,3)-QUARTILE($J$2:$J$501,1)),J438>(QUARTILE($J$2:$J$501,3))+1.5*(QUARTILE($J$2:$J$501,3)-QUARTILE($J$2:$J$501,1))),\"Outlier\")","v":false}]
[933974,"TRAVELERS COS.",8000,8500,8530,8536,62.85,3.45,{"$f":"(IF(IFERROR(G439/H439,\"\")<0,\"\",IFERROR(G439/H439,\"\")))","v":18.217391304347824},{"$f":"IF(COUNTIF($C$2:$C$501,C439)=1,\"\",IF(I439=\"\",\"\",ABS(IF(I439=\"\",0,(((H439*OFFSET($M$1,MATCH($C439,$L$2:$L$40,0),,)-G439)/G439))))))","v":0.26988497541903439},{"$f":"IF(OR(J439<(QUARTILE($J$2:$J$501,1))-1.5*(QUARTILE($J$2:$J$501,3)-QUARTILE($J$2:$J$501,1)),J439>(QUARTILE($J$2:$J$501,3))+1.5*(QUARTILE($J$2:$J$501,3)-QUARTILE($J$2:$J$501,1))),\"\",J439)","v":0.26988497541903439},null,null,{"$f":"IF(COUNTIF($D$2:$D$501,D439)=1,\"\",IF(I439=\"\",\"\",ABS(IF(I439=\"\",0,(((H439*OFFSET($P$1,MATCH($D439,$O$2:$O$40,0),,)-G439)/G439))))))","v":0.40919849685121162},null,null,{"$f":"IFERROR(IF(COUNTIF($E$2:$E$501,E439)=1,\"\",IF(I439=\"\",\"\",ABS(IF(I439=\"\",0,(((H439*OFFSET($S$1,MATCH($E439,$R$2:$R$41,0),,)-G439)/G439)))))),\"\")","v":0.39280315228316148},null,null,{"$f":"IFERROR(IF(COUNTIF($F$2:$F$501,F439)=1,\"\",IF(I439=\"\",\"\",ABS(IF(I439=\"\",0,(((H439*OFFSET($V$1,MATCH($F439,$U$2:$U$105,0),,)-G439)/G439)))))),\"\")","v":0.21178574936360453},null,null,{"$f":"IF(OR(J439<(QUARTILE($J$2:$J$501,1))-1.5*(QUARTILE($J$2:$J$501,3)-QUARTILE($J$2:$J$501,1)),J439>(QUARTILE($J$2:$J$501,3))+1.5*(QUARTILE($J$2:$J$501,3)-QUARTILE($J$2:$J$501,1))),\"Outlier\")","v":false}]
[936324,"PROGRESSIVE OHIO",8000,8500,8530,8536,20.62,1.46,{"$f":"(IF(IFERROR(G440/H440,\"\")<0,\"\",IFERROR(G440/H440,\"\")))","v":14.123287671232879},{"$f":"IF(COUNTIF($C$2:$C$501,C440)=1,\"\",IF(I440=\"\",\"\",ABS(IF(I440=\"\",0,(((H440*OFFSET($M$1,MATCH($C440,$L$2:$L$40,0),,)-G440)/G440))))))","v":5.8236905627377766E-2},{"$f":"IF(OR(J440<(QUARTILE($J$2:$J$501,1))-1.5*(QUARTILE($J$2:$J$501,3)-QUARTILE($J$2:$J$501,1)),J440>(QUARTILE($J$2:$J$501,3))+1.5*(QUARTILE($J$2:$J$501,3)-QUARTILE($J$2:$J$501,1))),\"\",J440)","v":5.8236905627377766E-2},null,null,{"$f":"IF(COUNTIF($D$2:$D$501,D440)=1,\"\",IF(I440=\"\",\"\",ABS(IF(I440=\"\",0,(((H440*OFFSET($P$1,MATCH($D440,$O$2:$O$40,0),,)-G440)/G440))))))","v":0.23793507456618779},null,null,{"$f":"IFERROR(IF(COUNTIF($E$2:$E$501,E440)=1,\"\",IF(I440=\"\",\"\",ABS(IF(I440=\"\",0,(((H440*OFFSET($S$1,MATCH($E440,$R$2:$R$41,0),,)-G440)/G440)))))),\"\")","v":0.2167869952720054},null,null,{"$f":"IFERROR(IF(COUNTIF($F$2:$F$501,F440)=1,\"\",IF(I440=\"\",\"\",ABS(IF(I440=\"\",0,(((H440*OFFSET($V$1,MATCH($F440,$U$2:$U$105,0),,)-G440)/G440)))))),\"\")","v":1.6704309206571271E-2},null,null,{"$f":"IF(OR(J440<(QUARTILE($J$2:$J$501,1))-1.5*(QUARTILE($J$2:$J$501,3)-QUARTILE($J$2:$J$501,1)),J440>(QUARTILE($J$2:$J$501,3))+1.5*(QUARTILE($J$2:$J$501,3)-QUARTILE($J$2:$J$501,1))),\"Outlier\")","v":false}]
[936374,"SIGMA ALDRICH",1000,1300,1350,1357,72.17,3.71,{"$f":"(IF(IFERROR(G441/H441,\"\")<0,\"\",IFERROR(G441/H441,\"\")))","v":19.452830188679247},{"$f":"IF(COUNTIF($C$2:$C$501,C441)=1,\"\",IF(I441=\"\",\"\",ABS(IF(I441=\"\",0,(((H441*OFFSET($M$1,MATCH($C441,$L$2:$L$40,0),,)-G441)/G441))))))","v":0.20336129431897554},{"$f":"IF(OR(J441<(QUARTILE($J$2:$J$501,1))-1.5*(QUARTILE($J$2:$J$501,3)-QUARTILE($J$2:$J$501,1)),J441>(QUARTILE($J$2:$J$501,3))+1.5*(QUARTILE($J$2:$J$501,3)-QUARTILE($J$2:$J$501,1))),\"\",J441)","v":0.20336129431897554},null,null,{"$f":"IF(COUNTIF($D$2:$D$501,D441)=1,\"\",IF(I441=\"\",\"\",ABS(IF(I441=\"\",0,(((H441*OFFSET($P$1,MATCH($D441,$O$2:$O$40,0),,)-G441)/G441))))))","v":7.0930635700819145E-2},null,null,{"$f":"IFERROR(IF(COUNTIF($E$2:$E$501,E441)=1,\"\",IF(I441=\"\",\"\",ABS(IF(I441=\"\",0,(((H441*OFFSET($S$1,MATCH($E441,$R$2:$R$41,0),,)-G441)/G441)))))),\"\")","v":7.0930635700819145E-2},null,null,{"$f":"IFERROR(IF(COUNTIF($F$2:$F$501,F441)=1,\"\",IF(I441=\"\",\"\",ABS(IF(I441=\"\",0,(((H441*OFFSET($V$1,MATCH($F441,$U$2:$U$105,0),,)-G441)/G441)))))),\"\")","v":0.12155293940367393},null,null,{"$f":"IF(OR(J441<(QUARTILE($J$2:$J$501,1))-1.5*(QUARTILE($J$2:$J$501,3)-QUARTILE($J$2:$J$501,1)),J441>(QUARTILE($J$2:$J$501,3))+1.5*(QUARTILE($J$2:$J$501,3)-QUARTILE($J$2:$J$501,1))),\"Outlier\")","v":false}]
[937083,"CONSTELLATION BRANDS 'A'",3000,3500,3530,3535,21.76,1.76,{"$f":"(IF(IFERROR(G442/H442,\"\")<0,\"\",IFERROR(G442/H442,\"\")))","v":12.363636363636365},{"$f":"IF(COUNTIF($C$2:$C$501,C442)=1,\"\",IF(I442=\"\",\"\",ABS(IF(I442=\"\",0,(((H442*OFFSET($M$1,MATCH($C442,$L$2:$L$40,0),,)-G442)/G442))))))","v":0.29332371429196058},{"$f":"IF(OR(J442<(QUARTILE($J$2:$J$501,1))-1.5*(QUARTILE($J$2:$J$501,3)-QUARTILE($J$2:$J$501,1)),J442>(QUARTILE($J$2:$J$501,3))+1.5*(QUARTILE($J$2:$J$501,3)-QUARTILE($J$2:$J$501,1))),\"\",J442)","v":0.29332371429196058},null,null,{"$f":"IF(COUNTIF($D$2:$D$501,D442)=1,\"\",IF(I442=\"\",\"\",ABS(IF(I442=\"\",0,(((H442*OFFSET($P$1,MATCH($D442,$O$2:$O$40,0),,)-G442)/G442))))))","v":0.4449087564339575},null,null,{"$f":"IFERROR(IF(COUNTIF($E$2:$E$501,E442)=1,\"\",IF(I442=\"\",\"\",ABS(IF(I442=\"\",0,(((H442*OFFSET($S$1,MATCH($E442,$R$2:$R$41,0),,)-G442)/G442)))))),\"\")","v":0.44930432507336238},null,null,{"$f":"IFERROR(IF(COUNTIF($F$2:$F$501,F442)=1,\"\",IF(I442=\"\",\"\",ABS(IF(I442=\"\",0,(((H442*OFFSET($V$1,MATCH($F442,$U$2:$U$105,0),,)-G442)/G442)))))),\"\")","v":""},null,null,{"$f":"IF(OR(J442<(QUARTILE($J$2:$J$501,1))-1.5*(QUARTILE($J$2:$J$501,3)-QUARTILE($J$2:$J$501,1)),J442>(QUARTILE($J$2:$J$501,3))+1.5*(QUARTILE($J$2:$J$501,3)-QUARTILE($J$2:$J$501,1))),\"Outlier\")","v":false}]
[937343,"LIMITED BRANDS",5000,5300,5370,5371,41.16,2.61,{"$f":"(IF(IFERROR(G443/H443,\"\")<0,\"\",IFERROR(G443/H443,\"\")))","v":15.770114942528735},{"$f":"IF(COUNTIF($C$2:$C$501,C443)=1,\"\",IF(I443=\"\",\"\",ABS(IF(I443=\"\",0,(((H443*OFFSET($M$1,MATCH($C443,$L$2:$L$40,0),,)-G443)/G443))))))","v":2.5175432593254006E-5},{"$f":"IF(OR(J443<(QUARTILE($J$2:$J$501,1))-1.5*(QUARTILE($J$2:$J$501,3)-QUARTILE($J$2:$J$501,1)),J443>(QUARTILE($J$2:$J$501,3))+1.5*(QUARTILE($J$2:$J$501,3)-QUARTILE($J$2:$J$501,1))),\"\",J443)","v":2.5175432593254006E-5},null,null,{"$f":"IF(COUNTIF($D$2:$D$501,D443)=1,\"\",IF(I443=\"\",\"\",ABS(IF(I443=\"\",0,(((H443*OFFSET($P$1,MATCH($D443,$O$2:$O$40,0),,)-G443)/G443))))))","v":7.6007319838326093E-2},null,null,{"$f":"IFERROR(IF(COUNTIF($E$2:$E$501,E443)=1,\"\",IF(I443=\"\",\"\",ABS(IF(I443=\"\",0,(((H443*OFFSET($S$1,MATCH($E443,$R$2:$R$41,0),,)-G443)/G443)))))),\"\")","v":9.1122390007364121E-2},null,null,{"$f":"IFERROR(IF(COUNTIF($F$2:$F$501,F443)=1,\"\",IF(I443=\"\",\"\",ABS(IF(I443=\"\",0,(((H443*OFFSET($V$1,MATCH($F443,$U$2:$U$105,0),,)-G443)/G443)))))),\"\")","v":0.14197216040702598},null,null,{"$f":"IF(OR(J443<(QUARTILE($J$2:$J$501,1))-1.5*(QUARTILE($J$2:$J$501,3)-QUARTILE($J$2:$J$501,1)),J443>(QUARTILE($J$2:$J$501,3))+1.5*(QUARTILE($J$2:$J$501,3)-QUARTILE($J$2:$J$501,1))),\"Outlier\")","v":false}]
[938076,"FRANKLIN RESOURCES",8000,8700,8770,8771,105.87,8.68,{"$f":"(IF(IFERROR(G444/H444,\"\")<0,\"\",IFERROR(G444/H444,\"\")))","v":12.197004608294932},{"$f":"IF(COUNTIF($C$2:$C$501,C444)=1,\"\",IF(I444=\"\",\"\",ABS(IF(I444=\"\",0,(((H444*OFFSET($M$1,MATCH($C444,$L$2:$L$40,0),,)-G444)/G444))))))","v":9.0496521656586712E-2},{"$f":"IF(OR(J444<(QUARTILE($J$2:$J$501,1))-1.5*(QUARTILE($J$2:$J$501,3)-QUARTILE($J$2:$J$501,1)),J444>(QUARTILE($J$2:$J$501,3))+1.5*(QUARTILE($J$2:$J$501,3)-QUARTILE($J$2:$J$501,1))),\"\",J444)","v":9.0496521656586712E-2},null,null,{"$f":"IF(COUNTIF($D$2:$D$501,D444)=1,\"\",IF(I444=\"\",\"\",ABS(IF(I444=\"\",0,(((H444*OFFSET($P$1,MATCH($D444,$O$2:$O$40,0),,)-G444)/G444))))))","v":2.7107841899978651E-2},null,null,{"$f":"IFERROR(IF(COUNTIF($E$2:$E$501,E444)=1,\"\",IF(I444=\"\",\"\",ABS(IF(I444=\"\",0,(((H444*OFFSET($S$1,MATCH($E444,$R$2:$R$41,0),,)-G444)/G444)))))),\"\")","v":2.7107841899978651E-2},null,null,{"$f":"IFERROR(IF(COUNTIF($F$2:$F$501,F444)=1,\"\",IF(I444=\"\",\"\",ABS(IF(I444=\"\",0,(((H444*OFFSET($V$1,MATCH($F444,$U$2:$U$105,0),,)-G444)/G444)))))),\"\")","v":0.12522991093531968},null,null,{"$f":"IF(OR(J444<(QUARTILE($J$2:$J$501,1))-1.5*(QUARTILE($J$2:$J$501,3)-QUARTILE($J$2:$J$501,1)),J444>(QUARTILE($J$2:$J$501,3))+1.5*(QUARTILE($J$2:$J$501,3)-QUARTILE($J$2:$J$501,1))),\"Outlier\")","v":false}]
[944169,"LINEAR TECH.",9000,9500,9570,9576,30.25,1.94,{"$f":"(IF(IFERROR(G445/H445,\"\")<0,\"\",IFERROR(G445/H445,\"\")))","v":15.592783505154639},{"$f":"IF(COUNTIF($C$2:$C$501,C445)=1,\"\",IF(I445=\"\",\"\",ABS(IF(I445=\"\",0,(((H445*OFFSET($M$1,MATCH($C445,$L$2:$L$40,0),,)-G445)/G445))))))","v":0.1603797075947539},{"$f":"IF(OR(J445<(QUARTILE($J$2:$J$501,1))-1.5*(QUARTILE($J$2:$J$501,3)-QUARTILE($J$2:$J$501,1)),J445>(QUARTILE($J$2:$J$501,3))+1.5*(QUARTILE($J$2:$J$501,3)-QUARTILE($J$2:$J$501,1))),\"\",J445)","v":0.1603797075947539},null,null,{"$f":"IF(COUNTIF($D$2:$D$501,D445)=1,\"\",IF(I445=\"\",\"\",ABS(IF(I445=\"\",0,(((H445*OFFSET($P$1,MATCH($D445,$O$2:$O$40,0),,)-G445)/G445))))))","v":0.1603797075947539},null,null,{"$f":"IFERROR(IF(COUNTIF($E$2:$E$501,E445)=1,\"\",IF(I445=\"\",\"\",ABS(IF(I445=\"\",0,(((H445*OFFSET($S$1,MATCH($E445,$R$2:$R$41,0),,)-G445)/G445)))))),\"\")","v":0.19521284792388535},null,null,{"$f":"IFERROR(IF(COUNTIF($F$2:$F$501,F445)=1,\"\",IF(I445=\"\",\"\",ABS(IF(I445=\"\",0,(((H445*OFFSET($V$1,MATCH($F445,$U$2:$U$105,0),,)-G445)/G445)))))),\"\")","v":0.10913792045670992},null,null,{"$f":"IF(OR(J445<(QUARTILE($J$2:$J$501,1))-1.5*(QUARTILE($J$2:$J$501,3)-QUARTILE($J$2:$J$501,1)),J445>(QUARTILE($J$2:$J$501,3))+1.5*(QUARTILE($J$2:$J$501,3)-QUARTILE($J$2:$J$501,1))),\"Outlier\")","v":false}]
[944175,"PNC FINL.SVS.GP.",8000,8300,8350,8355,59.51,5.52,{"$f":"(IF(IFERROR(G446/H446,\"\")<0,\"\",IFERROR(G446/H446,\"\")))","v":10.780797101449275},{"$f":"IF(COUNTIF($C$2:$C$501,C446)=1,\"\",IF(I446=\"\",\"\",ABS(IF(I446=\"\",0,(((H446*OFFSET($M$1,MATCH($C446,$L$2:$L$40,0),,)-G446)/G446))))))","v":0.23374839307447301},{"$f":"IF(OR(J446<(QUARTILE($J$2:$J$501,1))-1.5*(QUARTILE($J$2:$J$501,3)-QUARTILE($J$2:$J$501,1)),J446>(QUARTILE($J$2:$J$501,3))+1.5*(QUARTILE($J$2:$J$501,3)-QUARTILE($J$2:$J$501,1))),\"\",J446)","v":0.23374839307447301},null,null,{"$f":"IF(COUNTIF($D$2:$D$501,D446)=1,\"\",IF(I446=\"\",\"\",ABS(IF(I446=\"\",0,(((H446*OFFSET($P$1,MATCH($D446,$O$2:$O$40,0),,)-G446)/G446))))))","v":0.12899360330273654},null,null,{"$f":"IFERROR(IF(COUNTIF($E$2:$E$501,E446)=1,\"\",IF(I446=\"\",\"\",ABS(IF(I446=\"\",0,(((H446*OFFSET($S$1,MATCH($E446,$R$2:$R$41,0),,)-G446)/G446)))))),\"\")","v":0.12899360330273654},null,null,{"$f":"IFERROR(IF(COUNTIF($F$2:$F$501,F446)=1,\"\",IF(I446=\"\",\"\",ABS(IF(I446=\"\",0,(((H446*OFFSET($V$1,MATCH($F446,$U$2:$U$105,0),,)-G446)/G446)))))),\"\")","v":0.12899360330273654},null,null,{"$f":"IF(OR(J446<(QUARTILE($J$2:$J$501,1))-1.5*(QUARTILE($J$2:$J$501,3)-QUARTILE($J$2:$J$501,1)),J446>(QUARTILE($J$2:$J$501,3))+1.5*(QUARTILE($J$2:$J$501,3)-QUARTILE($J$2:$J$501,1))),\"Outlier\")","v":false}]
[944276,"LSI",9000,9500,9570,9576,6.08,0.66,{"$f":"(IF(IFERROR(G447/H447,\"\")<0,\"\",IFERROR(G447/H447,\"\")))","v":9.212121212121211},{"$f":"IF(COUNTIF($C$2:$C$501,C447)=1,\"\",IF(I447=\"\",\"\",ABS(IF(I447=\"\",0,(((H447*OFFSET($M$1,MATCH($C447,$L$2:$L$40,0),,)-G447)/G447))))))","v":0.42117294644183551},{"$f":"IF(OR(J447<(QUARTILE($J$2:$J$501,1))-1.5*(QUARTILE($J$2:$J$501,3)-QUARTILE($J$2:$J$501,1)),J447>(QUARTILE($J$2:$J$501,3))+1.5*(QUARTILE($J$2:$J$501,3)-QUARTILE($J$2:$J$501,1))),\"\",J447)","v":0.42117294644183551},null,null,{"$f":"IF(COUNTIF($D$2:$D$501,D447)=1,\"\",IF(I447=\"\",\"\",ABS(IF(I447=\"\",0,(((H447*OFFSET($P$1,MATCH($D447,$O$2:$O$40,0),,)-G447)/G447))))))","v":0.42117294644183551},null,null,{"$f":"IFERROR(IF(COUNTIF($E$2:$E$501,E447)=1,\"\",IF(I447=\"\",\"\",ABS(IF(I447=\"\",0,(((H447*OFFSET($S$1,MATCH($E447,$R$2:$R$41,0),,)-G447)/G447)))))),\"\")","v":0.36221306049915492},null,null,{"$f":"IFERROR(IF(COUNTIF($F$2:$F$501,F447)=1,\"\",IF(I447=\"\",\"\",ABS(IF(I447=\"\",0,(((H447*OFFSET($V$1,MATCH($F447,$U$2:$U$105,0),,)-G447)/G447)))))),\"\")","v":0.50790672630237621},null,null,{"$f":"IF(OR(J447<(QUARTILE($J$2:$J$501,1))-1.5*(QUARTILE($J$2:$J$501,3)-QUARTILE($J$2:$J$501,1)),J447>(QUARTILE($J$2:$J$501,3))+1.5*(QUARTILE($J$2:$J$501,3)-QUARTILE($J$2:$J$501,1))),\"Outlier\")","v":false}]
[944314,"DOMINION RES.",7000,7500,7530,7535,53.77,2.48,{"$f":"(IF(IFERROR(G448/H448,\"\")<0,\"\",IFERROR(G448/H448,\"\")))","v":21.681451612903228},{"$f":"IF(COUNTIF($C$2:$C$501,C448)=1,\"\",IF(I448=\"\",\"\",ABS(IF(I448=\"\",0,(((H448*OFFSET($M$1,MATCH($C448,$L$2:$L$40,0),,)-G448)/G448))))))","v":0.22564938254563177},{"$f":"IF(OR(J448<(QUARTILE($J$2:$J$501,1))-1.5*(QUARTILE($J$2:$J$501,3)-QUARTILE($J$2:$J$501,1)),J448>(QUARTILE($J$2:$J$501,3))+1.5*(QUARTILE($J$2:$J$501,3)-QUARTILE($J$2:$J$501,1))),\"\",J448)","v":0.22564938254563177},null,null,{"$f":"IF(COUNTIF($D$2:$D$501,D448)=1,\"\",IF(I448=\"\",\"\",ABS(IF(I448=\"\",0,(((H448*OFFSET($P$1,MATCH($D448,$O$2:$O$40,0),,)-G448)/G448))))))","v":0.22564938254563177},null,null,{"$f":"IFERROR(IF(COUNTIF($E$2:$E$501,E448)=1,\"\",IF(I448=\"\",\"\",ABS(IF(I448=\"\",0,(((H448*OFFSET($S$1,MATCH($E448,$R$2:$R$41,0),,)-G448)/G448)))))),\"\")","v":0.26817144854771252},null,null,{"$f":"IFERROR(IF(COUNTIF($F$2:$F$501,F448)=1,\"\",IF(I448=\"\",\"\",ABS(IF(I448=\"\",0,(((H448*OFFSET($V$1,MATCH($F448,$U$2:$U$105,0),,)-G448)/G448)))))),\"\")","v":0.26817144854771252},null,null,{"$f":"IF(OR(J448<(QUARTILE($J$2:$J$501,1))-1.5*(QUARTILE($J$2:$J$501,3)-QUARTILE($J$2:$J$501,1)),J448>(QUARTILE($J$2:$J$501,3))+1.5*(QUARTILE($J$2:$J$501,3)-QUARTILE($J$2:$J$501,1))),\"Outlier\")","v":false}]
[944777,"CINTAS",2000,2700,2790,2791,37.4,2.16,{"$f":"(IF(IFERROR(G449/H449,\"\")<0,\"\",IFERROR(G449/H449,\"\")))","v":17.314814814814813},{"$f":"IF(COUNTIF($C$2:$C$501,C449)=1,\"\",IF(I449=\"\",\"\",ABS(IF(I449=\"\",0,(((H449*OFFSET($M$1,MATCH($C449,$L$2:$L$40,0),,)-G449)/G449))))))","v":0.16234558914613906},{"$f":"IF(OR(J449<(QUARTILE($J$2:$J$501,1))-1.5*(QUARTILE($J$2:$J$501,3)-QUARTILE($J$2:$J$501,1)),J449>(QUARTILE($J$2:$J$501,3))+1.5*(QUARTILE($J$2:$J$501,3)-QUARTILE($J$2:$J$501,1))),\"\",J449)","v":0.16234558914613906},null,null,{"$f":"IF(COUNTIF($D$2:$D$501,D449)=1,\"\",IF(I449=\"\",\"\",ABS(IF(I449=\"\",0,(((H449*OFFSET($P$1,MATCH($D449,$O$2:$O$40,0),,)-G449)/G449))))))","v":0.17305204189449677},null,null,{"$f":"IFERROR(IF(COUNTIF($E$2:$E$501,E449)=1,\"\",IF(I449=\"\",\"\",ABS(IF(I449=\"\",0,(((H449*OFFSET($S$1,MATCH($E449,$R$2:$R$41,0),,)-G449)/G449)))))),\"\")","v":0.13843864078036242},null,null,{"$f":"IFERROR(IF(COUNTIF($F$2:$F$501,F449)=1,\"\",IF(I449=\"\",\"\",ABS(IF(I449=\"\",0,(((H449*OFFSET($V$1,MATCH($F449,$U$2:$U$105,0),,)-G449)/G449)))))),\"\")","v":0.40310072690993787},null,null,{"$f":"IF(OR(J449<(QUARTILE($J$2:$J$501,1))-1.5*(QUARTILE($J$2:$J$501,3)-QUARTILE($J$2:$J$501,1)),J449>(QUARTILE($J$2:$J$501,3))+1.5*(QUARTILE($J$2:$J$501,3)-QUARTILE($J$2:$J$501,1))),\"Outlier\")","v":false}]
[944938,"SLM",8000,8700,8770,8773,15.29,1.08,{"$f":"(IF(IFERROR(G450/H450,\"\")<0,\"\",IFERROR(G450/H450,\"\")))","v":14.157407407407407},{"$f":"IF(COUNTIF($C$2:$C$501,C450)=1,\"\",IF(I450=\"\",\"\",ABS(IF(I450=\"\",0,(((H450*OFFSET($M$1,MATCH($C450,$L$2:$L$40,0),,)-G450)/G450))))))","v":6.0506580250295497E-2},{"$f":"IF(OR(J450<(QUARTILE($J$2:$J$501,1))-1.5*(QUARTILE($J$2:$J$501,3)-QUARTILE($J$2:$J$501,1)),J450>(QUARTILE($J$2:$J$501,3))+1.5*(QUARTILE($J$2:$J$501,3)-QUARTILE($J$2:$J$501,1))),\"\",J450)","v":6.0506580250295497E-2},null,null,{"$f":"IF(COUNTIF($D$2:$D$501,D450)=1,\"\",IF(I450=\"\",\"\",ABS(IF(I450=\"\",0,(((H450*OFFSET($P$1,MATCH($D450,$O$2:$O$40,0),,)-G450)/G450))))))","v":0.11511771044215204},null,null,{"$f":"IFERROR(IF(COUNTIF($E$2:$E$501,E450)=1,\"\",IF(I450=\"\",\"\",ABS(IF(I450=\"\",0,(((H450*OFFSET($S$1,MATCH($E450,$R$2:$R$41,0),,)-G450)/G450)))))),\"\")","v":0.11511771044215204},null,null,{"$f":"IFERROR(IF(COUNTIF($F$2:$F$501,F450)=1,\"\",IF(I450=\"\",\"\",ABS(IF(I450=\"\",0,(((H450*OFFSET($V$1,MATCH($F450,$U$2:$U$105,0),,)-G450)/G450)))))),\"\")","v":0.29065552055125526},null,null,{"$f":"IF(OR(J450<(QUARTILE($J$2:$J$501,1))-1.5*(QUARTILE($J$2:$J$501,3)-QUARTILE($J$2:$J$501,1)),J450>(QUARTILE($J$2:$J$501,3))+1.5*(QUARTILE($J$2:$J$501,3)-QUARTILE($J$2:$J$501,1))),\"Outlier\")","v":false}]
[945065,"TRIBUNE DEAD - DELIST.22/12/07",5000,5500,5550,5557,33.979999999999997,1.55,{"$f":"(IF(IFERROR(G451/H451,\"\")<0,\"\",IFERROR(G451/H451,\"\")))","v":21.922580645161286},{"$f":"IF(COUNTIF($C$2:$C$501,C451)=1,\"\",IF(I451=\"\",\"\",ABS(IF(I451=\"\",0,(((H451*OFFSET($M$1,MATCH($C451,$L$2:$L$40,0),,)-G451)/G451))))))","v":0.28062702939695661},{"$f":"IF(OR(J451<(QUARTILE($J$2:$J$501,1))-1.5*(QUARTILE($J$2:$J$501,3)-QUARTILE($J$2:$J$501,1)),J451>(QUARTILE($J$2:$J$501,3))+1.5*(QUARTILE($J$2:$J$501,3)-QUARTILE($J$2:$J$501,1))),\"\",J451)","v":0.28062702939695661},null,null,{"$f":"IF(COUNTIF($D$2:$D$501,D451)=1,\"\",IF(I451=\"\",\"\",ABS(IF(I451=\"\",0,(((H451*OFFSET($P$1,MATCH($D451,$O$2:$O$40,0),,)-G451)/G451))))))","v":0.30800446034054441},null,null,{"$f":"IFERROR(IF(COUNTIF($E$2:$E$501,E451)=1,\"\",IF(I451=\"\",\"\",ABS(IF(I451=\"\",0,(((H451*OFFSET($S$1,MATCH($E451,$R$2:$R$41,0),,)-G451)/G451)))))),\"\")","v":0.30800446034054441},null,null,{"$f":"IFERROR(IF(COUNTIF($F$2:$F$501,F451)=1,\"\",IF(I451=\"\",\"\",ABS(IF(I451=\"\",0,(((H451*OFFSET($V$1,MATCH($F451,$U$2:$U$105,0),,)-G451)/G451)))))),\"\")","v":0.30272562848823364},null,null,{"$f":"IF(OR(J451<(QUARTILE($J$2:$J$501,1))-1.5*(QUARTILE($J$2:$J$501,3)-QUARTILE($J$2:$J$501,1)),J451>(QUARTILE($J$2:$J$501,3))+1.5*(QUARTILE($J$2:$J$501,3)-QUARTILE($J$2:$J$501,1))),\"Outlier\")","v":false}]
[945297,"PAYCHEX",2000,2700,2790,2795,30.98,1.5,{"$f":"(IF(IFERROR(G452/H452,\"\")<0,\"\",IFERROR(G452/H452,\"\")))","v":20.653333333333332},{"$f":"IF(COUNTIF($C$2:$C$501,C452)=1,\"\",IF(I452=\"\",\"\",ABS(IF(I452=\"\",0,(((H452*OFFSET($M$1,MATCH($C452,$L$2:$L$40,0),,)-G452)/G452))))))","v":0.29774866029305652},{"$f":"IF(OR(J452<(QUARTILE($J$2:$J$501,1))-1.5*(QUARTILE($J$2:$J$501,3)-QUARTILE($J$2:$J$501,1)),J452>(QUARTILE($J$2:$J$501,3))+1.5*(QUARTILE($J$2:$J$501,3)-QUARTILE($J$2:$J$501,1))),\"\",J452)","v":0.29774866029305652},null,null,{"$f":"IF(COUNTIF($D$2:$D$501,D452)=1,\"\",IF(I452=\"\",\"\",ABS(IF(I452=\"\",0,(((H452*OFFSET($P$1,MATCH($D452,$O$2:$O$40,0),,)-G452)/G452))))))","v":0.30672446306878498},null,null,{"$f":"IFERROR(IF(COUNTIF($E$2:$E$501,E452)=1,\"\",IF(I452=\"\",\"\",ABS(IF(I452=\"\",0,(((H452*OFFSET($S$1,MATCH($E452,$R$2:$R$41,0),,)-G452)/G452)))))),\"\")","v":0.27770616269424619},null,null,{"$f":"IFERROR(IF(COUNTIF($F$2:$F$501,F452)=1,\"\",IF(I452=\"\",\"\",ABS(IF(I452=\"\",0,(((H452*OFFSET($V$1,MATCH($F452,$U$2:$U$105,0),,)-G452)/G452)))))),\"\")","v":0.1448291423811123},null,null,{"$f":"IF(OR(J452<(QUARTILE($J$2:$J$501,1))-1.5*(QUARTILE($J$2:$J$501,3)-QUARTILE($J$2:$J$501,1)),J452>(QUARTILE($J$2:$J$501,3))+1.5*(QUARTILE($J$2:$J$501,3)-QUARTILE($J$2:$J$501,1))),\"Outlier\")","v":false}]
[945384,"VERIZON COMMUNICATIONS",6000,6500,6530,6535,43.97,0.94,{"$f":"(IF(IFERROR(G453/H453,\"\")<0,\"\",IFERROR(G453/H453,\"\")))","v":46.776595744680854},{"$f":"IF(COUNTIF($C$2:$C$501,C453)=1,\"\",IF(I453=\"\",\"\",ABS(IF(I453=\"\",0,(((H453*OFFSET($M$1,MATCH($C453,$L$2:$L$40,0),,)-G453)/G453))))))","v":0.50017730597800047},{"$f":"IF(OR(J453<(QUARTILE($J$2:$J$501,1))-1.5*(QUARTILE($J$2:$J$501,3)-QUARTILE($J$2:$J$501,1)),J453>(QUARTILE($J$2:$J$501,3))+1.5*(QUARTILE($J$2:$J$501,3)-QUARTILE($J$2:$J$501,1))),\"\",J453)","v":0.50017730597800047},null,null,{"$f":"IF(COUNTIF($D$2:$D$501,D453)=1,\"\",IF(I453=\"\",\"\",ABS(IF(I453=\"\",0,(((H453*OFFSET($P$1,MATCH($D453,$O$2:$O$40,0),,)-G453)/G453))))))","v":0.50017730597800047},null,null,{"$f":"IFERROR(IF(COUNTIF($E$2:$E$501,E453)=1,\"\",IF(I453=\"\",\"\",ABS(IF(I453=\"\",0,(((H453*OFFSET($S$1,MATCH($E453,$R$2:$R$41,0),,)-G453)/G453)))))),\"\")","v":0.5112758323851615},null,null,{"$f":"IFERROR(IF(COUNTIF($F$2:$F$501,F453)=1,\"\",IF(I453=\"\",\"\",ABS(IF(I453=\"\",0,(((H453*OFFSET($V$1,MATCH($F453,$U$2:$U$105,0),,)-G453)/G453)))))),\"\")","v":0.5112758323851615},null,null,{"$f":"IF(OR(J453<(QUARTILE($J$2:$J$501,1))-1.5*(QUARTILE($J$2:$J$501,3)-QUARTILE($J$2:$J$501,1)),J453>(QUARTILE($J$2:$J$501,3))+1.5*(QUARTILE($J$2:$J$501,3)-QUARTILE($J$2:$J$501,1))),\"Outlier\")","v":false}]
[945727,"TEMPLE INLAND DEAD - ACQD.BY 904069",2000,2700,2720,2723,31.99,0.61,{"$f":"(IF(IFERROR(G454/H454,\"\")<0,\"\",IFERROR(G454/H454,\"\")))","v":52.442622950819668},{"$f":"IF(COUNTIF($C$2:$C$501,C454)=1,\"\",IF(I454=\"\",\"\",ABS(IF(I454=\"\",0,(((H454*OFFSET($M$1,MATCH($C454,$L$2:$L$40,0),,)-G454)/G454))))))","v":0.72343429472722987},{"$f":"IF(OR(J454<(QUARTILE($J$2:$J$501,1))-1.5*(QUARTILE($J$2:$J$501,3)-QUARTILE($J$2:$J$501,1)),J454>(QUARTILE($J$2:$J$501,3))+1.5*(QUARTILE($J$2:$J$501,3)-QUARTILE($J$2:$J$501,1))),\"\",J454)","v":0.72343429472722987},null,null,{"$f":"IF(COUNTIF($D$2:$D$501,D454)=1,\"\",IF(I454=\"\",\"\",ABS(IF(I454=\"\",0,(((H454*OFFSET($P$1,MATCH($D454,$O$2:$O$40,0),,)-G454)/G454))))))","v":0.72696921034034145},null,null,{"$f":"IFERROR(IF(COUNTIF($E$2:$E$501,E454)=1,\"\",IF(I454=\"\",\"\",ABS(IF(I454=\"\",0,(((H454*OFFSET($S$1,MATCH($E454,$R$2:$R$41,0),,)-G454)/G454)))))),\"\")","v":0.65472600143966375},null,null,{"$f":"IFERROR(IF(COUNTIF($F$2:$F$501,F454)=1,\"\",IF(I454=\"\",\"\",ABS(IF(I454=\"\",0,(((H454*OFFSET($V$1,MATCH($F454,$U$2:$U$105,0),,)-G454)/G454)))))),\"\")","v":0.58488428685229132},null,null,{"$f":"IF(OR(J454<(QUARTILE($J$2:$J$501,1))-1.5*(QUARTILE($J$2:$J$501,3)-QUARTILE($J$2:$J$501,1)),J454>(QUARTILE($J$2:$J$501,3))+1.5*(QUARTILE($J$2:$J$501,3)-QUARTILE($J$2:$J$501,1))),\"Outlier\")","v":false}]
[951018,"GAP",5000,5300,5370,5371,26.36,1.63,{"$f":"(IF(IFERROR(G455/H455,\"\")<0,\"\",IFERROR(G455/H455,\"\")))","v":16.171779141104295},{"$f":"IF(COUNTIF($C$2:$C$501,C455)=1,\"\",IF(I455=\"\",\"\",ABS(IF(I455=\"\",0,(((H455*OFFSET($M$1,MATCH($C455,$L$2:$L$40,0),,)-G455)/G455))))))","v":2.4812803564075663E-2},{"$f":"IF(OR(J455<(QUARTILE($J$2:$J$501,1))-1.5*(QUARTILE($J$2:$J$501,3)-QUARTILE($J$2:$J$501,1)),J455>(QUARTILE($J$2:$J$501,3))+1.5*(QUARTILE($J$2:$J$501,3)-QUARTILE($J$2:$J$501,1))),\"\",J455)","v":2.4812803564075663E-2},null,null,{"$f":"IF(COUNTIF($D$2:$D$501,D455)=1,\"\",IF(I455=\"\",\"\",ABS(IF(I455=\"\",0,(((H455*OFFSET($P$1,MATCH($D455,$O$2:$O$40,0),,)-G455)/G455))))))","v":9.8956852856836072E-2},null,null,{"$f":"IFERROR(IF(COUNTIF($E$2:$E$501,E455)=1,\"\",IF(I455=\"\",\"\",ABS(IF(I455=\"\",0,(((H455*OFFSET($S$1,MATCH($E455,$R$2:$R$41,0),,)-G455)/G455)))))),\"\")","v":0.11369650468180147},null,null,{"$f":"IFERROR(IF(COUNTIF($F$2:$F$501,F455)=1,\"\",IF(I455=\"\",\"\",ABS(IF(I455=\"\",0,(((H455*OFFSET($V$1,MATCH($F455,$U$2:$U$105,0),,)-G455)/G455)))))),\"\")","v":0.16328330134820113},null,null,{"$f":"IF(OR(J455<(QUARTILE($J$2:$J$501,1))-1.5*(QUARTILE($J$2:$J$501,3)-QUARTILE($J$2:$J$501,1)),J455>(QUARTILE($J$2:$J$501,3))+1.5*(QUARTILE($J$2:$J$501,3)-QUARTILE($J$2:$J$501,1))),\"Outlier\")","v":false}]
[951046,"US BANCORP",8000,8300,8350,8355,31.44,2.6,{"$f":"(IF(IFERROR(G456/H456,\"\")<0,\"\",IFERROR(G456/H456,\"\")))","v":12.092307692307692},{"$f":"IF(COUNTIF($C$2:$C$501,C456)=1,\"\",IF(I456=\"\",\"\",ABS(IF(I456=\"\",0,(((H456*OFFSET($M$1,MATCH($C456,$L$2:$L$40,0),,)-G456)/G456))))))","v":9.993819529055184E-2},{"$f":"IF(OR(J456<(QUARTILE($J$2:$J$501,1))-1.5*(QUARTILE($J$2:$J$501,3)-QUARTILE($J$2:$J$501,1)),J456>(QUARTILE($J$2:$J$501,3))+1.5*(QUARTILE($J$2:$J$501,3)-QUARTILE($J$2:$J$501,1))),\"\",J456)","v":9.993819529055184E-2},null,null,{"$f":"IF(COUNTIF($D$2:$D$501,D456)=1,\"\",IF(I456=\"\",\"\",ABS(IF(I456=\"\",0,(((H456*OFFSET($P$1,MATCH($D456,$O$2:$O$40,0),,)-G456)/G456))))))","v":6.5449272171241024E-3},null,null,{"$f":"IFERROR(IF(COUNTIF($E$2:$E$501,E456)=1,\"\",IF(I456=\"\",\"\",ABS(IF(I456=\"\",0,(((H456*OFFSET($S$1,MATCH($E456,$R$2:$R$41,0),,)-G456)/G456)))))),\"\")","v":6.5449272171241024E-3},null,null,{"$f":"IFERROR(IF(COUNTIF($F$2:$F$501,F456)=1,\"\",IF(I456=\"\",\"\",ABS(IF(I456=\"\",0,(((H456*OFFSET($V$1,MATCH($F456,$U$2:$U$105,0),,)-G456)/G456)))))),\"\")","v":6.5449272171241024E-3},null,null,{"$f":"IF(OR(J456<(QUARTILE($J$2:$J$501,1))-1.5*(QUARTILE($J$2:$J$501,3)-QUARTILE($J$2:$J$501,1)),J456>(QUARTILE($J$2:$J$501,3))+1.5*(QUARTILE($J$2:$J$501,3)-QUARTILE($J$2:$J$501,1))),\"Outlier\")","v":false}]
[951048,"WACHOVIA DEAD - DELIST.12/01/09",8000,8300,8350,8355,5.54,0,{"$f":"(IF(IFERROR(G457/H457,\"\")<0,\"\",IFERROR(G457/H457,\"\")))","v":""},{"$f":"IF(COUNTIF($C$2:$C$501,C457)=1,\"\",IF(I457=\"\",\"\",ABS(IF(I457=\"\",0,(((H457*OFFSET($M$1,MATCH($C457,$L$2:$L$40,0),,)-G457)/G457))))))","v":""},{"$f":"IF(OR(J457<(QUARTILE($J$2:$J$501,1))-1.5*(QUARTILE($J$2:$J$501,3)-QUARTILE($J$2:$J$501,1)),J457>(QUARTILE($J$2:$J$501,3))+1.5*(QUARTILE($J$2:$J$501,3)-QUARTILE($J$2:$J$501,1))),\"\",J457)","v":""},null,null,{"$f":"IF(COUNTIF($D$2:$D$501,D457)=1,\"\",IF(I457=\"\",\"\",ABS(IF(I457=\"\",0,(((H457*OFFSET($P$1,MATCH($D457,$O$2:$O$40,0),,)-G457)/G457))))))","v":""},null,null,{"$f":"IFERROR(IF(COUNTIF($E$2:$E$501,E457)=1,\"\",IF(I457=\"\",\"\",ABS(IF(I457=\"\",0,(((H457*OFFSET($S$1,MATCH($E457,$R$2:$R$41,0),,)-G457)/G457)))))),\"\")","v":""},null,null,{"$f":"IFERROR(IF(COUNTIF($F$2:$F$501,F457)=1,\"\",IF(I457=\"\",\"\",ABS(IF(I457=\"\",0,(((H457*OFFSET($V$1,MATCH($F457,$U$2:$U$105,0),,)-G457)/G457)))))),\"\")","v":""},null,null,{"$f":"IF(OR(J457<(QUARTILE($J$2:$J$501,1))-1.5*(QUARTILE($J$2:$J$501,3)-QUARTILE($J$2:$J$501,1)),J457>(QUARTILE($J$2:$J$501,3))+1.5*(QUARTILE($J$2:$J$501,3)-QUARTILE($J$2:$J$501,1))),\"Outlier\")","v":"Outlier"}]
[951051,"REGIONS FINL.NEW",8000,8300,8350,8355,6.54,0,{"$f":"(IF(IFERROR(G458/H458,\"\")<0,\"\",IFERROR(G458/H458,\"\")))","v":""},{"$f":"IF(COUNTIF($C$2:$C$501,C458)=1,\"\",IF(I458=\"\",\"\",ABS(IF(I458=\"\",0,(((H458*OFFSET($M$1,MATCH($C458,$L$2:$L$40,0),,)-G458)/G458))))))","v":""},{"$f":"IF(OR(J458<(QUARTILE($J$2:$J$501,1))-1.5*(QUARTILE($J$2:$J$501,3)-QUARTILE($J$2:$J$501,1)),J458>(QUARTILE($J$2:$J$501,3))+1.5*(QUARTILE($J$2:$J$501,3)-QUARTILE($J$2:$J$501,1))),\"\",J458)","v":""},null,null,{"$f":"IF(COUNTIF($D$2:$D$501,D458)=1,\"\",IF(I458=\"\",\"\",ABS(IF(I458=\"\",0,(((H458*OFFSET($P$1,MATCH($D458,$O$2:$O$40,0),,)-G458)/G458))))))","v":""},null,null,{"$f":"IFERROR(IF(COUNTIF($E$2:$E$501,E458)=1,\"\",IF(I458=\"\",\"\",ABS(IF(I458=\"\",0,(((H458*OFFSET($S$1,MATCH($E458,$R$2:$R$41,0),,)-G458)/G458)))))),\"\")","v":""},null,null,{"$f":"IFERROR(IF(COUNTIF($F$2:$F$501,F458)=1,\"\",IF(I458=\"\",\"\",ABS(IF(I458=\"\",0,(((H458*OFFSET($V$1,MATCH($F458,$U$2:$U$105,0),,)-G458)/G458)))))),\"\")","v":""},null,null,{"$f":"IF(OR(J458<(QUARTILE($J$2:$J$501,1))-1.5*(QUARTILE($J$2:$J$501,3)-QUARTILE($J$2:$J$501,1)),J458>(QUARTILE($J$2:$J$501,3))+1.5*(QUARTILE($J$2:$J$501,3)-QUARTILE($J$2:$J$501,1))),\"Outlier\")","v":"Outlier"}]
[951052,"STATE STREET",8000,8700,8770,8771,43.17,3.71,{"$f":"(IF(IFERROR(G459/H459,\"\")<0,\"\",IFERROR(G459/H459,\"\")))","v":11.636118598382749},{"$f":"IF(COUNTIF($C$2:$C$501,C459)=1,\"\",IF(I459=\"\",\"\",ABS(IF(I459=\"\",0,(((H459*OFFSET($M$1,MATCH($C459,$L$2:$L$40,0),,)-G459)/G459))))))","v":0.14306080567308729},{"$f":"IF(OR(J459<(QUARTILE($J$2:$J$501,1))-1.5*(QUARTILE($J$2:$J$501,3)-QUARTILE($J$2:$J$501,1)),J459>(QUARTILE($J$2:$J$501,3))+1.5*(QUARTILE($J$2:$J$501,3)-QUARTILE($J$2:$J$501,1))),\"\",J459)","v":0.14306080567308729},null,null,{"$f":"IF(COUNTIF($D$2:$D$501,D459)=1,\"\",IF(I459=\"\",\"\",ABS(IF(I459=\"\",0,(((H459*OFFSET($P$1,MATCH($D459,$O$2:$O$40,0),,)-G459)/G459))))))","v":7.6616654853540286E-2},null,null,{"$f":"IFERROR(IF(COUNTIF($E$2:$E$501,E459)=1,\"\",IF(I459=\"\",\"\",ABS(IF(I459=\"\",0,(((H459*OFFSET($S$1,MATCH($E459,$R$2:$R$41,0),,)-G459)/G459)))))),\"\")","v":7.6616654853540286E-2},null,null,{"$f":"IFERROR(IF(COUNTIF($F$2:$F$501,F459)=1,\"\",IF(I459=\"\",\"\",ABS(IF(I459=\"\",0,(((H459*OFFSET($V$1,MATCH($F459,$U$2:$U$105,0),,)-G459)/G459)))))),\"\")","v":0.17946841921814774},null,null,{"$f":"IF(OR(J459<(QUARTILE($J$2:$J$501,1))-1.5*(QUARTILE($J$2:$J$501,3)-QUARTILE($J$2:$J$501,1)),J459>(QUARTILE($J$2:$J$501,3))+1.5*(QUARTILE($J$2:$J$501,3)-QUARTILE($J$2:$J$501,1))),\"Outlier\")","v":false}]
[951063,"MARSHALL & ILSLEY DEAD - DELIST.06/07/11",8000,8300,8350,8355,7.9,0,{"$f":"(IF(IFERROR(G460/H460,\"\")<0,\"\",IFERROR(G460/H460,\"\")))","v":""},{"$f":"IF(COUNTIF($C$2:$C$501,C460)=1,\"\",IF(I460=\"\",\"\",ABS(IF(I460=\"\",0,(((H460*OFFSET($M$1,MATCH($C460,$L$2:$L$40,0),,)-G460)/G460))))))","v":""},{"$f":"IF(OR(J460<(QUARTILE($J$2:$J$501,1))-1.5*(QUARTILE($J$2:$J$501,3)-QUARTILE($J$2:$J$501,1)),J460>(QUARTILE($J$2:$J$501,3))+1.5*(QUARTILE($J$2:$J$501,3)-QUARTILE($J$2:$J$501,1))),\"\",J460)","v":""},null,null,{"$f":"IF(COUNTIF($D$2:$D$501,D460)=1,\"\",IF(I460=\"\",\"\",ABS(IF(I460=\"\",0,(((H460*OFFSET($P$1,MATCH($D460,$O$2:$O$40,0),,)-G460)/G460))))))","v":""},null,null,{"$f":"IFERROR(IF(COUNTIF($E$2:$E$501,E460)=1,\"\",IF(I460=\"\",\"\",ABS(IF(I460=\"\",0,(((H460*OFFSET($S$1,MATCH($E460,$R$2:$R$41,0),,)-G460)/G460)))))),\"\")","v":""},null,null,{"$f":"IFERROR(IF(COUNTIF($F$2:$F$501,F460)=1,\"\",IF(I460=\"\",\"\",ABS(IF(I460=\"\",0,(((H460*OFFSET($V$1,MATCH($F460,$U$2:$U$105,0),,)-G460)/G460)))))),\"\")","v":""},null,null,{"$f":"IF(OR(J460<(QUARTILE($J$2:$J$501,1))-1.5*(QUARTILE($J$2:$J$501,3)-QUARTILE($J$2:$J$501,1)),J460>(QUARTILE($J$2:$J$501,3))+1.5*(QUARTILE($J$2:$J$501,3)-QUARTILE($J$2:$J$501,1))),\"Outlier\")","v":"Outlier"}]
[951068,"HUNTINGTON BCSH.",8000,8300,8350,8355,6.19,0.63,{"$f":"(IF(IFERROR(G461/H461,\"\")<0,\"\",IFERROR(G461/H461,\"\")))","v":9.825396825396826},{"$f":"IF(COUNTIF($C$2:$C$501,C461)=1,\"\",IF(I461=\"\",\"\",ABS(IF(I461=\"\",0,(((H461*OFFSET($M$1,MATCH($C461,$L$2:$L$40,0),,)-G461)/G461))))))","v":0.35371541082136321},{"$f":"IF(OR(J461<(QUARTILE($J$2:$J$501,1))-1.5*(QUARTILE($J$2:$J$501,3)-QUARTILE($J$2:$J$501,1)),J461>(QUARTILE($J$2:$J$501,3))+1.5*(QUARTILE($J$2:$J$501,3)-QUARTILE($J$2:$J$501,1))),\"\",J461)","v":0.35371541082136321},null,null,{"$f":"IF(COUNTIF($D$2:$D$501,D461)=1,\"\",IF(I461=\"\",\"\",ABS(IF(I461=\"\",0,(((H461*OFFSET($P$1,MATCH($D461,$O$2:$O$40,0),,)-G461)/G461))))))","v":0.23877449250497199},null,null,{"$f":"IFERROR(IF(COUNTIF($E$2:$E$501,E461)=1,\"\",IF(I461=\"\",\"\",ABS(IF(I461=\"\",0,(((H461*OFFSET($S$1,MATCH($E461,$R$2:$R$41,0),,)-G461)/G461)))))),\"\")","v":0.23877449250497199},null,null,{"$f":"IFERROR(IF(COUNTIF($F$2:$F$501,F461)=1,\"\",IF(I461=\"\",\"\",ABS(IF(I461=\"\",0,(((H461*OFFSET($V$1,MATCH($F461,$U$2:$U$105,0),,)-G461)/G461)))))),\"\")","v":0.23877449250497199},null,null,{"$f":"IF(OR(J461<(QUARTILE($J$2:$J$501,1))-1.5*(QUARTILE($J$2:$J$501,3)-QUARTILE($J$2:$J$501,1)),J461>(QUARTILE($J$2:$J$501,3))+1.5*(QUARTILE($J$2:$J$501,3)-QUARTILE($J$2:$J$501,1))),\"Outlier\")","v":false}]
[951503,"M&T BK.",8000,8300,8350,8355,80.84,6.27,{"$f":"(IF(IFERROR(G462/H462,\"\")<0,\"\",IFERROR(G462/H462,\"\")))","v":12.893141945773527},{"$f":"IF(COUNTIF($C$2:$C$501,C462)=1,\"\",IF(I462=\"\",\"\",ABS(IF(I462=\"\",0,(((H462*OFFSET($M$1,MATCH($C462,$L$2:$L$40,0),,)-G462)/G462))))))","v":3.1617518516119873E-2},{"$f":"IF(OR(J462<(QUARTILE($J$2:$J$501,1))-1.5*(QUARTILE($J$2:$J$501,3)-QUARTILE($J$2:$J$501,1)),J462>(QUARTILE($J$2:$J$501,3))+1.5*(QUARTILE($J$2:$J$501,3)-QUARTILE($J$2:$J$501,1))),\"\",J462)","v":3.1617518516119873E-2},null,null,{"$f":"IF(COUNTIF($D$2:$D$501,D462)=1,\"\",IF(I462=\"\",\"\",ABS(IF(I462=\"\",0,(((H462*OFFSET($P$1,MATCH($D462,$O$2:$O$40,0),,)-G462)/G462))))))","v":5.5974795187078992E-2},null,null,{"$f":"IFERROR(IF(COUNTIF($E$2:$E$501,E462)=1,\"\",IF(I462=\"\",\"\",ABS(IF(I462=\"\",0,(((H462*OFFSET($S$1,MATCH($E462,$R$2:$R$41,0),,)-G462)/G462)))))),\"\")","v":5.5974795187078992E-2},null,null,{"$f":"IFERROR(IF(COUNTIF($F$2:$F$501,F462)=1,\"\",IF(I462=\"\",\"\",ABS(IF(I462=\"\",0,(((H462*OFFSET($V$1,MATCH($F462,$U$2:$U$105,0),,)-G462)/G462)))))),\"\")","v":5.5974795187078992E-2},null,null,{"$f":"IF(OR(J462<(QUARTILE($J$2:$J$501,1))-1.5*(QUARTILE($J$2:$J$501,3)-QUARTILE($J$2:$J$501,1)),J462>(QUARTILE($J$2:$J$501,3))+1.5*(QUARTILE($J$2:$J$501,3)-QUARTILE($J$2:$J$501,1))),\"Outlier\")","v":false}]
[951545,"CINCINNATI FINL.",8000,8500,8530,8536,37.1,1.18,{"$f":"(IF(IFERROR(G463/H463,\"\")<0,\"\",IFERROR(G463/H463,\"\")))","v":31.440677966101699},{"$f":"IF(COUNTIF($C$2:$C$501,C463)=1,\"\",IF(I463=\"\",\"\",ABS(IF(I463=\"\",0,(((H463*OFFSET($M$1,MATCH($C463,$L$2:$L$40,0),,)-G463)/G463))))))","v":0.57695597040510838},{"$f":"IF(OR(J463<(QUARTILE($J$2:$J$501,1))-1.5*(QUARTILE($J$2:$J$501,3)-QUARTILE($J$2:$J$501,1)),J463>(QUARTILE($J$2:$J$501,3))+1.5*(QUARTILE($J$2:$J$501,3)-QUARTILE($J$2:$J$501,1))),\"\",J463)","v":0.57695597040510838},null,null,{"$f":"IF(COUNTIF($D$2:$D$501,D463)=1,\"\",IF(I463=\"\",\"\",ABS(IF(I463=\"\",0,(((H463*OFFSET($P$1,MATCH($D463,$O$2:$O$40,0),,)-G463)/G463))))))","v":0.65767716021701172},null,null,{"$f":"IFERROR(IF(COUNTIF($E$2:$E$501,E463)=1,\"\",IF(I463=\"\",\"\",ABS(IF(I463=\"\",0,(((H463*OFFSET($S$1,MATCH($E463,$R$2:$R$41,0),,)-G463)/G463)))))),\"\")","v":0.64817735210575489},null,null,{"$f":"IFERROR(IF(COUNTIF($F$2:$F$501,F463)=1,\"\",IF(I463=\"\",\"\",ABS(IF(I463=\"\",0,(((H463*OFFSET($V$1,MATCH($F463,$U$2:$U$105,0),,)-G463)/G463)))))),\"\")","v":0.54329205461192243},null,null,{"$f":"IF(OR(J463<(QUARTILE($J$2:$J$501,1))-1.5*(QUARTILE($J$2:$J$501,3)-QUARTILE($J$2:$J$501,1)),J463>(QUARTILE($J$2:$J$501,3))+1.5*(QUARTILE($J$2:$J$501,3)-QUARTILE($J$2:$J$501,1))),\"Outlier\")","v":false}]
[951583,"WENDY'S INTL. DEAD - DELIST.13/10/08",5000,5700,5750,5757,19.21,0.75,{"$f":"(IF(IFERROR(G464/H464,\"\")<0,\"\",IFERROR(G464/H464,\"\")))","v":25.613333333333333},{"$f":"IF(COUNTIF($C$2:$C$501,C464)=1,\"\",IF(I464=\"\",\"\",ABS(IF(I464=\"\",0,(((H464*OFFSET($M$1,MATCH($C464,$L$2:$L$40,0),,)-G464)/G464))))))","v":0.38428506134847251},{"$f":"IF(OR(J464<(QUARTILE($J$2:$J$501,1))-1.5*(QUARTILE($J$2:$J$501,3)-QUARTILE($J$2:$J$501,1)),J464>(QUARTILE($J$2:$J$501,3))+1.5*(QUARTILE($J$2:$J$501,3)-QUARTILE($J$2:$J$501,1))),\"\",J464)","v":0.38428506134847251},null,null,{"$f":"IF(COUNTIF($D$2:$D$501,D464)=1,\"\",IF(I464=\"\",\"\",ABS(IF(I464=\"\",0,(((H464*OFFSET($P$1,MATCH($D464,$O$2:$O$40,0),,)-G464)/G464))))))","v":0.14501751359389048},null,null,{"$f":"IFERROR(IF(COUNTIF($E$2:$E$501,E464)=1,\"\",IF(I464=\"\",\"\",ABS(IF(I464=\"\",0,(((H464*OFFSET($S$1,MATCH($E464,$R$2:$R$41,0),,)-G464)/G464)))))),\"\")","v":0.14501751359389048},null,null,{"$f":"IFERROR(IF(COUNTIF($F$2:$F$501,F464)=1,\"\",IF(I464=\"\",\"\",ABS(IF(I464=\"\",0,(((H464*OFFSET($V$1,MATCH($F464,$U$2:$U$105,0),,)-G464)/G464)))))),\"\")","v":0.16965597348805164},null,null,{"$f":"IF(OR(J464<(QUARTILE($J$2:$J$501,1))-1.5*(QUARTILE($J$2:$J$501,3)-QUARTILE($J$2:$J$501,1)),J464>(QUARTILE($J$2:$J$501,3))+1.5*(QUARTILE($J$2:$J$501,3)-QUARTILE($J$2:$J$501,1))),\"Outlier\")","v":false}]
[951584,"ZIONS BANCORP.",8000,8300,8350,8355,18.989999999999998,0.89,{"$f":"(IF(IFERROR(G465/H465,\"\")<0,\"\",IFERROR(G465/H465,\"\")))","v":21.337078651685392},{"$f":"IF(COUNTIF($C$2:$C$501,C465)=1,\"\",IF(I465=\"\",\"\",ABS(IF(I465=\"\",0,(((H465*OFFSET($M$1,MATCH($C465,$L$2:$L$40,0),,)-G465)/G465))))))","v":0.37663485629395815},{"$f":"IF(OR(J465<(QUARTILE($J$2:$J$501,1))-1.5*(QUARTILE($J$2:$J$501,3)-QUARTILE($J$2:$J$501,1)),J465>(QUARTILE($J$2:$J$501,3))+1.5*(QUARTILE($J$2:$J$501,3)-QUARTILE($J$2:$J$501,1))),\"\",J465)","v":0.37663485629395815},null,null,{"$f":"IF(COUNTIF($D$2:$D$501,D465)=1,\"\",IF(I465=\"\",\"\",ABS(IF(I465=\"\",0,(((H465*OFFSET($P$1,MATCH($D465,$O$2:$O$40,0),,)-G465)/G465))))))","v":0.4295633828448438},null,null,{"$f":"IFERROR(IF(COUNTIF($E$2:$E$501,E465)=1,\"\",IF(I465=\"\",\"\",ABS(IF(I465=\"\",0,(((H465*OFFSET($S$1,MATCH($E465,$R$2:$R$41,0),,)-G465)/G465)))))),\"\")","v":0.4295633828448438},null,null,{"$f":"IFERROR(IF(COUNTIF($F$2:$F$501,F465)=1,\"\",IF(I465=\"\",\"\",ABS(IF(I465=\"\",0,(((H465*OFFSET($V$1,MATCH($F465,$U$2:$U$105,0),,)-G465)/G465)))))),\"\")","v":0.4295633828448438},null,null,{"$f":"IF(OR(J465<(QUARTILE($J$2:$J$501,1))-1.5*(QUARTILE($J$2:$J$501,3)-QUARTILE($J$2:$J$501,1)),J465>(QUARTILE($J$2:$J$501,3))+1.5*(QUARTILE($J$2:$J$501,3)-QUARTILE($J$2:$J$501,1))),\"Outlier\")","v":false}]
[951849,"FEDEX",2000,2700,2770,2771,88.79,6.41,{"$f":"(IF(IFERROR(G466/H466,\"\")<0,\"\",IFERROR(G466/H466,\"\")))","v":13.851794071762871},{"$f":"IF(COUNTIF($C$2:$C$501,C466)=1,\"\",IF(I466=\"\",\"\",ABS(IF(I466=\"\",0,(((H466*OFFSET($M$1,MATCH($C466,$L$2:$L$40,0),,)-G466)/G466))))))","v":4.7072381209718128E-2},{"$f":"IF(OR(J466<(QUARTILE($J$2:$J$501,1))-1.5*(QUARTILE($J$2:$J$501,3)-QUARTILE($J$2:$J$501,1)),J466>(QUARTILE($J$2:$J$501,3))+1.5*(QUARTILE($J$2:$J$501,3)-QUARTILE($J$2:$J$501,1))),\"\",J466)","v":4.7072381209718128E-2},null,null,{"$f":"IF(COUNTIF($D$2:$D$501,D466)=1,\"\",IF(I466=\"\",\"\",ABS(IF(I466=\"\",0,(((H466*OFFSET($P$1,MATCH($D466,$O$2:$O$40,0),,)-G466)/G466))))))","v":3.3689259449391037E-2},null,null,{"$f":"IFERROR(IF(COUNTIF($E$2:$E$501,E466)=1,\"\",IF(I466=\"\",\"\",ABS(IF(I466=\"\",0,(((H466*OFFSET($S$1,MATCH($E466,$R$2:$R$41,0),,)-G466)/G466)))))),\"\")","v":6.1838711132701632E-2},null,null,{"$f":"IFERROR(IF(COUNTIF($F$2:$F$501,F466)=1,\"\",IF(I466=\"\",\"\",ABS(IF(I466=\"\",0,(((H466*OFFSET($V$1,MATCH($F466,$U$2:$U$105,0),,)-G466)/G466)))))),\"\")","v":""},null,null,{"$f":"IF(OR(J466<(QUARTILE($J$2:$J$501,1))-1.5*(QUARTILE($J$2:$J$501,3)-QUARTILE($J$2:$J$501,1)),J466>(QUARTILE($J$2:$J$501,3))+1.5*(QUARTILE($J$2:$J$501,3)-QUARTILE($J$2:$J$501,1))),\"Outlier\")","v":false}]
[981550,"COMCAST 'A'",5000,5500,5550,5553,31.04,1.62,{"$f":"(IF(IFERROR(G467/H467,\"\")<0,\"\",IFERROR(G467/H467,\"\")))","v":19.160493827160494},{"$f":"IF(COUNTIF($C$2:$C$501,C467)=1,\"\",IF(I467=\"\",\"\",ABS(IF(I467=\"\",0,(((H467*OFFSET($M$1,MATCH($C467,$L$2:$L$40,0),,)-G467)/G467))))))","v":0.17692559992168089},{"$f":"IF(OR(J467<(QUARTILE($J$2:$J$501,1))-1.5*(QUARTILE($J$2:$J$501,3)-QUARTILE($J$2:$J$501,1)),J467>(QUARTILE($J$2:$J$501,3))+1.5*(QUARTILE($J$2:$J$501,3)-QUARTILE($J$2:$J$501,1))),\"\",J467)","v":0.17692559992168089},null,null,{"$f":"IF(COUNTIF($D$2:$D$501,D467)=1,\"\",IF(I467=\"\",\"\",ABS(IF(I467=\"\",0,(((H467*OFFSET($P$1,MATCH($D467,$O$2:$O$40,0),,)-G467)/G467))))))","v":0.20824963275361982},null,null,{"$f":"IFERROR(IF(COUNTIF($E$2:$E$501,E467)=1,\"\",IF(I467=\"\",\"\",ABS(IF(I467=\"\",0,(((H467*OFFSET($S$1,MATCH($E467,$R$2:$R$41,0),,)-G467)/G467)))))),\"\")","v":0.20824963275361982},null,null,{"$f":"IFERROR(IF(COUNTIF($F$2:$F$501,F467)=1,\"\",IF(I467=\"\",\"\",ABS(IF(I467=\"\",0,(((H467*OFFSET($V$1,MATCH($F467,$U$2:$U$105,0),,)-G467)/G467)))))),\"\")","v":0.1571770387791461},null,null,{"$f":"IF(OR(J467<(QUARTILE($J$2:$J$501,1))-1.5*(QUARTILE($J$2:$J$501,3)-QUARTILE($J$2:$J$501,1)),J467>(QUARTILE($J$2:$J$501,3))+1.5*(QUARTILE($J$2:$J$501,3)-QUARTILE($J$2:$J$501,1))),\"Outlier\")","v":false}]
[981683,"ST.JUDE MEDICAL",4000,4500,4530,4535,38.770000000000003,2.48,{"$f":"(IF(IFERROR(G468/H468,\"\")<0,\"\",IFERROR(G468/H468,\"\")))","v":15.633064516129034},{"$f":"IF(COUNTIF($C$2:$C$501,C468)=1,\"\",IF(I468=\"\",\"\",ABS(IF(I468=\"\",0,(((H468*OFFSET($M$1,MATCH($C468,$L$2:$L$40,0),,)-G468)/G468))))))","v":8.2691896857950864E-2},{"$f":"IF(OR(J468<(QUARTILE($J$2:$J$501,1))-1.5*(QUARTILE($J$2:$J$501,3)-QUARTILE($J$2:$J$501,1)),J468>(QUARTILE($J$2:$J$501,3))+1.5*(QUARTILE($J$2:$J$501,3)-QUARTILE($J$2:$J$501,1))),\"\",J468)","v":8.2691896857950864E-2},null,null,{"$f":"IF(COUNTIF($D$2:$D$501,D468)=1,\"\",IF(I468=\"\",\"\",ABS(IF(I468=\"\",0,(((H468*OFFSET($P$1,MATCH($D468,$O$2:$O$40,0),,)-G468)/G468))))))","v":8.2691896857950864E-2},null,null,{"$f":"IFERROR(IF(COUNTIF($E$2:$E$501,E468)=1,\"\",IF(I468=\"\",\"\",ABS(IF(I468=\"\",0,(((H468*OFFSET($S$1,MATCH($E468,$R$2:$R$41,0),,)-G468)/G468)))))),\"\")","v":2.1453051900741326E-2},null,null,{"$f":"IFERROR(IF(COUNTIF($F$2:$F$501,F468)=1,\"\",IF(I468=\"\",\"\",ABS(IF(I468=\"\",0,(((H468*OFFSET($V$1,MATCH($F468,$U$2:$U$105,0),,)-G468)/G468)))))),\"\")","v":9.1430187101761234E-2},null,null,{"$f":"IF(OR(J468<(QUARTILE($J$2:$J$501,1))-1.5*(QUARTILE($J$2:$J$501,3)-QUARTILE($J$2:$J$501,1)),J468>(QUARTILE($J$2:$J$501,3))+1.5*(QUARTILE($J$2:$J$501,3)-QUARTILE($J$2:$J$501,1))),\"Outlier\")","v":false}]
[981722,"STRYKER",4000,4500,4530,4535,53.79,3.59,{"$f":"(IF(IFERROR(G469/H469,\"\")<0,\"\",IFERROR(G469/H469,\"\")))","v":14.983286908077995},{"$f":"IF(COUNTIF($C$2:$C$501,C469)=1,\"\",IF(I469=\"\",\"\",ABS(IF(I469=\"\",0,(((H469*OFFSET($M$1,MATCH($C469,$L$2:$L$40,0),,)-G469)/G469))))))","v":0.12964480881329196},{"$f":"IF(OR(J469<(QUARTILE($J$2:$J$501,1))-1.5*(QUARTILE($J$2:$J$501,3)-QUARTILE($J$2:$J$501,1)),J469>(QUARTILE($J$2:$J$501,3))+1.5*(QUARTILE($J$2:$J$501,3)-QUARTILE($J$2:$J$501,1))),\"\",J469)","v":0.12964480881329196},null,null,{"$f":"IF(COUNTIF($D$2:$D$501,D469)=1,\"\",IF(I469=\"\",\"\",ABS(IF(I469=\"\",0,(((H469*OFFSET($P$1,MATCH($D469,$O$2:$O$40,0),,)-G469)/G469))))))","v":0.12964480881329196},null,null,{"$f":"IFERROR(IF(COUNTIF($E$2:$E$501,E469)=1,\"\",IF(I469=\"\",\"\",ABS(IF(I469=\"\",0,(((H469*OFFSET($S$1,MATCH($E469,$R$2:$R$41,0),,)-G469)/G469)))))),\"\")","v":2.0983424100981529E-2},null,null,{"$f":"IFERROR(IF(COUNTIF($F$2:$F$501,F469)=1,\"\",IF(I469=\"\",\"\",ABS(IF(I469=\"\",0,(((H469*OFFSET($V$1,MATCH($F469,$U$2:$U$105,0),,)-G469)/G469)))))),\"\")","v":0.13876205097652519},null,null,{"$f":"IF(OR(J469<(QUARTILE($J$2:$J$501,1))-1.5*(QUARTILE($J$2:$J$501,3)-QUARTILE($J$2:$J$501,1)),J469>(QUARTILE($J$2:$J$501,3))+1.5*(QUARTILE($J$2:$J$501,3)-QUARTILE($J$2:$J$501,1))),\"Outlier\")","v":false}]
[982852,"VALERO ENERGY",1,500,530,533,23.93,2.72,{"$f":"(IF(IFERROR(G470/H470,\"\")<0,\"\",IFERROR(G470/H470,\"\")))","v":8.797794117647058},{"$f":"IF(COUNTIF($C$2:$C$501,C470)=1,\"\",IF(I470=\"\",\"\",ABS(IF(I470=\"\",0,(((H470*OFFSET($M$1,MATCH($C470,$L$2:$L$40,0),,)-G470)/G470))))))","v":5.3971676063514704E-2},{"$f":"IF(OR(J470<(QUARTILE($J$2:$J$501,1))-1.5*(QUARTILE($J$2:$J$501,3)-QUARTILE($J$2:$J$501,1)),J470>(QUARTILE($J$2:$J$501,3))+1.5*(QUARTILE($J$2:$J$501,3)-QUARTILE($J$2:$J$501,1))),\"\",J470)","v":5.3971676063514704E-2},null,null,{"$f":"IF(COUNTIF($D$2:$D$501,D470)=1,\"\",IF(I470=\"\",\"\",ABS(IF(I470=\"\",0,(((H470*OFFSET($P$1,MATCH($D470,$O$2:$O$40,0),,)-G470)/G470))))))","v":5.3971676063514704E-2},null,null,{"$f":"IFERROR(IF(COUNTIF($E$2:$E$501,E470)=1,\"\",IF(I470=\"\",\"\",ABS(IF(I470=\"\",0,(((H470*OFFSET($S$1,MATCH($E470,$R$2:$R$41,0),,)-G470)/G470)))))),\"\")","v":4.4839045029296282E-2},null,null,{"$f":"IFERROR(IF(COUNTIF($F$2:$F$501,F470)=1,\"\",IF(I470=\"\",\"\",ABS(IF(I470=\"\",0,(((H470*OFFSET($V$1,MATCH($F470,$U$2:$U$105,0),,)-G470)/G470)))))),\"\")","v":5.1511754051408683E-2},null,null,{"$f":"IF(OR(J470<(QUARTILE($J$2:$J$501,1))-1.5*(QUARTILE($J$2:$J$501,3)-QUARTILE($J$2:$J$501,1)),J470>(QUARTILE($J$2:$J$501,3))+1.5*(QUARTILE($J$2:$J$501,3)-QUARTILE($J$2:$J$501,1))),\"Outlier\")","v":false}]
[992520,"ENSCO CLASS A",1,500,570,573,44.74,3.01,{"$f":"(IF(IFERROR(G471/H471,\"\")<0,\"\",IFERROR(G471/H471,\"\")))","v":14.863787375415285},{"$f":"IF(COUNTIF($C$2:$C$501,C471)=1,\"\",IF(I471=\"\",\"\",ABS(IF(I471=\"\",0,(((H471*OFFSET($M$1,MATCH($C471,$L$2:$L$40,0),,)-G471)/G471))))))","v":0.37615995320444845},{"$f":"IF(OR(J471<(QUARTILE($J$2:$J$501,1))-1.5*(QUARTILE($J$2:$J$501,3)-QUARTILE($J$2:$J$501,1)),J471>(QUARTILE($J$2:$J$501,3))+1.5*(QUARTILE($J$2:$J$501,3)-QUARTILE($J$2:$J$501,1))),\"\",J471)","v":0.37615995320444845},null,null,{"$f":"IF(COUNTIF($D$2:$D$501,D471)=1,\"\",IF(I471=\"\",\"\",ABS(IF(I471=\"\",0,(((H471*OFFSET($P$1,MATCH($D471,$O$2:$O$40,0),,)-G471)/G471))))))","v":0.37615995320444845},null,null,{"$f":"IFERROR(IF(COUNTIF($E$2:$E$501,E471)=1,\"\",IF(I471=\"\",\"\",ABS(IF(I471=\"\",0,(((H471*OFFSET($S$1,MATCH($E471,$R$2:$R$41,0),,)-G471)/G471)))))),\"\")","v":0.30417762350821914},null,null,{"$f":"IFERROR(IF(COUNTIF($F$2:$F$501,F471)=1,\"\",IF(I471=\"\",\"\",ABS(IF(I471=\"\",0,(((H471*OFFSET($V$1,MATCH($F471,$U$2:$U$105,0),,)-G471)/G471)))))),\"\")","v":0.39412585458957178},null,null,{"$f":"IF(OR(J471<(QUARTILE($J$2:$J$501,1))-1.5*(QUARTILE($J$2:$J$501,3)-QUARTILE($J$2:$J$501,1)),J471>(QUARTILE($J$2:$J$501,3))+1.5*(QUARTILE($J$2:$J$501,3)-QUARTILE($J$2:$J$501,1))),\"Outlier\")","v":false}]
[992854,"TELLABS",9000,9500,9570,9578,3.26,0,{"$f":"(IF(IFERROR(G472/H472,\"\")<0,\"\",IFERROR(G472/H472,\"\")))","v":""},{"$f":"IF(COUNTIF($C$2:$C$501,C472)=1,\"\",IF(I472=\"\",\"\",ABS(IF(I472=\"\",0,(((H472*OFFSET($M$1,MATCH($C472,$L$2:$L$40,0),,)-G472)/G472))))))","v":""},{"$f":"IF(OR(J472<(QUARTILE($J$2:$J$501,1))-1.5*(QUARTILE($J$2:$J$501,3)-QUARTILE($J$2:$J$501,1)),J472>(QUARTILE($J$2:$J$501,3))+1.5*(QUARTILE($J$2:$J$501,3)-QUARTILE($J$2:$J$501,1))),\"\",J472)","v":""},null,null,{"$f":"IF(COUNTIF($D$2:$D$501,D472)=1,\"\",IF(I472=\"\",\"\",ABS(IF(I472=\"\",0,(((H472*OFFSET($P$1,MATCH($D472,$O$2:$O$40,0),,)-G472)/G472))))))","v":""},null,null,{"$f":"IFERROR(IF(COUNTIF($E$2:$E$501,E472)=1,\"\",IF(I472=\"\",\"\",ABS(IF(I472=\"\",0,(((H472*OFFSET($S$1,MATCH($E472,$R$2:$R$41,0),,)-G472)/G472)))))),\"\")","v":""},null,null,{"$f":"IFERROR(IF(COUNTIF($F$2:$F$501,F472)=1,\"\",IF(I472=\"\",\"\",ABS(IF(I472=\"\",0,(((H472*OFFSET($V$1,MATCH($F472,$U$2:$U$105,0),,)-G472)/G472)))))),\"\")","v":""},null,null,{"$f":"IF(OR(J472<(QUARTILE($J$2:$J$501,1))-1.5*(QUARTILE($J$2:$J$501,3)-QUARTILE($J$2:$J$501,1)),J472>(QUARTILE($J$2:$J$501,3))+1.5*(QUARTILE($J$2:$J$501,3)-QUARTILE($J$2:$J$501,1))),\"Outlier\")","v":"Outlier"}]
[993062,"KLA TENCOR",9000,9500,9570,9576,47.5,4.42,{"$f":"(IF(IFERROR(G473/H473,\"\")<0,\"\",IFERROR(G473/H473,\"\")))","v":10.74660633484163},{"$f":"IF(COUNTIF($C$2:$C$501,C473)=1,\"\",IF(I473=\"\",\"\",ABS(IF(I473=\"\",0,(((H473*OFFSET($M$1,MATCH($C473,$L$2:$L$40,0),,)-G473)/G473))))))","v":0.21824667602868611},{"$f":"IF(OR(J473<(QUARTILE($J$2:$J$501,1))-1.5*(QUARTILE($J$2:$J$501,3)-QUARTILE($J$2:$J$501,1)),J473>(QUARTILE($J$2:$J$501,3))+1.5*(QUARTILE($J$2:$J$501,3)-QUARTILE($J$2:$J$501,1))),\"\",J473)","v":0.21824667602868611},null,null,{"$f":"IF(COUNTIF($D$2:$D$501,D473)=1,\"\",IF(I473=\"\",\"\",ABS(IF(I473=\"\",0,(((H473*OFFSET($P$1,MATCH($D473,$O$2:$O$40,0),,)-G473)/G473))))))","v":0.21824667602868611},null,null,{"$f":"IFERROR(IF(COUNTIF($E$2:$E$501,E473)=1,\"\",IF(I473=\"\",\"\",ABS(IF(I473=\"\",0,(((H473*OFFSET($S$1,MATCH($E473,$R$2:$R$41,0),,)-G473)/G473)))))),\"\")","v":0.16770554713333602},null,null,{"$f":"IFERROR(IF(COUNTIF($F$2:$F$501,F473)=1,\"\",IF(I473=\"\",\"\",ABS(IF(I473=\"\",0,(((H473*OFFSET($V$1,MATCH($F473,$U$2:$U$105,0),,)-G473)/G473)))))),\"\")","v":0.29259592344368529},null,null,{"$f":"IF(OR(J473<(QUARTILE($J$2:$J$501,1))-1.5*(QUARTILE($J$2:$J$501,3)-QUARTILE($J$2:$J$501,1)),J473>(QUARTILE($J$2:$J$501,3))+1.5*(QUARTILE($J$2:$J$501,3)-QUARTILE($J$2:$J$501,1))),\"Outlier\")","v":false}]
[993249,"NIKE 'B'",3000,3700,3760,3765,96.89,4.8,{"$f":"(IF(IFERROR(G474/H474,\"\")<0,\"\",IFERROR(G474/H474,\"\")))","v":20.185416666666669},{"$f":"IF(COUNTIF($C$2:$C$501,C474)=1,\"\",IF(I474=\"\",\"\",ABS(IF(I474=\"\",0,(((H474*OFFSET($M$1,MATCH($C474,$L$2:$L$40,0),,)-G474)/G474))))))","v":0.20783482610102191},{"$f":"IF(OR(J474<(QUARTILE($J$2:$J$501,1))-1.5*(QUARTILE($J$2:$J$501,3)-QUARTILE($J$2:$J$501,1)),J474>(QUARTILE($J$2:$J$501,3))+1.5*(QUARTILE($J$2:$J$501,3)-QUARTILE($J$2:$J$501,1))),\"\",J474)","v":0.20783482610102191},null,null,{"$f":"IF(COUNTIF($D$2:$D$501,D474)=1,\"\",IF(I474=\"\",\"\",ABS(IF(I474=\"\",0,(((H474*OFFSET($P$1,MATCH($D474,$O$2:$O$40,0),,)-G474)/G474))))))","v":4.4805973493087681E-2},null,null,{"$f":"IFERROR(IF(COUNTIF($E$2:$E$501,E474)=1,\"\",IF(I474=\"\",\"\",ABS(IF(I474=\"\",0,(((H474*OFFSET($S$1,MATCH($E474,$R$2:$R$41,0),,)-G474)/G474)))))),\"\")","v":3.6700801260066827E-2},null,null,{"$f":"IFERROR(IF(COUNTIF($F$2:$F$501,F474)=1,\"\",IF(I474=\"\",\"\",ABS(IF(I474=\"\",0,(((H474*OFFSET($V$1,MATCH($F474,$U$2:$U$105,0),,)-G474)/G474)))))),\"\")","v":""},null,null,{"$f":"IF(OR(J474<(QUARTILE($J$2:$J$501,1))-1.5*(QUARTILE($J$2:$J$501,3)-QUARTILE($J$2:$J$501,1)),J474>(QUARTILE($J$2:$J$501,3))+1.5*(QUARTILE($J$2:$J$501,3)-QUARTILE($J$2:$J$501,1))),\"Outlier\")","v":false}]
[993394,"TORCHMARK",8000,8500,8570,8575,49.6,4.93,{"$f":"(IF(IFERROR(G475/H475,\"\")<0,\"\",IFERROR(G475/H475,\"\")))","v":10.060851926977689},{"$f":"IF(COUNTIF($C$2:$C$501,C475)=1,\"\",IF(I475=\"\",\"\",ABS(IF(I475=\"\",0,(((H475*OFFSET($M$1,MATCH($C475,$L$2:$L$40,0),,)-G475)/G475))))))","v":0.3220342766709004},{"$f":"IF(OR(J475<(QUARTILE($J$2:$J$501,1))-1.5*(QUARTILE($J$2:$J$501,3)-QUARTILE($J$2:$J$501,1)),J475>(QUARTILE($J$2:$J$501,3))+1.5*(QUARTILE($J$2:$J$501,3)-QUARTILE($J$2:$J$501,1))),\"\",J475)","v":0.3220342766709004},null,null,{"$f":"IF(COUNTIF($D$2:$D$501,D475)=1,\"\",IF(I475=\"\",\"\",ABS(IF(I475=\"\",0,(((H475*OFFSET($P$1,MATCH($D475,$O$2:$O$40,0),,)-G475)/G475))))))","v":6.9776420940881462E-2},null,null,{"$f":"IFERROR(IF(COUNTIF($E$2:$E$501,E475)=1,\"\",IF(I475=\"\",\"\",ABS(IF(I475=\"\",0,(((H475*OFFSET($S$1,MATCH($E475,$R$2:$R$41,0),,)-G475)/G475)))))),\"\")","v":3.2600469279034532E-2},null,null,{"$f":"IFERROR(IF(COUNTIF($F$2:$F$501,F475)=1,\"\",IF(I475=\"\",\"\",ABS(IF(I475=\"\",0,(((H475*OFFSET($V$1,MATCH($F475,$U$2:$U$105,0),,)-G475)/G475)))))),\"\")","v":3.2600469279034532E-2},null,null,{"$f":"IF(OR(J475<(QUARTILE($J$2:$J$501,1))-1.5*(QUARTILE($J$2:$J$501,3)-QUARTILE($J$2:$J$501,1)),J475>(QUARTILE($J$2:$J$501,3))+1.5*(QUARTILE($J$2:$J$501,3)-QUARTILE($J$2:$J$501,1))),\"Outlier\")","v":false}]
[997198,"FIFTH THIRD BANCORP",8000,8300,8350,8355,13.02,1.53,{"$f":"(IF(IFERROR(G476/H476,\"\")<0,\"\",IFERROR(G476/H476,\"\")))","v":8.5098039215686274},{"$f":"IF(COUNTIF($C$2:$C$501,C476)=1,\"\",IF(I476=\"\",\"\",ABS(IF(I476=\"\",0,(((H476*OFFSET($M$1,MATCH($C476,$L$2:$L$40,0),,)-G476)/G476))))))","v":0.56299618916756711},{"$f":"IF(OR(J476<(QUARTILE($J$2:$J$501,1))-1.5*(QUARTILE($J$2:$J$501,3)-QUARTILE($J$2:$J$501,1)),J476>(QUARTILE($J$2:$J$501,3))+1.5*(QUARTILE($J$2:$J$501,3)-QUARTILE($J$2:$J$501,1))),\"\",J476)","v":0.56299618916756711},null,null,{"$f":"IF(COUNTIF($D$2:$D$501,D476)=1,\"\",IF(I476=\"\",\"\",ABS(IF(I476=\"\",0,(((H476*OFFSET($P$1,MATCH($D476,$O$2:$O$40,0),,)-G476)/G476))))))","v":0.43028571259927839},null,null,{"$f":"IFERROR(IF(COUNTIF($E$2:$E$501,E476)=1,\"\",IF(I476=\"\",\"\",ABS(IF(I476=\"\",0,(((H476*OFFSET($S$1,MATCH($E476,$R$2:$R$41,0),,)-G476)/G476)))))),\"\")","v":0.43028571259927839},null,null,{"$f":"IFERROR(IF(COUNTIF($F$2:$F$501,F476)=1,\"\",IF(I476=\"\",\"\",ABS(IF(I476=\"\",0,(((H476*OFFSET($V$1,MATCH($F476,$U$2:$U$105,0),,)-G476)/G476)))))),\"\")","v":0.43028571259927839},null,null,{"$f":"IF(OR(J476<(QUARTILE($J$2:$J$501,1))-1.5*(QUARTILE($J$2:$J$501,3)-QUARTILE($J$2:$J$501,1)),J476>(QUARTILE($J$2:$J$501,3))+1.5*(QUARTILE($J$2:$J$501,3)-QUARTILE($J$2:$J$501,1))),\"Outlier\")","v":false}]
[997563,"FIFTH & PACIFIC COS.",3000,3700,3760,3763,10.130000000000001,0.61,{"$f":"(IF(IFERROR(G477/H477,\"\")<0,\"\",IFERROR(G477/H477,\"\")))","v":16.606557377049182},{"$f":"IF(COUNTIF($C$2:$C$501,C477)=1,\"\",IF(I477=\"\",\"\",ABS(IF(I477=\"\",0,(((H477*OFFSET($M$1,MATCH($C477,$L$2:$L$40,0),,)-G477)/G477))))))","v":3.7116258299730399E-2},{"$f":"IF(OR(J477<(QUARTILE($J$2:$J$501,1))-1.5*(QUARTILE($J$2:$J$501,3)-QUARTILE($J$2:$J$501,1)),J477>(QUARTILE($J$2:$J$501,3))+1.5*(QUARTILE($J$2:$J$501,3)-QUARTILE($J$2:$J$501,1))),\"\",J477)","v":3.7116258299730399E-2},null,null,{"$f":"IF(COUNTIF($D$2:$D$501,D477)=1,\"\",IF(I477=\"\",\"\",ABS(IF(I477=\"\",0,(((H477*OFFSET($P$1,MATCH($D477,$O$2:$O$40,0),,)-G477)/G477))))))","v":0.16104674706390629},null,null,{"$f":"IFERROR(IF(COUNTIF($E$2:$E$501,E477)=1,\"\",IF(I477=\"\",\"\",ABS(IF(I477=\"\",0,(((H477*OFFSET($S$1,MATCH($E477,$R$2:$R$41,0),,)-G477)/G477)))))),\"\")","v":0.17089865525679496},null,null,{"$f":"IFERROR(IF(COUNTIF($F$2:$F$501,F477)=1,\"\",IF(I477=\"\",\"\",ABS(IF(I477=\"\",0,(((H477*OFFSET($V$1,MATCH($F477,$U$2:$U$105,0),,)-G477)/G477)))))),\"\")","v":0.13933332225546072},null,null,{"$f":"IF(OR(J477<(QUARTILE($J$2:$J$501,1))-1.5*(QUARTILE($J$2:$J$501,3)-QUARTILE($J$2:$J$501,1)),J477>(QUARTILE($J$2:$J$501,3))+1.5*(QUARTILE($J$2:$J$501,3)-QUARTILE($J$2:$J$501,1))),\"Outlier\")","v":false}]
[998171,"HOME DEPOT",5000,5300,5370,5375,51.69,2.64,{"$f":"(IF(IFERROR(G478/H478,\"\")<0,\"\",IFERROR(G478/H478,\"\")))","v":19.579545454545453},{"$f":"IF(COUNTIF($C$2:$C$501,C478)=1,\"\",IF(I478=\"\",\"\",ABS(IF(I478=\"\",0,(((H478*OFFSET($M$1,MATCH($C478,$L$2:$L$40,0),,)-G478)/G478))))))","v":0.19454146682790921},{"$f":"IF(OR(J478<(QUARTILE($J$2:$J$501,1))-1.5*(QUARTILE($J$2:$J$501,3)-QUARTILE($J$2:$J$501,1)),J478>(QUARTILE($J$2:$J$501,3))+1.5*(QUARTILE($J$2:$J$501,3)-QUARTILE($J$2:$J$501,1))),\"\",J478)","v":0.19454146682790921},null,null,{"$f":"IF(COUNTIF($D$2:$D$501,D478)=1,\"\",IF(I478=\"\",\"\",ABS(IF(I478=\"\",0,(((H478*OFFSET($P$1,MATCH($D478,$O$2:$O$40,0),,)-G478)/G478))))))","v":0.25578094721182748},null,null,{"$f":"IFERROR(IF(COUNTIF($E$2:$E$501,E478)=1,\"\",IF(I478=\"\",\"\",ABS(IF(I478=\"\",0,(((H478*OFFSET($S$1,MATCH($E478,$R$2:$R$41,0),,)-G478)/G478)))))),\"\")","v":0.26795520296681891},null,null,{"$f":"IFERROR(IF(COUNTIF($F$2:$F$501,F478)=1,\"\",IF(I478=\"\",\"\",ABS(IF(I478=\"\",0,(((H478*OFFSET($V$1,MATCH($F478,$U$2:$U$105,0),,)-G478)/G478)))))),\"\")","v":""},null,null,{"$f":"IF(OR(J478<(QUARTILE($J$2:$J$501,1))-1.5*(QUARTILE($J$2:$J$501,3)-QUARTILE($J$2:$J$501,1)),J478>(QUARTILE($J$2:$J$501,3))+1.5*(QUARTILE($J$2:$J$501,3)-QUARTILE($J$2:$J$501,1))),\"Outlier\")","v":false}]
[998173,"INTL.GAME TECH.",5000,5700,5750,5752,15.4,0.87,{"$f":"(IF(IFERROR(G479/H479,\"\")<0,\"\",IFERROR(G479/H479,\"\")))","v":17.701149425287358},{"$f":"IF(COUNTIF($C$2:$C$501,C479)=1,\"\",IF(I479=\"\",\"\",ABS(IF(I479=\"\",0,(((H479*OFFSET($M$1,MATCH($C479,$L$2:$L$40,0),,)-G479)/G479))))))","v":0.10906848006914424},{"$f":"IF(OR(J479<(QUARTILE($J$2:$J$501,1))-1.5*(QUARTILE($J$2:$J$501,3)-QUARTILE($J$2:$J$501,1)),J479>(QUARTILE($J$2:$J$501,3))+1.5*(QUARTILE($J$2:$J$501,3)-QUARTILE($J$2:$J$501,1))),\"\",J479)","v":0.10906848006914424},null,null,{"$f":"IF(COUNTIF($D$2:$D$501,D479)=1,\"\",IF(I479=\"\",\"\",ABS(IF(I479=\"\",0,(((H479*OFFSET($P$1,MATCH($D479,$O$2:$O$40,0),,)-G479)/G479))))))","v":0.2371485541609859},null,null,{"$f":"IFERROR(IF(COUNTIF($E$2:$E$501,E479)=1,\"\",IF(I479=\"\",\"\",ABS(IF(I479=\"\",0,(((H479*OFFSET($S$1,MATCH($E479,$R$2:$R$41,0),,)-G479)/G479)))))),\"\")","v":0.2371485541609859},null,null,{"$f":"IFERROR(IF(COUNTIF($F$2:$F$501,F479)=1,\"\",IF(I479=\"\",\"\",ABS(IF(I479=\"\",0,(((H479*OFFSET($V$1,MATCH($F479,$U$2:$U$105,0),,)-G479)/G479)))))),\"\")","v":""},null,null,{"$f":"IF(OR(J479<(QUARTILE($J$2:$J$501,1))-1.5*(QUARTILE($J$2:$J$501,3)-QUARTILE($J$2:$J$501,1)),J479>(QUARTILE($J$2:$J$501,3))+1.5*(QUARTILE($J$2:$J$501,3)-QUARTILE($J$2:$J$501,1))),\"Outlier\")","v":false}]
[999506,"MICRON TECHNOLOGY",9000,9500,9570,9576,5.97,0,{"$f":"(IF(IFERROR(G480/H480,\"\")<0,\"\",IFERROR(G480/H480,\"\")))","v":""},{"$f":"IF(COUNTIF($C$2:$C$501,C480)=1,\"\",IF(I480=\"\",\"\",ABS(IF(I480=\"\",0,(((H480*OFFSET($M$1,MATCH($C480,$L$2:$L$40,0),,)-G480)/G480))))))","v":""},{"$f":"IF(OR(J480<(QUARTILE($J$2:$J$501,1))-1.5*(QUARTILE($J$2:$J$501,3)-QUARTILE($J$2:$J$501,1)),J480>(QUARTILE($J$2:$J$501,3))+1.5*(QUARTILE($J$2:$J$501,3)-QUARTILE($J$2:$J$501,1))),\"\",J480)","v":""},null,null,{"$f":"IF(COUNTIF($D$2:$D$501,D480)=1,\"\",IF(I480=\"\",\"\",ABS(IF(I480=\"\",0,(((H480*OFFSET($P$1,MATCH($D480,$O$2:$O$40,0),,)-G480)/G480))))))","v":""},null,null,{"$f":"IFERROR(IF(COUNTIF($E$2:$E$501,E480)=1,\"\",IF(I480=\"\",\"\",ABS(IF(I480=\"\",0,(((H480*OFFSET($S$1,MATCH($E480,$R$2:$R$41,0),,)-G480)/G480)))))),\"\")","v":""},null,null,{"$f":"IFERROR(IF(COUNTIF($F$2:$F$501,F480)=1,\"\",IF(I480=\"\",\"\",ABS(IF(I480=\"\",0,(((H480*OFFSET($V$1,MATCH($F480,$U$2:$U$105,0),,)-G480)/G480)))))),\"\")","v":""},null,null,{"$f":"IF(OR(J480<(QUARTILE($J$2:$J$501,1))-1.5*(QUARTILE($J$2:$J$501,3)-QUARTILE($J$2:$J$501,1)),J480>(QUARTILE($J$2:$J$501,3))+1.5*(QUARTILE($J$2:$J$501,3)-QUARTILE($J$2:$J$501,1))),\"Outlier\")","v":"Outlier"}]
["13906D","PEABODY ENERGY",1000,1700,1770,1771,23.27,3.5,{"$f":"(IF(IFERROR(G481/H481,\"\")<0,\"\",IFERROR(G481/H481,\"\")))","v":6.6485714285714286},{"$f":"IF(COUNTIF($C$2:$C$501,C481)=1,\"\",IF(I481=\"\",\"\",ABS(IF(I481=\"\",0,(((H481*OFFSET($M$1,MATCH($C481,$L$2:$L$40,0),,)-G481)/G481))))))","v":1.3308582347098272},{"$f":"IF(OR(J481<(QUARTILE($J$2:$J$501,1))-1.5*(QUARTILE($J$2:$J$501,3)-QUARTILE($J$2:$J$501,1)),J481>(QUARTILE($J$2:$J$501,3))+1.5*(QUARTILE($J$2:$J$501,3)-QUARTILE($J$2:$J$501,1))),\"\",J481)","v":""},null,null,{"$f":"IF(COUNTIF($D$2:$D$501,D481)=1,\"\",IF(I481=\"\",\"\",ABS(IF(I481=\"\",0,(((H481*OFFSET($P$1,MATCH($D481,$O$2:$O$40,0),,)-G481)/G481))))))","v":0.89249960378686677},null,null,{"$f":"IFERROR(IF(COUNTIF($E$2:$E$501,E481)=1,\"\",IF(I481=\"\",\"\",ABS(IF(I481=\"\",0,(((H481*OFFSET($S$1,MATCH($E481,$R$2:$R$41,0),,)-G481)/G481)))))),\"\")","v":""},null,null,{"$f":"IFERROR(IF(COUNTIF($F$2:$F$501,F481)=1,\"\",IF(I481=\"\",\"\",ABS(IF(I481=\"\",0,(((H481*OFFSET($V$1,MATCH($F481,$U$2:$U$105,0),,)-G481)/G481)))))),\"\")","v":""},null,null,{"$f":"IF(OR(J481<(QUARTILE($J$2:$J$501,1))-1.5*(QUARTILE($J$2:$J$501,3)-QUARTILE($J$2:$J$501,1)),J481>(QUARTILE($J$2:$J$501,3))+1.5*(QUARTILE($J$2:$J$501,3)-QUARTILE($J$2:$J$501,1))),\"Outlier\")","v":"Outlier"}]
["13967E","KRAFT FOODS",3000,3500,3570,3577,37.700000000000003,2,{"$f":"(IF(IFERROR(G482/H482,\"\")<0,\"\",IFERROR(G482/H482,\"\")))","v":18.850000000000001},{"$f":"IF(COUNTIF($C$2:$C$501,C482)=1,\"\",IF(I482=\"\",\"\",ABS(IF(I482=\"\",0,(((H482*OFFSET($M$1,MATCH($C482,$L$2:$L$40,0),,)-G482)/G482))))))","v":0.15171437114199834},{"$f":"IF(OR(J482<(QUARTILE($J$2:$J$501,1))-1.5*(QUARTILE($J$2:$J$501,3)-QUARTILE($J$2:$J$501,1)),J482>(QUARTILE($J$2:$J$501,3))+1.5*(QUARTILE($J$2:$J$501,3)-QUARTILE($J$2:$J$501,1))),\"\",J482)","v":0.15171437114199834},null,null,{"$f":"IF(COUNTIF($D$2:$D$501,D482)=1,\"\",IF(I482=\"\",\"\",ABS(IF(I482=\"\",0,(((H482*OFFSET($P$1,MATCH($D482,$O$2:$O$40,0),,)-G482)/G482))))))","v":5.2290374366924429E-2},null,null,{"$f":"IFERROR(IF(COUNTIF($E$2:$E$501,E482)=1,\"\",IF(I482=\"\",\"\",ABS(IF(I482=\"\",0,(((H482*OFFSET($S$1,MATCH($E482,$R$2:$R$41,0),,)-G482)/G482)))))),\"\")","v":5.4441200387924459E-2},null,null,{"$f":"IFERROR(IF(COUNTIF($F$2:$F$501,F482)=1,\"\",IF(I482=\"\",\"\",ABS(IF(I482=\"\",0,(((H482*OFFSET($V$1,MATCH($F482,$U$2:$U$105,0),,)-G482)/G482)))))),\"\")","v":7.2465274628204276E-2},null,null,{"$f":"IF(OR(J482<(QUARTILE($J$2:$J$501,1))-1.5*(QUARTILE($J$2:$J$501,3)-QUARTILE($J$2:$J$501,1)),J482>(QUARTILE($J$2:$J$501,3))+1.5*(QUARTILE($J$2:$J$501,3)-QUARTILE($J$2:$J$501,1))),\"Outlier\")","v":false}]
["13997V","ROCKWELL COLLINS",2000,2700,2710,2713,47.75,3.98,{"$f":"(IF(IFERROR(G483/H483,\"\")<0,\"\",IFERROR(G483/H483,\"\")))","v":11.99748743718593},{"$f":"IF(COUNTIF($C$2:$C$501,C483)=1,\"\",IF(I483=\"\",\"\",ABS(IF(I483=\"\",0,(((H483*OFFSET($M$1,MATCH($C483,$L$2:$L$40,0),,)-G483)/G483))))))","v":0.20890570452219218},{"$f":"IF(OR(J483<(QUARTILE($J$2:$J$501,1))-1.5*(QUARTILE($J$2:$J$501,3)-QUARTILE($J$2:$J$501,1)),J483>(QUARTILE($J$2:$J$501,3))+1.5*(QUARTILE($J$2:$J$501,3)-QUARTILE($J$2:$J$501,1))),\"\",J483)","v":0.20890570452219218},null,null,{"$f":"IF(COUNTIF($D$2:$D$501,D483)=1,\"\",IF(I483=\"\",\"\",ABS(IF(I483=\"\",0,(((H483*OFFSET($P$1,MATCH($D483,$O$2:$O$40,0),,)-G483)/G483))))))","v":0.19345411537638499},null,null,{"$f":"IFERROR(IF(COUNTIF($E$2:$E$501,E483)=1,\"\",IF(I483=\"\",\"\",ABS(IF(I483=\"\",0,(((H483*OFFSET($S$1,MATCH($E483,$R$2:$R$41,0),,)-G483)/G483)))))),\"\")","v":5.3808412470155186E-2},null,null,{"$f":"IFERROR(IF(COUNTIF($F$2:$F$501,F483)=1,\"\",IF(I483=\"\",\"\",ABS(IF(I483=\"\",0,(((H483*OFFSET($V$1,MATCH($F483,$U$2:$U$105,0),,)-G483)/G483)))))),\"\")","v":0.28540895786253928},null,null,{"$f":"IF(OR(J483<(QUARTILE($J$2:$J$501,1))-1.5*(QUARTILE($J$2:$J$501,3)-QUARTILE($J$2:$J$501,1)),J483>(QUARTILE($J$2:$J$501,3))+1.5*(QUARTILE($J$2:$J$501,3)-QUARTILE($J$2:$J$501,1))),\"Outlier\")","v":false}]
["14015T","FIDELITY NAT.INFO.SVS.",2000,2700,2790,2795,33.46,1.52,{"$f":"(IF(IFERROR(G484/H484,\"\")<0,\"\",IFERROR(G484/H484,\"\")))","v":22.013157894736842},{"$f":"IF(COUNTIF($C$2:$C$501,C484)=1,\"\",IF(I484=\"\",\"\",ABS(IF(I484=\"\",0,(((H484*OFFSET($M$1,MATCH($C484,$L$2:$L$40,0),,)-G484)/G484))))))","v":0.34112901601386564},{"$f":"IF(OR(J484<(QUARTILE($J$2:$J$501,1))-1.5*(QUARTILE($J$2:$J$501,3)-QUARTILE($J$2:$J$501,1)),J484>(QUARTILE($J$2:$J$501,3))+1.5*(QUARTILE($J$2:$J$501,3)-QUARTILE($J$2:$J$501,1))),\"\",J484)","v":0.34112901601386564},null,null,{"$f":"IF(COUNTIF($D$2:$D$501,D484)=1,\"\",IF(I484=\"\",\"\",ABS(IF(I484=\"\",0,(((H484*OFFSET($P$1,MATCH($D484,$O$2:$O$40,0),,)-G484)/G484))))))","v":0.34955035417660613},null,null,{"$f":"IFERROR(IF(COUNTIF($E$2:$E$501,E484)=1,\"\",IF(I484=\"\",\"\",ABS(IF(I484=\"\",0,(((H484*OFFSET($S$1,MATCH($E484,$R$2:$R$41,0),,)-G484)/G484)))))),\"\")","v":0.32232460886246217},null,null,{"$f":"IFERROR(IF(COUNTIF($F$2:$F$501,F484)=1,\"\",IF(I484=\"\",\"\",ABS(IF(I484=\"\",0,(((H484*OFFSET($V$1,MATCH($F484,$U$2:$U$105,0),,)-G484)/G484)))))),\"\")","v":7.4109312274748568E-2},null,null,{"$f":"IF(OR(J484<(QUARTILE($J$2:$J$501,1))-1.5*(QUARTILE($J$2:$J$501,3)-QUARTILE($J$2:$J$501,1)),J484>(QUARTILE($J$2:$J$501,3))+1.5*(QUARTILE($J$2:$J$501,3)-QUARTILE($J$2:$J$501,1))),\"Outlier\")","v":false}]
["14361V","ZIMMER HDG.",4000,4500,4530,4535,62.37,4.1100000000000003,{"$f":"(IF(IFERROR(G485/H485,\"\")<0,\"\",IFERROR(G485/H485,\"\")))","v":15.175182481751824},{"$f":"IF(COUNTIF($C$2:$C$501,C485)=1,\"\",IF(I485=\"\",\"\",ABS(IF(I485=\"\",0,(((H485*OFFSET($M$1,MATCH($C485,$L$2:$L$40,0),,)-G485)/G485))))))","v":0.11536004888400883},{"$f":"IF(OR(J485<(QUARTILE($J$2:$J$501,1))-1.5*(QUARTILE($J$2:$J$501,3)-QUARTILE($J$2:$J$501,1)),J485>(QUARTILE($J$2:$J$501,3))+1.5*(QUARTILE($J$2:$J$501,3)-QUARTILE($J$2:$J$501,1))),\"\",J485)","v":0.11536004888400883},null,null,{"$f":"IF(COUNTIF($D$2:$D$501,D485)=1,\"\",IF(I485=\"\",\"\",ABS(IF(I485=\"\",0,(((H485*OFFSET($P$1,MATCH($D485,$O$2:$O$40,0),,)-G485)/G485))))))","v":0.11536004888400883},null,null,{"$f":"IFERROR(IF(COUNTIF($E$2:$E$501,E485)=1,\"\",IF(I485=\"\",\"\",ABS(IF(I485=\"\",0,(((H485*OFFSET($S$1,MATCH($E485,$R$2:$R$41,0),,)-G485)/G485)))))),\"\")","v":8.0727259848354434E-3},null,null,{"$f":"IFERROR(IF(COUNTIF($F$2:$F$501,F485)=1,\"\",IF(I485=\"\",\"\",ABS(IF(I485=\"\",0,(((H485*OFFSET($V$1,MATCH($F485,$U$2:$U$105,0),,)-G485)/G485)))))),\"\")","v":0.12436200028106227},null,null,{"$f":"IF(OR(J485<(QUARTILE($J$2:$J$501,1))-1.5*(QUARTILE($J$2:$J$501,3)-QUARTILE($J$2:$J$501,1)),J485>(QUARTILE($J$2:$J$501,3))+1.5*(QUARTILE($J$2:$J$501,3)-QUARTILE($J$2:$J$501,1))),\"Outlier\")","v":false}]
["14698C","PRINCIPAL FINL.GP.",8000,8500,8570,8575,25.41,2.2000000000000002,{"$f":"(IF(IFERROR(G486/H486,\"\")<0,\"\",IFERROR(G486/H486,\"\")))","v":11.549999999999999},{"$f":"IF(COUNTIF($C$2:$C$501,C486)=1,\"\",IF(I486=\"\",\"\",ABS(IF(I486=\"\",0,(((H486*OFFSET($M$1,MATCH($C486,$L$2:$L$40,0),,)-G486)/G486))))))","v":0.15158364501947894},{"$f":"IF(OR(J486<(QUARTILE($J$2:$J$501,1))-1.5*(QUARTILE($J$2:$J$501,3)-QUARTILE($J$2:$J$501,1)),J486>(QUARTILE($J$2:$J$501,3))+1.5*(QUARTILE($J$2:$J$501,3)-QUARTILE($J$2:$J$501,1))),\"\",J486)","v":0.15158364501947894},null,null,{"$f":"IF(COUNTIF($D$2:$D$501,D486)=1,\"\",IF(I486=\"\",\"\",ABS(IF(I486=\"\",0,(((H486*OFFSET($P$1,MATCH($D486,$O$2:$O$40,0),,)-G486)/G486))))))","v":6.8150461813128796E-2},null,null,{"$f":"IFERROR(IF(COUNTIF($E$2:$E$501,E486)=1,\"\",IF(I486=\"\",\"\",ABS(IF(I486=\"\",0,(((H486*OFFSET($S$1,MATCH($E486,$R$2:$R$41,0),,)-G486)/G486)))))),\"\")","v":0.10053329687064572},null,null,{"$f":"IFERROR(IF(COUNTIF($F$2:$F$501,F486)=1,\"\",IF(I486=\"\",\"\",ABS(IF(I486=\"\",0,(((H486*OFFSET($V$1,MATCH($F486,$U$2:$U$105,0),,)-G486)/G486)))))),\"\")","v":0.10053329687064572},null,null,{"$f":"IF(OR(J486<(QUARTILE($J$2:$J$501,1))-1.5*(QUARTILE($J$2:$J$501,3)-QUARTILE($J$2:$J$501,1)),J486>(QUARTILE($J$2:$J$501,3))+1.5*(QUARTILE($J$2:$J$501,3)-QUARTILE($J$2:$J$501,1))),\"Outlier\")","v":false}]
["14737P","WELLPOINT",4000,4500,4530,4533,65.900000000000006,7.24,{"$f":"(IF(IFERROR(G487/H487,\"\")<0,\"\",IFERROR(G487/H487,\"\")))","v":9.1022099447513813},{"$f":"IF(COUNTIF($C$2:$C$501,C487)=1,\"\",IF(I487=\"\",\"\",ABS(IF(I487=\"\",0,(((H487*OFFSET($M$1,MATCH($C487,$L$2:$L$40,0),,)-G487)/G487))))))","v":0.85952558525969924},{"$f":"IF(OR(J487<(QUARTILE($J$2:$J$501,1))-1.5*(QUARTILE($J$2:$J$501,3)-QUARTILE($J$2:$J$501,1)),J487>(QUARTILE($J$2:$J$501,3))+1.5*(QUARTILE($J$2:$J$501,3)-QUARTILE($J$2:$J$501,1))),\"\",J487)","v":0.85952558525969924},null,null,{"$f":"IF(COUNTIF($D$2:$D$501,D487)=1,\"\",IF(I487=\"\",\"\",ABS(IF(I487=\"\",0,(((H487*OFFSET($P$1,MATCH($D487,$O$2:$O$40,0),,)-G487)/G487))))))","v":0.85952558525969924},null,null,{"$f":"IFERROR(IF(COUNTIF($E$2:$E$501,E487)=1,\"\",IF(I487=\"\",\"\",ABS(IF(I487=\"\",0,(((H487*OFFSET($S$1,MATCH($E487,$R$2:$R$41,0),,)-G487)/G487)))))),\"\")","v":0.68065641910600017},null,null,{"$f":"IFERROR(IF(COUNTIF($F$2:$F$501,F487)=1,\"\",IF(I487=\"\",\"\",ABS(IF(I487=\"\",0,(((H487*OFFSET($V$1,MATCH($F487,$U$2:$U$105,0),,)-G487)/G487)))))),\"\")","v":0.42265719565757398},null,null,{"$f":"IF(OR(J487<(QUARTILE($J$2:$J$501,1))-1.5*(QUARTILE($J$2:$J$501,3)-QUARTILE($J$2:$J$501,1)),J487>(QUARTILE($J$2:$J$501,3))+1.5*(QUARTILE($J$2:$J$501,3)-QUARTILE($J$2:$J$501,1))),\"Outlier\")","v":false}]
["14861V","PRUDENTIAL FINL.",8000,8500,8570,8575,46.77,3.94,{"$f":"(IF(IFERROR(G488/H488,\"\")<0,\"\",IFERROR(G488/H488,\"\")))","v":11.870558375634518},{"$f":"IF(COUNTIF($C$2:$C$501,C488)=1,\"\",IF(I488=\"\",\"\",ABS(IF(I488=\"\",0,(((H488*OFFSET($M$1,MATCH($C488,$L$2:$L$40,0),,)-G488)/G488))))))","v":0.1204857159269066},{"$f":"IF(OR(J488<(QUARTILE($J$2:$J$501,1))-1.5*(QUARTILE($J$2:$J$501,3)-QUARTILE($J$2:$J$501,1)),J488>(QUARTILE($J$2:$J$501,3))+1.5*(QUARTILE($J$2:$J$501,3)-QUARTILE($J$2:$J$501,1))),\"\",J488)","v":0.1204857159269066},null,null,{"$f":"IF(COUNTIF($D$2:$D$501,D488)=1,\"\",IF(I488=\"\",\"\",ABS(IF(I488=\"\",0,(((H488*OFFSET($P$1,MATCH($D488,$O$2:$O$40,0),,)-G488)/G488))))))","v":9.3314583402395859E-2},null,null,{"$f":"IFERROR(IF(COUNTIF($E$2:$E$501,E488)=1,\"\",IF(I488=\"\",\"\",ABS(IF(I488=\"\",0,(((H488*OFFSET($S$1,MATCH($E488,$R$2:$R$41,0),,)-G488)/G488)))))),\"\")","v":0.12482293651256107},null,null,{"$f":"IFERROR(IF(COUNTIF($F$2:$F$501,F488)=1,\"\",IF(I488=\"\",\"\",ABS(IF(I488=\"\",0,(((H488*OFFSET($V$1,MATCH($F488,$U$2:$U$105,0),,)-G488)/G488)))))),\"\")","v":0.12482293651256107},null,null,{"$f":"IF(OR(J488<(QUARTILE($J$2:$J$501,1))-1.5*(QUARTILE($J$2:$J$501,3)-QUARTILE($J$2:$J$501,1)),J488>(QUARTILE($J$2:$J$501,3))+1.5*(QUARTILE($J$2:$J$501,3)-QUARTILE($J$2:$J$501,1))),\"Outlier\")","v":false}]
["26012E","MEDCO HEALTH SLTN. DEAD - T/OVER 02/04/12",4000,4500,4530,4533,70.3,3.62,{"$f":"(IF(IFERROR(G489/H489,\"\")<0,\"\",IFERROR(G489/H489,\"\")))","v":19.41988950276243},{"$f":"IF(COUNTIF($C$2:$C$501,C489)=1,\"\",IF(I489=\"\",\"\",ABS(IF(I489=\"\",0,(((H489*OFFSET($M$1,MATCH($C489,$L$2:$L$40,0),,)-G489)/G489))))))","v":0.12843004218624329},{"$f":"IF(OR(J489<(QUARTILE($J$2:$J$501,1))-1.5*(QUARTILE($J$2:$J$501,3)-QUARTILE($J$2:$J$501,1)),J489>(QUARTILE($J$2:$J$501,3))+1.5*(QUARTILE($J$2:$J$501,3)-QUARTILE($J$2:$J$501,1))),\"\",J489)","v":0.12843004218624329},null,null,{"$f":"IF(COUNTIF($D$2:$D$501,D489)=1,\"\",IF(I489=\"\",\"\",ABS(IF(I489=\"\",0,(((H489*OFFSET($P$1,MATCH($D489,$O$2:$O$40,0),,)-G489)/G489))))))","v":0.12843004218624329},null,null,{"$f":"IFERROR(IF(COUNTIF($E$2:$E$501,E489)=1,\"\",IF(I489=\"\",\"\",ABS(IF(I489=\"\",0,(((H489*OFFSET($S$1,MATCH($E489,$R$2:$R$41,0),,)-G489)/G489)))))),\"\")","v":0.21226701266653328},null,null,{"$f":"IFERROR(IF(COUNTIF($F$2:$F$501,F489)=1,\"\",IF(I489=\"\",\"\",ABS(IF(I489=\"\",0,(((H489*OFFSET($V$1,MATCH($F489,$U$2:$U$105,0),,)-G489)/G489)))))),\"\")","v":0.3331926799869549},null,null,{"$f":"IF(OR(J489<(QUARTILE($J$2:$J$501,1))-1.5*(QUARTILE($J$2:$J$501,3)-QUARTILE($J$2:$J$501,1)),J489>(QUARTILE($J$2:$J$501,3))+1.5*(QUARTILE($J$2:$J$501,3)-QUARTILE($J$2:$J$501,1))),\"Outlier\")","v":false}]
["26393N","CME GROUP",8000,8700,8770,8777,264.52980000000002,24.36,{"$f":"(IF(IFERROR(G490/H490,\"\")<0,\"\",IFERROR(G490/H490,\"\")))","v":10.859187192118227},{"$f":"IF(COUNTIF($C$2:$C$501,C490)=1,\"\",IF(I490=\"\",\"\",ABS(IF(I490=\"\",0,(((H490*OFFSET($M$1,MATCH($C490,$L$2:$L$40,0),,)-G490)/G490))))))","v":0.22484223401443063},{"$f":"IF(OR(J490<(QUARTILE($J$2:$J$501,1))-1.5*(QUARTILE($J$2:$J$501,3)-QUARTILE($J$2:$J$501,1)),J490>(QUARTILE($J$2:$J$501,3))+1.5*(QUARTILE($J$2:$J$501,3)-QUARTILE($J$2:$J$501,1))),\"\",J490)","v":0.22484223401443063},null,null,{"$f":"IF(COUNTIF($D$2:$D$501,D490)=1,\"\",IF(I490=\"\",\"\",ABS(IF(I490=\"\",0,(((H490*OFFSET($P$1,MATCH($D490,$O$2:$O$40,0),,)-G490)/G490))))))","v":0.15364426998391406},null,null,{"$f":"IFERROR(IF(COUNTIF($E$2:$E$501,E490)=1,\"\",IF(I490=\"\",\"\",ABS(IF(I490=\"\",0,(((H490*OFFSET($S$1,MATCH($E490,$R$2:$R$41,0),,)-G490)/G490)))))),\"\")","v":0.15364426998391406},null,null,{"$f":"IFERROR(IF(COUNTIF($F$2:$F$501,F490)=1,\"\",IF(I490=\"\",\"\",ABS(IF(I490=\"\",0,(((H490*OFFSET($V$1,MATCH($F490,$U$2:$U$105,0),,)-G490)/G490)))))),\"\")","v":9.293343193072208E-2},null,null,{"$f":"IF(OR(J490<(QUARTILE($J$2:$J$501,1))-1.5*(QUARTILE($J$2:$J$501,3)-QUARTILE($J$2:$J$501,1)),J490>(QUARTILE($J$2:$J$501,3))+1.5*(QUARTILE($J$2:$J$501,3)-QUARTILE($J$2:$J$501,1))),\"Outlier\")","v":false}]
["27020T","SEARS HOLDINGS",5000,5300,5370,5373,57.1,0,{"$f":"(IF(IFERROR(G491/H491,\"\")<0,\"\",IFERROR(G491/H491,\"\")))","v":""},{"$f":"IF(COUNTIF($C$2:$C$501,C491)=1,\"\",IF(I491=\"\",\"\",ABS(IF(I491=\"\",0,(((H491*OFFSET($M$1,MATCH($C491,$L$2:$L$40,0),,)-G491)/G491))))))","v":""},{"$f":"IF(OR(J491<(QUARTILE($J$2:$J$501,1))-1.5*(QUARTILE($J$2:$J$501,3)-QUARTILE($J$2:$J$501,1)),J491>(QUARTILE($J$2:$J$501,3))+1.5*(QUARTILE($J$2:$J$501,3)-QUARTILE($J$2:$J$501,1))),\"\",J491)","v":""},null,null,{"$f":"IF(COUNTIF($D$2:$D$501,D491)=1,\"\",IF(I491=\"\",\"\",ABS(IF(I491=\"\",0,(((H491*OFFSET($P$1,MATCH($D491,$O$2:$O$40,0),,)-G491)/G491))))))","v":""},null,null,{"$f":"IFERROR(IF(COUNTIF($E$2:$E$501,E491)=1,\"\",IF(I491=\"\",\"\",ABS(IF(I491=\"\",0,(((H491*OFFSET($S$1,MATCH($E491,$R$2:$R$41,0),,)-G491)/G491)))))),\"\")","v":""},null,null,{"$f":"IFERROR(IF(COUNTIF($F$2:$F$501,F491)=1,\"\",IF(I491=\"\",\"\",ABS(IF(I491=\"\",0,(((H491*OFFSET($V$1,MATCH($F491,$U$2:$U$105,0),,)-G491)/G491)))))),\"\")","v":""},null,null,{"$f":"IF(OR(J491<(QUARTILE($J$2:$J$501,1))-1.5*(QUARTILE($J$2:$J$501,3)-QUARTILE($J$2:$J$501,1)),J491>(QUARTILE($J$2:$J$501,3))+1.5*(QUARTILE($J$2:$J$501,3)-QUARTILE($J$2:$J$501,1))),\"Outlier\")","v":"Outlier"}]
["28226P","DIRECTV 'A'",5000,5500,5550,5553,47.62,3.7,{"$f":"(IF(IFERROR(G492/H492,\"\")<0,\"\",IFERROR(G492/H492,\"\")))","v":12.87027027027027},{"$f":"IF(COUNTIF($C$2:$C$501,C492)=1,\"\",IF(I492=\"\",\"\",ABS(IF(I492=\"\",0,(((H492*OFFSET($M$1,MATCH($C492,$L$2:$L$40,0),,)-G492)/G492))))))","v":0.22534427256151837},{"$f":"IF(OR(J492<(QUARTILE($J$2:$J$501,1))-1.5*(QUARTILE($J$2:$J$501,3)-QUARTILE($J$2:$J$501,1)),J492>(QUARTILE($J$2:$J$501,3))+1.5*(QUARTILE($J$2:$J$501,3)-QUARTILE($J$2:$J$501,1))),\"\",J492)","v":0.22534427256151837},null,null,{"$f":"IF(COUNTIF($D$2:$D$501,D492)=1,\"\",IF(I492=\"\",\"\",ABS(IF(I492=\"\",0,(((H492*OFFSET($P$1,MATCH($D492,$O$2:$O$40,0),,)-G492)/G492))))))","v":0.1787109132680049},null,null,{"$f":"IFERROR(IF(COUNTIF($E$2:$E$501,E492)=1,\"\",IF(I492=\"\",\"\",ABS(IF(I492=\"\",0,(((H492*OFFSET($S$1,MATCH($E492,$R$2:$R$41,0),,)-G492)/G492)))))),\"\")","v":0.1787109132680049},null,null,{"$f":"IFERROR(IF(COUNTIF($F$2:$F$501,F492)=1,\"\",IF(I492=\"\",\"\",ABS(IF(I492=\"\",0,(((H492*OFFSET($V$1,MATCH($F492,$U$2:$U$105,0),,)-G492)/G492)))))),\"\")","v":0.25474475723827827},null,null,{"$f":"IF(OR(J492<(QUARTILE($J$2:$J$501,1))-1.5*(QUARTILE($J$2:$J$501,3)-QUARTILE($J$2:$J$501,1)),J492>(QUARTILE($J$2:$J$501,3))+1.5*(QUARTILE($J$2:$J$501,3)-QUARTILE($J$2:$J$501,1))),\"Outlier\")","v":false}]
["28367U","GENWORTH FINANCIAL",8000,8500,8570,8575,5.43,0.17,{"$f":"(IF(IFERROR(G493/H493,\"\")<0,\"\",IFERROR(G493/H493,\"\")))","v":31.941176470588232},{"$f":"IF(COUNTIF($C$2:$C$501,C493)=1,\"\",IF(I493=\"\",\"\",ABS(IF(I493=\"\",0,(((H493*OFFSET($M$1,MATCH($C493,$L$2:$L$40,0),,)-G493)/G493))))))","v":0.58358480902472432},{"$f":"IF(OR(J493<(QUARTILE($J$2:$J$501,1))-1.5*(QUARTILE($J$2:$J$501,3)-QUARTILE($J$2:$J$501,1)),J493>(QUARTILE($J$2:$J$501,3))+1.5*(QUARTILE($J$2:$J$501,3)-QUARTILE($J$2:$J$501,1))),\"\",J493)","v":0.58358480902472432},null,null,{"$f":"IF(COUNTIF($D$2:$D$501,D493)=1,\"\",IF(I493=\"\",\"\",ABS(IF(I493=\"\",0,(((H493*OFFSET($P$1,MATCH($D493,$O$2:$O$40,0),,)-G493)/G493))))))","v":0.66304114765563138},null,null,{"$f":"IFERROR(IF(COUNTIF($E$2:$E$501,E493)=1,\"\",IF(I493=\"\",\"\",ABS(IF(I493=\"\",0,(((H493*OFFSET($S$1,MATCH($E493,$R$2:$R$41,0),,)-G493)/G493)))))),\"\")","v":0.67475085237670585},null,null,{"$f":"IFERROR(IF(COUNTIF($F$2:$F$501,F493)=1,\"\",IF(I493=\"\",\"\",ABS(IF(I493=\"\",0,(((H493*OFFSET($V$1,MATCH($F493,$U$2:$U$105,0),,)-G493)/G493)))))),\"\")","v":0.67475085237670585},null,null,{"$f":"IF(OR(J493<(QUARTILE($J$2:$J$501,1))-1.5*(QUARTILE($J$2:$J$501,3)-QUARTILE($J$2:$J$501,1)),J493>(QUARTILE($J$2:$J$501,3))+1.5*(QUARTILE($J$2:$J$501,3)-QUARTILE($J$2:$J$501,1))),\"Outlier\")","v":false}]
["28818X","WINDSTREAM",6000,6500,6530,6535,9.31,0.38,{"$f":"(IF(IFERROR(G494/H494,\"\")<0,\"\",IFERROR(G494/H494,\"\")))","v":24.5},{"$f":"IF(COUNTIF($C$2:$C$501,C494)=1,\"\",IF(I494=\"\",\"\",ABS(IF(I494=\"\",0,(((H494*OFFSET($M$1,MATCH($C494,$L$2:$L$40,0),,)-G494)/G494))))))","v":4.5714118274106721E-2},{"$f":"IF(OR(J494<(QUARTILE($J$2:$J$501,1))-1.5*(QUARTILE($J$2:$J$501,3)-QUARTILE($J$2:$J$501,1)),J494>(QUARTILE($J$2:$J$501,3))+1.5*(QUARTILE($J$2:$J$501,3)-QUARTILE($J$2:$J$501,1))),\"\",J494)","v":4.5714118274106721E-2},null,null,{"$f":"IF(COUNTIF($D$2:$D$501,D494)=1,\"\",IF(I494=\"\",\"\",ABS(IF(I494=\"\",0,(((H494*OFFSET($P$1,MATCH($D494,$O$2:$O$40,0),,)-G494)/G494))))))","v":4.5714118274106721E-2},null,null,{"$f":"IFERROR(IF(COUNTIF($E$2:$E$501,E494)=1,\"\",IF(I494=\"\",\"\",ABS(IF(I494=\"\",0,(((H494*OFFSET($S$1,MATCH($E494,$R$2:$R$41,0),,)-G494)/G494)))))),\"\")","v":6.6903966564287945E-2},null,null,{"$f":"IFERROR(IF(COUNTIF($F$2:$F$501,F494)=1,\"\",IF(I494=\"\",\"\",ABS(IF(I494=\"\",0,(((H494*OFFSET($V$1,MATCH($F494,$U$2:$U$105,0),,)-G494)/G494)))))),\"\")","v":6.6903966564287945E-2},null,null,{"$f":"IF(OR(J494<(QUARTILE($J$2:$J$501,1))-1.5*(QUARTILE($J$2:$J$501,3)-QUARTILE($J$2:$J$501,1)),J494>(QUARTILE($J$2:$J$501,3))+1.5*(QUARTILE($J$2:$J$501,3)-QUARTILE($J$2:$J$501,1))),\"Outlier\")","v":false}]
["28824E","HOSPIRA",4000,4500,4570,4577,34.14,0,{"$f":"(IF(IFERROR(G495/H495,\"\")<0,\"\",IFERROR(G495/H495,\"\")))","v":""},{"$f":"IF(COUNTIF($C$2:$C$501,C495)=1,\"\",IF(I495=\"\",\"\",ABS(IF(I495=\"\",0,(((H495*OFFSET($M$1,MATCH($C495,$L$2:$L$40,0),,)-G495)/G495))))))","v":""},{"$f":"IF(OR(J495<(QUARTILE($J$2:$J$501,1))-1.5*(QUARTILE($J$2:$J$501,3)-QUARTILE($J$2:$J$501,1)),J495>(QUARTILE($J$2:$J$501,3))+1.5*(QUARTILE($J$2:$J$501,3)-QUARTILE($J$2:$J$501,1))),\"\",J495)","v":""},null,null,{"$f":"IF(COUNTIF($D$2:$D$501,D495)=1,\"\",IF(I495=\"\",\"\",ABS(IF(I495=\"\",0,(((H495*OFFSET($P$1,MATCH($D495,$O$2:$O$40,0),,)-G495)/G495))))))","v":""},null,null,{"$f":"IFERROR(IF(COUNTIF($E$2:$E$501,E495)=1,\"\",IF(I495=\"\",\"\",ABS(IF(I495=\"\",0,(((H495*OFFSET($S$1,MATCH($E495,$R$2:$R$41,0),,)-G495)/G495)))))),\"\")","v":""},null,null,{"$f":"IFERROR(IF(COUNTIF($F$2:$F$501,F495)=1,\"\",IF(I495=\"\",\"\",ABS(IF(I495=\"\",0,(((H495*OFFSET($V$1,MATCH($F495,$U$2:$U$105,0),,)-G495)/G495)))))),\"\")","v":""},null,null,{"$f":"IF(OR(J495<(QUARTILE($J$2:$J$501,1))-1.5*(QUARTILE($J$2:$J$501,3)-QUARTILE($J$2:$J$501,1)),J495>(QUARTILE($J$2:$J$501,3))+1.5*(QUARTILE($J$2:$J$501,3)-QUARTILE($J$2:$J$501,1))),\"Outlier\")","v":"Outlier"}]
["29026M","GOOGLE 'A'",9000,9500,9530,9535,564.3098,32.99,{"$f":"(IF(IFERROR(G496/H496,\"\")<0,\"\",IFERROR(G496/H496,\"\")))","v":17.105480448620792},{"$f":"IF(COUNTIF($C$2:$C$501,C496)=1,\"\",IF(I496=\"\",\"\",ABS(IF(I496=\"\",0,(((H496*OFFSET($M$1,MATCH($C496,$L$2:$L$40,0),,)-G496)/G496))))))","v":0.23463024114793335},{"$f":"IF(OR(J496<(QUARTILE($J$2:$J$501,1))-1.5*(QUARTILE($J$2:$J$501,3)-QUARTILE($J$2:$J$501,1)),J496>(QUARTILE($J$2:$J$501,3))+1.5*(QUARTILE($J$2:$J$501,3)-QUARTILE($J$2:$J$501,1))),\"\",J496)","v":0.23463024114793335},null,null,{"$f":"IF(COUNTIF($D$2:$D$501,D496)=1,\"\",IF(I496=\"\",\"\",ABS(IF(I496=\"\",0,(((H496*OFFSET($P$1,MATCH($D496,$O$2:$O$40,0),,)-G496)/G496))))))","v":0.23463024114793335},null,null,{"$f":"IFERROR(IF(COUNTIF($E$2:$E$501,E496)=1,\"\",IF(I496=\"\",\"\",ABS(IF(I496=\"\",0,(((H496*OFFSET($S$1,MATCH($E496,$R$2:$R$41,0),,)-G496)/G496)))))),\"\")","v":0.17445038408133184},null,null,{"$f":"IFERROR(IF(COUNTIF($F$2:$F$501,F496)=1,\"\",IF(I496=\"\",\"\",ABS(IF(I496=\"\",0,(((H496*OFFSET($V$1,MATCH($F496,$U$2:$U$105,0),,)-G496)/G496)))))),\"\")","v":""},null,null,{"$f":"IF(OR(J496<(QUARTILE($J$2:$J$501,1))-1.5*(QUARTILE($J$2:$J$501,3)-QUARTILE($J$2:$J$501,1)),J496>(QUARTILE($J$2:$J$501,3))+1.5*(QUARTILE($J$2:$J$501,3)-QUARTILE($J$2:$J$501,1))),\"Outlier\")","v":false}]
["29739U","NEWS CORP.'A'",5000,5500,5550,5553,21.99,1.43,{"$f":"(IF(IFERROR(G497/H497,\"\")<0,\"\",IFERROR(G497/H497,\"\")))","v":15.377622377622377},{"$f":"IF(COUNTIF($C$2:$C$501,C497)=1,\"\",IF(I497=\"\",\"\",ABS(IF(I497=\"\",0,(((H497*OFFSET($M$1,MATCH($C497,$L$2:$L$40,0),,)-G497)/G497))))))","v":2.5549436364350902E-2},{"$f":"IF(OR(J497<(QUARTILE($J$2:$J$501,1))-1.5*(QUARTILE($J$2:$J$501,3)-QUARTILE($J$2:$J$501,1)),J497>(QUARTILE($J$2:$J$501,3))+1.5*(QUARTILE($J$2:$J$501,3)-QUARTILE($J$2:$J$501,1))),\"\",J497)","v":2.5549436364350902E-2},null,null,{"$f":"IF(COUNTIF($D$2:$D$501,D497)=1,\"\",IF(I497=\"\",\"\",ABS(IF(I497=\"\",0,(((H497*OFFSET($P$1,MATCH($D497,$O$2:$O$40,0),,)-G497)/G497))))))","v":1.3480260358565683E-2},null,null,{"$f":"IFERROR(IF(COUNTIF($E$2:$E$501,E497)=1,\"\",IF(I497=\"\",\"\",ABS(IF(I497=\"\",0,(((H497*OFFSET($S$1,MATCH($E497,$R$2:$R$41,0),,)-G497)/G497)))))),\"\")","v":1.3480260358565683E-2},null,null,{"$f":"IFERROR(IF(COUNTIF($F$2:$F$501,F497)=1,\"\",IF(I497=\"\",\"\",ABS(IF(I497=\"\",0,(((H497*OFFSET($V$1,MATCH($F497,$U$2:$U$105,0),,)-G497)/G497)))))),\"\")","v":5.0156113168788326E-2},null,null,{"$f":"IF(OR(J497<(QUARTILE($J$2:$J$501,1))-1.5*(QUARTILE($J$2:$J$501,3)-QUARTILE($J$2:$J$501,1)),J497>(QUARTILE($J$2:$J$501,3))+1.5*(QUARTILE($J$2:$J$501,3)-QUARTILE($J$2:$J$501,1))),\"Outlier\")","v":false}]
["35781K","EMBARQ DEAD - DELIST.13/07/09",6000,6500,6530,6535,42.06,5.21,{"$f":"(IF(IFERROR(G498/H498,\"\")<0,\"\",IFERROR(G498/H498,\"\")))","v":8.0729366602687147},{"$f":"IF(COUNTIF($C$2:$C$501,C498)=1,\"\",IF(I498=\"\",\"\",ABS(IF(I498=\"\",0,(((H498*OFFSET($M$1,MATCH($C498,$L$2:$L$40,0),,)-G498)/G498))))))","v":1.8960965614099294},{"$f":"IF(OR(J498<(QUARTILE($J$2:$J$501,1))-1.5*(QUARTILE($J$2:$J$501,3)-QUARTILE($J$2:$J$501,1)),J498>(QUARTILE($J$2:$J$501,3))+1.5*(QUARTILE($J$2:$J$501,3)-QUARTILE($J$2:$J$501,1))),\"\",J498)","v":""},null,null,{"$f":"IF(COUNTIF($D$2:$D$501,D498)=1,\"\",IF(I498=\"\",\"\",ABS(IF(I498=\"\",0,(((H498*OFFSET($P$1,MATCH($D498,$O$2:$O$40,0),,)-G498)/G498))))))","v":1.8960965614099294},null,null,{"$f":"IFERROR(IF(COUNTIF($E$2:$E$501,E498)=1,\"\",IF(I498=\"\",\"\",ABS(IF(I498=\"\",0,(((H498*OFFSET($S$1,MATCH($E498,$R$2:$R$41,0),,)-G498)/G498)))))),\"\")","v":1.8317889488326549},null,null,{"$f":"IFERROR(IF(COUNTIF($F$2:$F$501,F498)=1,\"\",IF(I498=\"\",\"\",ABS(IF(I498=\"\",0,(((H498*OFFSET($V$1,MATCH($F498,$U$2:$U$105,0),,)-G498)/G498)))))),\"\")","v":1.8317889488326549},null,null,{"$f":"IF(OR(J498<(QUARTILE($J$2:$J$501,1))-1.5*(QUARTILE($J$2:$J$501,3)-QUARTILE($J$2:$J$501,1)),J498>(QUARTILE($J$2:$J$501,3))+1.5*(QUARTILE($J$2:$J$501,3)-QUARTILE($J$2:$J$501,1))),\"Outlier\")","v":"Outlier"}]
["36269K","WYNDHAM WORLDWIDE",5000,5700,5750,5753,50.86,2.3199999999999998,{"$f":"(IF(IFERROR(G499/H499,\"\")<0,\"\",IFERROR(G499/H499,\"\")))","v":21.922413793103448},{"$f":"IF(COUNTIF($C$2:$C$501,C499)=1,\"\",IF(I499=\"\",\"\",ABS(IF(I499=\"\",0,(((H499*OFFSET($M$1,MATCH($C499,$L$2:$L$40,0),,)-G499)/G499))))))","v":0.28062155423068924},{"$f":"IF(OR(J499<(QUARTILE($J$2:$J$501,1))-1.5*(QUARTILE($J$2:$J$501,3)-QUARTILE($J$2:$J$501,1)),J499>(QUARTILE($J$2:$J$501,3))+1.5*(QUARTILE($J$2:$J$501,3)-QUARTILE($J$2:$J$501,1))),\"\",J499)","v":0.28062155423068924},null,null,{"$f":"IF(COUNTIF($D$2:$D$501,D499)=1,\"\",IF(I499=\"\",\"\",ABS(IF(I499=\"\",0,(((H499*OFFSET($P$1,MATCH($D499,$O$2:$O$40,0),,)-G499)/G499))))))","v":1.0702459520679232E-3},null,null,{"$f":"IFERROR(IF(COUNTIF($E$2:$E$501,E499)=1,\"\",IF(I499=\"\",\"\",ABS(IF(I499=\"\",0,(((H499*OFFSET($S$1,MATCH($E499,$R$2:$R$41,0),,)-G499)/G499)))))),\"\")","v":1.0702459520679232E-3},null,null,{"$f":"IFERROR(IF(COUNTIF($F$2:$F$501,F499)=1,\"\",IF(I499=\"\",\"\",ABS(IF(I499=\"\",0,(((H499*OFFSET($V$1,MATCH($F499,$U$2:$U$105,0),,)-G499)/G499)))))),\"\")","v":""},null,null,{"$f":"IF(OR(J499<(QUARTILE($J$2:$J$501,1))-1.5*(QUARTILE($J$2:$J$501,3)-QUARTILE($J$2:$J$501,1)),J499>(QUARTILE($J$2:$J$501,3))+1.5*(QUARTILE($J$2:$J$501,3)-QUARTILE($J$2:$J$501,1))),\"Outlier\")","v":false}]
["41195M","WESTERN UNION",8000,8700,8770,8773,16.43,1.92,{"$f":"(IF(IFERROR(G500/H500,\"\")<0,\"\",IFERROR(G500/H500,\"\")))","v":8.5572916666666661},{"$f":"IF(COUNTIF($C$2:$C$501,C500)=1,\"\",IF(I500=\"\",\"\",ABS(IF(I500=\"\",0,(((H500*OFFSET($M$1,MATCH($C500,$L$2:$L$40,0),,)-G500)/G500))))))","v":0.55432251442190894},{"$f":"IF(OR(J500<(QUARTILE($J$2:$J$501,1))-1.5*(QUARTILE($J$2:$J$501,3)-QUARTILE($J$2:$J$501,1)),J500>(QUARTILE($J$2:$J$501,3))+1.5*(QUARTILE($J$2:$J$501,3)-QUARTILE($J$2:$J$501,1))),\"\",J500)","v":0.55432251442190894},null,null,{"$f":"IF(COUNTIF($D$2:$D$501,D500)=1,\"\",IF(I500=\"\",\"\",ABS(IF(I500=\"\",0,(((H500*OFFSET($P$1,MATCH($D500,$O$2:$O$40,0),,)-G500)/G500))))))","v":0.46397243063117533},null,null,{"$f":"IFERROR(IF(COUNTIF($E$2:$E$501,E500)=1,\"\",IF(I500=\"\",\"\",ABS(IF(I500=\"\",0,(((H500*OFFSET($S$1,MATCH($E500,$R$2:$R$41,0),,)-G500)/G500)))))),\"\")","v":0.46397243063117533},null,null,{"$f":"IFERROR(IF(COUNTIF($F$2:$F$501,F500)=1,\"\",IF(I500=\"\",\"\",ABS(IF(I500=\"\",0,(((H500*OFFSET($V$1,MATCH($F500,$U$2:$U$105,0),,)-G500)/G500)))))),\"\")","v":0.17355808110056745},null,null,{"$f":"IF(OR(J500<(QUARTILE($J$2:$J$501,1))-1.5*(QUARTILE($J$2:$J$501,3)-QUARTILE($J$2:$J$501,1)),J500>(QUARTILE($J$2:$J$501,3))+1.5*(QUARTILE($J$2:$J$501,3)-QUARTILE($J$2:$J$501,1))),\"Outlier\")","v":false}]
["41487P","SPECTRA ENERGY",7000,7500,7570,7573,28.84,1.77,{"$f":"(IF(IFERROR(G501/H501,\"\")<0,\"\",IFERROR(G501/H501,\"\")))","v":16.293785310734464},{"$f":"IF(COUNTIF($C$2:$C$501,C501)=1,\"\",IF(I501=\"\",\"\",ABS(IF(I501=\"\",0,(((H501*OFFSET($M$1,MATCH($C501,$L$2:$L$40,0),,)-G501)/G501))))))","v":3.0395646166877868E-2},{"$f":"IF(OR(J501<(QUARTILE($J$2:$J$501,1))-1.5*(QUARTILE($J$2:$J$501,3)-QUARTILE($J$2:$J$501,1)),J501>(QUARTILE($J$2:$J$501,3))+1.5*(QUARTILE($J$2:$J$501,3)-QUARTILE($J$2:$J$501,1))),\"\",J501)","v":3.0395646166877868E-2},null,null,{"$f":"IF(COUNTIF($D$2:$D$501,D501)=1,\"\",IF(I501=\"\",\"\",ABS(IF(I501=\"\",0,(((H501*OFFSET($P$1,MATCH($D501,$O$2:$O$40,0),,)-G501)/G501))))))","v":3.0395646166877868E-2},null,null,{"$f":"IFERROR(IF(COUNTIF($E$2:$E$501,E501)=1,\"\",IF(I501=\"\",\"\",ABS(IF(I501=\"\",0,(((H501*OFFSET($S$1,MATCH($E501,$R$2:$R$41,0),,)-G501)/G501)))))),\"\")","v":0.16587989828275213},null,null,{"$f":"IFERROR(IF(COUNTIF($F$2:$F$501,F501)=1,\"\",IF(I501=\"\",\"\",ABS(IF(I501=\"\",0,(((H501*OFFSET($V$1,MATCH($F501,$U$2:$U$105,0),,)-G501)/G501)))))),\"\")","v":0.18368667140925996},null,null,{"$f":"IF(OR(J501<(QUARTILE($J$2:$J$501,1))-1.5*(QUARTILE($J$2:$J$501,3)-QUARTILE($J$2:$J$501,1)),J501>(QUARTILE($J$2:$J$501,3))+1.5*(QUARTILE($J$2:$J$501,3)-QUARTILE($J$2:$J$501,1))),\"Outlier\")","v":false}]
[]
[null,"Average",null,null,null,null,null,null,null,{"$f":"AVERAGE(J2:J501)","v":0.37533893565519832},null,null,null,{"$f":"AVERAGE(N2:N501)","v":0.35077377263773779},null,null,{"$f":"AVERAGE(Q2:Q501)","v":0.34175031280081558},null,null,0.31824055948090585]
[null,"Median",null,null,null,null,null,null,null,{"$f":"MEDIAN(J2:J501)","v":0.26079554090523527},null,null,null,{"$f":"MEDIAN(N2:N501)","v":0.26795665200519941},null,null,0.25625069778583648,null,null,0.2542457554079095]
[null,"Std. Dev",null,null,null,null,null,null,null,{"$f":"STDEV(J2:J501)","v":0.47623531346131398},null,null,null,{"$f":"STDEV(N2:N501)","v":0.3546886024703278},null,null,{"$f":"STDEV(Q2:Q501)","v":0.36371470851087268},null,null,{"$f":"STDEV(T2:T501)","v":0.28560482568353085}]
[null,"n",null,null,null,null,null,null,null,{"$f":"COUNT(J2:J501)","v":437},null,null,null,{"$f":"COUNT(N2:N501)","v":437},null,null,{"$f":"COUNT(Q2:Q501)","v":425},null,null,{"$f":"COUNT(T2:T501)","v":350}]
[null,"15% fraction",null,null,null,null,null,null,null,{"$f":"COUNTIF(J2:J501,\"<=0.15\")","v":131},null,null,null,{"$f":"COUNTIF(N2:N501,\"<=0.15\")","v":137},null,null,{"$f":"COUNTIF(Q2:Q501,\"<=0.15\")","v":143},null,null,{"$f":"COUNTIF(T2:T501,\"<=0.15\")","v":112}]
[null,"25% fraction",null,null,null,null,null,null,null,{"$f":"COUNTIF(J2:J501,\"<=0.25\")","v":208},null,null,null,{"$f":"COUNTIF(N2:N501,\"<=0.25\")","v":207},null,null,{"$f":"COUNTIF(Q2:Q501,\"<=0.25\")","v":208},null,null,{"$f":"COUNTIF(T2:T501,\"<=0.25\")","v":173}]
[null,"Sanity-check",null,null,null,null,null,null,null,{"$f":"IF(COUNTIF(J2:J502,\"<=1000\")<>J506,\"FEJL\",\"OK!\")","v":"OK!"},null,null,null,{"$f":"IF(COUNTIF(N2:N502,\"<=1000\")<>N506,\"FEJL\",\"OK!\")","v":"OK!"},null,null,{"$f":"IF(COUNTIF(Q2:Q502,\"<=1000\")<>Q506,\"FEJL\",\"OK!\")","v":"OK!"},null,null,{"$f":"IF(COUNTIF(T2:T502,\"<=1000\")<>T506,\"FEJL\",\"OK!\")","v":"OK!"}]